{"text_format":"1","workbook":"xlsx","n_sheets":9,"sheets":["LowH2O DBH","data","NL","EN","FR","DE","NR","SP","SW"],"not_rendered":{"charts":0,"images":7,"macros":1,"external_links":0,"defined_names":10,"comments":1,"pivot_tables":0},"unopened":[],"bounds":{"document_bytes":16777216,"sheet_cells":100000,"rows_first":2000,"rows_last":500,"rows_between":2000,"halvings":0,"cell_chars":16384,"cell_head_chars":4096},"cells_cut":0,"cells_raw":0,"read":"whole","date_system":"1900"}

{"sheet":"LowH2O DBH","index":0,"n_rows":39,"n_cols":13,"rows_kept":39,"cut":false,"hidden":false,"merged":[[6,7,7,9],[27,1,27,2],[28,1,28,2],[29,1,29,2],[30,1,30,2],[15,1,15,2],[19,1,19,2],[18,1,18,2],[20,1,20,2],[21,1,21,2],[11,6,11,8],[9,1,9,3],[9,6,9,8],[10,1,10,3],[10,6,10,8],[32,1,32,2],[31,1,31,2],[22,1,22,2],[23,1,23,2],[24,1,24,2],[25,1,25,2],[26,1,26,2],[1,1,1,10],[16,1,16,12],[3,5,3,8],[3,9,3,10],[6,12,7,12],[6,11,7,11],[6,10,7,10],[3,11,3,12],[4,5,4,8],[4,9,4,10],[4,1,4,2],[9,11,9,12],[10,11,13,12],[11,1,11,3],[5,5,5,8],[12,6,12,8]]}
[]
[null,{"$f":"IF(data!$CC$17=7,\"Effektsimulering Hybridmodeller\",\"Selectiontool LowH2O Hybrids\")","v":"Selectiontool LowH2O Hybrids"}]
[]
[null,null,null,null,null,"Taal/Language/Sprache/Langue/Språk/Lengua",null,null,null,"Español"]
[null,null,null,null,null,{"$f":"IF($J$4=data!$CC$3,NL!F4,IF($J$4=data!$CC$4,EN!F4,IF($J$4=data!$CC$5,FR!F4,IF($J$4=data!$CC$6,DE!F4,IF($J$4=data!$CC$7,NR!F4,IF($J$4=data!$CC$8,SP!F4,IF($J$4=data!$CC$9,SW!F4,)))))))","v":"Dispositivo Hybrid"},null,null,null,"Strada Hybrid"]
[null,null,null,null,null,{"$f":"IF($J$4=data!$CC$3,NL!E4,IF($J$4=data!$CC$4,EN!E4,IF($J$4=data!$CC$5,FR!E4,IF($J$4=data!$CC$6,DE!E4,IF($J$4=data!$CC$7,NR!E4,IF($J$4=data!$CC$8,SP!E4,IF($J$4=data!$CC$9,SW!E4,)))))))&\" [centimeter]\"","v":"Versión [centimeter]"},null,null,null,"OFF",50,16,{"$f":"data!H6","v":16.5}]
[null,null,null,null,null,null,{"$f":"IF($J$4=data!$CC$3,NL!B3,IF($J$4=data!$CC$4,EN!B3,IF($J$4=data!$CC$5,FR!B3,IF($J$4=data!$CC$6,DE!B3,IF($J$4=data!$CC$7,NR!B3,IF($J$4=data!$CC$8,SP!B3,IF($J$4=data!$CC$9,SW!B3,)))))))","v":"Longitud"},{"$f":"IF($J$4=data!$CC$3,NL!B16,IF($J$4=data!$CC$4,EN!B16,IF($J$4=data!$CC$5,FR!B16,IF($J$4=data!$CC$6,DE!B16,IF($J$4=data!$CC$7,NR!B16,IF($J$4=data!$CC$8,SP!B16,IF($J$4=data!$CC$9,SW!B16,)))))))","v":"Velocidad del ventilador"},null,null,{"$f":"IF($J$4=data!$CC$3,NL!B4,IF($J$4=data!$CC$4,EN!B4,IF($J$4=data!$CC$5,FR!B4,IF($J$4=data!$CC$6,DE!B4,IF($J$4=data!$CC$7,NR!B4,IF($J$4=data!$CC$8,SP!B4,IF($J$4=data!$CC$9,SW!B4,)))))))","v":"Altura"},{"$f":"IF($J$4=data!$CC$3,NL!B5,IF($J$4=data!$CC$4,EN!B5,IF($J$4=data!$CC$5,FR!B5,IF($J$4=data!$CC$6,DE!B5,IF($J$4=data!$CC$7,NR!B5,IF($J$4=data!$CC$8,SP!B5,IF($J$4=data!$CC$9,SW!B5,)))))))","v":"Tipo"},{"$f":"IF($J$4=data!$CC$3,NL!B6,IF($J$4=data!$CC$4,EN!B6,IF($J$4=data!$CC$5,FR!B6,IF($J$4=data!$CC$6,DE!B6,IF($J$4=data!$CC$7,NR!B6,IF($J$4=data!$CC$8,SP!B6,IF($J$4=data!$CC$9,SW!B6,)))))))","v":"Profund."}]
[null,{"$f":"IF($J$4=data!$CC$3,NL!E5,IF($J$4=data!$CC$4,EN!E5,IF($J$4=data!$CC$5,FR!E5,IF($J$4=data!$CC$6,DE!E5,IF($J$4=data!$CC$7,NR!E5,IF($J$4=data!$CC$8,SP!E5,IF($J$4=data!$CC$9,SW!E5,)))))))","v":"Temperaturas"}]
[null,{"$f":"IF($J$4=data!$CC$3,NL!B8,IF($J$4=data!$CC$4,EN!B8,IF($J$4=data!$CC$5,FR!B8,IF($J$4=data!$CC$6,DE!B8,IF($J$4=data!$CC$7,NR!B8,IF($J$4=data!$CC$8,SP!B8,IF($J$4=data!$CC$9,SW!B8,)))))))","v":"Calefacción:"},null,null,null,null,{"$f":"IF($J$4=data!$CC$3,NL!G8,IF($J$4=data!$CC$4,EN!G8,IF($J$4=data!$CC$5,FR!G8,IF($J$4=data!$CC$6,DE!G8,IF($J$4=data!$CC$7,NR!G8,IF($J$4=data!$CC$8,SP!G8,IF($J$4=data!$CC$9,SW!G8,)))))))","v":"Enfriamiento:"}]
[null,{"$f":"IF($J$4=data!$CC$3,NL!B9,IF($J$4=data!$CC$4,EN!B9,IF($J$4=data!$CC$5,FR!B9,IF($J$4=data!$CC$6,DE!B9,IF($J$4=data!$CC$7,NR!B9,IF($J$4=data!$CC$8,SP!B9,IF($J$4=data!$CC$9,SW!B9,)))))))","v":"Agua impulsión"},0,0,65,{"$f":"IF(data!$BZ$2=1,\"°C\",IF(data!$BZ$2=2,\"°F\",))","v":"°C"},{"$f":"B10","v":"Agua impulsión"},0,0,15.999999999999998,{"$f":"F10","v":"°C"},{"$f":"IF($J$4=data!$CC$3,NL!G4,IF($J$4=data!$CC$4,EN!G4,IF($J$4=data!$CC$5,FR!G4,IF($J$4=data!$CC$6,DE!G4,IF($J$4=data!$CC$7,NR!G4,IF($J$4=data!$CC$8,SP!G4,IF($J$4=data!$CC$9,SW!G4,)))))))","v":"Convers. de unidades"}]
[null,{"$f":"IF($J$4=data!$CC$3,NL!B10,IF($J$4=data!$CC$4,EN!B10,IF($J$4=data!$CC$5,FR!B10,IF($J$4=data!$CC$6,DE!B10,IF($J$4=data!$CC$7,NR!B10,IF($J$4=data!$CC$8,SP!B10,IF($J$4=data!$CC$9,SW!B10,)))))))","v":"Agua retorno"},0,0,55,{"$f":"F10","v":"°C"},{"$f":"B11","v":"Agua retorno"},0,0,18.000000000000004,{"$f":"F10","v":"°C"}]
[null,{"$f":"IF($J$4=data!$CC$3,NL!B11,IF($J$4=data!$CC$4,EN!B11,IF($J$4=data!$CC$5,FR!B11,IF($J$4=data!$CC$6,DE!B11,IF($J$4=data!$CC$7,NR!B11,IF($J$4=data!$CC$8,SP!B11,IF($J$4=data!$CC$9,SW!B11,)))))))","v":"Ambiente (bulbo seco)"},0,0,20,{"$f":"F10","v":"°C"},{"$f":"B12","v":"Ambiente (bulbo seco)"},0,0,26.999999999999996,{"$f":"F10","v":"°C"}]
[null,null,null,null,null,null,{"$f":"IF($J$4=data!$CC$3,NL!$G$3,IF($J$4=data!$CC$4,EN!$G$3,IF($J$4=data!$CC$5,FR!$G$3,IF($J$4=data!$CC$6,DE!$G$3,IF($J$4=data!$CC$7,NR!$G$3,IF($J$4=data!$CC$8,SP!$G$3,IF($J$4=data!$CC$9,SW!$G$3,)))))))","v":"Hum. Relativa"},null,null,0.5]
[]
[]
[null,{"$f":"IF($J$4=data!$CC$3,NL!B3,IF($J$4=data!$CC$4,EN!B3,IF($J$4=data!$CC$5,FR!B3,IF($J$4=data!$CC$6,DE!B3,IF($J$4=data!$CC$7,NR!B3,IF($J$4=data!$CC$8,SP!B3,IF($J$4=data!$CC$9,SW!B3,)))))))&\" [cm]\"","v":"Longitud [cm]"},null,{"$f":"IF($J$4=data!$CC$3,NL!C14,IF($J$4=data!$CC$4,EN!C14,IF($J$4=data!$CC$5,FR!C14,IF($J$4=data!$CC$6,DE!C14,IF($J$4=data!$CC$7,NR!C14,IF($J$4=data!$CC$8,SP!C14,IF($J$4=data!$CC$9,SW!C14,)))))))&IF(data!BZ2=1,\" [W]\",IF(data!BZ2=2,\" [Btu/h]\",))","v":"Emisión calefacción [W]"},{"$f":"IF($J$4=data!$CC$3,NL!D14,IF($J$4=data!$CC$4,EN!D14,IF($J$4=data!$CC$5,FR!D14,IF($J$4=data!$CC$6,DE!D14,IF($J$4=data!$CC$7,NR!D14,IF($J$4=data!$CC$8,SP!D14,IF($J$4=data!$CC$9,SW!D14,)))))))&IF(data!BZ2=1,\" [kg/h]\",IF(data!BZ2=2,\" [GPM]**\",))","v":"Caudal de agua, calefacción [kg/h]"},{"$f":"IF($J$4=data!$CC$3,NL!F6,IF($J$4=data!$CC$4,EN!F6,IF($J$4=data!$CC$5,FR!F6,IF($J$4=data!$CC$6,DE!F6,IF($J$4=data!$CC$7,NR!F6,IF($J$4=data!$CC$8,SP!F6,IF($J$4=data!$CC$9,SW!F6,)))))))&\" [\"&IF(data!BZ2=1,\"kPa\",IF(data!BZ2=2,\"ftH2O\"))&\"]\"","v":"Pérdida de carga del agua [kPa]"},{"$f":"IF($J$4=data!$CC$3,NL!E14,IF($J$4=data!$CC$4,EN!E14,IF($J$4=data!$CC$5,FR!E14,IF($J$4=data!$CC$6,DE!E14,IF($J$4=data!$CC$7,NR!E14,IF($J$4=data!$CC$8,SP!E14,IF($J$4=data!$CC$9,SW!E14,)))))))&IF(data!BZ2=1,\" [W]**\",IF(data!BZ2=2,\" [Btu/h]*\",))","v":"Emisión sensible Frío [W]**"},{"$f":"E16","v":"Caudal de agua, calefacción [kg/h]"},{"$f":"F16","v":"Pérdida de carga del agua [kPa]"},{"$f":"IF($J$4=data!$CC$3,NL!I13,IF($J$4=data!$CC$4,EN!I13,IF($J$4=data!$CC$5,FR!I13,IF($J$4=data!$CC$6,DE!I13,IF($J$4=data!$CC$7,NR!I13,IF($J$4=data!$CC$8,SP!I13,IF($J$4=data!$CC$9,SW!I13,)))))))","v":"Presión sonora [dB(A)]****"},{"$f":"IF($J$4=data!$CC$3,NL!J13,IF($J$4=data!$CC$4,EN!J13,IF($J$4=data!$CC$5,FR!J13,IF($J$4=data!$CC$6,DE!J13,IF($J$4=data!$CC$7,NR!J13,IF($J$4=data!$CC$8,SP!J13,IF($J$4=data!$CC$9,SW!J13,)))))))","v":"Potencia sonora [dB(A)]****"},{"$f":"IF($J$4=data!$CC$3,NL!H13,IF($J$4=data!$CC$4,EN!H13,IF($J$4=data!$CC$5,FR!H13,IF($J$4=data!$CC$6,DE!H13,IF($J$4=data!$CC$7,NR!H13,IF($J$4=data!$CC$8,SP!H13,IF($J$4=data!$CC$9,SW!H13,)))))))","v":"Potencia eléctrica absorbida [W]"},{"$f":"IF($J$4=data!$CC$3,NL!G13,IF($J$4=data!$CC$4,EN!G13,IF($J$4=data!$CC$5,FR!G13,IF($J$4=data!$CC$6,DE!G13,IF($J$4=data!$CC$7,NR!G13,IF($J$4=data!$CC$8,SP!G13,IF($J$4=data!$CC$9,SW!G13,)))))))&IF(data!BZ2=1,\" [l]\",IF(data!BZ2=2,\" [Gal]**\",))","v":"Volumen de agua [l]"}]
[null,{"$f":"CONCATENATE($J$5,\", \",$K$7, \" \",$K$6,\"cm, \",$L$7, \" \",$L$6)","v":"Strada Hybrid, Altura 50cm, Tipo 16"},0,0,0,0,0,0,0,0,0,0,0]
[null,{"$f":"IF($J$6=\"OFF\",data!DF18,IF($J$6=\"26dB(A)\",data!DF19,IF($J$6=\"30dB(A)\",data!DF20,IF($J$6=\"MAX\",data!DF21))))","v":50},{"$f":"IF($J$6=\"OFF\",data!DG18,IF($J$6=\"26dB(A)\",data!DG19,IF($J$6=\"30dB(A)\",data!DG20,IF($J$6=\"MAX\",data!DG21))))","v":{"$error":"#N/A"}},{"$f":"IF($J$6=\"OFF\",data!DH18,IF($J$6=\"26dB(A)\",data!DH19,IF($J$6=\"30dB(A)\",data!DH20,IF($J$6=\"MAX\",data!DH21))))","v":{"$error":"#N/A"}},{"$f":"IF($J$6=\"OFF\",data!DI18,IF($J$6=\"26dB(A)\",data!DI19,IF($J$6=\"30dB(A)\",data!DI20,IF($J$6=\"MAX\",data!DI21))))","v":{"$error":"#N/A"}},{"$f":"IF($J$6=\"OFF\",data!DJ18,IF($J$6=\"26dB(A)\",data!DJ19,IF($J$6=\"30dB(A)\",data!DJ20,IF($J$6=\"MAX\",data!DJ21))))","v":{"$error":"#N/A"}},{"$f":"IF($J$6=\"OFF\",data!DK18,IF($J$6=\"26dB(A)\",data!DK19,IF($J$6=\"30dB(A)\",data!DK20,IF($J$6=\"MAX\",data!DK21))))","v":0},{"$f":"IF($J$6=\"OFF\",data!DL18,IF($J$6=\"26dB(A)\",data!DL19,IF($J$6=\"30dB(A)\",data!DL20,IF($J$6=\"MAX\",data!DL21))))","v":0},{"$f":"IF($J$6=\"OFF\",data!DM18,IF($J$6=\"26dB(A)\",data!DM19,IF($J$6=\"30dB(A)\",data!DM20,IF($J$6=\"MAX\",data!DM21))))","v":0},{"$f":"IF($J$6=\"OFF\",data!DN18,IF($J$6=\"26dB(A)\",data!DN19,IF($J$6=\"30dB(A)\",data!DN20,IF($J$6=\"MAX\",data!DN21))))","v":0},{"$f":"IF($J$6=\"OFF\",data!DO18,IF($J$6=\"26dB(A)\",data!DO19,IF($J$6=\"30dB(A)\",data!DO20,IF($J$6=\"MAX\",data!DO21))))","v":0},{"$f":"IF($J$6=\"OFF\",data!DP18,IF($J$6=\"26dB(A)\",data!DP19,IF($J$6=\"30dB(A)\",data!DP20,IF($J$6=\"MAX\",data!DP21))))","v":0},{"$f":"IF($J$6=\"OFF\",data!DQ18,IF($J$6=\"26dB(A)\",data!DQ19,IF($J$6=\"30dB(A)\",data!DQ20,IF($J$6=\"MAX\",data!DQ21))))","v":{"$error":"#N/A"}}]
[null,{"$f":"IF($J$6=\"OFF\",data!DF22,IF($J$6=\"26dB(A)\",data!DF23,IF($J$6=\"30dB(A)\",data!DF24,IF($J$6=\"MAX\",data!DF25))))","v":60},null,{"$f":"IF($J$6=\"OFF\",data!DH22,IF($J$6=\"26dB(A)\",data!DH23,IF($J$6=\"30dB(A)\",data!DH24,IF($J$6=\"MAX\",data!DH25))))","v":553},{"$f":"IF($J$6=\"OFF\",data!DI22,IF($J$6=\"26dB(A)\",data!DI23,IF($J$6=\"30dB(A)\",data!DI24,IF($J$6=\"MAX\",data!DI25))))","v":48},{"$f":"IF($J$6=\"OFF\",data!DJ22,IF($J$6=\"26dB(A)\",data!DJ23,IF($J$6=\"30dB(A)\",data!DJ24,IF($J$6=\"MAX\",data!DJ25))))","v":3.4395354733294137E-2},{"$f":"IF($J$6=\"OFF\",data!DK22,IF($J$6=\"26dB(A)\",data!DK23,IF($J$6=\"30dB(A)\",data!DK24,IF($J$6=\"MAX\",data!DK25))))","v":0},{"$f":"IF($J$6=\"OFF\",data!DL22,IF($J$6=\"26dB(A)\",data!DL23,IF($J$6=\"30dB(A)\",data!DL24,IF($J$6=\"MAX\",data!DL25))))","v":0},{"$f":"IF($J$6=\"OFF\",data!DM22,IF($J$6=\"26dB(A)\",data!DM23,IF($J$6=\"30dB(A)\",data!DM24,IF($J$6=\"MAX\",data!DM25))))","v":0},{"$f":"IF($J$6=\"OFF\",data!DN22,IF($J$6=\"26dB(A)\",data!DN23,IF($J$6=\"30dB(A)\",data!DN24,IF($J$6=\"MAX\",data!DN25))))","v":0},{"$f":"IF($J$6=\"OFF\",data!DO22,IF($J$6=\"26dB(A)\",data!DO23,IF($J$6=\"30dB(A)\",data!DO24,IF($J$6=\"MAX\",data!DO25))))","v":0},{"$f":"IF($J$6=\"OFF\",data!DP22,IF($J$6=\"26dB(A)\",data!DP23,IF($J$6=\"30dB(A)\",data!DP24,IF($J$6=\"MAX\",data!DP25))))","v":0},{"$f":"IF($J$6=\"OFF\",data!DQ22,IF($J$6=\"26dB(A)\",data!DQ23,IF($J$6=\"30dB(A)\",data!DQ24,IF($J$6=\"MAX\",data!DQ25))))","v":1.2}]
[null,{"$f":"IF($J$6=\"OFF\",data!DF26,IF($J$6=\"26dB(A)\",data!DF27,IF($J$6=\"30dB(A)\",data!DF28,IF($J$6=\"MAX\",data!DF29))))","v":70},null,{"$f":"IF($J$6=\"OFF\",data!DH26,IF($J$6=\"26dB(A)\",data!DH27,IF($J$6=\"30dB(A)\",data!DH28,IF($J$6=\"MAX\",data!DH29))))","v":645},{"$f":"IF($J$6=\"OFF\",data!DI26,IF($J$6=\"26dB(A)\",data!DI27,IF($J$6=\"30dB(A)\",data!DI28,IF($J$6=\"MAX\",data!DI29))))","v":55},{"$f":"IF($J$6=\"OFF\",data!DJ26,IF($J$6=\"26dB(A)\",data!DJ27,IF($J$6=\"30dB(A)\",data!DJ28,IF($J$6=\"MAX\",data!DJ29))))","v":4.5833406894825762E-2},{"$f":"IF($J$6=\"OFF\",data!DK26,IF($J$6=\"26dB(A)\",data!DK27,IF($J$6=\"30dB(A)\",data!DK28,IF($J$6=\"MAX\",data!DK29))))","v":0},{"$f":"IF($J$6=\"OFF\",data!DL26,IF($J$6=\"26dB(A)\",data!DL27,IF($J$6=\"30dB(A)\",data!DL28,IF($J$6=\"MAX\",data!DL29))))","v":0},{"$f":"IF($J$6=\"OFF\",data!DM26,IF($J$6=\"26dB(A)\",data!DM27,IF($J$6=\"30dB(A)\",data!DM28,IF($J$6=\"MAX\",data!DM29))))","v":0},{"$f":"IF($J$6=\"OFF\",data!DN26,IF($J$6=\"26dB(A)\",data!DN27,IF($J$6=\"30dB(A)\",data!DN28,IF($J$6=\"MAX\",data!DN29))))","v":0},{"$f":"IF($J$6=\"OFF\",data!DO26,IF($J$6=\"26dB(A)\",data!DO27,IF($J$6=\"30dB(A)\",data!DO28,IF($J$6=\"MAX\",data!DO29))))","v":0},{"$f":"IF($J$6=\"OFF\",data!DP26,IF($J$6=\"26dB(A)\",data!DP27,IF($J$6=\"30dB(A)\",data!DP28,IF($J$6=\"MAX\",data!DP29))))","v":0},{"$f":"IF($J$6=\"OFF\",data!DQ26,IF($J$6=\"26dB(A)\",data!DQ27,IF($J$6=\"30dB(A)\",data!DQ28,IF($J$6=\"MAX\",data!DQ29))))","v":1.4}]
[null,{"$f":"IF($J$6=\"OFF\",data!DF30,IF($J$6=\"26dB(A)\",data!DF31,IF($J$6=\"30dB(A)\",data!DF32,IF($J$6=\"MAX\",data!DF33))))","v":80},null,{"$f":"IF($J$6=\"OFF\",data!DH30,IF($J$6=\"26dB(A)\",data!DH31,IF($J$6=\"30dB(A)\",data!DH32,IF($J$6=\"MAX\",data!DH33))))","v":737},{"$f":"IF($J$6=\"OFF\",data!DI30,IF($J$6=\"26dB(A)\",data!DI31,IF($J$6=\"30dB(A)\",data!DI32,IF($J$6=\"MAX\",data!DI33))))","v":63},{"$f":"IF($J$6=\"OFF\",data!DJ30,IF($J$6=\"26dB(A)\",data!DJ31,IF($J$6=\"30dB(A)\",data!DJ32,IF($J$6=\"MAX\",data!DJ33))))","v":6.0949986346466332E-2},{"$f":"IF($J$6=\"OFF\",data!DK30,IF($J$6=\"26dB(A)\",data!DK31,IF($J$6=\"30dB(A)\",data!DK32,IF($J$6=\"MAX\",data!DK33))))","v":0},{"$f":"IF($J$6=\"OFF\",data!DL30,IF($J$6=\"26dB(A)\",data!DL31,IF($J$6=\"30dB(A)\",data!DL32,IF($J$6=\"MAX\",data!DL33))))","v":0},{"$f":"IF($J$6=\"OFF\",data!DM30,IF($J$6=\"26dB(A)\",data!DM31,IF($J$6=\"30dB(A)\",data!DM32,IF($J$6=\"MAX\",data!DM33))))","v":0},{"$f":"IF($J$6=\"OFF\",data!DN30,IF($J$6=\"26dB(A)\",data!DN31,IF($J$6=\"30dB(A)\",data!DN32,IF($J$6=\"MAX\",data!DN33))))","v":0},{"$f":"IF($J$6=\"OFF\",data!DO30,IF($J$6=\"26dB(A)\",data!DO31,IF($J$6=\"30dB(A)\",data!DO32,IF($J$6=\"MAX\",data!DO33))))","v":0},{"$f":"IF($J$6=\"OFF\",data!DP30,IF($J$6=\"26dB(A)\",data!DP31,IF($J$6=\"30dB(A)\",data!DP32,IF($J$6=\"MAX\",data!DP33))))","v":0},{"$f":"IF($J$6=\"OFF\",data!DQ30,IF($J$6=\"26dB(A)\",data!DQ31,IF($J$6=\"30dB(A)\",data!DQ32,IF($J$6=\"MAX\",data!DQ33))))","v":1.6}]
[null,{"$f":"IF($J$6=\"OFF\",data!DF34,IF($J$6=\"26dB(A)\",data!DF35,IF($J$6=\"30dB(A)\",data!DF36,IF($J$6=\"MAX\",data!DF37))))","v":90},null,{"$f":"IF($J$6=\"OFF\",data!DH34,IF($J$6=\"26dB(A)\",data!DH35,IF($J$6=\"30dB(A)\",data!DH36,IF($J$6=\"MAX\",data!DH37))))","v":829},{"$f":"IF($J$6=\"OFF\",data!DI34,IF($J$6=\"26dB(A)\",data!DI35,IF($J$6=\"30dB(A)\",data!DI36,IF($J$6=\"MAX\",data!DI37))))","v":71},{"$f":"IF($J$6=\"OFF\",data!DJ34,IF($J$6=\"26dB(A)\",data!DJ35,IF($J$6=\"30dB(A)\",data!DJ36,IF($J$6=\"MAX\",data!DJ37))))","v":7.8402105479962514E-2},{"$f":"IF($J$6=\"OFF\",data!DK34,IF($J$6=\"26dB(A)\",data!DK35,IF($J$6=\"30dB(A)\",data!DK36,IF($J$6=\"MAX\",data!DK37))))","v":0},{"$f":"IF($J$6=\"OFF\",data!DL34,IF($J$6=\"26dB(A)\",data!DL35,IF($J$6=\"30dB(A)\",data!DL36,IF($J$6=\"MAX\",data!DL37))))","v":0},{"$f":"IF($J$6=\"OFF\",data!DM34,IF($J$6=\"26dB(A)\",data!DM35,IF($J$6=\"30dB(A)\",data!DM36,IF($J$6=\"MAX\",data!DM37))))","v":0},{"$f":"IF($J$6=\"OFF\",data!DN34,IF($J$6=\"26dB(A)\",data!DN35,IF($J$6=\"30dB(A)\",data!DN36,IF($J$6=\"MAX\",data!DN37))))","v":0},{"$f":"IF($J$6=\"OFF\",data!DO34,IF($J$6=\"26dB(A)\",data!DO35,IF($J$6=\"30dB(A)\",data!DO36,IF($J$6=\"MAX\",data!DO37))))","v":0},{"$f":"IF($J$6=\"OFF\",data!DP34,IF($J$6=\"26dB(A)\",data!DP35,IF($J$6=\"30dB(A)\",data!DP36,IF($J$6=\"MAX\",data!DP37))))","v":0},{"$f":"IF($J$6=\"OFF\",data!DQ34,IF($J$6=\"26dB(A)\",data!DQ35,IF($J$6=\"30dB(A)\",data!DQ36,IF($J$6=\"MAX\",data!DQ37))))","v":1.8}]
[null,{"$f":"IF($J$6=\"OFF\",data!DF38,IF($J$6=\"26dB(A)\",data!DF39,IF($J$6=\"30dB(A)\",data!DF40,IF($J$6=\"MAX\",data!DF41))))","v":100},null,{"$f":"IF($J$6=\"OFF\",data!DH38,IF($J$6=\"26dB(A)\",data!DH39,IF($J$6=\"30dB(A)\",data!DH40,IF($J$6=\"MAX\",data!DH41))))","v":921},{"$f":"IF($J$6=\"OFF\",data!DI38,IF($J$6=\"26dB(A)\",data!DI39,IF($J$6=\"30dB(A)\",data!DI40,IF($J$6=\"MAX\",data!DI41))))","v":79},{"$f":"IF($J$6=\"OFF\",data!DJ38,IF($J$6=\"26dB(A)\",data!DJ39,IF($J$6=\"30dB(A)\",data!DJ40,IF($J$6=\"MAX\",data!DJ41))))","v":9.8246362381930949E-2},{"$f":"IF($J$6=\"OFF\",data!DK38,IF($J$6=\"26dB(A)\",data!DK39,IF($J$6=\"30dB(A)\",data!DK40,IF($J$6=\"MAX\",data!DK41))))","v":0},{"$f":"IF($J$6=\"OFF\",data!DL38,IF($J$6=\"26dB(A)\",data!DL39,IF($J$6=\"30dB(A)\",data!DL40,IF($J$6=\"MAX\",data!DL41))))","v":0},{"$f":"IF($J$6=\"OFF\",data!DM38,IF($J$6=\"26dB(A)\",data!DM39,IF($J$6=\"30dB(A)\",data!DM40,IF($J$6=\"MAX\",data!DM41))))","v":0},{"$f":"IF($J$6=\"OFF\",data!DN38,IF($J$6=\"26dB(A)\",data!DN39,IF($J$6=\"30dB(A)\",data!DN40,IF($J$6=\"MAX\",data!DN41))))","v":0},{"$f":"IF($J$6=\"OFF\",data!DO38,IF($J$6=\"26dB(A)\",data!DO39,IF($J$6=\"30dB(A)\",data!DO40,IF($J$6=\"MAX\",data!DO41))))","v":0},{"$f":"IF($J$6=\"OFF\",data!DP38,IF($J$6=\"26dB(A)\",data!DP39,IF($J$6=\"30dB(A)\",data!DP40,IF($J$6=\"MAX\",data!DP41))))","v":0},{"$f":"IF($J$6=\"OFF\",data!DQ38,IF($J$6=\"26dB(A)\",data!DQ39,IF($J$6=\"30dB(A)\",data!DQ40,IF($J$6=\"MAX\",data!DQ41))))","v":2}]
[null,{"$f":"IF($J$6=\"OFF\",data!DF42,IF($J$6=\"26dB(A)\",data!DF43,IF($J$6=\"30dB(A)\",data!DF44,IF($J$6=\"MAX\",data!DF45))))","v":110},null,{"$f":"IF($J$6=\"OFF\",data!DH42,IF($J$6=\"26dB(A)\",data!DH43,IF($J$6=\"30dB(A)\",data!DH44,IF($J$6=\"MAX\",data!DH45))))","v":1013},{"$f":"IF($J$6=\"OFF\",data!DI42,IF($J$6=\"26dB(A)\",data!DI43,IF($J$6=\"30dB(A)\",data!DI44,IF($J$6=\"MAX\",data!DI45))))","v":87},{"$f":"IF($J$6=\"OFF\",data!DJ42,IF($J$6=\"26dB(A)\",data!DJ43,IF($J$6=\"30dB(A)\",data!DJ44,IF($J$6=\"MAX\",data!DJ45))))","v":0.12053752050946154},{"$f":"IF($J$6=\"OFF\",data!DK42,IF($J$6=\"26dB(A)\",data!DK43,IF($J$6=\"30dB(A)\",data!DK44,IF($J$6=\"MAX\",data!DK45))))","v":0},{"$f":"IF($J$6=\"OFF\",data!DL42,IF($J$6=\"26dB(A)\",data!DL43,IF($J$6=\"30dB(A)\",data!DL44,IF($J$6=\"MAX\",data!DL45))))","v":0},{"$f":"IF($J$6=\"OFF\",data!DM42,IF($J$6=\"26dB(A)\",data!DM43,IF($J$6=\"30dB(A)\",data!DM44,IF($J$6=\"MAX\",data!DM45))))","v":0},{"$f":"IF($J$6=\"OFF\",data!DN42,IF($J$6=\"26dB(A)\",data!DN43,IF($J$6=\"30dB(A)\",data!DN44,IF($J$6=\"MAX\",data!DN45))))","v":0},{"$f":"IF($J$6=\"OFF\",data!DO42,IF($J$6=\"26dB(A)\",data!DO43,IF($J$6=\"30dB(A)\",data!DO44,IF($J$6=\"MAX\",data!DO45))))","v":0},{"$f":"IF($J$6=\"OFF\",data!DP42,IF($J$6=\"26dB(A)\",data!DP43,IF($J$6=\"30dB(A)\",data!DP44,IF($J$6=\"MAX\",data!DP45))))","v":0},{"$f":"IF($J$6=\"OFF\",data!DQ42,IF($J$6=\"26dB(A)\",data!DQ43,IF($J$6=\"30dB(A)\",data!DQ44,IF($J$6=\"MAX\",data!DQ45))))","v":2.2000000000000002}]
[null,{"$f":"IF($J$6=\"OFF\",data!DF46,IF($J$6=\"26dB(A)\",data!DF47,IF($J$6=\"30dB(A)\",data!DF48,IF($J$6=\"MAX\",data!DF49))))","v":120},null,{"$f":"IF($J$6=\"OFF\",data!DH46,IF($J$6=\"26dB(A)\",data!DH47,IF($J$6=\"30dB(A)\",data!DH48,IF($J$6=\"MAX\",data!DH49))))","v":1105},{"$f":"IF($J$6=\"OFF\",data!DI46,IF($J$6=\"26dB(A)\",data!DI47,IF($J$6=\"30dB(A)\",data!DI48,IF($J$6=\"MAX\",data!DI49))))","v":95},{"$f":"IF($J$6=\"OFF\",data!DJ46,IF($J$6=\"26dB(A)\",data!DJ47,IF($J$6=\"30dB(A)\",data!DJ48,IF($J$6=\"MAX\",data!DJ49))))","v":0.14532875506635198},{"$f":"IF($J$6=\"OFF\",data!DK46,IF($J$6=\"26dB(A)\",data!DK47,IF($J$6=\"30dB(A)\",data!DK48,IF($J$6=\"MAX\",data!DK49))))","v":0},{"$f":"IF($J$6=\"OFF\",data!DL46,IF($J$6=\"26dB(A)\",data!DL47,IF($J$6=\"30dB(A)\",data!DL48,IF($J$6=\"MAX\",data!DL49))))","v":0},{"$f":"IF($J$6=\"OFF\",data!DM46,IF($J$6=\"26dB(A)\",data!DM47,IF($J$6=\"30dB(A)\",data!DM48,IF($J$6=\"MAX\",data!DM49))))","v":0},{"$f":"IF($J$6=\"OFF\",data!DN46,IF($J$6=\"26dB(A)\",data!DN47,IF($J$6=\"30dB(A)\",data!DN48,IF($J$6=\"MAX\",data!DN49))))","v":0},{"$f":"IF($J$6=\"OFF\",data!DO46,IF($J$6=\"26dB(A)\",data!DO47,IF($J$6=\"30dB(A)\",data!DO48,IF($J$6=\"MAX\",data!DO49))))","v":0},{"$f":"IF($J$6=\"OFF\",data!DP46,IF($J$6=\"26dB(A)\",data!DP47,IF($J$6=\"30dB(A)\",data!DP48,IF($J$6=\"MAX\",data!DP49))))","v":0},{"$f":"IF($J$6=\"OFF\",data!DQ46,IF($J$6=\"26dB(A)\",data!DQ47,IF($J$6=\"30dB(A)\",data!DQ48,IF($J$6=\"MAX\",data!DQ49))))","v":2.4}]
[null,{"$f":"IF($J$6=\"OFF\",data!DF50,IF($J$6=\"26dB(A)\",data!DF51,IF($J$6=\"30dB(A)\",data!DF52,IF($J$6=\"MAX\",data!DF53))))","v":140},null,{"$f":"IF($J$6=\"OFF\",data!DH50,IF($J$6=\"26dB(A)\",data!DH51,IF($J$6=\"30dB(A)\",data!DH52,IF($J$6=\"MAX\",data!DH53))))","v":1289},{"$f":"IF($J$6=\"OFF\",data!DI50,IF($J$6=\"26dB(A)\",data!DI51,IF($J$6=\"30dB(A)\",data!DI52,IF($J$6=\"MAX\",data!DI53))))","v":111},{"$f":"IF($J$6=\"OFF\",data!DJ50,IF($J$6=\"26dB(A)\",data!DJ51,IF($J$6=\"30dB(A)\",data!DJ52,IF($J$6=\"MAX\",data!DJ53))))","v":0.20261733229997858},{"$f":"IF($J$6=\"OFF\",data!DK50,IF($J$6=\"26dB(A)\",data!DK51,IF($J$6=\"30dB(A)\",data!DK52,IF($J$6=\"MAX\",data!DK53))))","v":0},{"$f":"IF($J$6=\"OFF\",data!DL50,IF($J$6=\"26dB(A)\",data!DL51,IF($J$6=\"30dB(A)\",data!DL52,IF($J$6=\"MAX\",data!DL53))))","v":0},{"$f":"IF($J$6=\"OFF\",data!DM50,IF($J$6=\"26dB(A)\",data!DM51,IF($J$6=\"30dB(A)\",data!DM52,IF($J$6=\"MAX\",data!DM53))))","v":0},{"$f":"IF($J$6=\"OFF\",data!DN50,IF($J$6=\"26dB(A)\",data!DN51,IF($J$6=\"30dB(A)\",data!DN52,IF($J$6=\"MAX\",data!DN53))))","v":0},{"$f":"IF($J$6=\"OFF\",data!DO50,IF($J$6=\"26dB(A)\",data!DO51,IF($J$6=\"30dB(A)\",data!DO52,IF($J$6=\"MAX\",data!DO53))))","v":0},{"$f":"IF($J$6=\"OFF\",data!DP50,IF($J$6=\"26dB(A)\",data!DP51,IF($J$6=\"30dB(A)\",data!DP52,IF($J$6=\"MAX\",data!DP53))))","v":0},{"$f":"IF($J$6=\"OFF\",data!DQ50,IF($J$6=\"26dB(A)\",data!DQ51,IF($J$6=\"30dB(A)\",data!DQ52,IF($J$6=\"MAX\",data!DQ53))))","v":2.8}]
[null,{"$f":"IF($J$6=\"OFF\",data!DF54,IF($J$6=\"26dB(A)\",data!DF55,IF($J$6=\"30dB(A)\",data!DF56,IF($J$6=\"MAX\",data!DF57))))","v":160},null,{"$f":"IF($J$6=\"OFF\",data!DH54,IF($J$6=\"26dB(A)\",data!DH55,IF($J$6=\"30dB(A)\",data!DH56,IF($J$6=\"MAX\",data!DH57))))","v":1474},{"$f":"IF($J$6=\"OFF\",data!DI54,IF($J$6=\"26dB(A)\",data!DI55,IF($J$6=\"30dB(A)\",data!DI56,IF($J$6=\"MAX\",data!DI57))))","v":127},{"$f":"IF($J$6=\"OFF\",data!DJ54,IF($J$6=\"26dB(A)\",data!DJ55,IF($J$6=\"30dB(A)\",data!DJ56,IF($J$6=\"MAX\",data!DJ57))))","v":0.27051218338399846},{"$f":"IF($J$6=\"OFF\",data!DK54,IF($J$6=\"26dB(A)\",data!DK55,IF($J$6=\"30dB(A)\",data!DK56,IF($J$6=\"MAX\",data!DK57))))","v":0},{"$f":"IF($J$6=\"OFF\",data!DL54,IF($J$6=\"26dB(A)\",data!DL55,IF($J$6=\"30dB(A)\",data!DL56,IF($J$6=\"MAX\",data!DL57))))","v":0},{"$f":"IF($J$6=\"OFF\",data!DM54,IF($J$6=\"26dB(A)\",data!DM55,IF($J$6=\"30dB(A)\",data!DM56,IF($J$6=\"MAX\",data!DM57))))","v":0},{"$f":"IF($J$6=\"OFF\",data!DN54,IF($J$6=\"26dB(A)\",data!DN55,IF($J$6=\"30dB(A)\",data!DN56,IF($J$6=\"MAX\",data!DN57))))","v":0},{"$f":"IF($J$6=\"OFF\",data!DO54,IF($J$6=\"26dB(A)\",data!DO55,IF($J$6=\"30dB(A)\",data!DO56,IF($J$6=\"MAX\",data!DO57))))","v":0},{"$f":"IF($J$6=\"OFF\",data!DP54,IF($J$6=\"26dB(A)\",data!DP55,IF($J$6=\"30dB(A)\",data!DP56,IF($J$6=\"MAX\",data!DP57))))","v":0},{"$f":"IF($J$6=\"OFF\",data!DQ54,IF($J$6=\"26dB(A)\",data!DQ55,IF($J$6=\"30dB(A)\",data!DQ56,IF($J$6=\"MAX\",data!DQ57))))","v":3.2}]
[null,{"$f":"IF($J$6=\"OFF\",data!DF58,IF($J$6=\"26dB(A)\",data!DF59,IF($J$6=\"30dB(A)\",data!DF60,IF($J$6=\"MAX\",data!DF61))))","v":180},null,{"$f":"IF($J$6=\"OFF\",data!DH58,IF($J$6=\"26dB(A)\",data!DH59,IF($J$6=\"30dB(A)\",data!DH60,IF($J$6=\"MAX\",data!DH61))))","v":1657},{"$f":"IF($J$6=\"OFF\",data!DI58,IF($J$6=\"26dB(A)\",data!DI59,IF($J$6=\"30dB(A)\",data!DI60,IF($J$6=\"MAX\",data!DI61))))","v":143},{"$f":"IF($J$6=\"OFF\",data!DJ58,IF($J$6=\"26dB(A)\",data!DJ59,IF($J$6=\"30dB(A)\",data!DJ60,IF($J$6=\"MAX\",data!DJ61))))","v":0.34939712211520163},{"$f":"IF($J$6=\"OFF\",data!DK58,IF($J$6=\"26dB(A)\",data!DK59,IF($J$6=\"30dB(A)\",data!DK60,IF($J$6=\"MAX\",data!DK61))))","v":0},{"$f":"IF($J$6=\"OFF\",data!DL58,IF($J$6=\"26dB(A)\",data!DL59,IF($J$6=\"30dB(A)\",data!DL60,IF($J$6=\"MAX\",data!DL61))))","v":0},{"$f":"IF($J$6=\"OFF\",data!DM58,IF($J$6=\"26dB(A)\",data!DM59,IF($J$6=\"30dB(A)\",data!DM60,IF($J$6=\"MAX\",data!DM61))))","v":0},{"$f":"IF($J$6=\"OFF\",data!DN58,IF($J$6=\"26dB(A)\",data!DN59,IF($J$6=\"30dB(A)\",data!DN60,IF($J$6=\"MAX\",data!DN61))))","v":0},{"$f":"IF($J$6=\"OFF\",data!DO58,IF($J$6=\"26dB(A)\",data!DO59,IF($J$6=\"30dB(A)\",data!DO60,IF($J$6=\"MAX\",data!DO61))))","v":0},{"$f":"IF($J$6=\"OFF\",data!DP58,IF($J$6=\"26dB(A)\",data!DP59,IF($J$6=\"30dB(A)\",data!DP60,IF($J$6=\"MAX\",data!DP61))))","v":0},{"$f":"IF($J$6=\"OFF\",data!DQ58,IF($J$6=\"26dB(A)\",data!DQ59,IF($J$6=\"30dB(A)\",data!DQ60,IF($J$6=\"MAX\",data!DQ61))))","v":3.6}]
[null,{"$f":"IF($J$6=\"OFF\",data!DF62,IF($J$6=\"26dB(A)\",data!DF63,IF($J$6=\"30dB(A)\",data!DF64,IF($J$6=\"MAX\",data!DF65))))","v":200},null,{"$f":"IF($J$6=\"OFF\",data!DH62,IF($J$6=\"26dB(A)\",data!DH63,IF($J$6=\"30dB(A)\",data!DH64,IF($J$6=\"MAX\",data!DH65))))","v":1842},{"$f":"IF($J$6=\"OFF\",data!DI62,IF($J$6=\"26dB(A)\",data!DI63,IF($J$6=\"30dB(A)\",data!DI64,IF($J$6=\"MAX\",data!DI65))))","v":158},{"$f":"IF($J$6=\"OFF\",data!DJ62,IF($J$6=\"26dB(A)\",data!DJ63,IF($J$6=\"30dB(A)\",data!DJ64,IF($J$6=\"MAX\",data!DJ65))))","v":0.43429242128316042},{"$f":"IF($J$6=\"OFF\",data!DK62,IF($J$6=\"26dB(A)\",data!DK63,IF($J$6=\"30dB(A)\",data!DK64,IF($J$6=\"MAX\",data!DK65))))","v":0},{"$f":"IF($J$6=\"OFF\",data!DL62,IF($J$6=\"26dB(A)\",data!DL63,IF($J$6=\"30dB(A)\",data!DL64,IF($J$6=\"MAX\",data!DL65))))","v":0},{"$f":"IF($J$6=\"OFF\",data!DM62,IF($J$6=\"26dB(A)\",data!DM63,IF($J$6=\"30dB(A)\",data!DM64,IF($J$6=\"MAX\",data!DM65))))","v":0},{"$f":"IF($J$6=\"OFF\",data!DN62,IF($J$6=\"26dB(A)\",data!DN63,IF($J$6=\"30dB(A)\",data!DN64,IF($J$6=\"MAX\",data!DN65))))","v":0},{"$f":"IF($J$6=\"OFF\",data!DO62,IF($J$6=\"26dB(A)\",data!DO63,IF($J$6=\"30dB(A)\",data!DO64,IF($J$6=\"MAX\",data!DO65))))","v":0},{"$f":"IF($J$6=\"OFF\",data!DP62,IF($J$6=\"26dB(A)\",data!DP63,IF($J$6=\"30dB(A)\",data!DP64,IF($J$6=\"MAX\",data!DP65))))","v":0},{"$f":"IF($J$6=\"OFF\",data!DQ62,IF($J$6=\"26dB(A)\",data!DQ63,IF($J$6=\"30dB(A)\",data!DQ64,IF($J$6=\"MAX\",data!DQ65))))","v":4}]
[null,{"$f":"IF($J$6=\"OFF\",data!DF66,IF($J$6=\"26dB(A)\",data!DF67,IF($J$6=\"30dB(A)\",data!DF68,IF($J$6=\"MAX\",data!DF69))))","v":220},null,{"$f":"IF($J$6=\"OFF\",data!DH66,IF($J$6=\"26dB(A)\",data!DH67,IF($J$6=\"30dB(A)\",data!DH68,IF($J$6=\"MAX\",data!DH69))))","v":1890},{"$f":"IF($J$6=\"OFF\",data!DI66,IF($J$6=\"26dB(A)\",data!DI67,IF($J$6=\"30dB(A)\",data!DI68,IF($J$6=\"MAX\",data!DI69))))","v":163},{"$f":"IF($J$6=\"OFF\",data!DJ66,IF($J$6=\"26dB(A)\",data!DJ67,IF($J$6=\"30dB(A)\",data!DJ68,IF($J$6=\"MAX\",data!DJ69))))","v":0.4719986864273768},{"$f":"IF($J$6=\"OFF\",data!DK66,IF($J$6=\"26dB(A)\",data!DK67,IF($J$6=\"30dB(A)\",data!DK68,IF($J$6=\"MAX\",data!DK69))))","v":0},{"$f":"IF($J$6=\"OFF\",data!DL66,IF($J$6=\"26dB(A)\",data!DL67,IF($J$6=\"30dB(A)\",data!DL68,IF($J$6=\"MAX\",data!DL69))))","v":0},{"$f":"IF($J$6=\"OFF\",data!DM66,IF($J$6=\"26dB(A)\",data!DM67,IF($J$6=\"30dB(A)\",data!DM68,IF($J$6=\"MAX\",data!DM69))))","v":0},{"$f":"IF($J$6=\"OFF\",data!DN66,IF($J$6=\"26dB(A)\",data!DN67,IF($J$6=\"30dB(A)\",data!DN68,IF($J$6=\"MAX\",data!DN69))))","v":0},{"$f":"IF($J$6=\"OFF\",data!DO66,IF($J$6=\"26dB(A)\",data!DO67,IF($J$6=\"30dB(A)\",data!DO68,IF($J$6=\"MAX\",data!DO69))))","v":0},{"$f":"IF($J$6=\"OFF\",data!DP66,IF($J$6=\"26dB(A)\",data!DP67,IF($J$6=\"30dB(A)\",data!DP68,IF($J$6=\"MAX\",data!DP69))))","v":0},{"$f":"IF($J$6=\"OFF\",data!DQ66,IF($J$6=\"26dB(A)\",data!DQ67,IF($J$6=\"30dB(A)\",data!DQ68,IF($J$6=\"MAX\",data!DQ69))))","v":4.4000000000000004}]
[null,{"$f":"IF($J$6=\"OFF\",data!DF70,IF($J$6=\"26dB(A)\",data!DF71,IF($J$6=\"30dB(A)\",data!DF72,IF($J$6=\"MAX\",data!DF73))))","v":240},null,{"$f":"IF($J$6=\"OFF\",data!DH70,IF($J$6=\"26dB(A)\",data!DH71,IF($J$6=\"30dB(A)\",data!DH72,IF($J$6=\"MAX\",data!DH73))))","v":2210},{"$f":"IF($J$6=\"OFF\",data!DI70,IF($J$6=\"26dB(A)\",data!DI71,IF($J$6=\"30dB(A)\",data!DI72,IF($J$6=\"MAX\",data!DI73))))","v":190},{"$f":"IF($J$6=\"OFF\",data!DJ70,IF($J$6=\"26dB(A)\",data!DJ71,IF($J$6=\"30dB(A)\",data!DJ72,IF($J$6=\"MAX\",data!DJ73))))","v":0.64901697730759178},{"$f":"IF($J$6=\"OFF\",data!DK70,IF($J$6=\"26dB(A)\",data!DK71,IF($J$6=\"30dB(A)\",data!DK72,IF($J$6=\"MAX\",data!DK73))))","v":0},{"$f":"IF($J$6=\"OFF\",data!DL70,IF($J$6=\"26dB(A)\",data!DL71,IF($J$6=\"30dB(A)\",data!DL72,IF($J$6=\"MAX\",data!DL73))))","v":0},{"$f":"IF($J$6=\"OFF\",data!DM70,IF($J$6=\"26dB(A)\",data!DM71,IF($J$6=\"30dB(A)\",data!DM72,IF($J$6=\"MAX\",data!DM73))))","v":0},{"$f":"IF($J$6=\"OFF\",data!DN70,IF($J$6=\"26dB(A)\",data!DN71,IF($J$6=\"30dB(A)\",data!DN72,IF($J$6=\"MAX\",data!DN73))))","v":0},{"$f":"IF($J$6=\"OFF\",data!DO70,IF($J$6=\"26dB(A)\",data!DO71,IF($J$6=\"30dB(A)\",data!DO72,IF($J$6=\"MAX\",data!DO73))))","v":0},{"$f":"IF($J$6=\"OFF\",data!DP70,IF($J$6=\"26dB(A)\",data!DP71,IF($J$6=\"30dB(A)\",data!DP72,IF($J$6=\"MAX\",data!DP73))))","v":0},{"$f":"IF($J$6=\"OFF\",data!DQ70,IF($J$6=\"26dB(A)\",data!DQ71,IF($J$6=\"30dB(A)\",data!DQ72,IF($J$6=\"MAX\",data!DQ73))))","v":4.8}]
[null,{"$f":"IF($J$6=\"OFF\",data!DF74,IF($J$6=\"26dB(A)\",data!DF75,IF($J$6=\"30dB(A)\",data!DF76,IF($J$6=\"MAX\",data!DF77))))","v":260},null,{"$f":"IF($J$6=\"OFF\",data!DH74,IF($J$6=\"26dB(A)\",data!DH75,IF($J$6=\"30dB(A)\",data!DH76,IF($J$6=\"MAX\",data!DH77))))","v":2289},{"$f":"IF($J$6=\"OFF\",data!DI74,IF($J$6=\"26dB(A)\",data!DI75,IF($J$6=\"30dB(A)\",data!DI76,IF($J$6=\"MAX\",data!DI77))))","v":197},{"$f":"IF($J$6=\"OFF\",data!DJ74,IF($J$6=\"26dB(A)\",data!DJ75,IF($J$6=\"30dB(A)\",data!DJ76,IF($J$6=\"MAX\",data!DJ77))))","v":0.71079667180110884},{"$f":"IF($J$6=\"OFF\",data!DK74,IF($J$6=\"26dB(A)\",data!DK75,IF($J$6=\"30dB(A)\",data!DK76,IF($J$6=\"MAX\",data!DK77))))","v":0},{"$f":"IF($J$6=\"OFF\",data!DL74,IF($J$6=\"26dB(A)\",data!DL75,IF($J$6=\"30dB(A)\",data!DL76,IF($J$6=\"MAX\",data!DL77))))","v":0},{"$f":"IF($J$6=\"OFF\",data!DM74,IF($J$6=\"26dB(A)\",data!DM75,IF($J$6=\"30dB(A)\",data!DM76,IF($J$6=\"MAX\",data!DM77))))","v":0},{"$f":"IF($J$6=\"OFF\",data!DN74,IF($J$6=\"26dB(A)\",data!DN75,IF($J$6=\"30dB(A)\",data!DN76,IF($J$6=\"MAX\",data!DN77))))","v":0},{"$f":"IF($J$6=\"OFF\",data!DO74,IF($J$6=\"26dB(A)\",data!DO75,IF($J$6=\"30dB(A)\",data!DO76,IF($J$6=\"MAX\",data!DO77))))","v":0},{"$f":"IF($J$6=\"OFF\",data!DP74,IF($J$6=\"26dB(A)\",data!DP75,IF($J$6=\"30dB(A)\",data!DP76,IF($J$6=\"MAX\",data!DP77))))","v":0},{"$f":"IF($J$6=\"OFF\",data!DQ74,IF($J$6=\"26dB(A)\",data!DQ75,IF($J$6=\"30dB(A)\",data!DQ76,IF($J$6=\"MAX\",data!DQ77))))","v":5.2}]
[null,{"$f":"IF($J$6=\"OFF\",data!DF78,IF($J$6=\"26dB(A)\",data!DF79,IF($J$6=\"30dB(A)\",data!DF80,IF($J$6=\"MAX\",data!DF81))))","v":280},null,{"$f":"IF($J$6=\"OFF\",data!DH78,IF($J$6=\"26dB(A)\",data!DH79,IF($J$6=\"30dB(A)\",data!DH80,IF($J$6=\"MAX\",data!DH81))))","v":2578},{"$f":"IF($J$6=\"OFF\",data!DI78,IF($J$6=\"26dB(A)\",data!DI79,IF($J$6=\"30dB(A)\",data!DI80,IF($J$6=\"MAX\",data!DI81))))","v":222},{"$f":"IF($J$6=\"OFF\",data!DJ78,IF($J$6=\"26dB(A)\",data!DJ79,IF($J$6=\"30dB(A)\",data!DJ80,IF($J$6=\"MAX\",data!DJ81))))","v":0.9133083225181986},{"$f":"IF($J$6=\"OFF\",data!DK78,IF($J$6=\"26dB(A)\",data!DK79,IF($J$6=\"30dB(A)\",data!DK80,IF($J$6=\"MAX\",data!DK81))))","v":0},{"$f":"IF($J$6=\"OFF\",data!DL78,IF($J$6=\"26dB(A)\",data!DL79,IF($J$6=\"30dB(A)\",data!DL80,IF($J$6=\"MAX\",data!DL81))))","v":0},{"$f":"IF($J$6=\"OFF\",data!DM78,IF($J$6=\"26dB(A)\",data!DM79,IF($J$6=\"30dB(A)\",data!DM80,IF($J$6=\"MAX\",data!DM81))))","v":0},{"$f":"IF($J$6=\"OFF\",data!DN78,IF($J$6=\"26dB(A)\",data!DN79,IF($J$6=\"30dB(A)\",data!DN80,IF($J$6=\"MAX\",data!DN81))))","v":0},{"$f":"IF($J$6=\"OFF\",data!DO78,IF($J$6=\"26dB(A)\",data!DO79,IF($J$6=\"30dB(A)\",data!DO80,IF($J$6=\"MAX\",data!DO81))))","v":0},{"$f":"IF($J$6=\"OFF\",data!DP78,IF($J$6=\"26dB(A)\",data!DP79,IF($J$6=\"30dB(A)\",data!DP80,IF($J$6=\"MAX\",data!DP81))))","v":0},{"$f":"IF($J$6=\"OFF\",data!DQ78,IF($J$6=\"26dB(A)\",data!DQ79,IF($J$6=\"30dB(A)\",data!DQ80,IF($J$6=\"MAX\",data!DQ81))))","v":5.6}]
[null,{"$f":"IF($J$6=\"OFF\",data!DF82,IF($J$6=\"26dB(A)\",data!DF83,IF($J$6=\"30dB(A)\",data!DF84,IF($J$6=\"MAX\",data!DF85))))","v":300},{"$f":"IF($J$6=\"OFF\",data!DG82,IF($J$6=\"26dB(A)\",data!DG83,IF($J$6=\"30dB(A)\",data!DG84,IF($J$6=\"MAX\",data!DG85))))","v":{"$error":"#N/A"}},{"$f":"IF($J$6=\"OFF\",data!DH82,IF($J$6=\"26dB(A)\",data!DH83,IF($J$6=\"30dB(A)\",data!DH84,IF($J$6=\"MAX\",data!DH85))))","v":{"$error":"#N/A"}},{"$f":"IF($J$6=\"OFF\",data!DI82,IF($J$6=\"26dB(A)\",data!DI83,IF($J$6=\"30dB(A)\",data!DI84,IF($J$6=\"MAX\",data!DI85))))","v":{"$error":"#N/A"}},{"$f":"IF($J$6=\"OFF\",data!DJ82,IF($J$6=\"26dB(A)\",data!DJ83,IF($J$6=\"30dB(A)\",data!DJ84,IF($J$6=\"MAX\",data!DJ85))))","v":{"$error":"#N/A"}},{"$f":"IF($J$6=\"OFF\",data!DK82,IF($J$6=\"26dB(A)\",data!DK83,IF($J$6=\"30dB(A)\",data!DK84,IF($J$6=\"MAX\",data!DK85))))","v":0},{"$f":"IF($J$6=\"OFF\",data!DL82,IF($J$6=\"26dB(A)\",data!DL83,IF($J$6=\"30dB(A)\",data!DL84,IF($J$6=\"MAX\",data!DL85))))","v":0},{"$f":"IF($J$6=\"OFF\",data!DM82,IF($J$6=\"26dB(A)\",data!DM83,IF($J$6=\"30dB(A)\",data!DM84,IF($J$6=\"MAX\",data!DM85))))","v":0},{"$f":"IF($J$6=\"OFF\",data!DN82,IF($J$6=\"26dB(A)\",data!DN83,IF($J$6=\"30dB(A)\",data!DN84,IF($J$6=\"MAX\",data!DN85))))","v":0},{"$f":"IF($J$6=\"OFF\",data!DO82,IF($J$6=\"26dB(A)\",data!DO83,IF($J$6=\"30dB(A)\",data!DO84,IF($J$6=\"MAX\",data!DO85))))","v":0},{"$f":"IF($J$6=\"OFF\",data!DP82,IF($J$6=\"26dB(A)\",data!DP83,IF($J$6=\"30dB(A)\",data!DP84,IF($J$6=\"MAX\",data!DP85))))","v":0},{"$f":"IF($J$6=\"OFF\",data!DQ82,IF($J$6=\"26dB(A)\",data!DQ83,IF($J$6=\"30dB(A)\",data!DQ84,IF($J$6=\"MAX\",data!DQ85))))","v":{"$error":"#N/A"}}]
[null,null,null,null,null,null,null,null,null,null,null,null,"v2021-02-02"]
[null,"*",{"$f":"IF($J$4=data!$CC$3,NL!E6,IF($J$4=data!$CC$4,EN!E6,IF($J$4=data!$CC$5,FR!E6,IF($J$4=data!$CC$6,DE!E6,IF($J$4=data!$CC$7,NR!E6,IF($J$4=data!$CC$8,SP!E6,IF($J$4=data!$CC$9,SW!E6,)))))))","v":"La velocidad del ventilador en \"0\" tiene una emisión indicativa."}]
[null,"**",{"$f":"IF($J$4=data!$CC$3,NL!B20,IF($J$4=data!$CC$4,EN!B20,IF($J$4=data!$CC$5,FR!B20,IF($J$4=data!$CC$6,DE!B20,IF($J$4=data!$CC$7,NR!B20,IF($J$4=data!$CC$8,SP!B20,IF($J$4=data!$CC$9,SW!B20,)))))))","v":"La potencia de enfriamiento se calcula según la norma EN 16430 con ventiladores de todas las alturas."}]
[null,"***",{"$f":"IF($J$4=data!$CC$3,NL!B21,IF($J$4=data!$CC$4,EN!B21,IF($J$4=data!$CC$5,FR!B21,IF($J$4=data!$CC$6,DE!B21,IF($J$4=data!$CC$7,NR!B21,IF($J$4=data!$CC$8,SP!B21,IF($J$4=data!$CC$9,SW!B21,)))))))","v":"Cuando el volumen de agua se da en galones, las unidades son específicamente galones imperiales."}]
[null,"****",{"$f":"IF($J$4=data!$CC$3,NL!B22,IF($J$4=data!$CC$4,EN!B22,IF($J$4=data!$CC$5,FR!B22,IF($J$4=data!$CC$6,DE!B22,IF($J$4=data!$CC$7,NR!B22,IF($J$4=data!$CC$8,SP!B22,IF($J$4=data!$CC$9,SW!B22,)))))))","v":"Potencia sonora según ISO 3741: 2010, nivel de presión acústica con una amortiguación ambiental supuesta de 8 dB (A)."}]

{"sheet":"data","index":1,"n_rows":1355,"n_cols":121,"rows_kept":1125,"cut":true,"hidden":true,"merged":[[2679,87,2682,87],[2679,86,2682,86],[2679,85,2682,85],[2679,84,2682,84],[16,109,16,120],[101,91,101,96],[105,91,105,96],[109,91,109,96],[113,91,113,96],[70,92,70,93],[70,102,70,103],[70,100,70,101],[70,98,70,99],[70,96,70,97],[70,94,70,95],[9,109,9,111],[9,114,9,116],[9,119,9,120],[10,109,10,111],[10,114,10,116],[10,119,13,120],[11,109,11,111],[11,114,11,116],[12,114,12,116],[5,113,5,116],[6,116,7,117],[6,118,7,118],[6,119,7,119],[6,120,7,120],[1,109,1,118],[3,113,3,116],[3,117,3,118],[3,119,3,120],[4,109,4,110],[4,113,4,116],[4,117,4,118],[1,79,1,83],[21,94,21,96],[0,97,0,99],[0,85,0,87],[0,88,0,90],[0,91,0,93],[0,94,0,96],[21,97,21,99],[25,66,25,68],[25,69,25,71],[25,73,25,75],[25,76,25,77],[69,92,69,103]],"bounds":{"rows_first":500,"rows_last":125,"rows_between":500,"halvings":2}}
[{"$f":"+CONCATENATE($A$2,\"_L\")","v":"Strada_L"},null,null,null,null,null,null,null,null,null,null,null,"heating","Ti",{"$f":"IF($BZ$2=1,$P1,IF($BZ$2=2,(P1-32)/1.8,))","v":65},{"$f":"'LowH2O DBH'!E10","v":65},null,null,null,null,null,null,null,null,null,null,null,null,null,null,null,null,null,null,null,null,"cooling","Ti",{"$f":"IF($BZ$2=1,$AN1,IF($BZ$2=2,($AN1-32)/1.8,))","v":15.999999999999998},{"$f":"'LowH2O DBH'!J10","v":15.999999999999998},null,"RH",{"$f":"'LowH2O DBH'!J13","v":0.5},null,null,null,"RH",null,null,null,null,null,null,null,null,null,null,null,null,null,null,null,null,null,null,null,null,null,null,null,null,"DBH rail",{"$f":"IF($CC$17=1,\"GEEN\",IF($CC$17=2,\"NONE\",IF($CC$17=3,\"NONE\",IF($CC$17=4,\"NONE\",IF($CC$17=5,\"NONE\",)))))","v":0},10,15,null,null,"Imperial/SI",null,"toestel","taal","lengte","hoogte","type",null,"Built_in Hybrid",null,null,"Strada Hybrid",null,null,"Linea Hybrid",null,null,"Tempo Hybrid",null,null,"DBH-upgrade"]
[{"$f":"IF('LowH2O DBH'!$J$5=data!$CH$1,data!$CA$6,IF('LowH2O DBH'!$J$5=data!$CK$1,data!$CA$3,IF('LowH2O DBH'!$J$5=data!$CN$1,data!$CA$4,IF('LowH2O DBH'!$J$5=data!$CQ$1,data!$CA$5,))))","v":"Strada"},null,null,null,null,null,null,null,null,null,null,null,null,"Tr",{"$f":"IF($BZ$2=1,$P2,IF($BZ$2=2,(P2-32)/1.8,))","v":55},{"$f":"'LowH2O DBH'!E11","v":55},null,null,null,null,null,null,null,null,null,null,null,null,null,null,null,null,null,null,null,null,null,"Tr",{"$f":"IF($BZ$2=1,$AN2,IF($BZ$2=2,($AN2-32)/1.8,))","v":18.000000000000004},{"$f":"'LowH2O DBH'!J11","v":18.000000000000004},null,null,null,null,null,null,null,null,null,null,null,null,null,null,null,null,null,null,null,null,null,null,null,null,null,null,null,null,null,null,null,1,null,null,null,null,null,1,null,"Geselecteerd",null,null,null,null,null,"hoogte","lengte","type","hoogte","lengte","type","hoogte","lengte","type","hoogte","lengte","type","hoogte","lengte","type",null,null,null,null,null,null,null,null,null,{"$f":"IF(data!$CC$17=7,\"Effektsimulering Hybridmodeller\",\"Selectiontool LowH2O Hybrids\")","v":"Selectiontool LowH2O Hybrids"}]
[null,null,null,null,null,null,null,null,null,null,null,null,null,"Ta",{"$f":"IF($BZ$2=1,$P3,IF($BZ$2=2,(P3-32)/1.8,))","v":20},{"$f":"'LowH2O DBH'!E12","v":20},null,null,null,null,null,null,null,null,null,null,null,null,null,null,null,null,null,null,null,null,null,"Ta",{"$f":"IF($BZ$2=1,$AN3,IF($BZ$2=2,($AN3-32)/1.8,))","v":26.999999999999996},{"$f":"'LowH2O DBH'!J12","v":26.999999999999996},null,null,null,null,null,null,null,null,null,null,null,null,null,null,null,null,null,null,null,null,null,null,null,null,null,null,null,null,null,null,null,null,null,null,null,null,null,1,"Strada",{"$f":"CK1","v":"Strada Hybrid"},"Nederlands",50,{"$f":"IF($CB$7=1,CK3,IF($CB$7=2,CN3,IF($CB$7=3,CQ3,IF($CB$7=4,CH3,))))","v":35},10,null,20,60,10,35,50,10,20,50,10,20,50,10,null,50,10]
["kolomindex",2,3,4,5,6,7,8,9,10,11,12,13,14,15,16,17,18,19,20,21,22,23,24,25,26,27,28,29,30,31,32,33,34,35,36,37,38,39,40,41,42,43,44,45,46,47,48,49,50,51,52,53,54,55,56,57,58,59,60,61,62,63,64,65,66,67,68,69,70,71,72,73,74,75,76,77,null,"Linea",{"$f":"CN1","v":"Linea Hybrid"},"English",60,{"$f":"IF($CB$7=1,CK4,IF($CB$7=2,CN4,IF($CB$7=3,CQ4,IF($CB$7=4,CH4,))))","v":50},11,null,30,70,11,50,60,11,35,60,11,30,60,11,null,60,11,null,null,null,null,null,null,null,null,null,null,null,null,null,"Taal/Language/Sprache/Langue/Språk/Lengua",null,null,null,{"$f":"'LowH2O DBH'!J4","v":"Español"},{"$f":"'LowH2O DBH'!K4","v":0}]
[{"$f":"CONCATENATE($CB$7,'LowH2O DBH'!$K$6,$CD3,'LowH2O DBH'!$L$6)","v":"1505016"},null,null,{"$f":"VLOOKUP($A5,$A$28:$BY$1355,D$4,0)","v":{"$error":"#N/A"}},{"$f":"VLOOKUP($A5,$A$28:$BY$1355,E$4,0)","v":{"$error":"#N/A"}},{"$error":"#N/A"},{"$error":"#N/A"},{"$error":"#N/A"},{"$error":"#N/A"},{"$error":"#N/A"},{"$error":"#N/A"},{"$error":"#N/A"},{"$error":"#N/A"},{"$error":"#N/A"},{"$error":"#N/A"},{"$error":"#N/A"},{"$error":"#N/A"},{"$error":"#N/A"},{"$error":"#N/A"},{"$error":"#N/A"},{"$error":"#N/A"},{"$error":"#N/A"},{"$error":"#N/A"},{"$error":"#N/A"},{"$error":"#N/A"},{"$error":"#N/A"},{"$error":"#N/A"},{"$error":"#N/A"},{"$error":"#N/A"},{"$error":"#N/A"},{"$error":"#N/A"},{"$error":"#N/A"},{"$error":"#N/A"},{"$error":"#N/A"},{"$error":"#N/A"},{"$error":"#N/A"},{"$error":"#N/A"},{"$error":"#N/A"},{"$error":"#N/A"},{"$error":"#N/A"},{"$error":"#N/A"},{"$error":"#N/A"},{"$error":"#N/A"},{"$error":"#N/A"},{"$error":"#N/A"},{"$error":"#N/A"},{"$error":"#N/A"},{"$error":"#N/A"},{"$error":"#N/A"},{"$error":"#N/A"},{"$error":"#N/A"},{"$error":"#N/A"},{"$error":"#N/A"},{"$error":"#N/A"},{"$error":"#N/A"},{"$error":"#N/A"},{"$error":"#N/A"},{"$error":"#N/A"},{"$error":"#N/A"},{"$error":"#N/A"},{"$error":"#N/A"},{"$error":"#N/A"},{"$error":"#N/A"},{"$error":"#N/A"},{"$error":"#N/A"},{"$error":"#N/A"},{"$error":"#N/A"},{"$error":"#N/A"},{"$f":"VLOOKUP($A5,$A$28:$BY$1355,BQ$4,0)","v":{"$error":"#N/A"}},{"$error":"#N/A"},{"$error":"#N/A"},{"$error":"#N/A"},{"$error":"#N/A"},{"$error":"#N/A"},{"$error":"#N/A"},{"$error":"#N/A"},{"$error":"#N/A"},null,"Tempo",{"$f":"CQ1","v":"Tempo Hybrid"},"Français",70,{"$f":"IF($CB$7=1,CK5,IF($CB$7=2,CN5,IF($CB$7=3,CQ5,IF($CB$7=4,CH5,))))","v":65},15,null,40,80,15,65,70,15,50,70,15,40,70,15,null,70,15,null,null,null,null,null,null,null,null,null,null,null,null,null,{"$f":"IF($J$4=data!$CC$3,NL!DJ4,IF($J$4=data!$CC$4,EN!DJ4,IF($J$4=data!$CC$5,FR!DJ4,IF($J$4=data!$CC$6,DE!DJ4,IF($J$4=data!$CC$7,NR!DJ4,IF($J$4=data!$CC$8,SP!DJ4,IF($J$4=data!$CC$9,SW!DJ4,)))))))","v":0},null,null,null,{"$f":"'LowH2O DBH'!J5","v":"Strada Hybrid"},{"$f":"'LowH2O DBH'!K5","v":0}]
[{"$f":"CONCATENATE($CB$7,'LowH2O DBH'!$K$6,$CD4,'LowH2O DBH'!$L$6)","v":"1506016"},null,null,{"$f":"VLOOKUP($A6,$A$28:$BY$1355,D$4,0)","v":1},50,60,16,16.5,0,26,30,41.1,774.5200000000001,1399.7241764138612,1502.5729206967153,1988.7,1.5,1.1000000000000001,1.1000000000000001,1.1000000000000001,553,1093,1173,1553,48,94,101,134,3.4395354733294137E-2,0.12999495976193065,0.1498640371075696,0.26238954698403733,2.0829999999999999E-4,1.724,4,1.392796E-3,214,230,305,0.95,0.95,0.95,214,230,305,92,99,131,0.12457564927087089,0.14404410806926615,0.25087593311274681,1.2,4.8,5.5,7.2,0,1139,0,0.68,0,0,0,12.3,14.4,21.85,0,1,1,1,214,230,305,0,0,0,0,1,null,"Built_in",{"$f":"CH1","v":"Built_in Hybrid"},"Deutsch",80,{"$f":"IF($CB$7=1,CK6,IF($CB$7=2,CN6,IF($CB$7=3,CQ6,IF($CB$7=4,CH6,))))","v":95},16,null,50,90,16,95,80,16,65,80,16,50,80,16,null,80,16,null,null,null,null,null,null,null,null,null,null,null,null,null,{"$f":"IF($J$4=data!$CC$3,NL!DI4,IF($J$4=data!$CC$4,EN!DI4,IF($J$4=data!$CC$5,FR!DI4,IF($J$4=data!$CC$6,DE!DI4,IF($J$4=data!$CC$7,NR!DI4,IF($J$4=data!$CC$8,SP!DI4,IF($J$4=data!$CC$9,SW!DI4,)))))))&\" [centimeter]\"","v":" [centimeter]"},null,null,null,{"$f":"'LowH2O DBH'!J6","v":"OFF"},{"$f":"'LowH2O DBH'!K6","v":50},{"$f":"'LowH2O DBH'!L6","v":16},{"$f":"data!DL6","v":0}]
[{"$f":"CONCATENATE($CB$7,'LowH2O DBH'!$K$6,$CD5,'LowH2O DBH'!$L$6)","v":"1507016"},null,null,1,{"$f":"VLOOKUP($A7,$A$28:$BY$1355,E$4,0)","v":50},70,16,16.5,0,26,30,41.1,903.72,1627.62717250317,1747.2217424001376,2312.5,1.5,1.1000000000000001,1.1000000000000001,1.1000000000000001,645,1271,1364,1805,55,109,117,155,4.5833406894825762E-2,0.17694509326691635,0.20354226765780917,0.35504012904622118,2.0829999999999999E-4,1.724,4,1.392796E-3,219.59769851718443,235.73326859625641,312,0.95,0.95,0.95,220,236,312,95,101,134,0.1348444213322838,0.1521944098151945,0.26618360536544905,1.4,5.0999999999999996,5.6,7.2,0,1329,0,0.68,0,0,0,12.3,14.4,21.85,0,1,1,1,220,236,312,0,0,0,0,1,null,{"$f":"IF(#REF!=data!CA3,1,IF(#REF!=data!CA4,2,IF(#REF!=data!CA5,3,IF(#REF!=data!CA6,3))))","v":{"$error":"#REF!"}},{"$f":"IF('LowH2O DBH'!$J$5=data!CB3,1,IF('LowH2O DBH'!$J$5=data!CB4,2,IF('LowH2O DBH'!$J$5=data!CB5,3,IF('LowH2O DBH'!$J$5=data!CB6,3))))","v":1},"Norsk",90,{"$f":"IF(CE20=0,\"\",CE20)","v":""},20,null,60,100,20,null,90,20,95,90,20,60,90,20,null,90,20,null,null,null,null,null,null,null,null,null,null,null,null,null,null,{"$f":"IF($J$4=data!$CC$3,NL!DF3,IF($J$4=data!$CC$4,EN!DF3,IF($J$4=data!$CC$5,FR!DF3,IF($J$4=data!$CC$6,DE!DF3,IF($J$4=data!$CC$7,NR!DF3,IF($J$4=data!$CC$8,SP!DF3,IF($J$4=data!$CC$9,SW!DF3,)))))))","v":0},null,{"$f":"IF($J$4=data!$CC$3,NL!DF16,IF($J$4=data!$CC$4,EN!DF16,IF($J$4=data!$CC$5,FR!DF16,IF($J$4=data!$CC$6,DE!DF16,IF($J$4=data!$CC$7,NR!DF16,IF($J$4=data!$CC$8,SP!DF16,IF($J$4=data!$CC$9,SW!DF16,)))))))","v":0},null,{"$f":"IF($J$4=data!$CC$3,NL!DF4,IF($J$4=data!$CC$4,EN!DF4,IF($J$4=data!$CC$5,FR!DF4,IF($J$4=data!$CC$6,DE!DF4,IF($J$4=data!$CC$7,NR!DF4,IF($J$4=data!$CC$8,SP!DF4,IF($J$4=data!$CC$9,SW!DF4,)))))))","v":0},{"$f":"IF($J$4=data!$CC$3,NL!DF5,IF($J$4=data!$CC$4,EN!DF5,IF($J$4=data!$CC$5,FR!DF5,IF($J$4=data!$CC$6,DE!DF5,IF($J$4=data!$CC$7,NR!DF5,IF($J$4=data!$CC$8,SP!DF5,IF($J$4=data!$CC$9,SW!DF5,)))))))","v":0},{"$f":"IF($J$4=data!$CC$3,NL!DF6,IF($J$4=data!$CC$4,EN!DF6,IF($J$4=data!$CC$5,FR!DF6,IF($J$4=data!$CC$6,DE!DF6,IF($J$4=data!$CC$7,NR!DF6,IF($J$4=data!$CC$8,SP!DF6,IF($J$4=data!$CC$9,SW!DF6,)))))))","v":0}]
[{"$f":"CONCATENATE($CB$7,'LowH2O DBH'!$K$6,$CD6,'LowH2O DBH'!$L$6)","v":"1508016"},null,null,1,50,80,16,16.5,0,26,30,42.4,1032.24,2040.4331716148024,2188.0092071816284,2935.7,1.5,1.1000000000000001,1.1000000000000001,1.1000000000000001,737,1593,1708,2292,63,137,147,197,6.0949986346466332E-2,0.28204303816785287,0.32414663509783698,0.57808545963619196,2.0829999999999999E-4,1.724,4,1.392796E-3,312,335,450,0.95,0.95,0.95,312,335,450,134,144,194,0.26997766374686077,0.31121106327333475,0.56081193423750164,1.6,6,6.7,9,0,1518,0,0.68,0,0,0,11.8,13.7,21.85,0,1,1,1,312,335,450,0,0,0,0,1,null,null,null,"Español",100,{"$f":"IF(CE21=0,\"\",CE21)","v":""},21,null,70,110,21,null,100,21,null,100,21,70,100,21,null,100,21,null,null,null,null,null,null,null,null,null,{"$f":"IF($J$4=data!$CC$3,NL!DI5,IF($J$4=data!$CC$4,EN!DI5,IF($J$4=data!$CC$5,FR!DI5,IF($J$4=data!$CC$6,DE!DI5,IF($J$4=data!$CC$7,NR!DI5,IF($J$4=data!$CC$8,SP!DI5,IF($J$4=data!$CC$9,SW!DI5,)))))))","v":0}]
[{"$f":"CONCATENATE($CB$7,'LowH2O DBH'!$K$6,$CD7,'LowH2O DBH'!$L$6)","v":"1509016"},null,null,1,50,90,16,16.5,0,26,30,43.3,1161.44,2336.669516687492,2503.3688418217644,3409.2,1.5,1.1000000000000001,1.1000000000000001,1.1000000000000001,829,1824,1954,2662,71,157,168,229,7.8402105479962514E-2,0.37413425352165253,0.42759818960823864,0.7880408313931474,2.0829999999999999E-4,1.724,4,1.392796E-3,357.77938745479025,383.30357134546551,522,0.95,0.95,0.95,358,383,522,154,165,224,0.36016635113087053,0.41266687566708049,0.75442675175462648,1.8,7,7.7,10.7,0,1708,0,0.68,0,0,0,11.3,13.2,21.85,0,1,1,1,358,383,522,0,0,0,0,1,null,"W/m,beript dyn heat",null,"Svenska",110,"",null,null,90,120,null,null,110,null,null,110,null,90,110,null,null,110,null,null,null,null,null,null,null,null,null,null,{"$f":"IF($J$4=data!$CC$3,NL!DF8,IF($J$4=data!$CC$4,EN!DF8,IF($J$4=data!$CC$5,FR!DF8,IF($J$4=data!$CC$6,DE!DF8,IF($J$4=data!$CC$7,NR!DF8,IF($J$4=data!$CC$8,SP!DF8,IF($J$4=data!$CC$9,SW!DF8,)))))))","v":0},null,null,null,null,{"$f":"IF($J$4=data!$CC$3,NL!DK8,IF($J$4=data!$CC$4,EN!DK8,IF($J$4=data!$CC$5,FR!DK8,IF($J$4=data!$CC$6,DE!DK8,IF($J$4=data!$CC$7,NR!DK8,IF($J$4=data!$CC$8,SP!DK8,IF($J$4=data!$CC$9,SW!DK8,)))))))","v":0}]
[{"$f":"CONCATENATE($CB$7,'LowH2O DBH'!$K$6,$CD8,'LowH2O DBH'!$L$6)","v":"15010016"},null,null,1,50,100,16,16.5,0,26,30,44.1,1290.6400000000001,2630.3871448118639,2816.5633812075234,3882.7,1.5,1.1000000000000001,1.1000000000000001,1.1000000000000001,921,2054,2199,3031,79,177,189,261,9.8246362381930949E-2,0.4800973876606639,0.5463285500064492,1.0323140112813236,2.0829999999999999E-4,1.724,4,1.392796E-3,403,431,595,0.95,0.95,0.95,403,431,595,173,185,256,0.45896052508691165,0.52378160296818432,0.99366847477469411,2,7,7.7,10.7,0,1898,0,0.68,0,0,0,10.9,12.8,21.85,0,1,{"$f":"VLOOKUP($A10,$A$28:$BY$1355,BP$4,0)","v":1},1,403,431,595,0,0,0,0,1,null,null,"W/m,beript dyn cool",null,120,null,null,null,null,140,null,null,120,null,null,120,null,null,120,null,null,120,null,null,null,null,null,null,null,null,null,null,{"$f":"IF($J$4=data!$CC$3,NL!DF9,IF($J$4=data!$CC$4,EN!DF9,IF($J$4=data!$CC$5,FR!DF9,IF($J$4=data!$CC$6,DE!DF9,IF($J$4=data!$CC$7,NR!DF9,IF($J$4=data!$CC$8,SP!DF9,IF($J$4=data!$CC$9,SW!DF9,)))))))","v":0},0,0,{"$f":"'LowH2O DBH'!E10","v":65},{"$f":"IF(data!$BZ$2=1,\"°C\",IF(data!$BZ$2=2,\"°F\",))","v":"°C"},{"$f":"DF10","v":0},0,0,{"$f":"'LowH2O DBH'!J10","v":15.999999999999998},{"$f":"DJ10","v":"°C"},{"$f":"IF($J$4=data!$CC$3,NL!DK4,IF($J$4=data!$CC$4,EN!DK4,IF($J$4=data!$CC$5,FR!DK4,IF($J$4=data!$CC$6,DE!DK4,IF($J$4=data!$CC$7,NR!DK4,IF($J$4=data!$CC$8,SP!DK4,IF($J$4=data!$CC$9,SW!DK4,)))))))","v":0}]
[{"$f":"CONCATENATE($CB$7,'LowH2O DBH'!$K$6,$CD9,'LowH2O DBH'!$L$6)","v":"15011016"},null,null,1,{"$f":"VLOOKUP($A11,$A$28:$BY$1355,E$4,0)","v":50},110,16,16.5,0,26,30,44.1,1419.8400000000001,2849.7497938679544,3051.4523045945984,4206.5,1.5,1.1000000000000001,1.1000000000000001,1.1000000000000001,1013,2225,2382,3284,87,191,205,282,0.12053752050946154,0.56476814232501726,0.64910736540223946,1.2162714994016472,2.0829999999999999E-4,1.724,4,1.392796E-3,407.83296705301524,436.69898665540194,602,0.95,0.95,0.95,408,437,602,175,188,259,0.47548152700019564,0.54744957167687558,1.0285851673079258,2.2000000000000002,7.9,8.8000000000000007,12.5,0,2088,0,0.68,0,0,0,10.9,12.8,21.85,0,1,1,1,408,437,602,0,0,0,0,1,null,null,null,null,140,null,null,null,null,160,null,null,140,null,null,140,null,null,140,null,null,140,null,null,null,null,null,null,null,null,null,null,{"$f":"IF($J$4=data!$CC$3,NL!DF10,IF($J$4=data!$CC$4,EN!DF10,IF($J$4=data!$CC$5,FR!DF10,IF($J$4=data!$CC$6,DE!DF10,IF($J$4=data!$CC$7,NR!DF10,IF($J$4=data!$CC$8,SP!DF10,IF($J$4=data!$CC$9,SW!DF10,)))))))","v":0},0,0,{"$f":"'LowH2O DBH'!E11","v":55},{"$f":"DJ10","v":"°C"},{"$f":"DF11","v":0},0,0,{"$f":"'LowH2O DBH'!J11","v":18.000000000000004},{"$f":"DJ10","v":"°C"}]
[{"$f":"CONCATENATE($CB$7,'LowH2O DBH'!$K$6,$CD10,'LowH2O DBH'!$L$6)","v":"15012016"},null,null,1,50,120,16,16.5,0,26,30,44.8,1549.0400000000002,3241.8333772189817,3471.5459677567114,4829.7,1.5,1.1000000000000001,1.1000000000000001,1.1000000000000001,1105,2531,2710,3771,95,218,233,324,0.14532875506635198,0.74138661467882749,0.84499496566697219,1.6164367454023814,2.0829999999999999E-4,1.724,4,1.392796E-3,496,532,740,0.95,0.95,0.95,496,532,740,213,229,318,0.70833668732811383,0.81671249966312653,1.5580377368272431,2.4,8.6999999999999993,9.8000000000000007,14.3,0,2278,0,0.68,0,0,0,10.6,12.5,21.85,0,1,1,1,496,532,740,0,0,0,0,1,null,"OFF",null,null,160,null,null,null,null,180,null,null,160,null,null,160,null,null,160,null,null,160,null,null,null,null,null,null,null,null,null,null,{"$f":"IF($J$4=data!$CC$3,NL!DF11,IF($J$4=data!$CC$4,EN!DF11,IF($J$4=data!$CC$5,FR!DF11,IF($J$4=data!$CC$6,DE!DF11,IF($J$4=data!$CC$7,NR!DF11,IF($J$4=data!$CC$8,SP!DF11,IF($J$4=data!$CC$9,SW!DF11,)))))))","v":0},0,0,{"$f":"'LowH2O DBH'!E12","v":20},{"$f":"DJ10","v":"°C"},{"$f":"DF12","v":0},0,0,{"$f":"'LowH2O DBH'!J12","v":26.999999999999996},{"$f":"DJ10","v":"°C"}]
[{"$f":"CONCATENATE($CB$7,'LowH2O DBH'!$K$6,$CD11,'LowH2O DBH'!$L$6)","v":"15014016"},null,null,1,50,140,16,16.5,0,26,30,45.4,1806.7600000000002,3844.4231409656436,4117.1080284867467,5776.7,1.5,1.1000000000000001,1.1000000000000001,1.1000000000000001,1289,3001,3214,4510,111,258,276,388,0.20261733229997858,1.0559926133482667,1.2053689200498885,2.3527630854060915,2.0829999999999999E-4,1.724,4,1.392796E-3,589,630,885,0.95,0.95,0.95,589,630,885,253,271,381,1.0162271216516092,1.1628994061160329,2.2700825079676186,2.8,9.6,10.5,16.100000000000001,0,2657,0,0.68,0,0,0,10.4,12.2,21.85,0,1,1,1,589,630,885,0,0,0,0,1,null,"26dB(A)",null,null,180,null,null,null,null,200,null,null,180,null,null,180,null,null,180,null,null,180,null,null,null,null,null,null,null,null,null,null,null,null,null,null,null,{"$f":"IF($J$4=data!$CC$3,NL!$G$3,IF($J$4=data!$CC$4,EN!$G$3,IF($J$4=data!$CC$5,FR!$G$3,IF($J$4=data!$CC$6,DE!$G$3,IF($J$4=data!$CC$7,NR!$G$3,IF($J$4=data!$CC$8,SP!$G$3,IF($J$4=data!$CC$9,SW!$G$3,)))))))","v":0},null,null,{"$f":"'LowH2O DBH'!J13","v":0.5}]
[{"$f":"CONCATENATE($CB$7,'LowH2O DBH'!$K$6,$CD12,'LowH2O DBH'!$L$6)","v":"15016016"},null,null,1,50,160,16,16.5,0,26,30,46.4,2065.1600000000003,4417.9368883555589,4716.8848144627045,6723.7,1.5,1.1000000000000001,1.1000000000000001,1.1000000000000001,1474,3449,3683,5249,127,297,317,451,0.27051218338399846,1.4218556466193635,1.6153748832768098,3.2239502067344685,2.0829999999999999E-4,1.724,4,1.392796E-3,676,722,1030,0.95,0.95,0.95,676,722,1030,291,310,443,1.3661686148172167,1.5462621883682115,3.112728234709111,3.2,11.5,12.8,19.600000000000001,0,3037,0,0.68,0,0,0,10,11.8,21.85,0,1,{"$f":"VLOOKUP($A14,$A$28:$BY$1355,BP$4,0)","v":1},1,676,722,1030,0,0,0,0,1,null,"30dB(A)",null,null,200,null,null,null,null,220,null,null,200,null,null,200,null,null,200,null,null,200]
[{"$f":"CONCATENATE($CB$7,'LowH2O DBH'!$K$6,$CD13,'LowH2O DBH'!$L$6)","v":"15018016"},null,null,1,{"$f":"VLOOKUP($A15,$A$28:$BY$1355,E$4,0)","v":50},180,16,16.5,0,26,30,46.4,2322.88,4843.4549704976926,5171.1963699821436,7371.3,1.5,1.1000000000000001,1.1000000000000001,1.1000000000000001,1657,3781,4037,5755,143,325,347,495,0.34939712211520163,1.73113399073644,1.9675246325457276,3.9422156930022778,2.0829999999999999E-4,1.724,4,1.392796E-3,686.3088894339993,732.7492584003295,1044.5,0.95,0.95,0.95,686,733,1045,295,315,449,1.4327504054076798,1.6285969093831283,3.2569852229594378,3.6,11.5,12.8,19.600000000000001,0,3416,0,0.68,0,0,0,10,11.8,21.85,0,1,1,1,686,733,1045,0,0,0,0,1,null,"MAX",null,null,220,null,null,null,null,240,null,null,220,null,null,220,null,null,220,null,null,220]
[{"$f":"CONCATENATE($CB$7,'LowH2O DBH'!$K$6,$CD14,'LowH2O DBH'!$L$6)","v":"15020016"},null,null,1,50,200,16,16.5,0,26,30,47.1,2581.2800000000002,5667.1755761695722,5971.3549398587584,8617.7000000000007,1.5,1.1000000000000001,1.1000000000000001,1.1000000000000001,1842,4424,4662,6728,158,380,401,579,0.43429242128316042,2.3956910473507516,2.6608247339246818,5.453670256932595,2.0829999999999999E-4,1.724,4,1.392796E-3,868,914,1320,0.95,0.95,0.95,868,914,1320,373,393,568,2.3103470177002245,2.5582125224157561,5.2529022162438315,4,13.2,14.7,23.5,0,3796,0,0.68,0,0,0,10,11.4,21.85,0,1,1,1,868,914,1320,0,0,0,0,1,null,null,null,null,240,null,null,null,null,260,null,null,240,null,null,240,null,null,240,null,null,240,null,null,null,null,null,null,null,null,null,null,{"$f":"IF($J$4=data!$CC$3,NL!DF3,IF($J$4=data!$CC$4,EN!DF3,IF($J$4=data!$CC$5,FR!DF3,IF($J$4=data!$CC$6,DE!DF3,IF($J$4=data!$CC$7,NR!DF3,IF($J$4=data!$CC$8,SP!DF3,IF($J$4=data!$CC$9,SW!DF3,)))))))&\" [cm]\"","v":" [cm]"},{"$f":"IF($J$4=data!$CC$3,NL!DF19,IF($J$4=data!$CC$4,EN!DF19,IF($J$4=data!$CC$5,FR!DF19,IF($J$4=data!$CC$6,DE!DF19,IF($J$4=data!$CC$7,NR!DF19,IF($J$4=data!$CC$8,SP!DF19,IF($J$4=data!$CC$9,SW!DF19,)))))))","v":0},{"$f":"IF($J$4=data!$CC$3,NL!DG14,IF($J$4=data!$CC$4,EN!DG14,IF($J$4=data!$CC$5,FR!DG14,IF($J$4=data!$CC$6,DE!DG14,IF($J$4=data!$CC$7,NR!DG14,IF($J$4=data!$CC$8,SP!DG14,IF($J$4=data!$CC$9,SW!DG14,)))))))&IF(data!GD2=1,\" [W]\",IF(data!GD2=2,\" [Btu/h]\",))","v":""},{"$f":"IF($J$4=data!$CC$3,NL!DH14,IF($J$4=data!$CC$4,EN!DH14,IF($J$4=data!$CC$5,FR!DH14,IF($J$4=data!$CC$6,DE!DH14,IF($J$4=data!$CC$7,NR!DH14,IF($J$4=data!$CC$8,SP!DH14,IF($J$4=data!$CC$9,SW!DH14,)))))))&IF(data!GD2=1,\" [kg/h]\",IF(data!GD2=2,\" [GPM]**\",))","v":""},{"$f":"IF($J$4=data!$CC$3,NL!DJ6,IF($J$4=data!$CC$4,EN!DJ6,IF($J$4=data!$CC$5,FR!DJ6,IF($J$4=data!$CC$6,DE!DJ6,IF($J$4=data!$CC$7,NR!DJ6,IF($J$4=data!$CC$8,SP!DJ6,IF($J$4=data!$CC$9,SW!DJ6,)))))))&\" [\"&IF(data!GD2=1,\"kPa\",IF(data!GD2=2,\"ftH2O\"))&\"]\"","v":" [FALSO]"},{"$f":"IF($J$4=data!$CC$3,NL!DI14,IF($J$4=data!$CC$4,EN!DI14,IF($J$4=data!$CC$5,FR!DI14,IF($J$4=data!$CC$6,DE!DI14,IF($J$4=data!$CC$7,NR!DI14,IF($J$4=data!$CC$8,SP!DI14,IF($J$4=data!$CC$9,SW!DI14,)))))))&IF(data!GD2=1,\" [W]*\",IF(data!GD2=2,\" [Btu/h]*\",))","v":""},{"$f":"DI16","v":""},{"$f":"DJ16","v":" [FALSO]"},{"$f":"IF($J$4=data!$CC$3,NL!DM13,IF($J$4=data!$CC$4,EN!DM13,IF($J$4=data!$CC$5,FR!DM13,IF($J$4=data!$CC$6,DE!DM13,IF($J$4=data!$CC$7,NR!DM13,IF($J$4=data!$CC$8,SP!DM13,IF($J$4=data!$CC$9,SW!DM13,)))))))","v":0},{"$f":"IF($J$4=data!$CC$3,NL!DN13,IF($J$4=data!$CC$4,EN!DN13,IF($J$4=data!$CC$5,FR!DN13,IF($J$4=data!$CC$6,DE!DN13,IF($J$4=data!$CC$7,NR!DN13,IF($J$4=data!$CC$9,SW!DN13,))))))","v":0},{"$f":"IF($J$4=data!$CC$3,NL!DL13,IF($J$4=data!$CC$4,EN!DL13,IF($J$4=data!$CC$5,FR!DL13,IF($J$4=data!$CC$6,DE!DL13,IF($J$4=data!$CC$7,NR!DL13,IF($J$4=data!$CC$8,SP!DL13,IF($J$4=data!$CC$9,SW!DL13,)))))))","v":0},{"$f":"IF($J$4=data!$CC$3,NL!DK13,IF($J$4=data!$CC$4,EN!DK13,IF($J$4=data!$CC$5,FR!DK13,IF($J$4=data!$CC$6,DE!DK13,IF($J$4=data!$CC$7,NR!DK13,IF($J$4=data!$CC$8,SP!DK13,IF($J$4=data!$CC$9,SW!DK13,)))))))&IF(data!GD2=1,\" [l]\",IF(data!GD2=2,\" [Gal]**\",))","v":""}]
[{"$f":"CONCATENATE($CB$7,'LowH2O DBH'!$K$6,$CD15,'LowH2O DBH'!$L$6)","v":"15022016"},null,null,1,50,220,16,16.5,0,26,30,47.8,2648.5014492753626,6291.7251954043459,6553.83496101116,9564.7000000000007,1.5,1.1000000000000001,1.1000000000000001,1.1000000000000001,1890,4912,5117,7467,163,422,440,642,0.4719986864273768,2.9944257157555945,3.2482983187702561,6.7877453647142758,2.0829999999999999E-4,1.724,4,1.392796E-3,963.35813446001066,1003.4910975149082,1464.5,0.95,0.95,0.95,963,1003,1465,414,431,630,2.8848425296225417,3.1200973344986664,6.542211558205909,4.4000000000000004,15.5,16.8,27.5,0,3894.855072463768,0,0.68,0,0,0,10,11.1,21.85,0,1,1,1,963,1003,1465,0,0,0,0,1,null,null,null,{"$f":"IF('LowH2O DBH'!$J$4=data!CC3,1,IF('LowH2O DBH'!$J$4=data!CC4,2,IF('LowH2O DBH'!$J$4=data!CC5,3,IF('LowH2O DBH'!$J$4=data!CC6,4,IF('LowH2O DBH'!$J$4=data!CC7,5,IF('LowH2O DBH'!$J$4=data!CC8,6,IF('LowH2O DBH'!$J$4=data!CC9,7)))))))","v":6},260,null,null,null,null,280,null,null,260,null,null,260,null,null,260,null,null,260,null,null,null,null,null,null,null,null,null,null,{"$f":"CONCATENATE($J$5,\", \",$K$7, \" \",$K$6,\"cm, \",$L$7, \" \",$L$6)","v":{"$error":"#N/A"}},0,0,0,0,0,0,0,0,0,0,0]
[{"$f":"CONCATENATE($CB$7,'LowH2O DBH'!$K$6,$CD16,'LowH2O DBH'!$L$6)","v":"15024016"},null,null,1,50,240,16,16.5,0,26,30,48.1,3097.4,6916.3686790875245,7167.9744986485921,10511.7,1.5,1.1000000000000001,1.1000000000000001,1.1000000000000001,2210,5400,5596,8207,190,464,481,706,0.64901697730759178,3.667097444714627,3.9329940571020581,8.3052967253826289,2.0829999999999999E-4,1.724,4,1.392796E-3,1059,1098,1610,0.95,0.95,0.95,1059,1098,1610,455,472,692,3.5300159430065703,3.7910912175214273,7.987173009623401,4.8,16.399999999999999,17.7,29.7,0,4555,0,0.68,0,0,0,10,10.9,21.85,0,1,{"$f":"VLOOKUP($A18,$A$28:$BY$1355,BP$4,0)","v":1},1,1059,1098,1610,0,0,0,0,1,null,null,null,null,280,null,null,null,null,300,null,null,280,null,null,280,null,null,280,null,null,280,null,null,null,null,null,null,null,null,null,null,50,{"$f":"BJ5","v":{"$error":"#N/A"}},{"$f":"ROUND(IF($BZ$2=1,U5,IF($BZ$2=2,U5*3.412141633,)),0)","v":{"$error":"#N/A"}},{"$f":"IF($BZ$2=1,ROUND(Y5,0),IF($BZ$2=2,ROUND(Y5/272.7654,1),))","v":{"$error":"#N/A"}},{"$f":"IF($BZ$2=1,AC5,IF($BZ$2=2,AC5*0.3346,))","v":{"$error":"#N/A"}},null,null,null,0,0,0,{"$f":"IF($BZ$2=1,AZ5,IF($BZ$2=2,AZ5/4.54609,))","v":{"$error":"#N/A"}}]
[{"$f":"CONCATENATE($CB$7,'LowH2O DBH'!$K$6,$CD17,'LowH2O DBH'!$L$6)","v":"15026016"},null,null,1,{"$f":"VLOOKUP($A19,$A$28:$BY$1355,E$4,0)","v":50},260,16,16.5,0,26,30,48.1,3207.5065168539327,7342.4691534710291,7609.5768181679023,11159.300000000001,1.5,1.1000000000000001,1.1000000000000001,1.1000000000000001,2289,5732,5941,8712,197,493,511,749,0.71079667180110884,4.1978564997308982,4.5006744046263982,9.4678767911138362,2.0829999999999999E-4,1.724,4,1.392796E-3,1068.8700133353962,1107.7538502516963,1624.5,0.95,0.95,0.95,1069,1108,1625,460,476,699,3.66947790801381,3.9213280612116019,8.2763568685468254,5.2,16.399999999999999,17.7,29.7,0,4716.9213483146068,0,0.68,0,0,0,10,10.9,21.85,0,1,1,1,1069,1108,1625,0,0,0,0,1,null,null,null,null,300,null,null,null,null,null,null,null,null,null,null,null,null,null,300,null,null,300,null,null,null,null,null,null,null,null,null,null,{"$f":"DF18","v":50},{"$f":"BK5","v":{"$error":"#N/A"}},{"$f":"ROUND(IF($BZ$2=1,V5,IF($BZ$2=2,V5*3.412141633,)),0)","v":{"$error":"#N/A"}},{"$f":"IF($BZ$2=1,ROUND(Z5,0),IF($BZ$2=2,ROUND(Z5/272.7654,1),))","v":{"$error":"#N/A"}},{"$f":"IF($BZ$2=1,AD5,IF($BZ$2=2,AD5*0.3346,))","v":{"$error":"#N/A"}},{"$f":"IF(BY5=1,ROUND(IF($BZ$2=1,AQ5,IF($BZ$2=2,AQ5*3.412141633,)),0),\"\")","v":{"$error":"#N/A"}},{"$f":"IF(BY5=1,IF($BZ$2=1,ROUND(AT5,0),IF($BZ$2=2,ROUND(AT5/272.7654,1),)),\"\")","v":{"$error":"#N/A"}},{"$f":"IF(BY5=1,IF($BZ$2=1,AW5,IF($BZ$2=2,AW5*0.3346,)),\"\")","v":{"$error":"#N/A"}},{"$f":"J5","v":{"$error":"#N/A"}},{"$f":"DN19+8","v":{"$error":"#N/A"}},{"$f":"BA5","v":{"$error":"#N/A"}},{"$f":"DQ18","v":{"$error":"#N/A"}}]
[{"$f":"CONCATENATE($CB$7,'LowH2O DBH'!$K$6,$CD18,'LowH2O DBH'!$L$6)","v":"15028016"},null,null,1,50,280,16,16.5,0,26,30,48.9,3613.5200000000004,8165.5551181941737,8348.321999442087,12405.7,1.5,1.1000000000000001,1.1000000000000001,1.1000000000000001,2578,6375,6518,9685,222,548,561,833,0.9133083225181986,5.2414825003503225,5.4853925820263667,11.822942017746373,2.0829999999999999E-4,1.724,4,1.392796E-3,1250,1278,1900,0.95,0.95,0.95,1250,1278,1900,538,550,817,5.0575445569651576,5.2786547361922693,11.385263573722288,5.6,19.3,20.399999999999999,34.5,0,5314,0,0.68,0,0,0,10,10.6,21.85,0,1,1,1,1250,1278,1900,0,0,0,0,1,null,null,null,null,{"$f":"IF($CB$7=1,CL19,IF($CB$7=2,CO19,IF($CB$7=3,CR19,IF($CB$7=4,CI19,))))","v":0},{"$f":"IF($CB$7=1,CK7,IF($CB$7=2,CN7,IF($CB$7=3,CQ7,IF($CB$7=4,CH7,))))","v":0},null,null,null,null,null,null,null,null,1,2,3,4,5,6,7,8,9,null,null,null,null,null,null,null,null,null,{"$f":"DF18","v":50},{"$f":"BL5","v":{"$error":"#N/A"}},{"$f":"ROUND(IF($BZ$2=1,W5,IF($BZ$2=2,W5*3.412141633,)),0)","v":{"$error":"#N/A"}},{"$f":"IF($BZ$2=1,ROUND(AA5,0),IF($BZ$2=2,ROUND(AA5/272.7654,1),))","v":{"$error":"#N/A"}},{"$f":"IF($BZ$2=1,AE5,IF($BZ$2=2,AE5*0.3346,))","v":{"$error":"#N/A"}},{"$f":"IF(BY5=1,ROUND(IF($BZ$2=1,AR5,IF($BZ$2=2,AR5*3.412141633,)),0),\"\")","v":{"$error":"#N/A"}},{"$f":"IF(BY5=1,IF($BZ$2=1,ROUND(AU5,0),IF($BZ$2=2,ROUND(AU5/272.7654,1),)),\"\")","v":{"$error":"#N/A"}},{"$f":"IF(BY5=1,IF($BZ$2=1,AX5,IF($BZ$2=2,AX5*0.3346,)),\"\")","v":{"$error":"#N/A"}},{"$f":"K5","v":{"$error":"#N/A"}},{"$f":"L5","v":{"$error":"#N/A"}},{"$f":"BB5","v":{"$error":"#N/A"}},{"$f":"DQ18","v":{"$error":"#N/A"}}]
[{"$f":"CONCATENATE($CB$7,'LowH2O DBH'!$K$6,$CD19,'LowH2O DBH'!$L$6)","v":"15030016"},null,null,{"$error":"#N/A"},{"$error":"#N/A"},{"$error":"#N/A"},{"$error":"#N/A"},{"$error":"#N/A"},{"$error":"#N/A"},{"$error":"#N/A"},{"$error":"#N/A"},{"$error":"#N/A"},{"$error":"#N/A"},{"$error":"#N/A"},{"$error":"#N/A"},{"$error":"#N/A"},{"$error":"#N/A"},{"$error":"#N/A"},{"$error":"#N/A"},{"$error":"#N/A"},{"$error":"#N/A"},{"$error":"#N/A"},{"$error":"#N/A"},{"$error":"#N/A"},{"$error":"#N/A"},{"$error":"#N/A"},{"$error":"#N/A"},{"$error":"#N/A"},{"$error":"#N/A"},{"$error":"#N/A"},{"$error":"#N/A"},{"$error":"#N/A"},{"$error":"#N/A"},{"$error":"#N/A"},{"$error":"#N/A"},{"$error":"#N/A"},{"$error":"#N/A"},{"$error":"#N/A"},{"$error":"#N/A"},{"$error":"#N/A"},{"$error":"#N/A"},{"$error":"#N/A"},{"$error":"#N/A"},{"$error":"#N/A"},{"$error":"#N/A"},{"$error":"#N/A"},{"$error":"#N/A"},{"$error":"#N/A"},{"$error":"#N/A"},{"$error":"#N/A"},{"$error":"#N/A"},{"$error":"#N/A"},{"$error":"#N/A"},{"$error":"#N/A"},{"$error":"#N/A"},{"$error":"#N/A"},{"$error":"#N/A"},{"$error":"#N/A"},{"$error":"#N/A"},{"$error":"#N/A"},{"$error":"#N/A"},{"$error":"#N/A"},{"$error":"#N/A"},{"$error":"#N/A"},{"$error":"#N/A"},{"$error":"#N/A"},{"$error":"#N/A"},{"$error":"#N/A"},{"$error":"#N/A"},{"$error":"#N/A"},{"$error":"#N/A"},{"$error":"#N/A"},{"$error":"#N/A"},{"$error":"#N/A"},{"$error":"#N/A"},{"$error":"#N/A"},{"$error":"#N/A"},null,null,null,null,null,{"$f":"IF($CB$7=1,CK8,IF($CB$7=2,CN8,IF($CB$7=3,CQ8,IF($CB$7=4,CH8,))))","v":0},null,null,null,null,null,null,null,null,null,null,null,{"$f":"VLOOKUP($A$24,$CN$23:$CV$56,CQ$20,0)","v":{"$error":"#N/A"}},{"$error":"#N/A"},{"$error":"#N/A"},{"$error":"#N/A"},{"$error":"#N/A"},{"$error":"#N/A"},null,null,null,null,null,null,null,null,null,{"$f":"DF18","v":50},{"$f":"BM5","v":{"$error":"#N/A"}},{"$f":"ROUND(IF($BZ$2=1,X5,IF($BZ$2=2,X5*3.412141633,)),0)","v":{"$error":"#N/A"}},{"$f":"IF($BZ$2=1,ROUND(AB5,0),IF($BZ$2=2,ROUND(AB5/272.7654,1),))","v":{"$error":"#N/A"}},{"$f":"IF($BZ$2=1,AF5,IF($BZ$2=2,AF5*0.3346,))","v":{"$error":"#N/A"}},{"$f":"IF(BY5=1,ROUND(IF($BZ$2=1,AS5,IF($BZ$2=2,AS5*3.412141633,)),0),\"\")","v":{"$error":"#N/A"}},{"$f":"IF(BY5=1,IF($BZ$2=1,ROUND(AV5,0),IF($BZ$2=2,ROUND(AV5/272.7654,1),)),\"\")","v":{"$error":"#N/A"}},{"$f":"IF(BY5=1,IF($BZ$2=1,AY5,IF($BZ$2=2,AY5*0.3346,)),\"\")","v":{"$error":"#N/A"}},{"$f":"L5","v":{"$error":"#N/A"}},{"$f":"DN21+8","v":{"$error":"#N/A"}},{"$f":"BC5","v":{"$error":"#N/A"}},{"$f":"DQ18","v":{"$error":"#N/A"}}]
[null,null,null,null,null,null,null,null,null,null,null,null,null,null,null,null,null,null,null,null,null,null,null,null,null,null,null,null,null,null,null,null,null,null,null,null,null,null,null,null,null,null,null,null,null,null,null,null,null,null,null,null,null,null,null,null,null,null,null,null,null,null,null,null,null,null,null,null,null,null,null,null,null,null,null,null,null,null,null,null,null,null,{"$f":"IF($CB$7=1,CK9,IF($CB$7=2,CN9,IF($CB$7=3,CQ9,IF($CB$7=4,CH9,))))","v":0},null,null,null,null,null,null,null,null,null,"Raillengte","Railtype","BMS-stuurspanningen",null,null,"Opgenomen elektrisch vermogen",null,null,null,null,null,null,null,null,null,null,null,60,{"$f":"BJ6","v":0},{"$f":"ROUND(IF($BZ$2=1,U6,IF($BZ$2=2,U6*3.412141633,)),0)","v":553},{"$f":"IF($BZ$2=1,ROUND(Y6,0),IF($BZ$2=2,ROUND(Y6/272.7654,1),))","v":48},{"$f":"IF($BZ$2=1,AC6,IF($BZ$2=2,AC6*0.3346,))","v":3.4395354733294137E-2},null,null,null,0,0,0,{"$f":"IF($BZ$2=1,AZ6,IF($BZ$2=2,AZ6/4.54606,))","v":1.2}]
[null,null,null,null,null,null,null,null,null,null,null,null,null,null,null,null,null,null,null,null,null,null,null,null,null,null,null,null,null,null,null,null,null,null,null,null,null,null,null,null,null,null,null,null,null,null,null,null,null,null,null,null,null,null,null,null,null,null,null,null,null,null,null,null,null,null,null,null,null,null,null,null,null,null,null,null,null,null,null,null,null,null,null,null,null,null,null,null,null,null,null,{"$f":"CONCATENATE(CO23,CP23)","v":"5010"},50,10,14.2,16.2,21.85,3.6,4.0999999999999996,5.0999999999999996,null,null,null,null,null,null,null,null,null,{"$f":"DF22","v":60},{"$f":"BK6","v":12.3},{"$f":"ROUND(IF($BZ$2=1,V6,IF($BZ$2=2,V6*3.412141633,)),0)","v":1093},{"$f":"IF($BZ$2=1,ROUND(Z6,0),IF($BZ$2=2,ROUND(Z6/272.7654,1),))","v":94},{"$f":"IF($BZ$2=1,AD6,IF($BZ$2=2,AD6*0.3346,))","v":0.12999495976193065},{"$f":"IF(BY6=1,ROUND(IF($BZ$2=1,AQ6,IF($BZ$2=2,AQ6*3.412141633,)),0),\"\")","v":214},{"$f":"IF(BY6=1,IF($BZ$2=1,ROUND(AT6,0),IF($BZ$2=2,ROUND(AT6/272.7654,1),)),\"\")","v":92},{"$f":"IF(BY6=1,IF($BZ$2=1,AW6,IF($BZ$2=2,AW6*0.3346,)),\"\")","v":0.12457564927087089},{"$f":"J6","v":26},{"$f":"DN23+8","v":34},{"$f":"BA6","v":4.8},{"$f":"DQ22","v":1.2}]
[null,null,null,null,null,null,null,null,null,null,null,null,null,null,null,null,null,null,null,null,null,null,null,null,null,null,null,null,null,null,null,null,null,null,null,null,null,null,null,null,null,null,null,null,null,null,null,null,null,null,null,null,null,null,null,null,null,null,null,null,null,null,null,null,null,null,null,null,null,null,null,null,null,null,null,null,null,null,null,null,null,null,null,null,null,null,null,null,null,null,null,{"$f":"CONCATENATE(CO24,CP24)","v":"5015"},50,15,0,0,0,0,0,0,null,null,null,null,null,null,null,null,null,{"$f":"DF22","v":60},{"$f":"BL6","v":14.4},{"$f":"ROUND(IF($BZ$2=1,W6,IF($BZ$2=2,W6*3.412141633,)),0)","v":1173},{"$f":"IF($BZ$2=1,ROUND(AA6,0),IF($BZ$2=2,ROUND(AA6/272.7654,1),))","v":101},{"$f":"IF($BZ$2=1,AE6,IF($BZ$2=2,AE6*0.3346,))","v":0.1498640371075696},{"$f":"IF(BY6=1,ROUND(IF($BZ$2=1,AR6,IF($BZ$2=2,AR6*3.412141633,)),0),\"\")","v":230},{"$f":"IF(BY6=1,IF($BZ$2=1,ROUND(AU6,0),IF($BZ$2=2,ROUND(AU6/272.7654,1),)),\"\")","v":99},{"$f":"IF(BY6=1,IF($BZ$2=1,AX6,IF($BZ$2=2,AX6*0.3346,)),\"\")","v":0.14404410806926615},{"$f":"K6","v":30},{"$f":"L6","v":41.1},{"$f":"BB6","v":5.5},{"$f":"DQ22","v":1.2}]
[null,null,null,null,null,null,null,null,null,null,null,null,null,null,null,null,null,null,null,null,null,null,null,null,null,null,null,null,null,null,null,null,null,null,null,null,null,null,null,null,null,null,null,null,null,null,null,null,null,null,null,null,null,null,null,null,null,null,null,null,null,null,null,null,null,null,null,null,null,null,null,null,null,null,null,null,null,null,null,null,null,null,null,null,null,null,null,null,null,null,null,"6010",60,10,13.6,15.6,21.85,4.8,5.4,6.8,null,null,null,null,null,null,null,null,null,{"$f":"DF22","v":60},{"$f":"BM6","v":21.85},{"$f":"ROUND(IF($BZ$2=1,X6,IF($BZ$2=2,X6*3.412141633,)),0)","v":1553},{"$f":"IF($BZ$2=1,ROUND(AB6,0),IF($BZ$2=2,ROUND(AB6/272.7654,1),))","v":134},{"$f":"IF($BZ$2=1,AF6,IF($BZ$2=2,AF6*0.3346,))","v":0.26238954698403733},{"$f":"IF(BY6=1,ROUND(IF($BZ$2=1,AS6,IF($BZ$2=2,AS6*3.412141633,)),0),\"\")","v":305},{"$f":"IF(BY6=1,IF($BZ$2=1,ROUND(AV6,0),IF($BZ$2=2,ROUND(AV6/272.7654,1),)),\"\")","v":131},{"$f":"IF(BY6=1,IF($BZ$2=1,AY6,IF($BZ$2=2,AY6*0.3346,)),\"\")","v":0.25087593311274681},{"$f":"L6","v":41.1},{"$f":"DN25+8","v":49.1},{"$f":"BC6","v":7.2},{"$f":"DQ22","v":1.2}]
[null,null,null,null,null,null,null,null,"soundpressure level",null,null,null,"power","75/65/20",null,null,"n",null,null,null,"result","power",null,null,"result","flow",null,null,"static pressure loss",null,null,null,null,null,null,null,"power","16/18/27",null,"n",null,null,"result","power",null,"result","flow",null,"static pressure loss",null,null,null,"electrical power nominal",null,null,null,"oude cataloog",null,"Statisch met rail / statisch cataloog",null,null,null,null,"BMS-stuurspanning",null,null,"Sensible heat factor",null,null,"Total cooling capacity",null,null,null,"Diff. Total and sensible",null,null,"Show or not",null,null,null,null,null,null,null,null,null,null,null,null,null,null,"6015",60,15,12.3,14.4,21.85,4.8,5.5,7.2,null,null,null,null,null,null,null,null,null,70,{"$f":"BJ7","v":0},{"$f":"ROUND(IF($BZ$2=1,U7,IF($BZ$2=2,U7*3.412141633,)),0)","v":645},{"$f":"IF($BZ$2=1,ROUND(Y7,0),IF($BZ$2=2,ROUND(Y7/272.7654,1),))","v":55},{"$f":"IF($BZ$2=1,AC7,IF($BZ$2=2,AC7*0.3346,))","v":4.5833406894825762E-2},null,null,null,0,0,0,{"$f":"IF($BZ$2=1,AZ7,IF($BZ$2=2,AZ7/4.54609,))","v":1.4}]
["lookup code","L,rail","T,rail","toestel","height","length","type","depth",0,1,2,3,0,1,2,3,0,1,2,3,0,1,2,3,0,1,2,3,0,1,2,3,"k1","n","t","k2",1,2,3,1,2,3,1,2,3,1,2,3,1,2,3,"watervolume",1,2,3,null,"Static,H","Static,C",null,null,null,0,1,2,3,null,"SHF 1","SHF 2","SHF 3","Q,t 1","Q,t 2","Q,t 3",null,"ΔQ,t,s 1","ΔQ,t,s 2","ΔQ,t,s 3","OK/NOTOK",null,null,null,null,null,null,null,null,null,null,null,null,null,null,"7010",70,10,13.2,15.1,21.85,5.5,5.9,7.9,null,null,null,null,null,null,null,null,null,{"$f":"DF26","v":70},{"$f":"BK7","v":12.3},{"$f":"ROUND(IF($BZ$2=1,V7,IF($BZ$2=2,V7*3.412141633,)),0)","v":1271},{"$f":"IF($BZ$2=1,ROUND(Z7,0),IF($BZ$2=2,ROUND(Z7/272.7654,1),))","v":109},{"$f":"IF($BZ$2=1,AD7,IF($BZ$2=2,AD7*0.3346,))","v":0.17694509326691635},{"$f":"IF(BY7=1,ROUND(IF($BZ$2=1,AQ7,IF($BZ$2=2,AQ7*3.412141633,)),0),\"\")","v":220},{"$f":"IF(BY7=1,IF($BZ$2=1,ROUND(AT7,0),IF($BZ$2=2,ROUND(AT7/272.7654,1),)),\"\")","v":95},{"$f":"IF(BY7=1,IF($BZ$2=1,AW7,IF($BZ$2=2,AW7*0.3346,)),\"\")","v":0.1348444213322838},{"$f":"J7","v":26},{"$f":"DN27+8","v":34},{"$f":"BA7","v":5.0999999999999996},{"$f":"DQ26","v":1.4}]
[{"$f":"CONCATENATE(D28,E28,F28,G28)","v":"1355010"},null,null,1,35,50,10,11.5,0,26,30,38.799999999999997,{"$f":"IF($N28-($BE28*$BG28)>100,$BE28*$BG28,$N28-95)","v":404.1},649,695,812,1.5,{"$f":"IF($G28=10,1.08,IF($G28=11,1.1,IF($G28=15,1.08,IF($G28=16,1.1,IF($G28=20,1.08,IF($G28=21,1.05))))))","v":1.08},{"$f":"IF($G28=10,1.08,IF($G28=11,1.1,IF($G28=15,1.08,IF($G28=16,1.1,IF($G28=20,1.08,IF($G28=21,1.05))))))","v":1.08},1.08,{"$f":"ROUND(M28*POWER(CF_heat,Q28),0)","v":288},{"$f":"ROUND(N28*POWER(CF_heat,R28),0)","v":509},{"$f":"ROUND(O28*POWER(CF_heat,S28),0)","v":545},{"$f":"ROUND(P28*POWER(CF_heat,T28),0)","v":637},{"$f":"ROUND(U28*3600/(4186*ABS($O$1-$O$2)),0)","v":25},{"$f":"ROUND(V28*3600/(4186*ABS($O$1-$O$2)),0)","v":44},{"$f":"ROUND(W28*3600/(4186*ABS($O$1-$O$2)),0)","v":47},{"$f":"ROUND(X28*3600/(4186*ABS($O$1-$O$2)),0)","v":55},{"$f":"(($AG28*(Y28^$AH28)*((($F28-14.4)*$AI28)/100))+($AJ28*(Y28^2)))*0.0098","v":2.9866380167511189E-3},{"$f":"(($AG28*(Z28^$AH28)*((($F28-14.4)*$AI28)/100))+($AJ28*(Z28^2)))*0.0098","v":8.9335048277857931E-3},1.0154354668942562E-2,1.3782148323783661E-2,{"$f":"IF($G28=$CO$103,CP$103,IF($G28=$CO$104,CP$104,IF($G28=$CO$105,CP$105,IF($G28=$CO$107,CP$107,IF($G28=$CO$108,CP$108,IF($G28=$CO$109,CP$109,IF($G28=$CO$111,CP$111,IF($G28=$CO$112,CP$112,IF($G28=$CO$113,CP$113,IF($G28=$CO$115,CP$115,IF($G28=$CO$116,CP$116,IF($G28=$CO$117,CP$117,IF($G28=$CO$119,CP$119,IF($G28=$CO$120,CP$120,))))))))))))))","v":3.969E-4},{"$f":"IF($G28=$CO$103,CQ$103,IF($G28=$CO$104,CQ$104,IF($G28=$CO$105,CQ$105,IF($G28=$CO$107,CQ$107,IF($G28=$CO$108,CQ$108,IF($G28=$CO$109,CQ$109,IF($G28=$CO$111,CQ$111,IF($G28=$CO$112,CQ$112,IF($G28=$CO$113,CQ$113,IF($G28=$CO$115,CQ$115,IF($G28=$CO$116,CQ$116,IF($G28=$CO$117,CQ$117,IF($G28=$CO$119,CQ$119,IF($G28=$CO$120,CQ$120,))))))))))))))","v":1.7345999999999999},{"$f":"IF($G28=$CO$103,CR$103,IF($G28=$CO$104,CR$104,IF($G28=$CO$105,CR$105,IF($G28=$CO$107,CR$107,IF($G28=$CO$108,CR$108,IF($G28=$CO$109,CR$109,IF($G28=$CO$111,CR$111,IF($G28=$CO$112,CR$112,IF($G28=$CO$113,CR$113,IF($G28=$CO$115,CR$115,IF($G28=$CO$116,CR$116,IF($G28=$CO$117,CR$117,IF($G28=$CO$119,CR$119,IF($G28=$CO$120,CR$120,))))))))))))))","v":2},{"$f":"IF($G28=$CO$103,CS$103,IF($G28=$CO$104,CS$104,IF($G28=$CO$105,CS$105,IF($G28=$CO$107,CS$107,IF($G28=$CO$108,CS$108,IF($G28=$CO$109,CS$109,IF($G28=$CO$111,CS$111,IF($G28=$CO$112,CS$112,IF($G28=$CO$113,CS$113,IF($G28=$CO$115,CS$115,IF($G28=$CO$116,CS$116,IF($G28=$CO$117,CS$117,IF($G28=$CO$119,CS$119,IF($G28=$CO$120,CS$120,))))))))))))))","v":3.6734700000000002E-4},90.020119234756137,96.328259324977694,112.64,{"$f":"IF($G28=10,0.98,IF($G28=11,0.95,IF($G28=15,1.01,IF($G28=16,0.95,IF($G28=20,0.95,IF($G28=21,0.85))))))","v":0.98},{"$f":"IF($G28=10,0.98,IF($G28=11,0.95,IF($G28=15,1.01,IF($G28=16,0.95,IF($G28=20,0.95,IF($G28=21,0.85))))))","v":0.98},0.98,{"$f":"ROUND(AK28*POWER(CF_cool,AN28),0)","v":90},{"$f":"ROUND(AL28*POWER(CF_cool,AO28),0)","v":96},{"$f":"ROUND(AM28*POWER(CF_cool,AP28),0)","v":113},{"$f":"ROUND(AQ28*3600/(4186*ABS($AM$1-$AM$2)),0)","v":39},{"$f":"ROUND(AR28*3600/(4186*ABS($AM$1-$AM$2)),0)","v":41},{"$f":"ROUND(AS28*3600/(4186*ABS($AM$1-$AM$2)),0)","v":49},{"$f":"(($AG28*(AT28^$AH28)*((($F28-14.4)*$AI28)/100))+($AJ28*(AT28^2)))*0.0098","v":7.0687185128054265E-3},{"$f":"(($AG28*(AU28^$AH28)*((($F28-14.4)*$AI28)/100))+($AJ28*(AU28^2)))*0.0098","v":7.7890899379448103E-3},1.1010617958771767E-2,{"$f":"ROUND(IF(G28=10,$CO$92*F28,IF(G28=11,$CO$93*F28,IF(G28=15,$CO$94*F28,IF(G28=16,$CO$95*F28,IF(G28=20,$CO$96*F28,IF(G28=21,$CO$97*F28,)))))),1)","v":0.3},3.6,4.0999999999999996,5.0999999999999996,null,449,null,{"$f":"IF(G28=10,0.9,IF(G28=11,0.68,IF(G28=15,0.8,IF(G28=16,0.68,IF(G28=20,0.8,IF(G28=21,0.8))))))","v":0.9},null,null,0,14.2,16.2,21.85,null,{"$f":"IF(1/(1+((2258*((0.622/((101325/(1*611*EXP(17.27*((($AM$1+$AM$2)/2)/((($AM$1+$AM$2)/2)+237.3))))))-1)*1000-(0.622/((101325/($AQ$1*611*EXP(17.27*($AM$3/($AM$3+237.3))))))-1)*1000))/(1005*((($AM$1+$AM$2)/2)-$AM$3))))>1,1,1/(1+((2258*((0.622/((101325/(1*611*EXP(17.27*((($AM$1+$AM$2)/2)/((($AM$1+$AM$2)/2)+237.3))))))-1)*1000-(0.622/((101325/($AQ$1*611*EXP(17.27*($AM$3/($AM$3+237.3))))))-1)*1000))/(1005*((($AM$1+$AM$2)/2)-$AM$3)))))","v":1},{"$f":"IF(1/(1+((2258*((0.622/((101325/(1*611*EXP(17.27*((($AM$1+$AM$2)/2)/((($AM$1+$AM$2)/2)+237.3))))))-1)*1000-(0.622/((101325/($AQ$1*611*EXP(17.27*($AM$3/($AM$3+237.3))))))-1)*1000))/(1005*((($AM$1+$AM$2)/2)-$AM$3))))>1,1,1/(1+((2258*((0.622/((101325/(1*611*EXP(17.27*((($AM$1+$AM$2)/2)/((($AM$1+$AM$2)/2)+237.3))))))-1)*1000-(0.622/((101325/($AQ$1*611*EXP(17.27*($AM$3/($AM$3+237.3))))))-1)*1000))/(1005*((($AM$1+$AM$2)/2)-$AM$3)))))","v":1},{"$f":"IF(1/(1+((2258*((0.622/((101325/(1*611*EXP(17.27*((($AM$1+$AM$2)/2)/((($AM$1+$AM$2)/2)+237.3))))))-1)*1000-(0.622/((101325/($AQ$1*611*EXP(17.27*($AM$3/($AM$3+237.3))))))-1)*1000))/(1005*((($AM$1+$AM$2)/2)-$AM$3))))>1,1,1/(1+((2258*((0.622/((101325/(1*611*EXP(17.27*((($AM$1+$AM$2)/2)/((($AM$1+$AM$2)/2)+237.3))))))-1)*1000-(0.622/((101325/($AQ$1*611*EXP(17.27*($AM$3/($AM$3+237.3))))))-1)*1000))/(1005*((($AM$1+$AM$2)/2)-$AM$3)))))","v":1},{"$f":"AQ28/BO28","v":90},{"$f":"AR28/BP28","v":96},{"$f":"AS28/BQ28","v":113},null,{"$f":"BR28-AQ28","v":0},{"$f":"BS28-AR28","v":0},{"$f":"BT28-AS28","v":0},{"$f":"IF(SUM(BV28:BX28)=0,1,0)","v":1},null,null,null,null,null,null,null,null,null,null,null,null,null,null,"7015",70,15,12.3,14.4,21.85,5.0999999999999996,5.6,7.2,null,null,null,null,null,null,null,null,null,{"$f":"DF26","v":70},{"$f":"BL7","v":14.4},{"$f":"ROUND(IF($BZ$2=1,W7,IF($BZ$2=2,W7*3.412141633,)),0)","v":1364},{"$f":"IF($BZ$2=1,ROUND(AA7,0),IF($BZ$2=2,ROUND(AA7/272.7654,1),))","v":117},{"$f":"IF($BZ$2=1,AE7,IF($BZ$2=2,AE7*0.3346,))","v":0.20354226765780917},{"$f":"IF(BY7=1,ROUND(IF($BZ$2=1,AR7,IF($BZ$2=2,AR7*3.412141633,)),0),\"\")","v":236},{"$f":"IF(BY7=1,IF($BZ$2=1,ROUND(AU7,0),IF($BZ$2=2,ROUND(AU7/272.7654,1),)),\"\")","v":101},{"$f":"IF(BY7=1,IF($BZ$2=1,AX7,IF($BZ$2=2,AX7*0.3346,)),\"\")","v":0.1521944098151945},{"$f":"K7","v":30},{"$f":"L7","v":41.1},{"$f":"BB7","v":5.6},{"$f":"DQ26","v":1.4}]
[{"$f":"CONCATENATE(D29,E29,F29,G29)","v":"1505010"},null,null,1,50,50,10,11.5,0,26,30,38.799999999999997,484.2,649,695,812,1.5,{"$f":"IF($G29=10,1.08,IF($G29=11,1.1,IF($G29=15,1.08,IF($G29=16,1.1,IF($G29=20,1.08,IF($G29=21,1.05))))))","v":1.08},1.08,1.08,345,509,545,637,30,44,47,55,{"$f":"(($AG29*(Y29^$AH29)*((($F29-14.4)*$AI29)/100))+($AJ29*(Y29^2)))*0.0098","v":4.2506526724246478E-3},{"$f":"(($AG29*(Z29^$AH29)*((($F29-14.4)*$AI29)/100))+($AJ29*(Z29^2)))*0.0098","v":8.9335048277857931E-3},{"$f":"(($AG29*(AA29^$AH29)*((($F29-14.4)*$AI29)/100))+($AJ29*(AA29^2)))*0.0098","v":1.0154354668942562E-2},{"$f":"(($AG29*(AB29^$AH29)*((($F29-14.4)*$AI29)/100))+($AJ29*(AB29^2)))*0.0098","v":1.3782148323783661E-2},3.969E-4,1.7345999999999999,2,3.6734700000000002E-4,90.020119234756137,96.328259324977694,112.64,0.98,0.98,0.98,{"$f":"ROUND(AK29*POWER(CF_cool,AN29),0)","v":90},96,113,39,41,49,{"$f":"(($AG29*(AT29^$AH29)*((($F29-14.4)*$AI29)/100))+($AJ29*(AT29^2)))*0.0098","v":7.0687185128054265E-3},{"$f":"(($AG29*(AU29^$AH29)*((($F29-14.4)*$AI29)/100))+($AJ29*(AU29^2)))*0.0098","v":7.7890899379448103E-3},{"$f":"(($AG29*(AV29^$AH29)*((($F29-14.4)*$AI29)/100))+($AJ29*(AV29^2)))*0.0098","v":1.1010617958771767E-2},0.3,3.6,4.0999999999999996,5.0999999999999996,null,538,null,0.9,null,null,0,14.2,16.2,21.85,null,{"$f":"IF(1/(1+((2258*((0.622/((101325/(1*611*EXP(17.27*((($AM$1+$AM$2)/2)/((($AM$1+$AM$2)/2)+237.3))))))-1)*1000-(0.622/((101325/($AQ$1*611*EXP(17.27*($AM$3/($AM$3+237.3))))))-1)*1000))/(1005*((($AM$1+$AM$2)/2)-$AM$3))))>1,1,1/(1+((2258*((0.622/((101325/(1*611*EXP(17.27*((($AM$1+$AM$2)/2)/((($AM$1+$AM$2)/2)+237.3))))))-1)*1000-(0.622/((101325/($AQ$1*611*EXP(17.27*($AM$3/($AM$3+237.3))))))-1)*1000))/(1005*((($AM$1+$AM$2)/2)-$AM$3)))))","v":1},1,1,{"$f":"AQ29/BO29","v":90},96,113,null,{"$f":"BR29-AQ29","v":0},0,0,{"$f":"IF(SUM(BV29:BX29)=0,1,0)","v":1},null,null,null,null,null,null,null,null,null,null,null,null,null,null,"8010",80,10,12.8,14.7,21.85,6.3,6.8,9.1,null,null,null,null,null,null,null,null,null,{"$f":"DF26","v":70},{"$f":"BM7","v":21.85},{"$f":"ROUND(IF($BZ$2=1,X7,IF($BZ$2=2,X7*3.412141633,)),0)","v":1805},{"$f":"IF($BZ$2=1,ROUND(AB7,0),IF($BZ$2=2,ROUND(AB7/272.7654,1),))","v":155},{"$f":"IF($BZ$2=1,AF7,IF($BZ$2=2,AF7*0.3346,))","v":0.35504012904622118},{"$f":"IF(BY7=1,ROUND(IF($BZ$2=1,AS7,IF($BZ$2=2,AS7*3.412141633,)),0),\"\")","v":312},{"$f":"IF(BY7=1,IF($BZ$2=1,ROUND(AV7,0),IF($BZ$2=2,ROUND(AV7/272.7654,1),)),\"\")","v":134},{"$f":"IF(BY7=1,IF($BZ$2=1,AY7,IF($BZ$2=2,AY7*0.3346,)),\"\")","v":0.26618360536544905},{"$f":"L7","v":41.1},{"$f":"DN29+8","v":49.1},{"$f":"BC7","v":7.2},{"$f":"DQ26","v":1.4}]
["1655010",null,null,1,65,50,10,11.5,0,26,30,38.799999999999997,545.4,649,695,812,1.5,1.08,1.08,1.08,389,509,545,637,33,44,47,55,5.1127443176812145E-3,8.9335048277857931E-3,1.0154354668942562E-2,1.3782148323783661E-2,3.969E-4,1.7345999999999999,2,3.6734700000000002E-4,90.020119234756137,96.328259324977694,112.64,0.98,0.98,0.98,90,96,113,39,41,49,7.0687185128054265E-3,7.7890899379448103E-3,1.1010617958771767E-2,0.3,3.6,4.0999999999999996,5.0999999999999996,null,606,null,0.9,null,null,0,14.2,16.2,21.85,null,1,1,1,90,96,113,null,0,0,0,1,null,null,null,null,null,null,null,null,null,null,null,null,null,null,"8015",80,15,11.8,13.7,21.85,6,6.7,9,null,null,null,null,null,null,null,null,null,80,{"$f":"BJ8","v":0},{"$f":"ROUND(IF($BZ$2=1,U8,IF($BZ$2=2,U8*3.412141633,)),0)","v":737},{"$f":"IF($BZ$2=1,ROUND(Y8,0),IF($BZ$2=2,ROUND(Y8/272.7654,1),))","v":63},{"$f":"IF($BZ$2=1,AC8,IF($BZ$2=2,AC8*0.3346,))","v":6.0949986346466332E-2},null,null,null,0,0,0,{"$f":"IF($BZ$2=1,AZ8,IF($BZ$2=2,AZ8/4.54609,))","v":1.6}]
["1355011",null,null,1,35,50,11,11.5,0,26,30,38.799999999999997,406.64000000000004,881.02076921515595,942.75810617769378,1102.4000000000001,1.5,1.1000000000000001,1.1000000000000001,1.1000000000000001,290,688,736,861,25,59,63,74,4.990789283502238E-3,2.6124513105548242E-2,2.9658332216627524E-2,4.0497070432560033E-2,3.969E-4,1.7345999999999999,4,5.7428799999999995E-4,147.56138863197239,157.90172054122763,184.64,0.95,0.95,0.95,148,158,185,64,68,80,3.0575828151930776E-2,3.4381682232525662E-2,4.7098764109165574E-2,0.7,3.6,4.0999999999999996,5.0999999999999996,null,598,null,0.68,null,null,0,14.2,16.2,21.85,null,1,1,1,148,158,185,null,0,0,0,1,null,null,null,null,null,null,null,null,null,null,null,null,null,null,"9010",90,10,12.5,14.7,21.85,6.7,7.4,10.3,null,null,null,null,null,null,null,null,null,{"$f":"DF30","v":80},{"$f":"BK8","v":11.8},{"$f":"ROUND(IF($BZ$2=1,V8,IF($BZ$2=2,V8*3.412141633,)),0)","v":1593},{"$f":"IF($BZ$2=1,ROUND(Z8,0),IF($BZ$2=2,ROUND(Z8/272.7654,1),))","v":137},{"$f":"IF($BZ$2=1,AD8,IF($BZ$2=2,AD8*0.3346,))","v":0.28204303816785287},{"$f":"IF(BY8=1,ROUND(IF($BZ$2=1,AQ8,IF($BZ$2=2,AQ8*3.412141633,)),0),\"\")","v":312},{"$f":"IF(BY8=1,IF($BZ$2=1,ROUND(AT8,0),IF($BZ$2=2,ROUND(AT8/272.7654,1),)),\"\")","v":134},{"$f":"IF(BY8=1,IF($BZ$2=1,AW8,IF($BZ$2=2,AW8*0.3346,)),\"\")","v":0.26997766374686077},{"$f":"J8","v":26},{"$f":"DN31+8","v":34},{"$f":"BA8","v":6},{"$f":"DQ30","v":1.6}]
["1505011",null,null,1,50,50,11,11.5,0,26,30,38.799999999999997,471.24,881.02076921515595,942.75810617769378,1102.4000000000001,1.5,1.1000000000000001,1.1000000000000001,1.1000000000000001,336,688,736,861,29,59,63,74,6.6390344559610964E-3,2.6124513105548242E-2,2.9658332216627524E-2,4.0497070432560033E-2,3.969E-4,1.7345999999999999,4,5.7428799999999995E-4,147.56138863197239,157.90172054122763,184.64,0.95,0.95,0.95,148,158,185,64,68,80,3.0575828151930776E-2,3.4381682232525662E-2,4.7098764109165574E-2,0.7,3.6,4.0999999999999996,5.0999999999999996,null,693,null,0.68,null,null,0,14.2,16.2,21.85,null,1,1,1,148,158,185,null,0,0,0,1,null,null,null,null,null,null,null,null,null,null,null,null,null,null,"9015",90,15,11.3,13.2,21.85,7,7.7,10.7,null,null,null,null,null,null,null,null,null,{"$f":"DF30","v":80},{"$f":"BL8","v":13.7},{"$f":"ROUND(IF($BZ$2=1,W8,IF($BZ$2=2,W8*3.412141633,)),0)","v":1708},{"$f":"IF($BZ$2=1,ROUND(AA8,0),IF($BZ$2=2,ROUND(AA8/272.7654,1),))","v":147},{"$f":"IF($BZ$2=1,AE8,IF($BZ$2=2,AE8*0.3346,))","v":0.32414663509783698},{"$f":"IF(BY8=1,ROUND(IF($BZ$2=1,AR8,IF($BZ$2=2,AR8*3.412141633,)),0),\"\")","v":335},{"$f":"IF(BY8=1,IF($BZ$2=1,ROUND(AU8,0),IF($BZ$2=2,ROUND(AU8/272.7654,1),)),\"\")","v":144},{"$f":"IF(BY8=1,IF($BZ$2=1,AX8,IF($BZ$2=2,AX8*0.3346,)),\"\")","v":0.31121106327333475},{"$f":"K8","v":30},{"$f":"L8","v":42.4},{"$f":"BB8","v":6.7},{"$f":"DQ30","v":1.6}]
["1655011",null,null,1,65,50,11,11.5,0,26,30,38.799999999999997,524.96,881.02076921515595,942.75810617769378,1102.4000000000001,1.5,1.1000000000000001,1.1000000000000001,1.1000000000000001,375,688,736,861,32,59,63,74,8.0238333645090195E-3,2.6124513105548242E-2,2.9658332216627524E-2,4.0497070432560033E-2,3.969E-4,1.7345999999999999,4,5.7428799999999995E-4,{"$f":"AK32*(1-(($E33-50)*0.005))","v":136.49428448457448},{"$f":"AL32*(1-(($E33-50)*0.005))","v":146.05909150063556},{"$f":"AM32*(1-(($E33-50)*0.005))","v":170.792},0.95,0.95,0.95,136,146,171,58,63,74,2.5275151079359376E-2,2.9658332216627524E-2,4.0497070432560033E-2,0.7,3.6,4.0999999999999996,5.0999999999999996,null,772,null,0.68,null,null,0,14.2,16.2,21.85,null,1,1,1,136,146,171,null,0,0,0,1,null,null,null,null,null,null,null,null,null,null,null,null,null,null,"10010",100,10,12.3,14.1,21.85,7.8,8.6999999999999993,12.2,null,null,null,null,null,null,null,null,null,{"$f":"DF30","v":80},{"$f":"BM8","v":21.85},{"$f":"ROUND(IF($BZ$2=1,X8,IF($BZ$2=2,X8*3.412141633,)),0)","v":2292},{"$f":"IF($BZ$2=1,ROUND(AB8,0),IF($BZ$2=2,ROUND(AB8/272.7654,1),))","v":197},{"$f":"IF($BZ$2=1,AF8,IF($BZ$2=2,AF8*0.3346,))","v":0.57808545963619196},{"$f":"IF(BY8=1,ROUND(IF($BZ$2=1,AS8,IF($BZ$2=2,AS8*3.412141633,)),0),\"\")","v":450},{"$f":"IF(BY8=1,IF($BZ$2=1,ROUND(AV8,0),IF($BZ$2=2,ROUND(AV8/272.7654,1),)),\"\")","v":194},{"$f":"IF(BY8=1,IF($BZ$2=1,AY8,IF($BZ$2=2,AY8*0.3346,)),\"\")","v":0.56081193423750164},{"$f":"L8","v":42.4},{"$f":"DN33+8","v":50.4},{"$f":"BC8","v":9},{"$f":"DQ30","v":1.6}]
["1356010",null,null,1,35,60,10,11.5,0,26,30,40,485.1,841.69225687813923,901.35950941531064,1066.3800000000001,1.5,1.08,1.08,1.08,346,660,707,836,30,57,61,72,4.534543720858538E-3,1.5637729576638788E-2,1.782898414147421E-2,2.4572994832794695E-2,3.969E-4,1.7345999999999999,2,3.6734700000000002E-4,116.68990721587436,124.96201154556491,147.84,0.98,0.98,0.98,117,125,148,50,54,64,1.214004296048507E-2,1.4086095785072505E-2,1.9563990759703984E-2,0.4,4.8,5.4,6.8,null,539,null,0.9,null,null,0,13.6,15.6,21.85,null,1,1,1,117,125,148,null,0,0,0,1,null,null,null,null,null,null,null,null,null,null,null,null,null,null,"10015",100,15,10.9,12.8,21.85,7,7.7,10.7,null,null,null,null,null,null,null,null,null,90,{"$f":"BJ9","v":0},{"$f":"ROUND(IF($BZ$2=1,U9,IF($BZ$2=2,U9*3.412141633,)),0)","v":829},{"$f":"IF($BZ$2=1,ROUND(Y9,0),IF($BZ$2=2,ROUND(Y9/272.7654,1),))","v":71},{"$f":"IF($BZ$2=1,AC9,IF($BZ$2=2,AC9*0.3346,))","v":7.8402105479962514E-2},null,null,null,0,0,0,{"$f":"IF($BZ$2=1,AZ9,IF($BZ$2=2,AZ9/4.54609,))","v":1.8}]
["1506010",null,null,1,50,60,10,11.5,0,26,30,40,581.4,841.69225687813923,901.35950941531064,1066.3800000000001,1.5,1.08,1.08,1.08,415,660,707,836,36,57,61,72,6.4416881672429262E-3,1.5637729576638788E-2,1.782898414147421E-2,2.4572994832794695E-2,3.969E-4,1.7345999999999999,2,3.6734700000000002E-4,116.68990721587436,124.96201154556491,147.84,0.98,0.98,0.98,117,125,148,50,54,64,1.214004296048507E-2,1.4086095785072505E-2,1.9563990759703984E-2,0.4,4.8,5.4,6.8,null,646,null,0.9,null,null,0,13.6,15.6,21.85,null,1,1,1,117,125,148,null,0,0,0,1,null,null,null,null,null,null,null,null,null,null,null,null,null,null,"11010",110,10,12,13.9,21.85,8.4,9.3000000000000007,14,null,null,null,null,null,null,null,null,null,{"$f":"DF34","v":90},{"$f":"BK9","v":11.3},{"$f":"ROUND(IF($BZ$2=1,V9,IF($BZ$2=2,V9*3.412141633,)),0)","v":1824},{"$f":"IF($BZ$2=1,ROUND(Z9,0),IF($BZ$2=2,ROUND(Z9/272.7654,1),))","v":157},{"$f":"IF($BZ$2=1,AD9,IF($BZ$2=2,AD9*0.3346,))","v":0.37413425352165253},{"$f":"IF(BY9=1,ROUND(IF($BZ$2=1,AQ9,IF($BZ$2=2,AQ9*3.412141633,)),0),\"\")","v":358},{"$f":"IF(BY9=1,IF($BZ$2=1,ROUND(AT9,0),IF($BZ$2=2,ROUND(AT9/272.7654,1),)),\"\")","v":154},{"$f":"IF(BY9=1,IF($BZ$2=1,AW9,IF($BZ$2=2,AW9*0.3346,)),\"\")","v":0.36016635113087053},{"$f":"J9","v":26},{"$f":"DN35+8","v":34},{"$f":"BA9","v":7},{"$f":"DQ34","v":1.8}]
["1656010",null,null,1,65,60,10,11.5,0,26,30,40,654.30000000000007,841.69225687813923,901.35950941531064,1066.3800000000001,1.5,1.08,1.08,1.08,467,660,707,836,40,57,61,72,7.8922369713822719E-3,1.5637729576638788E-2,1.782898414147421E-2,2.4572994832794695E-2,3.969E-4,1.7345999999999999,2,3.6734700000000002E-4,116.68990721587436,124.96201154556491,147.84,0.98,0.98,0.98,117,125,148,50,54,64,1.214004296048507E-2,1.4086095785072505E-2,1.9563990759703984E-2,0.4,4.8,5.4,6.8,null,727,null,0.9,null,null,0,13.6,15.6,21.85,null,1,1,1,117,125,148,null,0,0,0,1,null,null,null,null,null,null,null,null,null,null,null,null,null,null,"11015",110,15,10.9,12.8,21.85,7.9,8.8000000000000007,12.5,null,null,null,null,null,null,null,null,null,{"$f":"DF34","v":90},{"$f":"BL9","v":13.2},{"$f":"ROUND(IF($BZ$2=1,W9,IF($BZ$2=2,W9*3.412141633,)),0)","v":1954},{"$f":"IF($BZ$2=1,ROUND(AA9,0),IF($BZ$2=2,ROUND(AA9/272.7654,1),))","v":168},{"$f":"IF($BZ$2=1,AE9,IF($BZ$2=2,AE9*0.3346,))","v":0.42759818960823864},{"$f":"IF(BY9=1,ROUND(IF($BZ$2=1,AR9,IF($BZ$2=2,AR9*3.412141633,)),0),\"\")","v":383},{"$f":"IF(BY9=1,IF($BZ$2=1,ROUND(AU9,0),IF($BZ$2=2,ROUND(AU9/272.7654,1),)),\"\")","v":165},{"$f":"IF(BY9=1,IF($BZ$2=1,AX9,IF($BZ$2=2,AX9*0.3346,)),\"\")","v":0.41266687566708049},{"$f":"K9","v":30},{"$f":"L9","v":43.3},{"$f":"BB9","v":7.7},{"$f":"DQ34","v":1.8}]
["1956010",null,null,1,95,60,10,11.5,0,26,30,40,746.69225687813923,841.69225687813923,901.35950941531064,1066.3800000000001,1.5,1.08,1.08,1.08,533,660,707,836,46,57,61,72,1.0334802157060601E-2,1.5637729576638788E-2,1.782898414147421E-2,2.4572994832794695E-2,3.969E-4,1.7345999999999999,2,3.6734700000000002E-4,116.68990721587436,124.96201154556491,147.84,0.98,0.98,0.98,117,125,148,50,54,64,1.214004296048507E-2,1.4086095785072505E-2,1.9563990759703984E-2,0.4,4.8,5.4,6.8,null,836,null,0.9,null,null,0,13.6,15.6,21.85,null,1,1,1,117,125,148,null,0,0,0,1,null,null,null,null,null,null,null,null,null,null,null,null,null,null,"12010",120,10,11.8,13.7,21.85,8.9,9.9,14.8,null,null,null,null,null,null,null,null,null,{"$f":"DF34","v":90},{"$f":"BM9","v":21.85},{"$f":"ROUND(IF($BZ$2=1,X9,IF($BZ$2=2,X9*3.412141633,)),0)","v":2662},{"$f":"IF($BZ$2=1,ROUND(AB9,0),IF($BZ$2=2,ROUND(AB9/272.7654,1),))","v":229},{"$f":"IF($BZ$2=1,AF9,IF($BZ$2=2,AF9*0.3346,))","v":0.7880408313931474},{"$f":"IF(BY9=1,ROUND(IF($BZ$2=1,AS9,IF($BZ$2=2,AS9*3.412141633,)),0),\"\")","v":522},{"$f":"IF(BY9=1,IF($BZ$2=1,ROUND(AV9,0),IF($BZ$2=2,ROUND(AV9/272.7654,1),)),\"\")","v":224},{"$f":"IF(BY9=1,IF($BZ$2=1,AY9,IF($BZ$2=2,AY9*0.3346,)),\"\")","v":0.75442675175462648},{"$f":"L9","v":43.3},{"$f":"DN37+8","v":51.3},{"$f":"BC9","v":10.7},{"$f":"DQ34","v":1.8}]
["1356011",null,null,1,35,60,11,11.5,0,26,30,40,488.24,1142.0361657917249,1222.9946868592929,1446.9,1.5,1.1000000000000001,1.1000000000000001,1.1000000000000001,348,892,955,1130,30,77,82,97,7.6543065217170754E-3,4.6649790795689712E-2,5.2655498392101936E-2,7.2777833153007732E-2,3.969E-4,1.7345999999999999,4,5.7428799999999995E-4,191,205,242,0.95,0.95,0.95,191,205,242,82,88,104,5.2655498392101936E-2,6.0326342797888885E-2,8.3243311217863464E-2,0.8,4.8,5.4,6.8,null,718,null,0.68,null,null,0,13.6,15.6,21.85,null,1,1,1,191,205,242,null,0,0,0,1,null,null,null,null,null,null,null,null,null,null,null,null,null,null,"12015",120,15,10.6,12.5,21.85,8.6999999999999993,9.8000000000000007,14.3,null,null,null,null,null,null,null,null,null,100,{"$f":"BJ10","v":0},{"$f":"ROUND(IF($BZ$2=1,U10,IF($BZ$2=2,U10*3.412141633,)),0)","v":921},{"$f":"IF($BZ$2=1,ROUND(Y10,0),IF($BZ$2=2,ROUND(Y10/272.7654,1),))","v":79},{"$f":"IF($BZ$2=1,AC10,IF($BZ$2=2,AC10*0.3346,))","v":9.8246362381930949E-2},null,null,null,0,0,0,{"$f":"IF($BZ$2=1,AZ10,IF($BZ$2=2,AZ10/4.54609,))","v":2}]
["1506011",null,null,1,50,60,11,11.5,0,26,30,40,565.76,1142.0361657917249,1222.9946868592929,1446.9,1.5,1.1000000000000001,1.1000000000000001,1.1000000000000001,404,892,955,1130,{"$f":"ROUND(U39*3600/(4186*ABS($O$1-$O$2)),0)","v":35},77,82,97,1.0277097190078896E-2,4.6649790795689712E-2,5.2655498392101936E-2,7.2777833153007732E-2,3.969E-4,1.7345999999999999,4,5.7428799999999995E-4,191,205,242,0.95,0.95,0.95,191,205,242,82,88,104,5.2655498392101936E-2,6.0326342797888885E-2,8.3243311217863464E-2,0.8,4.8,5.4,6.8,null,832,null,0.68,null,null,0,13.6,15.6,21.85,null,1,1,1,191,205,242,null,0,0,0,1,null,null,null,null,null,null,null,null,null,null,null,null,null,null,"14010",140,10,11.5,13.3,21.85,10.1,11.2,17.5,null,null,null,null,null,null,null,null,null,{"$f":"DF38","v":100},{"$f":"BK10","v":10.9},{"$f":"ROUND(IF($BZ$2=1,V10,IF($BZ$2=2,V10*3.412141633,)),0)","v":2054},{"$f":"IF($BZ$2=1,ROUND(Z10,0),IF($BZ$2=2,ROUND(Z10/272.7654,1),))","v":177},{"$f":"IF($BZ$2=1,AD10,IF($BZ$2=2,AD10*0.3346,))","v":0.4800973876606639},{"$f":"IF(BY10=1,ROUND(IF($BZ$2=1,AQ10,IF($BZ$2=2,AQ10*3.412141633,)),0),\"\")","v":403},{"$f":"IF(BY10=1,IF($BZ$2=1,ROUND(AT10,0),IF($BZ$2=2,ROUND(AT10/272.7654,1),)),\"\")","v":173},{"$f":"IF(BY10=1,IF($BZ$2=1,AW10,IF($BZ$2=2,AW10*0.3346,)),\"\")","v":0.45896052508691165},{"$f":"J10","v":26},{"$f":"DN39+8","v":34},{"$f":"BA10","v":7},{"$f":"DQ38","v":2}]
["1656011",null,null,1,65,60,11,11.5,0,26,30,40,629.68000000000006,1142.0361657917249,1222.9946868592929,1446.9,1.5,1.1000000000000001,1.1000000000000001,1.1000000000000001,449,892,955,1130,39,77,82,97,1.2641467158566712E-2,4.6649790795689712E-2,5.2655498392101936E-2,7.2777833153007732E-2,3.969E-4,1.7345999999999999,4,5.7428799999999995E-4,{"$f":"AK39*(1-(($E40-50)*0.005))","v":176.67500000000001},{"$f":"AL39*(1-(($E40-50)*0.005))","v":189.625},{"$f":"AM39*(1-(($E40-50)*0.005))","v":223.85000000000002},0.95,0.95,0.95,177,190,224,76,82,96,4.5490941940838581E-2,5.2655498392101936E-2,7.1338470336604037E-2,0.8,4.8,5.4,6.8,null,926,null,0.68,null,null,0,13.6,15.6,21.85,null,1,1,1,177,190,224,null,0,0,0,1,null,null,null,null,null,null,null,null,null,null,null,null,null,null,"14015",140,15,10.4,12.2,21.85,9.6,10.5,16.100000000000001,null,null,null,null,null,null,null,null,null,{"$f":"DF38","v":100},{"$f":"BL10","v":12.8},{"$f":"ROUND(IF($BZ$2=1,W10,IF($BZ$2=2,W10*3.412141633,)),0)","v":2199},{"$f":"IF($BZ$2=1,ROUND(AA10,0),IF($BZ$2=2,ROUND(AA10/272.7654,1),))","v":189},{"$f":"IF($BZ$2=1,AE10,IF($BZ$2=2,AE10*0.3346,))","v":0.5463285500064492},{"$f":"IF(BY10=1,ROUND(IF($BZ$2=1,AR10,IF($BZ$2=2,AR10*3.412141633,)),0),\"\")","v":431},{"$f":"IF(BY10=1,IF($BZ$2=1,ROUND(AU10,0),IF($BZ$2=2,ROUND(AU10/272.7654,1),)),\"\")","v":185},{"$f":"IF(BY10=1,IF($BZ$2=1,AX10,IF($BZ$2=2,AX10*0.3346,)),\"\")","v":0.52378160296818432},{"$f":"K10","v":30},{"$f":"L10","v":44.1},{"$f":"BB10","v":7.7},{"$f":"DQ38","v":2}]
["1956011",null,null,1,95,60,11,11.5,0,26,30,40,733.04000000000008,1142.0361657917249,1222.9946868592929,1446.9,1.5,1.1000000000000001,1.1000000000000001,1.1000000000000001,523,892,955,1130,45,77,82,97,1.6627862376270702E-2,4.6649790795689712E-2,5.2655498392101936E-2,7.2777833153007732E-2,3.969E-4,1.7345999999999999,4,5.7428799999999995E-4,{"$f":"AK39*(1-(($E41-50)*0.005))","v":148.02500000000001},{"$f":"AL39*(1-(($E41-50)*0.005))","v":158.875},{"$f":"AM39*(1-(($E41-50)*0.005))","v":187.55},0.95,0.95,0.95,148,159,188,64,68,81,3.2689156354607958E-2,3.6729352641212645E-2,5.1426193519822944E-2,0.8,4.8,5.4,6.8,null,1078,null,0.68,null,null,0,13.6,15.6,21.85,null,1,1,1,148,159,188,null,0,0,0,1,null,null,null,null,null,null,null,null,null,null,null,null,null,null,"16010",160,10,11.2,13,21.85,11,12.4,19.2,null,null,null,null,null,null,null,null,null,{"$f":"DF38","v":100},{"$f":"BM10","v":21.85},{"$f":"ROUND(IF($BZ$2=1,X10,IF($BZ$2=2,X10*3.412141633,)),0)","v":3031},{"$f":"IF($BZ$2=1,ROUND(AB10,0),IF($BZ$2=2,ROUND(AB10/272.7654,1),))","v":261},{"$f":"IF($BZ$2=1,AF10,IF($BZ$2=2,AF10*0.3346,))","v":1.0323140112813236},{"$f":"IF(BY10=1,ROUND(IF($BZ$2=1,AS10,IF($BZ$2=2,AS10*3.412141633,)),0),\"\")","v":595},{"$f":"IF(BY10=1,IF($BZ$2=1,ROUND(AV10,0),IF($BZ$2=2,ROUND(AV10/272.7654,1),)),\"\")","v":256},{"$f":"IF(BY10=1,IF($BZ$2=1,AY10,IF($BZ$2=2,AY10*0.3346,)),\"\")","v":0.99366847477469411},{"$f":"L10","v":44.1},{"$f":"DN41+8","v":52.1},{"$f":"BC10","v":10.7},{"$f":"DQ38","v":2}]
["1356015",null,null,1,35,60,15,16.5,0,26,30,41.1,705.6,957.19258357509659,1027.5250511543745,1359.96,1.5,1.08,1.08,1.08,503,751,806,1067,43,65,69,92,9.5874509558381369E-3,2.1607295358039021E-2,2.4302699376319299E-2,4.2830982878635446E-2,2.0829999999999999E-4,1.724,2,4.6182900000000003E-4,130.66063061772473,140.26129481477255,185.64,1.01,1.01,1.01,131,140,186,56,60,80,1.6115444159911004E-2,1.8458252538956766E-2,3.25208961878376E-2,0.6,4.8,5.5,7.2,null,882,null,0.8,null,null,0,12.3,14.4,21.85,null,1,1,1,131,140,186,null,0,0,0,1,null,null,null,null,null,null,null,null,null,null,null,null,null,null,"16015",160,15,10,11.8,21.85,11.5,12.8,19.600000000000001,null,null,null,null,null,null,null,null,null,110,{"$f":"BJ11","v":0},{"$f":"ROUND(IF($BZ$2=1,U11,IF($BZ$2=2,U11*3.412141633,)),0)","v":1013},{"$f":"IF($BZ$2=1,ROUND(Y11,0),IF($BZ$2=2,ROUND(Y11/272.7654,1),))","v":87},{"$f":"IF($BZ$2=1,AC11,IF($BZ$2=2,AC11*0.3346,))","v":0.12053752050946154},null,null,null,0,0,0,{"$f":"IF($BZ$2=1,AZ11,IF($BZ$2=2,AZ11/4.54609,))","v":2.2000000000000002}]
["1506015",null,null,1,50,60,15,16.5,0,26,30,41.1,832,957.19258357509659,1027.5250511543745,1359.96,1.5,1.08,1.08,1.08,594,751,806,1067,51,65,69,92,1.3407845475285831E-2,2.1607295358039021E-2,2.4302699376319299E-2,4.2830982878635446E-2,2.0829999999999999E-4,1.724,2,4.6182900000000003E-4,130.66063061772473,140.26129481477255,185.64,1.01,1.01,1.01,131,140,186,56,60,80,1.6115444159911004E-2,1.8458252538956766E-2,3.25208961878376E-2,0.6,4.8,5.5,7.2,null,1040,null,0.8,null,null,0,12.3,14.4,21.85,null,1,1,1,131,140,186,null,0,0,0,1,null,null,null,null,null,null,null,null,null,null,null,null,null,null,"18010",180,10,10.9,12.7,21.85,12.2,13.7,22,null,null,null,null,null,null,null,null,null,{"$f":"DF42","v":110},{"$f":"BK11","v":10.9},{"$f":"ROUND(IF($BZ$2=1,V11,IF($BZ$2=2,V11*3.412141633,)),0)","v":2225},{"$f":"IF($BZ$2=1,ROUND(Z11,0),IF($BZ$2=2,ROUND(Z11/272.7654,1),))","v":191},{"$f":"IF($BZ$2=1,AD11,IF($BZ$2=2,AD11*0.3346,))","v":0.56476814232501726},{"$f":"IF(BY11=1,ROUND(IF($BZ$2=1,AQ11,IF($BZ$2=2,AQ11*3.412141633,)),0),\"\")","v":408},{"$f":"IF(BY11=1,IF($BZ$2=1,ROUND(AT11,0),IF($BZ$2=2,ROUND(AT11/272.7654,1),)),\"\")","v":175},{"$f":"IF(BY11=1,IF($BZ$2=1,AW11,IF($BZ$2=2,AW11*0.3346,)),\"\")","v":0.47548152700019564},{"$f":"J11","v":26},{"$f":"DN43+8","v":34},{"$f":"BA11","v":7.9},{"$f":"DQ42","v":2.2000000000000002}]
["1656015",null,null,1,65,60,15,16.5,0,26,30,41.1,862.19258357509659,957.19258357509659,1027.5250511543745,1359.96,1.5,1.08,1.08,1.08,615,751,806,1067,53,65,69,92,1.4461403006385631E-2,2.1607295358039021E-2,2.4302699376319299E-2,4.2830982878635446E-2,2.0829999999999999E-4,1.724,2,4.6182900000000003E-4,130.66063061772473,140.26129481477255,185.64,{"$f":"IF($G44=10,0.98,IF($G44=11,0.95,IF($G44=15,1.01,IF($G44=16,0.95,IF($G44=20,0.95,IF($G44=21,0.85))))))","v":1.01},1.01,1.01,131,140,186,56,60,80,1.6115444159911004E-2,1.8458252538956766E-2,3.25208961878376E-2,0.6,4.8,5.5,7.2,null,1153,null,0.8,null,null,0,12.3,14.4,21.85,null,1,1,1,131,140,186,null,0,0,0,1,null,null,null,null,null,null,null,null,null,null,null,null,null,null,"18015",180,15,10,11.8,21.85,11.5,12.8,19.600000000000001,null,null,null,null,null,null,null,null,null,{"$f":"DF42","v":110},{"$f":"BL11","v":12.8},{"$f":"ROUND(IF($BZ$2=1,W11,IF($BZ$2=2,W11*3.412141633,)),0)","v":2382},{"$f":"IF($BZ$2=1,ROUND(AA11,0),IF($BZ$2=2,ROUND(AA11/272.7654,1),))","v":205},{"$f":"IF($BZ$2=1,AE11,IF($BZ$2=2,AE11*0.3346,))","v":0.64910736540223946},{"$f":"IF(BY11=1,ROUND(IF($BZ$2=1,AR11,IF($BZ$2=2,AR11*3.412141633,)),0),\"\")","v":437},{"$f":"IF(BY11=1,IF($BZ$2=1,ROUND(AU11,0),IF($BZ$2=2,ROUND(AU11/272.7654,1),)),\"\")","v":188},{"$f":"IF(BY11=1,IF($BZ$2=1,AX11,IF($BZ$2=2,AX11*0.3346,)),\"\")","v":0.54744957167687558},{"$f":"K11","v":30},{"$f":"L11","v":44.1},{"$f":"BB11","v":8.8000000000000007},{"$f":"DQ42","v":2.2000000000000002}]
["1956015",null,null,1,95,60,15,16.5,0,26,30,41.1,862.19258357509659,957.19258357509659,1027.5250511543745,1359.96,1.5,1.08,1.08,1.08,615,751,806,1067,53,65,69,92,1.4461403006385631E-2,2.1607295358039021E-2,2.4302699376319299E-2,4.2830982878635446E-2,2.0829999999999999E-4,1.724,2,4.6182900000000003E-4,130.66063061772473,140.26129481477255,185.64,1.01,1.01,1.01,131,140,186,56,60,80,1.6115444159911004E-2,1.8458252538956766E-2,3.25208961878376E-2,0.6,4.8,5.5,7.2,null,1288,null,0.8,null,null,0,12.3,14.4,21.85,null,1,1,1,131,140,186,null,0,0,0,1,null,null,null,null,null,null,null,null,null,null,null,null,null,null,"20010",200,10,10.7,12.5,21.85,13.4,14.8,24,null,null,null,null,null,null,null,null,null,{"$f":"DF42","v":110},{"$f":"BM11","v":21.85},{"$f":"ROUND(IF($BZ$2=1,X11,IF($BZ$2=2,X11*3.412141633,)),0)","v":3284},{"$f":"IF($BZ$2=1,ROUND(AB11,0),IF($BZ$2=2,ROUND(AB11/272.7654,1),))","v":282},{"$f":"IF($BZ$2=1,AF11,IF($BZ$2=2,AF11*0.3346,))","v":1.2162714994016472},{"$f":"IF(BY11=1,ROUND(IF($BZ$2=1,AS11,IF($BZ$2=2,AS11*3.412141633,)),0),\"\")","v":602},{"$f":"IF(BY11=1,IF($BZ$2=1,ROUND(AV11,0),IF($BZ$2=2,ROUND(AV11/272.7654,1),)),\"\")","v":259},{"$f":"IF(BY11=1,IF($BZ$2=1,AY11,IF($BZ$2=2,AY11*0.3346,)),\"\")","v":1.0285851673079258},{"$f":"L11","v":44.1},{"$f":"DN45+8","v":52.1},{"$f":"BC11","v":12.5},{"$f":"DQ42","v":2.2000000000000002}]
["1356016",null,null,1,35,60,16,16.5,0,26,30,41.1,650.08000000000004,1399.7241764138612,1502.5729206967153,1988.7,1.5,1.1000000000000001,1.1000000000000001,1.1000000000000001,464,1093,1173,1553,40,94,101,134,2.3991285770177787E-2,0.12999495976193065,0.1498640371075696,0.26238954698403733,2.0829999999999999E-4,1.724,4,1.392796E-3,214,230,305,0.95,0.95,0.95,214,230,305,92,99,131,0.12457564927087089,0.14404410806926615,0.25087593311274681,1.2,4.8,5.5,7.2,null,956,null,0.68,null,null,0,12.3,14.4,21.85,null,1,1,1,214,230,305,null,0,0,0,1,null,null,null,null,null,null,null,null,null,null,null,null,null,null,"20015",200,15,10,11.4,21.85,13.2,14.7,23.5,null,null,null,null,null,null,null,null,null,120,{"$f":"BJ12","v":0},{"$f":"ROUND(IF($BZ$2=1,U12,IF($BZ$2=2,U12*3.412141633,)),0)","v":1105},{"$f":"IF($BZ$2=1,ROUND(Y12,0),IF($BZ$2=2,ROUND(Y12/272.7654,1),))","v":95},{"$f":"IF($BZ$2=1,AC12,IF($BZ$2=2,AC12*0.3346,))","v":0.14532875506635198},null,null,null,0,0,0,{"$f":"IF($BZ$2=1,AZ12,IF($BZ$2=2,AZ12/4.54609,))","v":2.4}]
["1506016",null,null,1,50,60,16,16.5,0,26,30,41.1,774.5200000000001,1399.7241764138612,1502.5729206967153,1988.7,1.5,1.1000000000000001,1.1000000000000001,1.1000000000000001,553,1093,1173,1553,48,94,101,134,3.4395354733294137E-2,0.12999495976193065,0.1498640371075696,0.26238954698403733,2.0829999999999999E-4,1.724,4,1.392796E-3,214,230,305,0.95,0.95,0.95,214,230,305,92,99,131,0.12457564927087089,0.14404410806926615,0.25087593311274681,1.2,4.8,5.5,7.2,null,1139,null,0.68,null,null,0,12.3,14.4,21.85,null,1,1,1,214,230,305,null,0,0,0,1,null,null,null,null,null,null,null,null,null,null,null,null,null,null,"22010",220,10,10.5,12.3,21.85,13.4,14.8,24,null,null,null,null,null,null,null,null,null,{"$f":"DF46","v":120},{"$f":"BK12","v":10.6},{"$f":"ROUND(IF($BZ$2=1,V12,IF($BZ$2=2,V12*3.412141633,)),0)","v":2531},{"$f":"IF($BZ$2=1,ROUND(Z12,0),IF($BZ$2=2,ROUND(Z12/272.7654,1),))","v":218},{"$f":"IF($BZ$2=1,AD12,IF($BZ$2=2,AD12*0.3346,))","v":0.74138661467882749},{"$f":"IF(BY12=1,ROUND(IF($BZ$2=1,AQ12,IF($BZ$2=2,AQ12*3.412141633,)),0),\"\")","v":496},{"$f":"IF(BY12=1,IF($BZ$2=1,ROUND(AT12,0),IF($BZ$2=2,ROUND(AT12/272.7654,1),)),\"\")","v":213},{"$f":"IF(BY12=1,IF($BZ$2=1,AW12,IF($BZ$2=2,AW12*0.3346,)),\"\")","v":0.70833668732811383},{"$f":"J12","v":26},{"$f":"DN47+8","v":34},{"$f":"BA12","v":8.6999999999999993},{"$f":"DQ46","v":2.4}]
["1656016",null,null,1,65,60,16,16.5,0,26,30,41.1,886.72,1399.7241764138612,1502.5729206967153,1988.7,1.5,1.1000000000000001,1.1000000000000001,1.1000000000000001,633,1093,1173,1553,54,94,101,134,4.3412316281319085E-2,0.12999495976193065,0.1498640371075696,0.26238954698403733,2.0829999999999999E-4,1.724,4,1.392796E-3,{"$f":"AK47*(1-(($E48-50)*0.005))","v":197.95000000000002},{"$f":"AL47*(1-(($E48-50)*0.005))","v":212.75},{"$f":"AM47*(1-(($E48-50)*0.005))","v":282.125},0.95,0.95,0.95,198,213,282,85,92,121,0.10651021711320637,0.12457564927087089,0.21435070156236344,1.2,4.8,5.5,7.2,null,1304,null,0.68,null,null,0,12.3,14.4,21.85,null,1,1,1,198,213,282,null,0,0,0,1,null,null,null,null,null,null,null,null,null,null,null,null,null,null,"22015",220,15,10,11.1,21.85,15.5,16.8,27.5,null,null,null,null,null,null,null,null,null,{"$f":"DF46","v":120},{"$f":"BL12","v":12.5},{"$f":"ROUND(IF($BZ$2=1,W12,IF($BZ$2=2,W12*3.412141633,)),0)","v":2710},{"$f":"IF($BZ$2=1,ROUND(AA12,0),IF($BZ$2=2,ROUND(AA12/272.7654,1),))","v":233},{"$f":"IF($BZ$2=1,AE12,IF($BZ$2=2,AE12*0.3346,))","v":0.84499496566697219},{"$f":"IF(BY12=1,ROUND(IF($BZ$2=1,AR12,IF($BZ$2=2,AR12*3.412141633,)),0),\"\")","v":532},{"$f":"IF(BY12=1,IF($BZ$2=1,ROUND(AU12,0),IF($BZ$2=2,ROUND(AU12/272.7654,1),)),\"\")","v":229},{"$f":"IF(BY12=1,IF($BZ$2=1,AX12,IF($BZ$2=2,AX12*0.3346,)),\"\")","v":0.81671249966312653},{"$f":"K12","v":30},{"$f":"L12","v":44.8},{"$f":"BB12","v":9.8000000000000007},{"$f":"DQ46","v":2.4}]
["1956016",null,null,1,95,60,16,16.5,0,26,30,41.1,1092.0800000000002,1399.7241764138612,1502.5729206967153,1988.7,1.5,1.1000000000000001,1.1000000000000001,1.1000000000000001,779,1093,1173,1553,67,94,101,134,6.650928759934463E-2,0.12999495976193065,0.1498640371075696,0.26238954698403733,2.0829999999999999E-4,1.724,4,1.392796E-3,{"$f":"AK47*(1-(($E49-50)*0.005))","v":165.85},{"$f":"AL47*(1-(($E49-50)*0.005))","v":178.25},{"$f":"AM47*(1-(($E49-50)*0.005))","v":236.375},0.95,0.95,0.95,166,178,236,71,77,101,7.4594376889818667E-2,8.7583862537394974E-2,0.1498640371075696,1.2,4.8,5.5,7.2,null,1606,null,0.68,null,null,0,12.3,14.4,21.85,null,1,1,1,166,178,236,null,0,0,0,1,null,null,null,null,null,null,null,null,null,null,null,null,null,null,"24010",240,10,10.4,12.2,21.85,14.8,16.600000000000001,28,null,null,null,null,null,null,null,null,null,{"$f":"DF46","v":120},{"$f":"BM12","v":21.85},{"$f":"ROUND(IF($BZ$2=1,X12,IF($BZ$2=2,X12*3.412141633,)),0)","v":3771},{"$f":"IF($BZ$2=1,ROUND(AB12,0),IF($BZ$2=2,ROUND(AB12/272.7654,1),))","v":324},{"$f":"IF($BZ$2=1,AF12,IF($BZ$2=2,AF12*0.3346,))","v":1.6164367454023814},{"$f":"IF(BY12=1,ROUND(IF($BZ$2=1,AS12,IF($BZ$2=2,AS12*3.412141633,)),0),\"\")","v":740},{"$f":"IF(BY12=1,IF($BZ$2=1,ROUND(AV12,0),IF($BZ$2=2,ROUND(AV12/272.7654,1),)),\"\")","v":318},{"$f":"IF(BY12=1,IF($BZ$2=1,AY12,IF($BZ$2=2,AY12*0.3346,)),\"\")","v":1.5580377368272431},{"$f":"L12","v":44.8},{"$f":"DN49+8","v":52.8},{"$f":"BC12","v":14.3},{"$f":"DQ46","v":2.4}]
["1356020",null,null,1,35,60,20,21.5,0,26,30,41.1,988.80000000000007,1346.575008837732,1442.0332127786496,1706.04,1.5,1.08,1.08,1.08,706,1056,1131,1338,61,91,97,115,1.5086213419371948E-2,3.3257087321880145E-2,3.773334830335235E-2,5.2841431064416994E-2,1.2760000000000001E-4,1.7219,2,3.76611E-4,166.41571994991173,178.21286873827722,210.84,0.95,0.95,0.95,166,178,211,71,77,91,2.0362186770824586E-2,2.3902999958867951E-2,3.3257087321880145E-2,0.8,4.8,5.5,7.2,null,1236,null,0.8,null,null,0,12.3,14.4,21.85,null,1,1,1,166,178,211,null,0,0,0,1,null,null,null,null,null,null,null,null,null,null,null,null,null,null,"24015",240,15,10,10.9,21.85,16.399999999999999,17.7,29.7,null,null,null,null,null,null,null,null,null,140,{"$f":"BJ13","v":0},{"$f":"ROUND(IF($BZ$2=1,U13,IF($BZ$2=2,U13*3.412141633,)),0)","v":1289},{"$f":"IF($BZ$2=1,ROUND(Y13,0),IF($BZ$2=2,ROUND(Y13/272.7654,1),))","v":111},{"$f":"IF($BZ$2=1,AC13,IF($BZ$2=2,AC13*0.3346,))","v":0.20261733229997858},null,null,null,0,0,0,{"$f":"IF($BZ$2=1,AZ13,IF($BZ$2=2,AZ13/4.54609,))","v":2.8}]
["1506020",null,null,1,50,60,20,21.5,0,26,30,41.1,1164,1346.575008837732,1442.0332127786496,1706.04,1.5,1.08,1.08,1.08,831,1056,1131,1338,71,91,97,115,2.0362186770824586E-2,3.3257087321880145E-2,3.773334830335235E-2,5.2841431064416994E-2,1.2760000000000001E-4,1.7219,2,3.76611E-4,166.41571994991173,178.21286873827722,210.84,0.95,0.95,0.95,166,178,211,71,77,91,2.0362186770824586E-2,2.3902999958867951E-2,3.3257087321880145E-2,0.8,4.8,5.5,7.2,null,1455,null,0.8,null,null,0,12.3,14.4,21.85,null,1,1,1,166,178,211,null,0,0,0,1,null,null,null,null,null,null,null,null,null,null,null,null,null,null,"26010",260,10,10.199999999999999,11.9,21.85,16.2,18.600000000000001,31.4,null,null,null,null,null,null,null,null,null,{"$f":"DF50","v":140},{"$f":"BK13","v":10.4},{"$f":"ROUND(IF($BZ$2=1,V13,IF($BZ$2=2,V13*3.412141633,)),0)","v":3001},{"$f":"IF($BZ$2=1,ROUND(Z13,0),IF($BZ$2=2,ROUND(Z13/272.7654,1),))","v":258},{"$f":"IF($BZ$2=1,AD13,IF($BZ$2=2,AD13*0.3346,))","v":1.0559926133482667},{"$f":"IF(BY13=1,ROUND(IF($BZ$2=1,AQ13,IF($BZ$2=2,AQ13*3.412141633,)),0),\"\")","v":589},{"$f":"IF(BY13=1,IF($BZ$2=1,ROUND(AT13,0),IF($BZ$2=2,ROUND(AT13/272.7654,1),)),\"\")","v":253},{"$f":"IF(BY13=1,IF($BZ$2=1,AW13,IF($BZ$2=2,AW13*0.3346,)),\"\")","v":1.0162271216516092},{"$f":"J13","v":26},{"$f":"DN51+8","v":34},{"$f":"BA13","v":9.6},{"$f":"DQ50","v":2.8}]
["1656020",null,null,1,65,60,20,21.5,0,26,30,41.1,1251.575008837732,1346.575008837732,1442.0332127786496,1706.04,1.5,1.08,1.08,1.08,893,1056,1131,1338,77,91,97,115,2.3902999958867951E-2,3.3257087321880145E-2,3.773334830335235E-2,5.2841431064416994E-2,1.2760000000000001E-4,1.7219,2,3.76611E-4,166.41571994991173,178.21286873827722,210.84,0.95,0.95,0.95,166,178,211,71,77,91,2.0362186770824586E-2,2.3902999958867951E-2,3.3257087321880145E-2,0.8,4.8,5.5,7.2,null,1611,null,0.8,null,null,0,12.3,14.4,21.85,null,1,1,1,166,178,211,null,0,0,0,1,null,null,null,null,null,null,null,null,null,null,null,null,null,null,"26015",260,15,10,10.9,21.85,16.2,18.600000000000001,31.4,null,null,null,null,null,null,null,null,null,{"$f":"DF50","v":140},{"$f":"BL13","v":12.2},{"$f":"ROUND(IF($BZ$2=1,W13,IF($BZ$2=2,W13*3.412141633,)),0)","v":3214},{"$f":"IF($BZ$2=1,ROUND(AA13,0),IF($BZ$2=2,ROUND(AA13/272.7654,1),))","v":276},{"$f":"IF($BZ$2=1,AE13,IF($BZ$2=2,AE13*0.3346,))","v":1.2053689200498885},{"$f":"IF(BY13=1,ROUND(IF($BZ$2=1,AR13,IF($BZ$2=2,AR13*3.412141633,)),0),\"\")","v":630},{"$f":"IF(BY13=1,IF($BZ$2=1,ROUND(AU13,0),IF($BZ$2=2,ROUND(AU13/272.7654,1),)),\"\")","v":271},{"$f":"IF(BY13=1,IF($BZ$2=1,AX13,IF($BZ$2=2,AX13*0.3346,)),\"\")","v":1.1628994061160329},{"$f":"K13","v":30},{"$f":"L13","v":45.4},{"$f":"BB13","v":10.5},{"$f":"DQ50","v":2.8}]
["1956020",null,null,1,95,60,20,21.5,0,26,30,41.1,1251.575008837732,1346.575008837732,1442.0332127786496,1706.04,1.5,1.08,1.08,1.08,893,1056,1131,1338,77,91,97,115,2.3902999958867951E-2,3.3257087321880145E-2,3.773334830335235E-2,5.2841431064416994E-2,1.2760000000000001E-4,1.7219,2,3.76611E-4,166.41571994991173,178.21286873827722,210.84,0.95,0.95,0.95,166,178,211,71,77,91,2.0362186770824586E-2,2.3902999958867951E-2,3.3257087321880145E-2,0.8,4.8,5.5,7.2,null,1795,null,0.8,null,null,0,12.3,14.4,21.85,null,1,1,1,166,178,211,null,0,0,0,1,null,null,null,null,null,null,null,null,null,null,null,null,null,null,"28010",280,10,10.199999999999999,11.9,21.85,16.2,18.600000000000001,31.4,null,null,null,null,null,null,null,null,null,{"$f":"DF50","v":140},{"$f":"BM13","v":21.85},{"$f":"ROUND(IF($BZ$2=1,X13,IF($BZ$2=2,X13*3.412141633,)),0)","v":4510},{"$f":"IF($BZ$2=1,ROUND(AB13,0),IF($BZ$2=2,ROUND(AB13/272.7654,1),))","v":388},{"$f":"IF($BZ$2=1,AF13,IF($BZ$2=2,AF13*0.3346,))","v":2.3527630854060915},{"$f":"IF(BY13=1,ROUND(IF($BZ$2=1,AS13,IF($BZ$2=2,AS13*3.412141633,)),0),\"\")","v":885},{"$f":"IF(BY13=1,IF($BZ$2=1,ROUND(AV13,0),IF($BZ$2=2,ROUND(AV13/272.7654,1),)),\"\")","v":381},{"$f":"IF(BY13=1,IF($BZ$2=1,AY13,IF($BZ$2=2,AY13*0.3346,)),\"\")","v":2.2700825079676186},{"$f":"L13","v":45.4},{"$f":"DN53+8","v":53.4},{"$f":"BC13","v":16.100000000000001},{"$f":"DQ50","v":2.8}]
["1356021",null,null,1,35,60,21,21.5,0,26,30,41.1,1014.4000000000001,1802.6437228662567,1935.0981352499616,2561.16,1.5,1.05,1.05,1.05,724,1423,1528,2022,62,122,131,174,2.2152976844908162E-2,8.3927928329369905E-2,9.6565795839234567E-2,0.16901353512975539,1.2760000000000001E-4,1.7219,4,5.1420100000000005E-4,233.82931859416351,251.01059773412922,332.22,0.85,0.85,0.85,234,251,332,101,108,143,5.7851346790324013E-2,6.601213332318584E-2,0.1147780548995266,1.6,4.8,5.5,7.2,null,1268,null,0.8,null,null,0,12.3,14.4,21.85,null,1,1,1,234,251,332,null,0,0,0,1,null,null,null,null,null,null,null,null,null,null,null,null,null,null,"28015",280,15,10,10.6,21.85,19.3,20.399999999999999,34.5,null,null,null,null,null,null,null,null,null,160,{"$f":"BJ14","v":0},{"$f":"ROUND(IF($BZ$2=1,U14,IF($BZ$2=2,U14*3.412141633,)),0)","v":1474},{"$f":"IF($BZ$2=1,ROUND(Y14,0),IF($BZ$2=2,ROUND(Y14/272.7654,1),))","v":127},{"$f":"IF($BZ$2=1,AC14,IF($BZ$2=2,AC14*0.3346,))","v":0.27051218338399846},null,null,null,0,0,0,{"$f":"IF($BZ$2=1,AZ14,IF($BZ$2=2,AZ14/4.54609,))","v":3.2}]
["1506021",null,null,1,50,60,21,21.5,0,26,30,41.1,1239.2,1802.6437228662567,1935.0981352499616,2561.16,1.5,1.05,1.05,1.05,884,1423,1528,2022,76,122,131,174,3.3056948915059815E-2,8.3927928329369905E-2,9.6565795839234567E-2,0.16901353512975539,1.2760000000000001E-4,1.7219,4,5.1420100000000005E-4,233.82931859416351,251.01059773412922,332.22,0.85,0.85,0.85,234,251,332,101,108,143,5.7851346790324013E-2,6.601213332318584E-2,0.1147780548995266,1.6,4.8,5.5,7.2,null,1549,null,0.8,null,null,0,12.3,14.4,21.85,null,1,1,1,234,251,332,null,0,0,0,1,null,null,null,null,null,null,null,null,null,null,null,null,null,null,"30010",300,10,{"$f":"CQ53","v":10.199999999999999},{"$f":"CR53","v":11.9},{"$f":"CS53","v":21.85},16.2,18.600000000000001,31.4,null,null,null,null,null,null,null,null,null,{"$f":"DF54","v":160},{"$f":"BK14","v":10},{"$f":"ROUND(IF($BZ$2=1,V14,IF($BZ$2=2,V14*3.412141633,)),0)","v":3449},{"$f":"IF($BZ$2=1,ROUND(Z14,0),IF($BZ$2=2,ROUND(Z14/272.7654,1),))","v":297},{"$f":"IF($BZ$2=1,AD14,IF($BZ$2=2,AD14*0.3346,))","v":1.4218556466193635},{"$f":"IF(BY14=1,ROUND(IF($BZ$2=1,AQ14,IF($BZ$2=2,AQ14*3.412141633,)),0),\"\")","v":676},{"$f":"IF(BY14=1,IF($BZ$2=1,ROUND(AT14,0),IF($BZ$2=2,ROUND(AT14/272.7654,1),)),\"\")","v":291},{"$f":"IF(BY14=1,IF($BZ$2=1,AW14,IF($BZ$2=2,AW14*0.3346,)),\"\")","v":1.3661686148172167},{"$f":"J14","v":26},{"$f":"DN55+8","v":34},{"$f":"BA14","v":11.5},{"$f":"DQ54","v":3.2}]
["1656021",null,null,1,65,60,21,21.5,0,26,30,41.1,1454.4,1802.6437228662567,1935.0981352499616,2561.16,1.5,1.05,1.05,1.05,1038,1423,1528,2022,89,122,131,174,4.5100353239267539E-2,8.3927928329369905E-2,9.6565795839234567E-2,0.16901353512975539,1.2760000000000001E-4,1.7219,4,5.1420100000000005E-4,{"$f":"AK55*(1-(($E56-50)*0.005))","v":216.29211969960124},{"$f":"AL55*(1-(($E56-50)*0.005))","v":232.18480290406953},{"$f":"AM55*(1-(($E56-50)*0.005))","v":307.30350000000004},0.85,0.85,0.85,216,232,307,{"$f":"ROUND(AQ56*3600/(4186*ABS($AM$1-$AM$2)),0)","v":93},{"$f":"ROUND(AR56*3600/(4186*ABS($AM$1-$AM$2)),0)","v":100},{"$f":"ROUND(AS56*3600/(4186*ABS($AM$1-$AM$2)),0)","v":132},4.9176619316603713E-2,5.6728958856482277E-2,9.8024069986539314E-2,1.6,4.8,5.5,7.2,null,1818,null,0.8,null,null,0,12.3,14.4,21.85,null,1,1,1,216,232,307,null,0,0,0,1,null,null,null,null,null,null,null,null,null,null,null,null,null,null,"30015",300,15,{"$f":"CQ54","v":10},{"$f":"CR54","v":10.6},21.85,19.3,20.399999999999999,34.5,null,null,null,null,null,null,null,null,null,{"$f":"DF54","v":160},{"$f":"BL14","v":11.8},{"$f":"ROUND(IF($BZ$2=1,W14,IF($BZ$2=2,W14*3.412141633,)),0)","v":3683},{"$f":"IF($BZ$2=1,ROUND(AA14,0),IF($BZ$2=2,ROUND(AA14/272.7654,1),))","v":317},{"$f":"IF($BZ$2=1,AE14,IF($BZ$2=2,AE14*0.3346,))","v":1.6153748832768098},{"$f":"IF(BY14=1,ROUND(IF($BZ$2=1,AR14,IF($BZ$2=2,AR14*3.412141633,)),0),\"\")","v":722},{"$f":"IF(BY14=1,IF($BZ$2=1,ROUND(AU14,0),IF($BZ$2=2,ROUND(AU14/272.7654,1),)),\"\")","v":310},{"$f":"IF(BY14=1,IF($BZ$2=1,AX14,IF($BZ$2=2,AX14*0.3346,)),\"\")","v":1.5462621883682115},{"$f":"K14","v":30},{"$f":"L14","v":46.4},{"$f":"BB14","v":12.8},{"$f":"DQ54","v":3.2}]
["1956021",null,null,1,95,60,21,21.5,0,26,30,41.1,1707.6437228662567,1802.6437228662567,1935.0981352499616,2561.16,1.5,1.05,1.05,1.05,1218,1423,1528,2022,105,122,131,174,6.2449516280666917E-2,8.3927928329369905E-2,9.6565795839234567E-2,0.16901353512975539,1.2760000000000001E-4,1.7219,4,5.1420100000000005E-4,{"$f":"AK55*(1-(($E57-50)*0.005))","v":181.21772191047671},{"$f":"AL55*(1-(($E57-50)*0.005))","v":194.53321324395014},{"$f":"AM55*(1-(($E57-50)*0.005))","v":257.47050000000002},0.85,0.85,0.85,181,195,257,78,84,111,3.4789728424513867E-2,4.0250111924183894E-2,6.9672395172375626E-2,1.6,4.8,5.5,7.2,null,2352,null,0.8,null,null,0,12.3,14.4,21.85,null,1,1,1,181,195,257,null,0,0,0,1,null,null,null,null,null,null,null,null,null,null,null,null,null,null,null,null,null,null,null,null,null,null,null,null,null,null,null,null,null,null,null,null,{"$f":"DF54","v":160},{"$f":"BM14","v":21.85},{"$f":"ROUND(IF($BZ$2=1,X14,IF($BZ$2=2,X14*3.412141633,)),0)","v":5249},{"$f":"IF($BZ$2=1,ROUND(AB14,0),IF($BZ$2=2,ROUND(AB14/272.7654,1),))","v":451},{"$f":"IF($BZ$2=1,AF14,IF($BZ$2=2,AF14*0.3346,))","v":3.2239502067344685},{"$f":"IF(BY14=1,ROUND(IF($BZ$2=1,AS14,IF($BZ$2=2,AS14*3.412141633,)),0),\"\")","v":1030},{"$f":"IF(BY14=1,IF($BZ$2=1,ROUND(AV14,0),IF($BZ$2=2,ROUND(AV14/272.7654,1),)),\"\")","v":443},{"$f":"IF(BY14=1,IF($BZ$2=1,AY14,IF($BZ$2=2,AY14*0.3346,)),\"\")","v":3.112728234709111},{"$f":"L14","v":46.4},{"$f":"DN57+8","v":54.4},{"$f":"BC14","v":19.600000000000001},{"$f":"DQ54","v":3.2}]
["1357010",null,null,1,35,70,10,11.5,0,26,30,41,566.1,1029.7403904507714,1104.2859635902939,1320.28,1.5,1.08,1.08,1.08,404,808,866,1035,{"$f":"ROUND(U58*3600/(4186*ABS($O$1-$O$2)),0)","v":35},{"$f":"ROUND(V58*3600/(4186*ABS($O$1-$O$2)),0)","v":69},{"$f":"ROUND(W58*3600/(4186*ABS($O$1-$O$2)),0)","v":74},{"$f":"ROUND(X58*3600/(4186*ABS($O$1-$O$2)),0)","v":89},6.4723033457937127E-3,2.3833508628602774E-2,2.7271158049938453E-2,3.8924960889446435E-2,3.969E-4,1.7345999999999999,2,3.6734700000000002E-4,142.7603849699376,153.09517888293954,183.04,0.98,0.98,0.98,143,153,183,61,66,79,1.8801217016227327E-2,2.1878764945327631E-2,3.093277823234393E-2,0.5,5.5,5.9,7.9,null,629,null,0.9,null,null,0,13.2,15.1,21.85,null,1,1,1,143,153,183,null,0,0,0,1,null,null,null,null,null,null,null,null,null,null,null,null,null,null,null,null,null,null,null,null,null,null,null,null,null,null,null,null,null,null,null,null,180,{"$f":"BJ15","v":0},{"$f":"ROUND(IF($BZ$2=1,U15,IF($BZ$2=2,U15*3.412141633,)),0)","v":1657},{"$f":"IF($BZ$2=1,ROUND(Y15,0),IF($BZ$2=2,ROUND(Y15/272.7654,1),))","v":143},{"$f":"IF($BZ$2=1,AC15,IF($BZ$2=2,AC15*0.3346,))","v":0.34939712211520163},null,null,null,0,0,0,{"$f":"IF($BZ$2=1,AZ15,IF($BZ$2=2,AZ15/4.54609,))","v":3.6}]
["1507010",null,null,1,50,70,10,11.5,0,26,30,41,677.7,1029.7403904507714,1104.2859635902939,1320.28,1.5,1.08,1.08,1.08,484,808,866,1035,42,69,74,89,9.1798390522946638E-3,2.3833508628602774E-2,2.7271158049938453E-2,3.8924960889446435E-2,3.969E-4,1.7345999999999999,2,3.6734700000000002E-4,142.7603849699376,153.09517888293954,183.04,0.98,0.98,0.98,143,153,183,61,66,79,1.8801217016227327E-2,2.1878764945327631E-2,3.093277823234393E-2,0.5,5.5,5.9,7.9,null,753,null,0.9,null,null,0,13.2,15.1,21.85,null,1,1,1,143,153,183,null,0,0,0,1,null,null,null,null,null,null,null,null,null,null,null,null,null,null,null,null,null,null,null,null,null,null,null,null,null,null,null,null,null,null,null,null,{"$f":"DF58","v":180},{"$f":"BK15","v":10},{"$f":"ROUND(IF($BZ$2=1,V15,IF($BZ$2=2,V15*3.412141633,)),0)","v":3781},{"$f":"IF($BZ$2=1,ROUND(Z15,0),IF($BZ$2=2,ROUND(Z15/272.7654,1),))","v":325},{"$f":"IF($BZ$2=1,AD15,IF($BZ$2=2,AD15*0.3346,))","v":1.73113399073644},{"$f":"IF(BY15=1,ROUND(IF($BZ$2=1,AQ15,IF($BZ$2=2,AQ15*3.412141633,)),0),\"\")","v":686},{"$f":"IF(BY15=1,IF($BZ$2=1,ROUND(AT15,0),IF($BZ$2=2,ROUND(AT15/272.7654,1),)),\"\")","v":295},{"$f":"IF(BY15=1,IF($BZ$2=1,AW15,IF($BZ$2=2,AW15*0.3346,)),\"\")","v":1.4327504054076798},{"$f":"J15","v":26},{"$f":"DN59+8","v":34},{"$f":"BA15","v":11.5},{"$f":"DQ58","v":3.6}]
["1657010",null,null,1,65,70,10,11.5,0,26,30,41,763.2,1029.7403904507714,1104.2859635902939,1320.28,1.5,1.08,1.08,1.08,545,808,866,1035,47,69,74,89,1.1391407109135011E-2,2.3833508628602774E-2,2.7271158049938453E-2,3.8924960889446435E-2,3.969E-4,1.7345999999999999,2,3.6734700000000002E-4,142.7603849699376,153.09517888293954,183.04,0.98,0.98,0.98,143,153,183,61,66,79,1.8801217016227327E-2,2.1878764945327631E-2,3.093277823234393E-2,0.5,5.5,5.9,7.9,null,848,null,0.9,null,null,0,13.2,15.1,21.85,null,1,1,1,143,153,183,null,0,0,0,1,null,null,null,null,null,null,null,null,null,null,null,null,null,null,"L,rail/L,tot","T10","T11","T15","T16","T20","T21","ALS",null,null,null,null,null,null,null,null,null,null,{"$f":"DF58","v":180},{"$f":"BL15","v":11.8},{"$f":"ROUND(IF($BZ$2=1,W15,IF($BZ$2=2,W15*3.412141633,)),0)","v":4037},{"$f":"IF($BZ$2=1,ROUND(AA15,0),IF($BZ$2=2,ROUND(AA15/272.7654,1),))","v":347},{"$f":"IF($BZ$2=1,AE15,IF($BZ$2=2,AE15*0.3346,))","v":1.9675246325457276},{"$f":"IF(BY15=1,ROUND(IF($BZ$2=1,AR15,IF($BZ$2=2,AR15*3.412141633,)),0),\"\")","v":733},{"$f":"IF(BY15=1,IF($BZ$2=1,ROUND(AU15,0),IF($BZ$2=2,ROUND(AU15/272.7654,1),)),\"\")","v":315},{"$f":"IF(BY15=1,IF($BZ$2=1,AX15,IF($BZ$2=2,AX15*0.3346,)),\"\")","v":1.6285969093831283},{"$f":"K15","v":30},{"$f":"L15","v":46.4},{"$f":"BB15","v":12.8},{"$f":"DQ58","v":3.6}]
["1957010",null,null,1,95,70,10,11.5,0,26,30,41,877.5,1029.7403904507714,1104.2859635902939,1320.28,1.5,1.08,1.08,1.08,626,808,866,1035,54,69,74,89,1.4873046231448056E-2,2.3833508628602774E-2,2.7271158049938453E-2,3.8924960889446435E-2,3.969E-4,1.7345999999999999,2,3.6734700000000002E-4,142.7603849699376,153.09517888293954,183.04,0.98,0.98,0.98,143,153,183,61,66,79,1.8801217016227327E-2,2.1878764945327631E-2,3.093277823234393E-2,0.5,5.5,5.9,7.9,null,975,null,0.9,null,null,0,13.2,15.1,21.85,null,1,1,1,143,153,183,null,0,0,0,1,null,null,null,null,null,null,null,null,null,null,null,null,null,null,1,0.9,0.68,0.8,0.68,0.8,0.8,{"$f":"IF(#REF!/#REF!>data!CN$61,0,IF(#REF!/#REF!=data!CN$61,data!CO$61,IF(#REF!/#REF!>data!CN$62,data!CO$62,IF(#REF!/#REF!>data!CN$63,data!CO$63,IF(#REF!/#REF!>data!CN$64,data!CO$64,IF(#REF!/#REF!>data!CN$65,data!CO$65,IF(#REF!/#REF!>data!CN$66,data!CO$66,IF(#REF!/#REF!=data!CN$66,1,))))))))","v":{"$error":"#REF!"}},"T10",null,null,null,null,null,null,null,null,null,{"$f":"DF58","v":180},{"$f":"BM15","v":21.85},{"$f":"ROUND(IF($BZ$2=1,X15,IF($BZ$2=2,X15*3.412141633,)),0)","v":5755},{"$f":"IF($BZ$2=1,ROUND(AB15,0),IF($BZ$2=2,ROUND(AB15/272.7654,1),))","v":495},{"$f":"IF($BZ$2=1,AF15,IF($BZ$2=2,AF15*0.3346,))","v":3.9422156930022778},{"$f":"IF(BY15=1,ROUND(IF($BZ$2=1,AS15,IF($BZ$2=2,AS15*3.412141633,)),0),\"\")","v":1045},{"$f":"IF(BY15=1,IF($BZ$2=1,ROUND(AV15,0),IF($BZ$2=2,ROUND(AV15/272.7654,1),)),\"\")","v":449},{"$f":"IF(BY15=1,IF($BZ$2=1,AY15,IF($BZ$2=2,AY15*0.3346,)),\"\")","v":3.2569852229594378},{"$f":"L15","v":46.4},{"$f":"DN61+8","v":54.4},{"$f":"BC15","v":19.600000000000001},{"$f":"DQ58","v":3.6}]
["1357011",null,null,1,35,70,11,11.5,0,26,30,41,569.16000000000008,1397.1861540381678,1498.3320774196782,1791.4,1.5,1.1000000000000001,1.1000000000000001,1.1000000000000001,406,1091,1170,1399,35,94,101,120,1.1018932661587426E-2,7.2618348923691595E-2,8.3337593553421352E-2,0.11600499755813,3.969E-4,1.7345999999999999,4,5.7428799999999995E-4,234.01347195356249,250.95431311209123,300.04000000000002,0.95,0.95,0.95,234,251,300,101,108,129,8.3337593553421352E-2,9.4767092758545599E-2,0.13329019125147809,0.9,5.5,5.9,7.9,null,837,null,0.68,null,null,0,13.2,15.1,21.85,null,1,1,1,234,251,300,null,0,0,0,1,null,null,null,null,null,null,null,null,null,null,null,null,null,null,0.8,{"$f":"CO$66-((CO$66-CO$61)*$CN62)","v":0.92},{"$f":"CP$66-((CP$66-CP$61)*$CN62)","v":0.74399999999999999},0.84000000000000008,0.74399999999999999,0.84000000000000008,0.84000000000000008,{"$f":"IF(#REF!/#REF!>data!CN$61,0,IF(#REF!/#REF!=data!CN$61,data!CP$61,IF(#REF!/#REF!>data!CN$62,data!CP$62,IF(#REF!/#REF!>data!CN$63,data!CP$63,IF(#REF!/#REF!>data!CN$64,data!CP$64,IF(#REF!/#REF!>data!CN$65,data!CP$65,IF(#REF!/#REF!>data!CN$66,data!CP$66,IF(#REF!/#REF!=data!CN$66,1,))))))))","v":{"$error":"#REF!"}},"T11",null,null,null,null,null,null,null,null,null,200,{"$f":"BJ16","v":0},{"$f":"ROUND(IF($BZ$2=1,U16,IF($BZ$2=2,U16*3.412141633,)),0)","v":1842},{"$f":"IF($BZ$2=1,ROUND(Y16,0),IF($BZ$2=2,ROUND(Y16/272.7654,1),))","v":158},{"$f":"IF($BZ$2=1,AC16,IF($BZ$2=2,AC16*0.3346,))","v":0.43429242128316042},null,null,null,0,0,0,{"$f":"IF($BZ$2=1,AZ16,IF($BZ$2=2,AZ16/4.54609,))","v":4}]
["1507011",null,null,1,50,70,11,11.5,0,26,30,41,659.6,1397.1861540381678,1498.3320774196782,1791.4,1.5,1.1000000000000001,1.1000000000000001,1.1000000000000001,471,1091,1170,1399,41,94,101,120,1.4887918265162441E-2,7.2618348923691595E-2,8.3337593553421352E-2,0.11600499755813,3.969E-4,1.7345999999999999,4,5.7428799999999995E-4,234.01347195356249,250.95431311209123,300.04000000000002,0.95,0.95,0.95,234,251,300,101,108,129,8.3337593553421352E-2,9.4767092758545599E-2,0.13329019125147809,0.9,5.5,5.9,7.9,null,970,null,0.68,null,null,0,13.2,15.1,21.85,null,1,1,1,234,251,300,null,0,0,0,1,null,null,null,null,null,null,null,null,null,null,null,null,null,null,0.6,{"$f":"CO$66-((CO$66-CO$61)*$CN63)","v":0.94000000000000006},0.80800000000000005,0.88,0.80800000000000005,0.88,0.88,{"$f":"IF(#REF!/#REF!>data!CN$61,0,IF(#REF!/#REF!=data!CN$61,data!CQ$61,IF(#REF!/#REF!>data!CN$62,data!CQ$62,IF(#REF!/#REF!>data!CN$63,data!CQ$63,IF(#REF!/#REF!>data!CN$64,data!CQ$64,IF(#REF!/#REF!>data!CN$65,data!CQ$65,IF(#REF!/#REF!>data!CN$66,data!CQ$66,IF(#REF!/#REF!=data!CN$66,1,))))))))","v":{"$error":"#REF!"}},"T15",null,null,null,null,null,null,null,null,null,{"$f":"DF62","v":200},{"$f":"BK16","v":10},{"$f":"ROUND(IF($BZ$2=1,V16,IF($BZ$2=2,V16*3.412141633,)),0)","v":4424},{"$f":"IF($BZ$2=1,ROUND(Z16,0),IF($BZ$2=2,ROUND(Z16/272.7654,1),))","v":380},{"$f":"IF($BZ$2=1,AD16,IF($BZ$2=2,AD16*0.3346,))","v":2.3956910473507516},{"$f":"IF(BY16=1,ROUND(IF($BZ$2=1,AQ16,IF($BZ$2=2,AQ16*3.412141633,)),0),\"\")","v":868},{"$f":"IF(BY16=1,IF($BZ$2=1,ROUND(AT16,0),IF($BZ$2=2,ROUND(AT16/272.7654,1),)),\"\")","v":373},{"$f":"IF(BY16=1,IF($BZ$2=1,AW16,IF($BZ$2=2,AW16*0.3346,)),\"\")","v":2.3103470177002245},{"$f":"J16","v":26},{"$f":"DN63+8","v":34},{"$f":"BA16","v":13.2},{"$f":"DQ62","v":4}]
["1657011",null,null,1,65,70,11,11.5,0,26,30,41,734.40000000000009,1397.1861540381678,1498.3320774196782,1791.4,1.5,1.1000000000000001,1.1000000000000001,1.1000000000000001,524,1091,1170,1399,45,94,101,120,1.7775037160540595E-2,7.2618348923691595E-2,8.3337593553421352E-2,0.11600499755813,3.969E-4,1.7345999999999999,4,5.7428799999999995E-4,{"$f":"AK63*(1-(($E64-50)*0.005))","v":216.46246155704532},{"$f":"AL63*(1-(($E64-50)*0.005))","v":232.13273962868439},{"$f":"AM63*(1-(($E64-50)*0.005))","v":277.53700000000003},0.95,0.95,0.95,216,232,278,93,100,120,7.1145182973201465E-2,8.1762719577362683E-2,0.11600499755813,0.9,5.5,5.9,7.9,null,1080,null,0.68,null,null,0,13.2,15.1,21.85,null,1,1,1,216,232,278,null,0,0,0,1,null,null,null,null,null,null,null,null,null,null,null,null,null,null,0.4,0.96,0.872,0.92,0.872,0.92,0.92,{"$f":"IF(#REF!/#REF!>data!CN$61,0,IF(#REF!/#REF!=data!CN$61,data!CR$61,IF(#REF!/#REF!>data!CN$62,data!CR$62,IF(#REF!/#REF!>data!CN$63,data!CR$63,IF(#REF!/#REF!>data!CN$64,data!CR$64,IF(#REF!/#REF!>data!CN$65,data!CR$65,IF(#REF!/#REF!>data!CN$66,data!CR$66,IF(#REF!/#REF!=data!CN$66,1,))))))))","v":{"$error":"#REF!"}},"T16",null,null,null,null,null,null,null,null,null,{"$f":"DF62","v":200},{"$f":"BL16","v":11.4},{"$f":"ROUND(IF($BZ$2=1,W16,IF($BZ$2=2,W16*3.412141633,)),0)","v":4662},{"$f":"IF($BZ$2=1,ROUND(AA16,0),IF($BZ$2=2,ROUND(AA16/272.7654,1),))","v":401},{"$f":"IF($BZ$2=1,AE16,IF($BZ$2=2,AE16*0.3346,))","v":2.6608247339246818},{"$f":"IF(BY16=1,ROUND(IF($BZ$2=1,AR16,IF($BZ$2=2,AR16*3.412141633,)),0),\"\")","v":914},{"$f":"IF(BY16=1,IF($BZ$2=1,ROUND(AU16,0),IF($BZ$2=2,ROUND(AU16/272.7654,1),)),\"\")","v":393},{"$f":"IF(BY16=1,IF($BZ$2=1,AX16,IF($BZ$2=2,AX16*0.3346,)),\"\")","v":2.5582125224157561},{"$f":"K16","v":30},{"$f":"L16","v":47.1},{"$f":"BB16","v":14.7},{"$f":"DQ62","v":4}]
["1957011",null,null,1,95,70,11,11.5,0,26,30,41,854.7600000000001,1397.1861540381678,1498.3320774196782,1791.4,1.5,1.1000000000000001,1.1000000000000001,1.1000000000000001,610,1091,1170,1399,52,94,101,120,2.34145388387E-2,7.2618348923691595E-2,8.3337593553421352E-2,0.11600499755813,3.969E-4,1.7345999999999999,4,5.7428799999999995E-4,{"$f":"AK63*(1-(($E65-50)*0.005))","v":181.36044076401095},{"$f":"AL63*(1-(($E65-50)*0.005))","v":194.48959266187072},{"$f":"AM63*(1-(($E65-50)*0.005))","v":232.53100000000003},0.95,0.95,0.95,181,194,233,78,83,100,5.0801228522024011E-2,5.7216283096821793E-2,8.1762719577362683E-2,0.9,5.5,5.9,7.9,null,1257,null,0.68,null,null,0,13.2,15.1,21.85,null,1,1,1,181,194,233,null,0,0,0,1,null,null,null,null,null,null,null,null,null,null,null,null,null,null,0.2,0.98,0.93600000000000005,0.96,0.93600000000000005,0.96,0.96,{"$f":"IF(#REF!/#REF!>data!CN$61,0,IF(#REF!/#REF!=data!CN$61,data!CS$61,IF(#REF!/#REF!>data!CN$62,data!CS$62,IF(#REF!/#REF!>data!CN$63,data!CS$63,IF(#REF!/#REF!>data!CN$64,data!CS$64,IF(#REF!/#REF!>data!CN$65,data!CS$65,IF(#REF!/#REF!>data!CN$66,data!CS$66,IF(#REF!/#REF!=data!CN$66,1,))))))))","v":{"$error":"#REF!"}},"T20",null,null,null,null,null,null,null,null,null,{"$f":"DF62","v":200},{"$f":"BM16","v":21.85},{"$f":"ROUND(IF($BZ$2=1,X16,IF($BZ$2=2,X16*3.412141633,)),0)","v":6728},{"$f":"IF($BZ$2=1,ROUND(AB16,0),IF($BZ$2=2,ROUND(AB16/272.7654,1),))","v":579},{"$f":"IF($BZ$2=1,AF16,IF($BZ$2=2,AF16*0.3346,))","v":5.453670256932595},{"$f":"IF(BY16=1,ROUND(IF($BZ$2=1,AS16,IF($BZ$2=2,AS16*3.412141633,)),0),\"\")","v":1320},{"$f":"IF(BY16=1,IF($BZ$2=1,ROUND(AV16,0),IF($BZ$2=2,ROUND(AV16/272.7654,1),)),\"\")","v":568},{"$f":"IF(BY16=1,IF($BZ$2=1,AY16,IF($BZ$2=2,AY16*0.3346,)),\"\")","v":5.2529022162438315},{"$f":"L16","v":47.1},{"$f":"DN65+8","v":55.1},{"$f":"BC16","v":23.5},{"$f":"DQ62","v":4}]
["1357015",null,null,1,35,70,15,16.5,0,26,30,41.1,823.2,1070.8273541699666,1149.5094620994566,1521.41,1.5,1.08,1.08,1.08,587,840,901,1193,50,72,77,103,1.3242532573726134E-2,2.7077000311869458E-2,3.0892373713348693E-2,5.4716713303803698E-2,2.0829999999999999E-4,1.724,2,4.6182900000000003E-4,135.09481491470635,145.02129350758159,191.94,1.01,1.01,1.01,135,145,192,58,62,83,1.7715040719154605E-2,2.0190861450308E-2,3.5797696205080359E-2,0.7,5.0999999999999996,5.6,7.2,null,1029,null,0.8,null,null,0,12.3,14.4,21.85,null,1,1,1,135,145,192,null,0,0,0,1,null,null,null,null,null,null,null,null,null,null,null,null,null,null,0,1,1,1,1,1,1,{"$f":"IF(#REF!/#REF!>data!CN$61,0,IF(#REF!/#REF!=data!CN$61,data!CT$61,IF(#REF!/#REF!>data!CN$62,data!CT$62,IF(#REF!/#REF!>data!CN$63,data!CT$63,IF(#REF!/#REF!>data!CN$64,data!CT$64,IF(#REF!/#REF!>data!CN$65,data!CT$65,IF(#REF!/#REF!>data!CN$66,data!CT$66,IF(#REF!/#REF!=data!CN$66,1,))))))))","v":{"$error":"#REF!"}},"T21",null,null,null,null,null,null,null,null,null,220,{"$f":"BJ17","v":0},{"$f":"ROUND(IF($BZ$2=1,U17,IF($BZ$2=2,U17*3.412141633,)),0)","v":1890},{"$f":"IF($BZ$2=1,ROUND(Y17,0),IF($BZ$2=2,ROUND(Y17/272.7654,1),))","v":163},{"$f":"IF($BZ$2=1,AC17,IF($BZ$2=2,AC17*0.3346,))","v":0.4719986864273768},null,null,null,0,0,0,{"$f":"IF($BZ$2=1,AZ17,IF($BZ$2=2,AZ17/4.54609,))","v":4.4000000000000004}]
["1507015",null,null,1,50,70,15,16.5,0,26,30,41.1,975.82735416996661,1070.8273541699666,1149.5094620994566,1521.41,1.5,1.08,1.08,1.08,696,840,901,1193,60,72,77,103,1.8933016885219214E-2,2.7077000311869458E-2,3.0892373713348693E-2,5.4716713303803698E-2,2.0829999999999999E-4,1.724,2,4.6182900000000003E-4,135.09481491470635,145.02129350758159,191.94,1.01,1.01,1.01,135,145,192,58,62,83,1.7715040719154605E-2,2.0190861450308E-2,3.5797696205080359E-2,0.7,5.0999999999999996,5.6,7.2,null,1214,null,0.8,null,null,0,12.3,14.4,21.85,null,1,1,1,135,145,192,null,0,0,0,1,null,null,null,null,null,null,null,null,null,null,null,null,null,null,null,null,null,null,null,null,null,null,null,null,null,null,null,null,null,null,null,null,{"$f":"DF66","v":220},{"$f":"BK17","v":10},{"$f":"ROUND(IF($BZ$2=1,V17,IF($BZ$2=2,V17*3.412141633,)),0)","v":4912},{"$f":"IF($BZ$2=1,ROUND(Z17,0),IF($BZ$2=2,ROUND(Z17/272.7654,1),))","v":422},{"$f":"IF($BZ$2=1,AD17,IF($BZ$2=2,AD17*0.3346,))","v":2.9944257157555945},{"$f":"IF(BY17=1,ROUND(IF($BZ$2=1,AQ17,IF($BZ$2=2,AQ17*3.412141633,)),0),\"\")","v":963},{"$f":"IF(BY17=1,IF($BZ$2=1,ROUND(AT17,0),IF($BZ$2=2,ROUND(AT17/272.7654,1),)),\"\")","v":414},{"$f":"IF(BY17=1,IF($BZ$2=1,AW17,IF($BZ$2=2,AW17*0.3346,)),\"\")","v":2.8848425296225417},{"$f":"J17","v":26},{"$f":"DN67+8","v":34},{"$f":"BA17","v":15.5},{"$f":"DQ66","v":4.4000000000000004}]
["1657015",null,null,1,65,70,15,16.5,0,26,30,41.1,975.82735416996661,1070.8273541699666,1149.5094620994566,1521.41,1.5,1.08,1.08,1.08,696,840,901,1193,60,72,77,103,1.8933016885219214E-2,2.7077000311869458E-2,3.0892373713348693E-2,5.4716713303803698E-2,2.0829999999999999E-4,1.724,2,4.6182900000000003E-4,135.09481491470635,145.02129350758159,191.94,1.01,1.01,1.01,135,145,192,58,62,83,1.7715040719154605E-2,2.0190861450308E-2,3.5797696205080359E-2,0.7,5.0999999999999996,5.6,7.2,null,1345,null,0.8,null,null,0,12.3,14.4,21.85,null,1,1,1,135,145,192,null,0,0,0,1,null,null,null,null,null,null,null,null,null,null,null,null,null,null,null,null,null,null,null,null,null,null,null,null,null,null,null,null,null,null,null,null,{"$f":"DF66","v":220},{"$f":"BL17","v":11.1},{"$f":"ROUND(IF($BZ$2=1,W17,IF($BZ$2=2,W17*3.412141633,)),0)","v":5117},{"$f":"IF($BZ$2=1,ROUND(AA17,0),IF($BZ$2=2,ROUND(AA17/272.7654,1),))","v":440},{"$f":"IF($BZ$2=1,AE17,IF($BZ$2=2,AE17*0.3346,))","v":3.2482983187702561},{"$f":"IF(BY17=1,ROUND(IF($BZ$2=1,AR17,IF($BZ$2=2,AR17*3.412141633,)),0),\"\")","v":1003},{"$f":"IF(BY17=1,IF($BZ$2=1,ROUND(AU17,0),IF($BZ$2=2,ROUND(AU17/272.7654,1),)),\"\")","v":431},{"$f":"IF(BY17=1,IF($BZ$2=1,AX17,IF($BZ$2=2,AX17*0.3346,)),\"\")","v":3.1200973344986664},{"$f":"K17","v":30},{"$f":"L17","v":47.8},{"$f":"BB17","v":16.8},{"$f":"DQ66","v":4.4000000000000004}]
["1957015",null,null,1,95,70,15,16.5,0,26,30,41.1,975.82735416996661,1070.8273541699666,1149.5094620994566,1521.41,1.5,1.08,1.08,1.08,696,840,901,1193,60,72,77,103,1.8933016885219214E-2,2.7077000311869458E-2,3.0892373713348693E-2,5.4716713303803698E-2,2.0829999999999999E-4,1.724,2,4.6182900000000003E-4,135.09481491470635,145.02129350758159,191.94,1.01,1.01,1.01,135,145,192,58,62,83,1.7715040719154605E-2,2.0190861450308E-2,3.5797696205080359E-2,0.7,5.0999999999999996,5.6,7.2,null,1502,null,0.8,null,null,0,12.3,14.4,21.85,null,1,1,1,135,145,192,null,0,0,0,1,null,null,null,null,null,null,null,null,null,null,null,null,null,null,null,null,null,null,null,null,null,null,null,null,null,null,null,null,null,null,null,null,{"$f":"DF66","v":220},{"$f":"BM17","v":21.85},{"$f":"ROUND(IF($BZ$2=1,X17,IF($BZ$2=2,X17*3.412141633,)),0)","v":7467},{"$f":"IF($BZ$2=1,ROUND(AB17,0),IF($BZ$2=2,ROUND(AB17/272.7654,1),))","v":642},{"$f":"IF($BZ$2=1,AF17,IF($BZ$2=2,AF17*0.3346,))","v":6.7877453647142758},{"$f":"IF(BY17=1,ROUND(IF($BZ$2=1,AS17,IF($BZ$2=2,AS17*3.412141633,)),0),\"\")","v":1465},{"$f":"IF(BY17=1,IF($BZ$2=1,ROUND(AV17,0),IF($BZ$2=2,ROUND(AV17/272.7654,1),)),\"\")","v":630},{"$f":"IF(BY17=1,IF($BZ$2=1,AY17,IF($BZ$2=2,AY17*0.3346,)),\"\")","v":6.542211558205909},{"$f":"L17","v":47.8},{"$f":"DN69+8","v":55.8},{"$f":"BC17","v":27.5},{"$f":"DQ66","v":4.4000000000000004}]
["1357016",null,null,1,35,70,16,16.5,0,26,30,41.1,758.2,1627.62717250317,1747.2217424001376,2312.5,1.5,1.1000000000000001,1.1000000000000001,1.1000000000000001,541,1271,1364,1805,47,109,117,155,3.3616874218939947E-2,0.17694509326691635,0.20354226765780917,0.35504012904622118,2.0829999999999999E-4,1.724,4,1.392796E-3,219.59769851718443,235.73326859625641,312,0.95,0.95,0.95,220,236,312,95,101,134,0.1348444213322838,0.1521944098151945,0.26618360536544905,1.4,5.0999999999999996,5.6,7.2,null,1115,null,0.68,null,null,0,12.3,14.4,21.85,null,1,1,1,220,236,312,null,0,0,0,1,null,null,null,null,null,null,null,null,null,null,null,null,null,null,"Lengths","Calculation factors for lower fan settings",null,null,null,null,null,null,null,null,null,null,null,null,null,null,null,null,240,{"$f":"BJ18","v":0},{"$f":"ROUND(IF($BZ$2=1,U18,IF($BZ$2=2,U18*3.412141633,)),0)","v":2210},{"$f":"IF($BZ$2=1,ROUND(Y18,0),IF($BZ$2=2,ROUND(Y18/272.7654,1),))","v":190},{"$f":"IF($BZ$2=1,AC18,IF($BZ$2=2,AC18*0.3346,))","v":0.64901697730759178},null,null,null,0,0,0,{"$f":"IF($BZ$2=1,AZ18,IF($BZ$2=2,AZ18/4.54609,))","v":4.8}]
["1507016",null,null,1,50,70,16,16.5,0,26,30,41.1,903.72,1627.62717250317,1747.2217424001376,2312.5,1.5,1.1000000000000001,1.1000000000000001,1.1000000000000001,645,1271,1364,1805,55,109,117,155,4.5833406894825762E-2,0.17694509326691635,0.20354226765780917,0.35504012904622118,2.0829999999999999E-4,1.724,4,1.392796E-3,219.59769851718443,235.73326859625641,312,0.95,0.95,0.95,220,236,312,95,101,134,0.1348444213322838,0.1521944098151945,0.26618360536544905,1.4,5.0999999999999996,5.6,7.2,null,1329,null,0.68,null,null,0,12.3,14.4,21.85,null,1,1,1,220,236,312,null,0,0,0,1,null,null,null,null,null,null,null,null,null,null,null,null,null,null,null,"T10",null,"T11",null,"T15",null,"T16",null,"T20",null,"T21",null,null,null,null,null,null,{"$f":"DF70","v":240},{"$f":"BK18","v":10},{"$f":"ROUND(IF($BZ$2=1,V18,IF($BZ$2=2,V18*3.412141633,)),0)","v":5400},{"$f":"IF($BZ$2=1,ROUND(Z18,0),IF($BZ$2=2,ROUND(Z18/272.7654,1),))","v":464},{"$f":"IF($BZ$2=1,AD18,IF($BZ$2=2,AD18*0.3346,))","v":3.667097444714627},{"$f":"IF(BY18=1,ROUND(IF($BZ$2=1,AQ18,IF($BZ$2=2,AQ18*3.412141633,)),0),\"\")","v":1059},{"$f":"IF(BY18=1,IF($BZ$2=1,ROUND(AT18,0),IF($BZ$2=2,ROUND(AT18/272.7654,1),)),\"\")","v":455},{"$f":"IF(BY18=1,IF($BZ$2=1,AW18,IF($BZ$2=2,AW18*0.3346,)),\"\")","v":3.5300159430065703},{"$f":"J18","v":26},{"$f":"DN71+8","v":34},{"$f":"BA18","v":16.399999999999999},{"$f":"DQ70","v":4.8}]
["1657016",null,null,1,65,70,16,16.5,0,26,30,41.1,1034.28,1627.62717250317,1747.2217424001376,2312.5,1.5,1.1000000000000001,1.1000000000000001,1.1000000000000001,738,1271,1364,1805,63,109,117,155,5.9917133515480614E-2,0.17694509326691635,0.20354226765780917,0.35504012904622118,2.0829999999999999E-4,1.724,4,1.392796E-3,{"$f":"AK71*(1-(($E72-50)*0.005))","v":203.12787112839561},{"$f":"AL71*(1-(($E72-50)*0.005))","v":218.05327345153719},{"$f":"AM71*(1-(($E72-50)*0.005))","v":288.60000000000002},0.95,0.95,0.95,203,218,289,87,94,124,0.11333032140726006,0.13205391903673999,0.22832797696070714,1.4,5.0999999999999996,5.6,7.2,null,1521,null,0.68,null,null,0,12.3,14.4,21.85,null,1,1,1,203,218,289,null,0,0,0,1,null,null,null,null,null,null,null,null,null,null,null,null,null,null,null,"S2","S1","S2","S1","S2","S1","S2","S1","S2","S1","S2","S1",null,null,null,null,null,{"$f":"DF70","v":240},{"$f":"BL18","v":10.9},{"$f":"ROUND(IF($BZ$2=1,W18,IF($BZ$2=2,W18*3.412141633,)),0)","v":5596},{"$f":"IF($BZ$2=1,ROUND(AA18,0),IF($BZ$2=2,ROUND(AA18/272.7654,1),))","v":481},{"$f":"IF($BZ$2=1,AE18,IF($BZ$2=2,AE18*0.3346,))","v":3.9329940571020581},{"$f":"IF(BY18=1,ROUND(IF($BZ$2=1,AR18,IF($BZ$2=2,AR18*3.412141633,)),0),\"\")","v":1098},{"$f":"IF(BY18=1,IF($BZ$2=1,ROUND(AU18,0),IF($BZ$2=2,ROUND(AU18/272.7654,1),)),\"\")","v":472},{"$f":"IF(BY18=1,IF($BZ$2=1,AX18,IF($BZ$2=2,AX18*0.3346,)),\"\")","v":3.7910912175214273},{"$f":"K18","v":30},{"$f":"L18","v":48.1},{"$f":"BB18","v":17.7},{"$f":"DQ70","v":4.8}]
["1957016",null,null,1,95,70,16,16.5,0,26,30,41.1,1274.3200000000002,1627.62717250317,1747.2217424001376,2312.5,1.5,1.1000000000000001,1.1000000000000001,1.1000000000000001,909,1271,1364,1805,78,109,117,155,9.1341867693011378E-2,0.17694509326691635,0.20354226765780917,0.35504012904622118,2.0829999999999999E-4,1.724,4,1.392796E-3,{"$f":"AK71*(1-(($E73-50)*0.005))","v":170.18821635081792},{"$f":"AL71*(1-(($E73-50)*0.005))","v":182.69328316209871},{"$f":"AM71*(1-(($E73-50)*0.005))","v":241.8},0.95,0.95,0.95,170,183,242,73,79,104,8.0140844201789879E-2,9.3669101170786917E-2,0.16125940069017777,1.4,5.0999999999999996,5.6,7.2,null,1874,null,0.68,null,null,0,12.3,14.4,21.85,null,1,1,1,170,183,242,null,0,0,0,1,null,null,null,null,null,null,null,null,null,null,null,null,null,null,50,0.85518696133680483,0.79918429718355943,0.85518696133680483,0.79918429718355943,null,null,null,null,null,null,null,null,null,null,null,null,null,{"$f":"DF70","v":240},{"$f":"BM18","v":21.85},{"$f":"ROUND(IF($BZ$2=1,X18,IF($BZ$2=2,X18*3.412141633,)),0)","v":8207},{"$f":"IF($BZ$2=1,ROUND(AB18,0),IF($BZ$2=2,ROUND(AB18/272.7654,1),))","v":706},{"$f":"IF($BZ$2=1,AF18,IF($BZ$2=2,AF18*0.3346,))","v":8.3052967253826289},{"$f":"IF(BY18=1,ROUND(IF($BZ$2=1,AS18,IF($BZ$2=2,AS18*3.412141633,)),0),\"\")","v":1610},{"$f":"IF(BY18=1,IF($BZ$2=1,ROUND(AV18,0),IF($BZ$2=2,ROUND(AV18/272.7654,1),)),\"\")","v":692},{"$f":"IF(BY18=1,IF($BZ$2=1,AY18,IF($BZ$2=2,AY18*0.3346,)),\"\")","v":7.987173009623401},{"$f":"L18","v":48.1},{"$f":"DN73+8","v":56.1},{"$f":"BC18","v":29.7},{"$f":"DQ70","v":4.8}]
["1357020",null,null,1,35,70,20,21.5,0,26,30,41.1,1153.6000000000001,1509.840819712653,1619.1421060355642,1935.84,1.5,1.08,1.08,1.08,823,1184,1270,1518,71,102,109,131,2.0747477444294889E-2,4.2396471925119035E-2,4.8331778986334215E-2,6.9488117345007913E-2,1.2760000000000001E-4,1.7219,2,3.76611E-4,170.52628152222005,182.87112058001478,218.64000000000001,0.95,0.95,0.95,171,183,219,74,79,94,2.2511197833279682E-2,2.5608782122359248E-2,3.6084845824600094E-2,0.9,5.0999999999999996,5.6,7.2,null,1442,null,0.8,null,null,0,12.3,14.4,21.85,null,1,1,1,171,183,219,null,0,0,0,1,null,null,null,null,null,null,null,null,null,null,null,null,null,null,60,0.8452517014716241,0.78929861482598995,0.8452517014716241,0.78929861482598995,0.75555534806492441,0.70383877729866806,0.75555534806492441,0.70383877729866806,0.8452517014716241,0.78929861482598995,0.75555534806492441,0.70383877729866806,null,null,null,null,null,260,{"$f":"BJ19","v":0},{"$f":"ROUND(IF($BZ$2=1,U19,IF($BZ$2=2,U19*3.412141633,)),0)","v":2289},{"$f":"IF($BZ$2=1,ROUND(Y19,0),IF($BZ$2=2,ROUND(Y19/272.7654,1),))","v":197},{"$f":"IF($BZ$2=1,AC19,IF($BZ$2=2,AC19*0.3346,))","v":0.71079667180110884},null,null,null,0,0,0,{"$f":"IF($BZ$2=1,AZ19,IF($BZ$2=2,AZ19/4.54609,))","v":5.2}]
["1507020",null,null,1,50,70,20,21.5,0,26,30,41.1,1358.4,1509.840819712653,1619.1421060355642,1935.84,1.5,1.08,1.08,1.08,969,1184,1270,1518,83,102,109,131,2.8228959829713119E-2,4.2396471925119035E-2,4.8331778986334215E-2,6.9488117345007913E-2,1.2760000000000001E-4,1.7219,2,3.76611E-4,170.52628152222005,182.87112058001478,218.64000000000001,0.95,0.95,0.95,171,183,219,74,79,94,2.2511197833279682E-2,2.5608782122359248E-2,3.6084845824600094E-2,0.9,5.0999999999999996,5.6,7.2,null,1698,null,0.8,null,null,0,12.3,14.4,21.85,null,1,1,1,171,183,219,null,0,0,0,1,null,null,null,null,null,null,null,null,null,null,null,null,null,null,70,0.83640285665941616,0.77994091438995627,0.83640285665941616,0.77994091438995627,0.75555534806492441,0.70383877729866806,0.75555534806492441,0.70383877729866806,0.83640285665941616,0.77994091438995627,0.75555534806492441,0.70383877729866806,null,null,null,null,null,{"$f":"DF74","v":260},{"$f":"BK19","v":10},{"$f":"ROUND(IF($BZ$2=1,V19,IF($BZ$2=2,V19*3.412141633,)),0)","v":5732},{"$f":"IF($BZ$2=1,ROUND(Z19,0),IF($BZ$2=2,ROUND(Z19/272.7654,1),))","v":493},{"$f":"IF($BZ$2=1,AD19,IF($BZ$2=2,AD19*0.3346,))","v":4.1978564997308982},{"$f":"IF(BY19=1,ROUND(IF($BZ$2=1,AQ19,IF($BZ$2=2,AQ19*3.412141633,)),0),\"\")","v":1069},{"$f":"IF(BY19=1,IF($BZ$2=1,ROUND(AT19,0),IF($BZ$2=2,ROUND(AT19/272.7654,1),)),\"\")","v":460},{"$f":"IF(BY19=1,IF($BZ$2=1,AW19,IF($BZ$2=2,AW19*0.3346,)),\"\")","v":3.66947790801381},{"$f":"J19","v":26},{"$f":"DN75+8","v":34},{"$f":"BA19","v":16.399999999999999},{"$f":"DQ74","v":5.2}]
["1657020",null,null,1,65,70,20,21.5,0,26,30,41.1,1414.840819712653,1509.840819712653,1619.1421060355642,1935.84,1.5,1.08,1.08,1.08,1010,1184,1270,1518,87,102,109,131,3.0975335955806562E-2,4.2396471925119035E-2,4.8331778986334215E-2,6.9488117345007913E-2,1.2760000000000001E-4,1.7219,2,3.76611E-4,170.52628152222005,182.87112058001478,218.64000000000001,0.95,0.95,0.95,171,183,219,74,79,94,2.2511197833279682E-2,2.5608782122359248E-2,3.6084845824600094E-2,0.9,5.0999999999999996,5.6,7.2,null,1880,null,0.8,null,null,0,12.3,14.4,21.85,null,1,1,1,171,183,219,null,0,0,0,1,null,null,null,null,null,null,null,null,null,null,null,null,null,null,80,0.82845886137907021,0.77133936020072458,0.82845886137907021,0.77133936020072458,0.74531089933631789,0.69504144552059222,0.74531089933631789,0.69504144552059222,0.82845886137907021,0.77133936020072458,0.74531089933631789,0.69504144552059222,null,null,null,null,null,{"$f":"DF74","v":260},{"$f":"BL19","v":10.9},{"$f":"ROUND(IF($BZ$2=1,W19,IF($BZ$2=2,W19*3.412141633,)),0)","v":5941},{"$f":"IF($BZ$2=1,ROUND(AA19,0),IF($BZ$2=2,ROUND(AA19/272.7654,1),))","v":511},{"$f":"IF($BZ$2=1,AE19,IF($BZ$2=2,AE19*0.3346,))","v":4.5006744046263982},{"$f":"IF(BY19=1,ROUND(IF($BZ$2=1,AR19,IF($BZ$2=2,AR19*3.412141633,)),0),\"\")","v":1108},{"$f":"IF(BY19=1,IF($BZ$2=1,ROUND(AU19,0),IF($BZ$2=2,ROUND(AU19/272.7654,1),)),\"\")","v":476},{"$f":"IF(BY19=1,IF($BZ$2=1,AX19,IF($BZ$2=2,AX19*0.3346,)),\"\")","v":3.9213280612116019},{"$f":"K19","v":30},{"$f":"L19","v":48.1},{"$f":"BB19","v":17.7},{"$f":"DQ74","v":5.2}]
["1957020",null,null,1,95,70,20,21.5,0,26,30,41.1,1414.840819712653,1509.840819712653,1619.1421060355642,1935.84,1.5,1.08,1.08,1.08,1010,1184,1270,1518,87,102,109,131,3.0975335955806562E-2,4.2396471925119035E-2,4.8331778986334215E-2,6.9488117345007913E-2,1.2760000000000001E-4,1.7219,2,3.76611E-4,170.52628152222005,182.87112058001478,218.64000000000001,0.95,0.95,0.95,171,183,219,74,79,94,2.2511197833279682E-2,2.5608782122359248E-2,3.6084845824600094E-2,0.9,5.0999999999999996,5.6,7.2,null,2094,null,0.8,null,null,0,12.3,14.4,21.85,null,1,1,1,171,183,219,null,0,0,0,1,null,null,null,null,null,null,null,null,null,null,null,null,null,null,90,0.8212441545440573,0.76343880970753542,0.8212441545440573,0.76343880970753542,0.73429802939744349,0.68540112539231846,0.73429802939744349,0.68540112539231846,0.8212441545440573,0.76343880970753542,0.73429802939744349,0.68540112539231846,null,null,null,null,null,{"$f":"DF74","v":260},{"$f":"BM19","v":21.85},{"$f":"ROUND(IF($BZ$2=1,X19,IF($BZ$2=2,X19*3.412141633,)),0)","v":8712},{"$f":"IF($BZ$2=1,ROUND(AB19,0),IF($BZ$2=2,ROUND(AB19/272.7654,1),))","v":749},{"$f":"IF($BZ$2=1,AF19,IF($BZ$2=2,AF19*0.3346,))","v":9.4678767911138362},{"$f":"IF(BY19=1,ROUND(IF($BZ$2=1,AS19,IF($BZ$2=2,AS19*3.412141633,)),0),\"\")","v":1625},{"$f":"IF(BY19=1,IF($BZ$2=1,ROUND(AV19,0),IF($BZ$2=2,ROUND(AV19/272.7654,1),)),\"\")","v":699},{"$f":"IF(BY19=1,IF($BZ$2=1,AY19,IF($BZ$2=2,AY19*0.3346,)),\"\")","v":8.2763568685468254},{"$f":"L19","v":48.1},{"$f":"DN77+8","v":56.1},{"$f":"BC19","v":29.7},{"$f":"DQ74","v":5.2}]
["1357021",null,null,1,35,70,21,21.5,0,26,30,41.1,1184,1977.8291945358951,2123.1558613833213,2810.06,1.5,1.05,1.05,1.05,845,1562,1676,2219,73,134,144,191,3.1348088715300731E-2,0.10327341364618195,0.11896980279584603,0.20738026513327959,1.2760000000000001E-4,1.7219,4,5.1420100000000005E-4,240.30463534531125,257.96170693632649,341.42,0.85,0.85,0.85,240,258,341,103,111,147,6.1591027996900249E-2,7.1335725011536941E-2,0.12389224890734116,1.9,5.0999999999999996,5.6,7.2,null,1480,null,0.8,null,null,0,12.3,14.4,21.85,null,1,1,1,240,258,341,null,0,0,0,1,null,null,null,null,null,null,null,null,null,null,null,null,null,null,100,0.81466996609637188,0.75619868948084668,0.81466996609637188,0.75619868948084668,0.72541359909535208,0.67746340042029107,0.72541359909535208,0.67746340042029107,0.81466996609637188,0.75619868948084668,0.72541359909535208,0.67746340042029107,null,null,null,null,null,280,{"$f":"BJ20","v":0},{"$f":"ROUND(IF($BZ$2=1,U20,IF($BZ$2=2,U20*3.412141633,)),0)","v":2578},{"$f":"IF($BZ$2=1,ROUND(Y20,0),IF($BZ$2=2,ROUND(Y20/272.7654,1),))","v":222},{"$f":"IF($BZ$2=1,AC20,IF($BZ$2=2,AC20*0.3346,))","v":0.9133083225181986},null,null,null,0,0,0,{"$f":"IF($BZ$2=1,AZ20,IF($BZ$2=2,AZ20/4.54609,))","v":5.6}]
["1507021",null,null,1,50,70,21,21.5,0,26,30,41.1,1445.6000000000001,1977.8291945358951,2123.1558613833213,2810.06,1.5,1.05,1.05,1.05,1031,1562,1676,2219,89,134,144,191,4.6237434215905163E-2,0.10327341364618195,0.11896980279584603,0.20738026513327959,1.2760000000000001E-4,1.7219,4,5.1420100000000005E-4,240.30463534531125,257.96170693632649,341.42,0.85,0.85,0.85,240,258,341,103,111,147,6.1591027996900249E-2,7.1335725011536941E-2,0.12389224890734116,1.9,5.0999999999999996,5.6,7.2,null,1807,null,0.8,null,null,0,12.3,14.4,21.85,null,1,1,1,240,258,341,null,0,0,0,1,null,null,null,null,null,null,null,null,null,null,null,null,null,null,110,0.81466996609637188,0.75619868948084668,0.81466996609637188,0.75619868948084668,0.72541359909535208,0.67746340042029107,0.72541359909535208,0.67746340042029107,0.81466996609637188,0.75619868948084668,0.72541359909535208,0.67746340042029107,null,null,null,null,null,{"$f":"DF78","v":280},{"$f":"BK20","v":10},{"$f":"ROUND(IF($BZ$2=1,V20,IF($BZ$2=2,V20*3.412141633,)),0)","v":6375},{"$f":"IF($BZ$2=1,ROUND(Z20,0),IF($BZ$2=2,ROUND(Z20/272.7654,1),))","v":548},{"$f":"IF($BZ$2=1,AD20,IF($BZ$2=2,AD20*0.3346,))","v":5.2414825003503225},{"$f":"IF(BY20=1,ROUND(IF($BZ$2=1,AQ20,IF($BZ$2=2,AQ20*3.412141633,)),0),\"\")","v":1250},{"$f":"IF(BY20=1,IF($BZ$2=1,ROUND(AT20,0),IF($BZ$2=2,ROUND(AT20/272.7654,1),)),\"\")","v":538},{"$f":"IF(BY20=1,IF($BZ$2=1,AW20,IF($BZ$2=2,AW20*0.3346,)),\"\")","v":5.0575445569651576},{"$f":"J20","v":26},{"$f":"DN79+8","v":34},{"$f":"BA20","v":19.3},{"$f":"DQ78","v":5.6}]
["1657021",null,null,1,65,70,21,21.5,0,26,30,41.1,1696.8000000000002,1977.8291945358951,2123.1558613833213,2810.06,1.5,1.05,1.05,1.05,1211,1562,1676,2219,104,134,144,191,6.2770533063879849E-2,0.10327341364618195,0.11896980279584603,0.20738026513327959,1.2760000000000001E-4,1.7219,4,5.1420100000000005E-4,{"$f":"AK79*(1-(($E80-50)*0.005))","v":222.28178769441291},{"$f":"AL79*(1-(($E80-50)*0.005))","v":238.614578916102},{"$f":"AM79*(1-(($E80-50)*0.005))","v":315.81350000000003},0.85,0.85,0.85,222,239,316,95,103,136,5.2552324258183389E-2,6.1591027996900249E-2,0.1063250388113887,1.9,5.0999999999999996,5.6,7.2,null,2121,null,0.8,null,null,0,12.3,14.4,21.85,null,1,1,1,222,239,316,null,0,0,0,1,null,null,null,null,null,null,null,null,null,null,null,null,null,null,120,0.80301038786259926,0.74330306539663082,0.80301038786259926,0.74330306539663082,0.71879122259285499,0.67122872584611504,0.71879122259285499,0.67122872584611504,0.80301038786259926,0.74330306539663082,0.71879122259285499,0.67122872584611504,null,null,null,null,null,{"$f":"DF78","v":280},{"$f":"BL20","v":10.6},{"$f":"ROUND(IF($BZ$2=1,W20,IF($BZ$2=2,W20*3.412141633,)),0)","v":6518},{"$f":"IF($BZ$2=1,ROUND(AA20,0),IF($BZ$2=2,ROUND(AA20/272.7654,1),))","v":561},{"$f":"IF($BZ$2=1,AE20,IF($BZ$2=2,AE20*0.3346,))","v":5.4853925820263667},{"$f":"IF(BY20=1,ROUND(IF($BZ$2=1,AR20,IF($BZ$2=2,AR20*3.412141633,)),0),\"\")","v":1278},{"$f":"IF(BY20=1,IF($BZ$2=1,ROUND(AU20,0),IF($BZ$2=2,ROUND(AU20/272.7654,1),)),\"\")","v":550},{"$f":"IF(BY20=1,IF($BZ$2=1,AX20,IF($BZ$2=2,AX20*0.3346,)),\"\")","v":5.2786547361922693},{"$f":"K20","v":30},{"$f":"L20","v":48.9},{"$f":"BB20","v":20.399999999999999},{"$f":"DQ78","v":5.6}]
["1957021",null,null,1,95,70,21,21.5,0,26,30,41.1,1882.8291945358951,1977.8291945358951,2123.1558613833213,2810.06,1.5,1.05,1.05,1.05,1343,1562,1676,2219,115,134,144,191,7.6472423673578288E-2,0.10327341364618195,0.11896980279584603,0.20738026513327959,1.2760000000000001E-4,1.7219,4,5.1420100000000005E-4,{"$f":"AK79*(1-(($E81-50)*0.005))","v":186.23609239261623},{"$f":"AL79*(1-(($E81-50)*0.005))","v":199.92032287565303},{"$f":"AM79*(1-(($E81-50)*0.005))","v":264.60050000000001},0.85,0.85,0.85,186,200,265,80,86,114,3.751258176855251E-2,4.3229400080322014E-2,7.5171740024191261E-2,1.9,5.0999999999999996,5.6,7.2,null,2744,null,0.8,null,null,0,12.3,14.4,21.85,null,1,1,1,186,200,265,null,0,0,0,1,null,null,null,null,null,null,null,null,null,null,null,null,null,null,140,0.79292312789827257,0.73211718284521199,0.79292312789827257,0.73211718284521199,0.7127093372490777,0.66550507053605756,0.7127093372490777,0.66550507053605756,0.79292312789827257,0.73211718284521199,0.7127093372490777,0.66550507053605756,null,null,null,null,null,{"$f":"DF78","v":280},{"$f":"BM20","v":21.85},{"$f":"ROUND(IF($BZ$2=1,X20,IF($BZ$2=2,X20*3.412141633,)),0)","v":9685},{"$f":"IF($BZ$2=1,ROUND(AB20,0),IF($BZ$2=2,ROUND(AB20/272.7654,1),))","v":833},{"$f":"IF($BZ$2=1,AF20,IF($BZ$2=2,AF20*0.3346,))","v":11.822942017746373},{"$f":"IF(BY20=1,ROUND(IF($BZ$2=1,AS20,IF($BZ$2=2,AS20*3.412141633,)),0),\"\")","v":1900},{"$f":"IF(BY20=1,IF($BZ$2=1,ROUND(AV20,0),IF($BZ$2=2,ROUND(AV20/272.7654,1),)),\"\")","v":817},{"$f":"IF(BY20=1,IF($BZ$2=1,AY20,IF($BZ$2=2,AY20*0.3346,)),\"\")","v":11.385263573722288},{"$f":"L20","v":48.9},{"$f":"DN81+8","v":56.9},{"$f":"BC20","v":34.5},{"$f":"DQ78","v":5.6}]
["1358010",null,null,1,35,80,10,11.5,0,26,30,41.8,646.20000000000005,1214.2269940407766,1304.1433704057049,1574.18,1.5,1.08,1.08,1.08,461,952,1023,1235,40,82,88,106,8.827428204444673E-3,3.4861135731848764E-2,3.9921570095941127E-2,5.7081303711220763E-2,3.969E-4,1.7345999999999999,2,3.6734700000000002E-4,168.33710197020613,180.80286190736828,218.24,0.98,0.98,0.98,168,181,218,72,78,94,2.7165359623318678E-2,3.167181300086596E-2,4.5312552969066985E-2,0.5,6.3,6.8,9.1,null,718,null,0.9,null,null,0,12.8,14.7,21.85,null,1,1,1,168,181,218,null,0,0,0,1,null,null,null,null,null,null,null,null,null,null,null,null,null,null,160,0.78402243332267385,0.72223627558039949,0.78402243332267385,0.72223627558039949,0.70153112340864476,0.65706930534609798,0.70153112340864476,0.65706930534609798,0.78402243332267385,0.72223627558039949,0.70153112340864476,0.65706930534609798,null,null,null,null,null,300,{"$f":"BJ21","v":{"$error":"#N/A"}},{"$f":"ROUND(IF($BZ$2=1,U21,IF($BZ$2=2,U21*3.412141633,)),0)","v":{"$error":"#N/A"}},{"$f":"IF($BZ$2=1,ROUND(Y21,0),IF($BZ$2=2,ROUND(Y21/272.7654,1),))","v":{"$error":"#N/A"}},{"$f":"IF($BZ$2=1,AC21,IF($BZ$2=2,AC21*0.3346,))","v":{"$error":"#N/A"}},null,null,null,0,0,0,{"$f":"IF($BZ$2=1,AZ21,IF($BZ$2=2,AZ21/4.54609,))","v":{"$error":"#N/A"}}]
["1508010",null,null,1,50,80,10,11.5,0,26,30,41.8,774.9,1214.2269940407766,1304.1433704057049,1574.18,1.5,1.08,1.08,1.08,553,952,1023,1235,48,82,88,106,1.2502850299408872E-2,3.4861135731848764E-2,3.9921570095941127E-2,5.7081303711220763E-2,3.969E-4,1.7345999999999999,2,3.6734700000000002E-4,168.33710197020613,180.80286190736828,218.24,0.98,0.98,0.98,168,181,218,72,78,94,2.7165359623318678E-2,3.167181300086596E-2,4.5312552969066985E-2,0.5,6.3,6.8,9.1,null,861,null,0.9,null,null,0,12.8,14.7,21.85,null,1,1,1,168,181,218,null,0,0,0,1,null,null,null,null,null,null,null,null,null,null,null,null,null,null,180,0.78402243332267385,0.72223627558039949,0.78402243332267385,0.72223627558039949,0.70153112340864476,0.65706930534609798,0.70153112340864476,0.65706930534609798,0.78402243332267385,0.72223627558039949,0.70153112340864476,0.65706930534609798,null,null,null,null,null,{"$f":"DF82","v":300},{"$f":"BK21","v":{"$error":"#N/A"}},{"$f":"ROUND(IF($BZ$2=1,V21,IF($BZ$2=2,V21*3.412141633,)),0)","v":{"$error":"#N/A"}},{"$f":"IF($BZ$2=1,ROUND(Z21,0),IF($BZ$2=2,ROUND(Z21/272.7654,1),))","v":{"$error":"#N/A"}},{"$f":"IF($BZ$2=1,AD21,IF($BZ$2=2,AD21*0.3346,))","v":{"$error":"#N/A"}},{"$f":"IF(BY21=1,ROUND(IF($BZ$2=1,AQ21,IF($BZ$2=2,AQ21*3.412141633,)),0),\"\")","v":{"$error":"#N/A"}},{"$f":"IF(BY21=1,IF($BZ$2=1,ROUND(AT21,0),IF($BZ$2=2,ROUND(AT21/272.7654,1),)),\"\")","v":{"$error":"#N/A"}},{"$f":"IF(BY21=1,IF($BZ$2=1,AW21,IF($BZ$2=2,AW21*0.3346,)),\"\")","v":{"$error":"#N/A"}},{"$f":"J21","v":{"$error":"#N/A"}},{"$f":"DN83+8","v":{"$error":"#N/A"}},{"$f":"BA21","v":{"$error":"#N/A"}},{"$f":"DQ82","v":{"$error":"#N/A"}}]
["1658010",null,null,1,65,80,10,11.5,0,26,30,41.8,872.1,1214.2269940407766,1304.1433704057049,1574.18,1.5,1.08,1.08,1.08,622,952,1023,1235,53,82,88,106,1.5110098810069266E-2,3.4861135731848764E-2,3.9921570095941127E-2,5.7081303711220763E-2,3.969E-4,1.7345999999999999,2,3.6734700000000002E-4,168.33710197020613,180.80286190736828,218.24,0.98,0.98,0.98,168,181,218,72,78,94,2.7165359623318678E-2,3.167181300086596E-2,4.5312552969066985E-2,0.5,6.3,6.8,9.1,null,969,null,0.9,null,null,0,12.8,14.7,21.85,null,1,1,1,168,181,218,null,0,0,0,1,null,null,null,null,null,null,null,null,null,null,null,null,null,null,200,0.76885591203746129,0.70538685838828352,0.76885591203746129,0.70538685838828352,0.69291747680457172,0.65762042960065581,0.69291747680457172,0.65762042960065581,0.76885591203746129,0.70538685838828352,0.69291747680457172,0.65762042960065581,null,null,null,null,null,{"$f":"DF82","v":300},{"$f":"BL21","v":{"$error":"#N/A"}},{"$f":"ROUND(IF($BZ$2=1,W21,IF($BZ$2=2,W21*3.412141633,)),0)","v":{"$error":"#N/A"}},{"$f":"IF($BZ$2=1,ROUND(AA21,0),IF($BZ$2=2,ROUND(AA21/272.7654,1),))","v":{"$error":"#N/A"}},{"$f":"IF($BZ$2=1,AE21,IF($BZ$2=2,AE21*0.3346,))","v":{"$error":"#N/A"}},{"$f":"IF(BY21=1,ROUND(IF($BZ$2=1,AR21,IF($BZ$2=2,AR21*3.412141633,)),0),\"\")","v":{"$error":"#N/A"}},{"$f":"IF(BY21=1,IF($BZ$2=1,ROUND(AU21,0),IF($BZ$2=2,ROUND(AU21/272.7654,1),)),\"\")","v":{"$error":"#N/A"}},{"$f":"IF(BY21=1,IF($BZ$2=1,AX21,IF($BZ$2=2,AX21*0.3346,)),\"\")","v":{"$error":"#N/A"}},{"$f":"K21","v":{"$error":"#N/A"}},{"$f":"L21","v":{"$error":"#N/A"}},{"$f":"BB21","v":{"$error":"#N/A"}},{"$f":"DQ82","v":{"$error":"#N/A"}}]
["1958010",null,null,1,95,80,10,11.5,0,26,30,41.8,1002.6,1214.2269940407766,1304.1433704057049,1574.18,1.5,1.08,1.08,1.08,715,952,1023,1235,61,82,88,106,1.9773449890980444E-2,3.4861135731848764E-2,3.9921570095941127E-2,5.7081303711220763E-2,3.969E-4,1.7345999999999999,2,3.6734700000000002E-4,168.33710197020613,180.80286190736828,218.24,0.98,0.98,0.98,168,181,218,72,78,94,2.7165359623318678E-2,3.167181300086596E-2,4.5312552969066985E-2,0.5,6.3,6.8,9.1,null,1114,null,0.9,null,null,0,12.8,14.7,21.85,null,1,1,1,168,181,218,null,0,0,0,1,null,null,null,null,null,null,null,null,null,null,null,null,null,null,220,0.7585639347228863,0.69425955238573378,0.7585639347228863,0.69425955238573378,0.68521071868549555,0.65780685179925613,0.68521071868549555,0.65780685179925613,0.7585639347228863,0.69425955238573378,0.68521071868549555,0.65780685179925613,null,null,null,null,null,{"$f":"DF82","v":300},{"$f":"BM21","v":{"$error":"#N/A"}},{"$f":"ROUND(IF($BZ$2=1,X21,IF($BZ$2=2,X21*3.412141633,)),0)","v":{"$error":"#N/A"}},{"$f":"IF($BZ$2=1,ROUND(AB21,0),IF($BZ$2=2,ROUND(AB21/272.7654,1),))","v":{"$error":"#N/A"}},{"$f":"IF($BZ$2=1,AF21,IF($BZ$2=2,AF21*0.3346,))","v":{"$error":"#N/A"}},{"$f":"IF(BY21=1,ROUND(IF($BZ$2=1,AS21,IF($BZ$2=2,AS21*3.412141633,)),0),\"\")","v":{"$error":"#N/A"}},{"$f":"IF(BY21=1,IF($BZ$2=1,ROUND(AV21,0),IF($BZ$2=2,ROUND(AV21/272.7654,1),)),\"\")","v":{"$error":"#N/A"}},{"$f":"IF(BY21=1,IF($BZ$2=1,AY21,IF($BZ$2=2,AY21*0.3346,)),\"\")","v":{"$error":"#N/A"}},{"$f":"L21","v":{"$error":"#N/A"}},{"$f":"DN85+8","v":{"$error":"#N/A"}},{"$f":"BC21","v":{"$error":"#N/A"}},{"$f":"DQ82","v":{"$error":"#N/A"}}]
["1358011",null,null,1,35,80,11,11.5,0,26,30,41.8,650.76,1647.5037394527276,1769.505282019556,2135.9,1.5,1.1000000000000001,1.1000000000000001,1.1000000000000001,464,1286,1381,1668,40,111,119,143,1.5139690328889345E-2,0.10537485365866733,0.12035350001470055,0.17100095804480808,3.969E-4,1.7345999999999999,4,5.7428799999999995E-4,276,296,358,0.95,0.95,0.95,276,296,358,119,127,154,0.12035350001470055,0.13628668965853094,0.19705768178204491,1.1000000000000001,6.3,6.8,9.1,null,957,null,0.68,null,null,0,12.8,14.7,21.85,null,1,1,1,276,296,358,null,0,0,0,1,null,null,null,null,null,null,null,null,null,null,null,null,null,null,240,0.75027509009945204,0.68488673514658593,0.75027509009945204,0.68488673514658593,0.68190440163328403,0.65796861393376183,0.68190440163328403,0.65796861393376183,0.75027509009945204,0.68488673514658593,0.68190440163328403,0.65796861393376183,null,null,null,null,null,null,null,null,null,null,null,null,null,null,null,null,"v2020-09-17"]
["1508011",null,null,1,50,80,11,11.5,0,26,30,41.8,754.12,1647.5037394527276,1769.505282019556,2135.9,1.5,1.1000000000000001,1.1000000000000001,1.1000000000000001,538,1286,1381,1668,46,111,119,143,1.9726806723725239E-2,0.10537485365866733,0.12035350001470055,0.17100095804480808,3.969E-4,1.7345999999999999,4,5.7428799999999995E-4,276,296,358,0.95,0.95,0.95,276,296,358,119,127,154,0.12035350001470055,0.13628668965853094,0.19705768178204491,1.1000000000000001,6.3,6.8,9.1,null,1109,null,0.68,null,null,0,12.8,14.7,21.85,null,1,1,1,276,296,358,null,0,0,0,1,null,null,null,null,null,null,null,null,null,null,null,null,null,null,260,0.75,0.68,0.75,0.68,0.68190449384530405,0.65796861393376183,0.68190449384530405,0.65796861393376183,0.75,0.68,0.68190449384530405,0.65796861393376183,null,null,null,null,null,"*",{"$f":"IF($J$4=data!$CC$3,NL!DI6,IF($J$4=data!$CC$4,EN!DI6,IF($J$4=data!$CC$5,FR!DI6,IF($J$4=data!$CC$6,DE!DI6,IF($J$4=data!$CC$7,NR!DI6,IF($J$4=data!$CC$8,SP!DI6,IF($J$4=data!$CC$9,SW!DI6,)))))))","v":0}]
["1658011",null,null,1,65,80,11,11.5,0,26,30,41.8,839.12,1647.5037394527276,1769.505282019556,2135.9,1.5,1.1000000000000001,1.1000000000000001,1.1000000000000001,599,1286,1381,1668,52,111,119,143,2.4888705433861867E-2,0.10537485365866733,0.12035350001470055,0.17100095804480808,3.969E-4,1.7345999999999999,4,5.7428799999999995E-4,{"$f":"AK87*(1-(($E88-50)*0.005))","v":255.3},{"$f":"AL87*(1-(($E88-50)*0.005))","v":273.8},{"$f":"AM87*(1-(($E88-50)*0.005))","v":331.15000000000003},0.95,0.95,0.95,255,274,331,110,118,142,0.10356985253432938,0.11842888168254465,0.1687204798043572,1.1000000000000001,6.3,6.8,9.1,null,1234,null,0.68,null,null,0,12.8,14.7,21.85,null,1,1,1,255,274,331,null,0,0,0,1,null,null,null,null,null,null,null,null,null,null,null,null,null,null,280,0.75077946095441817,0.68,0.75077946095441817,0.68,0.67294243770541662,0.6582099452827469,0.67294243770541662,0.6582099452827469,0.75077946095441817,0.68,0.67294243770541662,0.6582099452827469,null,null,null,null,null,"**",{"$f":"IF($J$4=data!$CC$3,NL!DF20,IF($J$4=data!$CC$4,EN!DF20,IF($J$4=data!$CC$5,FR!DF20,IF($J$4=data!$CC$6,DE!DF20,IF($J$4=data!$CC$7,NR!DF20,IF($J$4=data!$CC$8,SP!DF20,IF($J$4=data!$CC$9,SW!DF20,)))))))","v":0}]
["1958011",null,null,1,95,80,11,11.5,0,26,30,41.8,977.16000000000008,1647.5037394527276,1769.505282019556,2135.9,1.5,1.1000000000000001,1.1000000000000001,1.1000000000000001,697,1286,1381,1668,60,111,119,143,3.2656041413196585E-2,0.10537485365866733,0.12035350001470055,0.17100095804480808,3.969E-4,1.7345999999999999,4,5.7428799999999995E-4,{"$f":"AK87*(1-(($E89-50)*0.005))","v":213.9},{"$f":"AL87*(1-(($E89-50)*0.005))","v":229.4},{"$f":"AM87*(1-(($E89-50)*0.005))","v":277.45},0.95,0.95,0.95,214,229,277,92,98,119,7.3652590798970838E-2,8.3081842659794167E-2,0.12035350001470055,1.1000000000000001,6.3,6.8,9.1,null,1437,null,0.68,null,null,0,12.8,14.7,21.85,null,1,1,1,214,229,277,null,0,0,0,1,null,null,null,null,null,null,null,null,null,null,null,null,null,null,300,0.75077946095441817,0.68,0.75077946095441817,0.68,0.67294243770541662,0.6582099452827469,0.67294243770541662,0.6582099452827469,0.75077946095441817,0.68,0.67294243770541662,0.6582099452827469,null,null,null,null,null,"***",{"$f":"IF($J$4=data!$CC$3,NL!DF21,IF($J$4=data!$CC$4,EN!DF21,IF($J$4=data!$CC$5,FR!DF21,IF($J$4=data!$CC$6,DE!DF21,IF($J$4=data!$CC$7,NR!DF21,IF($J$4=data!$CC$8,SP!DF21,IF($J$4=data!$CC$9,SW!DF21,)))))))","v":0}]
["1358015",null,null,1,35,80,15,16.5,0,26,30,42.4,940.80000000000007,1395.33740436932,1496.2563490716184,2007.56,1.5,1.08,1.08,1.08,671,1094,1173,1574,58,94,101,135,1.8162852177851477E-2,4.6744452652574681E-2,5.3812575245209708E-2,9.5090019266223458E-2,2.0829999999999999E-4,1.724,2,4.6182900000000003E-4,190.46915773046311,204.24499885412456,274.04000000000002,1.01,1.01,1.01,190,204,274,82,88,118,3.5768909532348576E-2,4.1076258231928696E-2,7.3013760578283488E-2,0.8,6,6.7,9,null,1176,null,0.8,null,null,0,11.8,13.7,21.85,null,1,1,1,190,204,274,null,0,0,0,1,null,null,null,null,null,null,null,null,null,null,null,null,null,null,null,null,null,null,null,null,null,null,null,null,null,null,null,null,null,null,null,null,"****",{"$f":"IF($J$4=data!$CC$3,NL!DF22,IF($J$4=data!$CC$4,EN!DF22,IF($J$4=data!$CC$5,FR!DF22,IF($J$4=data!$CC$6,DE!DF22,IF($J$4=data!$CC$7,NR!DF22,IF($J$4=data!$CC$8,SP!DF22,IF($J$4=data!$CC$9,SW!DF22,)))))))","v":0}]
["1508015",null,null,1,50,80,15,16.5,0,26,30,42.4,1109.6000000000001,1395.33740436932,1496.2563490716184,2007.56,1.5,1.08,1.08,1.08,792,1094,1173,1574,68,94,101,135,2.4792384486274778E-2,4.6744452652574681E-2,5.3812575245209708E-2,9.5090019266223458E-2,2.0829999999999999E-4,1.724,2,4.6182900000000003E-4,190.46915773046311,204.24499885412456,274.04000000000002,1.01,1.01,1.01,190,204,274,82,88,118,3.5768909532348576E-2,4.1076258231928696E-2,7.3013760578283488E-2,0.8,6,6.7,9,null,1387,null,0.8,null,null,0,11.8,13.7,21.85,null,1,1,1,190,204,274,null,0,0,0,1,null,null,null,null,null,null,null,null,null,null,null,null,null,null,"Type,ww","L/cm"]
["1658015",null,null,1,65,80,15,16.5,0,26,30,42.4,{"$f":"IF($N92-($BE92*$BG92)>100,$BE92*$BG92,$N92-95)","v":1230.4000000000001},1395.33740436932,1496.2563490716184,2007.56,1.5,1.08,1.08,1.08,{"$f":"ROUND(M92*POWER(CF_heat,Q92),0)","v":878},{"$f":"ROUND(N92*POWER(CF_heat,R92),0)","v":1094},{"$f":"ROUND(O92*POWER(CF_heat,S92),0)","v":1173},{"$f":"ROUND(P92*POWER(CF_heat,T92),0)","v":1574},76,94,101,135,3.0823095740914568E-2,4.6744452652574681E-2,5.3812575245209708E-2,9.5090019266223458E-2,{"$f":"IF($G92=$CO$103,CP$103,IF($G92=$CO$104,CP$104,IF($G92=$CO$105,CP$105,IF($G92=$CO$107,CP$107,IF($G92=$CO$108,CP$108,IF($G92=$CO$109,CP$109,IF($G92=$CO$111,CP$111,IF($G92=$CO$112,CP$112,IF($G92=$CO$113,CP$113,IF($G92=$CO$115,CP$115,IF($G92=$CO$116,CP$116,IF($G92=$CO$117,CP$117,IF($G92=$CO$119,CP$119,IF($G92=$CO$120,CP$120,))))))))))))))","v":2.0829999999999999E-4},{"$f":"IF($G92=$CO$103,CQ$103,IF($G92=$CO$104,CQ$104,IF($G92=$CO$105,CQ$105,IF($G92=$CO$107,CQ$107,IF($G92=$CO$108,CQ$108,IF($G92=$CO$109,CQ$109,IF($G92=$CO$111,CQ$111,IF($G92=$CO$112,CQ$112,IF($G92=$CO$113,CQ$113,IF($G92=$CO$115,CQ$115,IF($G92=$CO$116,CQ$116,IF($G92=$CO$117,CQ$117,IF($G92=$CO$119,CQ$119,IF($G92=$CO$120,CQ$120,))))))))))))))","v":1.724},{"$f":"IF($G92=$CO$103,CR$103,IF($G92=$CO$104,CR$104,IF($G92=$CO$105,CR$105,IF($G92=$CO$107,CR$107,IF($G92=$CO$108,CR$108,IF($G92=$CO$109,CR$109,IF($G92=$CO$111,CR$111,IF($G92=$CO$112,CR$112,IF($G92=$CO$113,CR$113,IF($G92=$CO$115,CR$115,IF($G92=$CO$116,CR$116,IF($G92=$CO$117,CR$117,IF($G92=$CO$119,CR$119,IF($G92=$CO$120,CR$120,))))))))))))))","v":2},{"$f":"IF($G92=$CO$103,CS$103,IF($G92=$CO$104,CS$104,IF($G92=$CO$105,CS$105,IF($G92=$CO$107,CS$107,IF($G92=$CO$108,CS$108,IF($G92=$CO$109,CS$109,IF($G92=$CO$111,CS$111,IF($G92=$CO$112,CS$112,IF($G92=$CO$113,CS$113,IF($G92=$CO$115,CS$115,IF($G92=$CO$116,CS$116,IF($G92=$CO$117,CS$117,IF($G92=$CO$119,CS$119,IF($G92=$CO$120,CS$120,))))))))))))))","v":4.6182900000000003E-4},190.46915773046311,204.24499885412456,274.04000000000002,1.01,1.01,1.01,{"$f":"ROUND(AK92*POWER(CF_cool,AN92),0)","v":190},{"$f":"ROUND(AL92*POWER(CF_cool,AO92),0)","v":204},{"$f":"ROUND(AM92*POWER(CF_cool,AP92),0)","v":274},82,88,118,3.5768909532348576E-2,4.1076258231928696E-2,7.3013760578283488E-2,{"$f":"ROUND(IF(G92=10,$CO$92*F92,IF(G92=11,$CO$93*F92,IF(G92=15,$CO$94*F92,IF(G92=16,$CO$95*F92,IF(G92=20,$CO$96*F92,IF(G92=21,$CO$97*F92,)))))),1)","v":0.8},6,6.7,9,null,1538,null,{"$f":"IF(G92=10,0.9,IF(G92=11,0.68,IF(G92=15,0.8,IF(G92=16,0.68,IF(G92=20,0.8,IF(G92=21,0.8))))))","v":0.8},null,null,0,11.8,13.7,21.85,null,1,1,1,{"$f":"AQ92/BO92","v":190},{"$f":"AR92/BP92","v":204},{"$f":"AS92/BQ92","v":274},null,{"$f":"BR92-AQ92","v":0},{"$f":"BS92-AR92","v":0},{"$f":"BT92-AS92","v":0},1,null,null,null,null,null,null,null,null,null,null,null,null,null,null,10,{"$f":"0.4/60","v":6.6666666666666671E-3}]
[{"$f":"CONCATENATE(D93,E93,F93,G93)","v":"1958015"},null,null,1,95,80,15,16.5,0,26,30,42.4,1300.33740436932,1395.33740436932,1496.2563490716184,2007.56,1.5,{"$f":"IF($G93=10,1.08,IF($G93=11,1.1,IF($G93=15,1.08,IF($G93=16,1.1,IF($G93=20,1.08,IF($G93=21,1.05))))))","v":1.08},1.08,1.08,928,1094,1173,1574,80,94,101,135,{"$f":"(($AG93*(Y93^$AH93)*((($F93-14.4)*$AI93)/100))+($AJ93*(Y93^2)))*0.0098","v":3.4080098515836543E-2},{"$f":"(($AG93*(Z93^$AH93)*((($F93-14.4)*$AI93)/100))+($AJ93*(Z93^2)))*0.0098","v":4.6744452652574681E-2},{"$f":"(($AG93*(AA93^$AH93)*((($F93-14.4)*$AI93)/100))+($AJ93*(AA93^2)))*0.0098","v":5.3812575245209708E-2},{"$f":"(($AG93*(AB93^$AH93)*((($F93-14.4)*$AI93)/100))+($AJ93*(AB93^2)))*0.0098","v":9.5090019266223458E-2},2.0829999999999999E-4,1.724,2,4.6182900000000003E-4,190.46915773046311,204.24499885412456,274.04000000000002,1.01,1.01,1.01,190,204,274,82,88,118,{"$f":"(($AG93*(AT93^$AH93)*((($F93-14.4)*$AI93)/100))+($AJ93*(AT93^2)))*0.0098","v":3.5768909532348576E-2},{"$f":"(($AG93*(AU93^$AH93)*((($F93-14.4)*$AI93)/100))+($AJ93*(AU93^2)))*0.0098","v":4.1076258231928696E-2},{"$f":"(($AG93*(AV93^$AH93)*((($F93-14.4)*$AI93)/100))+($AJ93*(AV93^2)))*0.0098","v":7.3013760578283488E-2},0.8,6,6.7,9,null,1717,null,0.8,null,null,0,11.8,13.7,21.85,null,{"$f":"IF(1/(1+((2258*((0.622/((101325/(1*611*EXP(17.27*((($AM$1+$AM$2)/2)/((($AM$1+$AM$2)/2)+237.3))))))-1)*1000-(0.622/((101325/($AQ$1*611*EXP(17.27*($AM$3/($AM$3+237.3))))))-1)*1000))/(1005*((($AM$1+$AM$2)/2)-$AM$3))))>1,1,1/(1+((2258*((0.622/((101325/(1*611*EXP(17.27*((($AM$1+$AM$2)/2)/((($AM$1+$AM$2)/2)+237.3))))))-1)*1000-(0.622/((101325/($AQ$1*611*EXP(17.27*($AM$3/($AM$3+237.3))))))-1)*1000))/(1005*((($AM$1+$AM$2)/2)-$AM$3)))))","v":1},1,1,190,204,274,null,0,0,0,{"$f":"IF(SUM(BV93:BX93)=0,1,0)","v":1},null,null,null,null,null,null,null,null,null,null,null,null,null,null,11,{"$f":"CO92*2","v":1.3333333333333334E-2}]
["1358016",null,null,1,35,80,16,16.5,0,26,30,42.4,866.32,2040.4331716148024,2188.0092071816284,2935.7,1.5,1.1000000000000001,1.1000000000000001,1.1000000000000001,618,1593,1708,2292,53,137,147,197,4.3370735904884973E-2,0.28204303816785287,0.32414663509783698,0.57808545963619196,2.0829999999999999E-4,1.724,4,1.392796E-3,312,335,450,0.95,0.95,0.95,312,335,450,134,144,194,0.26997766374686077,0.31121106327333475,0.56081193423750164,1.6,6,6.7,9,null,1274,null,0.68,null,null,0,11.8,13.7,21.85,null,1,1,1,312,335,450,null,0,0,0,1,null,null,null,null,null,null,null,null,null,null,null,null,null,null,15,{"$f":"CO92*1.5","v":0.01}]
["1508016",null,null,1,50,80,16,16.5,0,26,30,42.4,1032.24,2040.4331716148024,2188.0092071816284,2935.7,1.5,1.1000000000000001,1.1000000000000001,1.1000000000000001,737,1593,1708,2292,63,137,147,197,6.0949986346466332E-2,0.28204303816785287,0.32414663509783698,0.57808545963619196,2.0829999999999999E-4,1.724,4,1.392796E-3,312,335,450,0.95,0.95,0.95,312,335,450,134,144,194,0.26997766374686077,0.31121106327333475,0.56081193423750164,1.6,6,6.7,9,null,1518,null,0.68,null,null,0,11.8,13.7,21.85,null,1,1,1,312,335,450,null,0,0,0,1,null,null,null,null,null,null,null,null,null,null,null,null,null,null,16,{"$f":"CO94*2","v":0.02}]
["1658016",null,null,1,65,80,16,16.5,0,26,30,42.4,1181.8400000000001,2040.4331716148024,2188.0092071816284,2935.7,1.5,1.1000000000000001,1.1000000000000001,1.1000000000000001,843,1593,1708,2292,72,137,147,197,7.9287931423277558E-2,0.28204303816785287,0.32414663509783698,0.57808545963619196,2.0829999999999999E-4,1.724,4,1.392796E-3,{"$f":"AK95*(1-(($E96-50)*0.005))","v":288.60000000000002},{"$f":"AL95*(1-(($E96-50)*0.005))","v":309.875},{"$f":"AM95*(1-(($E96-50)*0.005))","v":416.25},0.95,0.95,0.95,289,310,416,124,133,179,0.2316471838419854,0.26601392538714985,0.47834176754860941,1.6,6,6.7,9,null,1738,null,0.68,null,null,0,11.8,13.7,21.85,null,1,1,1,289,310,416,null,0,0,0,1,null,null,null,null,null,null,null,null,null,null,null,null,null,null,20,{"$f":"CO92*2","v":1.3333333333333334E-2}]
["1958016",null,null,1,95,80,16,16.5,0,26,30,42.4,1456.5600000000002,2040.4331716148024,2188.0092071816284,2935.7,1.5,1.1000000000000001,1.1000000000000001,1.1000000000000001,1039,1593,1708,2292,89,137,147,197,0.1204090451473749,0.28204303816785287,0.32414663509783698,0.57808545963619196,2.0829999999999999E-4,1.724,4,1.392796E-3,{"$f":"AK95*(1-(($E97-50)*0.005))","v":241.8},{"$f":"AL95*(1-(($E97-50)*0.005))","v":259.625},{"$f":"AM95*(1-(($E97-50)*0.005))","v":348.75},0.95,0.95,0.95,242,260,349,104,112,150,0.16371038659618098,0.18948776812934515,0.33734307444043155,1.6,6,6.7,9,null,2142,null,0.68,null,null,0,11.8,13.7,21.85,null,1,1,1,242,260,349,null,0,0,0,1,null,null,null,null,null,null,null,null,null,null,null,null,null,null,21,{"$f":"CO96*2","v":2.6666666666666668E-2}]
["1358020",null,null,1,35,80,20,21.5,0,26,30,42.4,1318.4,1942.5718983039128,2086.4239348515057,2518.44,1.5,1.08,1.08,1.08,941,1523,1636,1975,81,131,141,170,2.738651210668392E-2,7.0594323803498546E-2,8.1613209141998835E-2,0.11803010584799242,1.2760000000000001E-4,1.7219,2,3.76611E-4,240.07166246887351,257.84953601562182,311.24,0.95,0.95,0.95,240,258,311,103,111,134,4.3951963441231798E-2,5.0929918356249132E-2,7.381701321036345E-2,1.1000000000000001,6,6.7,9,null,1648,null,0.8,null,null,0,11.8,13.7,21.85,null,1,1,1,240,258,311,null,0,0,0,1]
["1508020",null,null,1,50,80,20,21.5,0,26,30,42.4,1552,1942.5718983039128,2086.4239348515057,2518.44,1.5,1.08,1.08,1.08,1107,1523,1636,1975,95,131,141,170,3.7482402907093801E-2,7.0594323803498546E-2,8.1613209141998835E-2,0.11803010584799242,1.2760000000000001E-4,1.7219,2,3.76611E-4,240.07166246887351,257.84953601562182,311.24,0.95,0.95,0.95,240,258,311,103,111,134,4.3951963441231798E-2,5.0929918356249132E-2,7.381701321036345E-2,1.1000000000000001,6,6.7,9,null,1940,null,0.8,null,null,0,11.8,13.7,21.85,null,1,1,1,240,258,311,null,0,0,0,1]
["1658020",null,null,1,65,80,20,21.5,0,26,30,42.4,1718.4,1942.5718983039128,2086.4239348515057,2518.44,1.5,1.08,1.08,1.08,1226,1523,1636,1975,105,131,141,170,4.5648820383813037E-2,7.0594323803498546E-2,8.1613209141998835E-2,0.11803010584799242,1.2760000000000001E-4,1.7219,2,3.76611E-4,240.07166246887351,257.84953601562182,311.24,0.95,0.95,0.95,240,258,311,103,111,134,4.3951963441231798E-2,5.0929918356249132E-2,7.381701321036345E-2,1.1000000000000001,6,6.7,9,null,2148,null,0.8,null,null,0,11.8,13.7,21.85,null,1,1,1,240,258,311,null,0,0,0,1,null,null,null,null,null,null,null,null,null,null,null,null,null,null,"Niveaus","Type","k1","n","t","k2"]
["1958020",null,null,1,95,80,20,21.5,0,26,30,42.4,1847.5718983039128,1942.5718983039128,2086.4239348515057,2518.44,1.5,1.08,1.08,1.08,1318,1523,1636,1975,113,131,141,170,5.2753755294783017E-2,7.0594323803498546E-2,8.1613209141998835E-2,0.11803010584799242,1.2760000000000001E-4,1.7219,2,3.76611E-4,240.07166246887351,257.84953601562182,311.24,0.95,0.95,0.95,240,258,311,103,111,134,4.3951963441231798E-2,5.0929918356249132E-2,7.381701321036345E-2,1.1000000000000001,6,6.7,9,null,2394,null,0.8,null,null,0,11.8,13.7,21.85,null,1,1,1,240,258,311,null,0,0,0,1]
["1358021",null,null,1,35,80,21,21.5,0,26,30,42.4,1352.8000000000002,2627.7848955664344,2817.8416357747774,3780.76,1.5,1.05,1.05,1.05,965,2075,2225,2985,83,178,191,257,4.1329403612403628E-2,0.1842669292057651,0.21161521327347374,0.37914528733911407,1.2760000000000001E-4,1.7219,4,5.1420100000000005E-4,340.86222571220884,365.51537125251701,490.42,0.85,0.85,0.85,341,366,490,147,157,211,0.12659023968056798,0.14403307699408213,0.25732674402542394,2.1,6,6.7,9,null,1691,null,0.8,null,null,0,11.8,13.7,21.85,null,1,1,1,341,366,490,null,0,0,0,1,null,null,null,null,null,null,null,null,null,null,null,null,null,null,"1 row"]
["1508021",null,null,1,50,80,21,21.5,0,26,30,42.4,1652.8000000000002,2627.7848955664344,2817.8416357747774,3780.76,1.5,1.05,1.05,1.05,1179,2075,2225,2985,101,178,191,257,6.0678879974764371E-2,0.1842669292057651,0.21161521327347374,0.37914528733911407,1.2760000000000001E-4,1.7219,4,5.1420100000000005E-4,340.86222571220884,365.51537125251701,490.42,0.85,0.85,0.85,341,366,490,147,157,211,0.12659023968056798,0.14403307699408213,0.25732674402542394,2.1,6,6.7,9,null,2066,null,0.8,null,null,0,11.8,13.7,21.85,null,1,1,1,341,366,490,null,0,0,0,1,null,null,null,null,null,null,null,null,null,null,null,null,null,null,1,4,1.3823338826853E-3,1.723172227894,1,3.3290816326530999E-4]
["1658021",null,null,1,65,80,21,21.5,0,26,30,42.4,1939.2,2627.7848955664344,2817.8416357747774,3780.76,1.5,1.05,1.05,1.05,1384,2075,2225,2985,119,178,191,257,8.3660243816976718E-2,0.1842669292057651,0.21161521327347374,0.37914528733911407,1.2760000000000001E-4,1.7219,4,5.1420100000000005E-4,{"$f":"AK103*(1-(($E104-50)*0.005))","v":315.29755878379319},{"$f":"AL103*(1-(($E104-50)*0.005))","v":338.10171840857828},{"$f":"AM103*(1-(($E104-50)*0.005))","v":453.63850000000002},0.85,0.85,0.85,315,338,454,135,145,195,0.1071237588710041,0.12323476934005491,0.22040506229603998,2.1,6,6.7,9,null,2424,null,0.8,null,null,0,11.8,13.7,21.85,null,1,1,1,315,338,454,null,0,0,0,1,null,null,null,null,null,null,null,null,null,null,null,null,null,null,2,5,9.3700000000000001E-4,1.7889999999999999,2,4.46E-4]
["1958021",null,null,1,95,80,21,21.5,0,26,30,42.4,2508.8000000000002,2627.7848955664344,2817.8416357747774,3780.76,1.5,1.05,1.05,1.05,1790,2075,2225,2985,154,178,191,257,0.13868382458611472,0.1842669292057651,0.21161521327347374,0.37914528733911407,1.2760000000000001E-4,1.7219,4,5.1420100000000005E-4,{"$f":"AK103*(1-(($E105-50)*0.005))","v":264.16822492696184},{"$f":"AL103*(1-(($E105-50)*0.005))","v":283.2744127207007},{"$f":"AM103*(1-(($E105-50)*0.005))","v":380.07550000000003},0.85,0.85,0.85,264,283,380,114,122,163,7.6913230906096156E-2,8.7842369130321604E-2,0.15503064045191489,2.1,6,6.7,9,null,3136,null,0.8,null,null,0,11.8,13.7,21.85,null,1,1,1,264,283,380,null,0,0,0,1,null,null,null,null,null,null,null,null,null,null,null,null,null,null,4,6,9.3700000000000001E-4,1.7889999999999999,4,1.39E-3]
["1359010",null,null,1,35,90,10,11.5,0,26,30,42.4,727.2,1395.6272192501513,1501.3000140389001,1828.08,1.5,1.08,1.08,1.08,519,1095,1177,1434,{"$f":"ROUND(U106*3600/(4186*ABS($O$1-$O$2)),0)","v":45},{"$f":"ROUND(V106*3600/(4186*ABS($O$1-$O$2)),0)","v":94},{"$f":"ROUND(W106*3600/(4186*ABS($O$1-$O$2)),0)","v":101},{"$f":"ROUND(X106*3600/(4186*ABS($O$1-$O$2)),0)","v":123},1.1626321899540189E-2,4.7370929137888165E-2,5.4349648935862721E-2,7.9273358405672414E-2,3.969E-4,1.7345999999999999,2,3.6734700000000002E-4,193.48593193227777,208.13611852764589,253.44,0.98,0.98,0.98,193,208,253,{"$f":"ROUND(AQ106*3600/(4186*ABS($AM$1-$AM$2)),0)","v":83},{"$f":"ROUND(AR106*3600/(4186*ABS($AM$1-$AM$2)),0)","v":89},{"$f":"ROUND(AS106*3600/(4186*ABS($AM$1-$AM$2)),0)","v":109},3.7340239212640722E-2,4.2669333600542279E-2,6.2889336846315577E-2,0.6,6.7,7.4,10.3,null,808,null,0.9,null,null,0,12.5,14.7,21.85,null,1,1,1,193,208,253,null,0,0,0,1,null,null,null,null,null,null,null,null,null,null,null,null,null,null,"2 rows"]
["1509010",null,null,1,50,90,10,11.5,0,26,30,42.4,871.2,1395.6272192501513,1501.3000140389001,1828.08,1.5,1.08,1.08,1.08,622,1095,1177,1434,53,94,101,123,1.5871942883951773E-2,4.7370929137888165E-2,5.4349648935862721E-2,7.9273358405672414E-2,3.969E-4,1.7345999999999999,2,3.6734700000000002E-4,193.48593193227777,208.13611852764589,253.44,0.98,0.98,0.98,193,208,253,83,89,109,3.7340239212640722E-2,4.2669333600542279E-2,6.2889336846315577E-2,0.6,6.7,7.4,10.3,null,968,null,0.9,null,null,0,12.5,14.7,21.85,null,1,1,1,193,208,253,null,0,0,0,1,null,null,null,null,null,null,null,null,null,null,null,null,null,null,1,9,8.0534470601597002E-4,1.8138647155180001,2,3.9795050474943999E-4]
["1659010",null,null,1,65,90,10,11.5,0,26,30,42.4,981,1395.6272192501513,1501.3000140389001,1828.08,1.5,1.08,1.08,1.08,700,1095,1177,1434,60,94,101,123,2.0102335654311455E-2,4.7370929137888165E-2,5.4349648935862721E-2,7.9273358405672414E-2,3.969E-4,1.7345999999999999,2,3.6734700000000002E-4,193.48593193227777,208.13611852764589,253.44,{"$f":"IF($G108=10,0.98,IF($G108=11,0.95,IF($G108=15,1.01,IF($G108=16,0.95,IF($G108=20,0.95,IF($G108=21,0.85))))))","v":0.98},0.98,0.98,193,208,253,83,89,109,3.7340239212640722E-2,4.2669333600542279E-2,6.2889336846315577E-2,0.6,6.7,7.4,10.3,null,1090,null,0.9,null,null,0,12.5,14.7,21.85,null,1,1,1,193,208,253,null,0,0,0,1,null,null,null,null,null,null,null,null,null,null,null,null,null,null,2,10,3.969E-4,1.7345999999999999,2,3.6734700000000002E-4]
["1959010",null,null,1,95,90,10,11.5,0,26,30,42.4,1128.6000000000001,1395.6272192501499,1501.3000140388999,1828.08,1.5,1.08,1.08,1.08,805,1095,1177,1434,69,94,101,123,2.6241388402704489E-2,4.7370929137888165E-2,5.4349648935862721E-2,7.9273358405672414E-2,3.969E-4,1.7345999999999999,2,3.6734700000000002E-4,193.48593193227777,208.13611852764589,253.44,0.98,0.98,0.98,193,208,253,83,89,109,3.7340239212640722E-2,4.2669333600542279E-2,6.2889336846315577E-2,0.6,6.7,7.4,10.3,null,1254,null,0.9,null,null,0,12.5,14.7,21.85,null,1,1,1,193,208,253,null,0,0,0,1,null,null,null,null,null,null,null,null,null,null,null,null,null,null,4,11,3.969E-4,1.7345999999999999,4,5.7428799999999995E-4]
["1359011",null,null,1,35,90,11,11.5,0,26,30,42.4,731.68000000000006,1893.6336235985709,2037.0140009310799,2480.4,1.5,1.1000000000000001,1.1000000000000001,1.1000000000000001,522,1478,1590,1936,45,127,137,166,2.0069386729080377E-2,0.1432245427635509,0.16545208362851668,0.2385477205755622,3.969E-4,1.7345999999999999,4,5.7428799999999995E-4,317.16301910489852,341.17767156378318,415.44,0.95,0.95,0.95,317,341,415,136,147,178,0.16316026903161293,0.18921140887221088,0.27252186122633548,1.2,6.7,7.4,10.3,null,1076,null,0.68,null,null,0,12.5,14.7,21.85,null,1,1,1,317,341,415,null,0,0,0,1,null,null,null,null,null,null,null,null,null,null,null,null,null,null,"3 rows"]
["1509011",null,null,1,50,90,11,11.5,0,26,30,42.4,847.96,1893.6336235985709,2037.0140009310799,2480.4,1.5,1.1000000000000001,1.1000000000000001,1.1000000000000001,605,1478,1590,1936,52,127,137,166,2.6362872029023734E-2,0.1432245427635509,0.16545208362851668,0.2385477205755622,3.969E-4,1.7345999999999999,4,5.7428799999999995E-4,317.16301910489852,341.17767156378318,415.44,0.95,0.95,0.95,317,341,415,136,147,178,0.16316026903161293,0.18921140887221088,0.27252186122633548,1.2,6.7,7.4,10.3,null,1247,null,0.68,null,null,0,12.5,14.7,21.85,null,1,1,1,317,341,415,null,0,0,0,1,null,null,null,null,null,null,null,null,null,null,null,null,null,null,1,14,2.5582398288699999E-3,1.4942747715061999,3,5.6161694684148003E-4]
["1659011",null,null,1,65,90,11,11.5,0,26,30,42.4,944.5200000000001,1893.6336235985709,2037.0140009310799,2480.4,1.5,1.1000000000000001,1.1000000000000001,1.1000000000000001,674,1478,1590,1936,58,127,137,166,3.2401537288077764E-2,0.1432245427635509,0.16545208362851668,0.2385477205755622,3.969E-4,1.7345999999999999,4,5.7428799999999995E-4,{"$f":"AK111*(1-(($E112-50)*0.005))","v":293.37579267203114},{"$f":"AL111*(1-(($E112-50)*0.005))","v":315.58934619649943},{"$f":"AM111*(1-(($E112-50)*0.005))","v":384.28200000000004},0.95,0.95,0.95,293,316,384,126,136,165,0.14108634794348476,0.16316026903161293,0.23581464895791238,1.2,6.7,7.4,10.3,null,1389,null,0.68,null,null,0,12.5,14.7,21.85,null,1,1,1,293,316,384,null,0,0,0,1,null,null,null,null,null,null,null,null,null,null,null,null,null,null,2,15,2.0829999999999999E-4,1.724,2,4.6182900000000003E-4]
["1959011",null,null,1,95,90,11,11.5,0,26,30,42.4,1098.8800000000001,1893.6336235985709,2037.0140009310799,2480.4,1.5,1.1000000000000001,1.1000000000000001,1.1000000000000001,784,1478,1590,1936,67,127,137,166,4.2562288999383455E-2,0.1432245427635509,0.16545208362851668,0.2385477205755622,3.969E-4,1.7345999999999999,4,5.7428799999999995E-4,{"$f":"AK111*(1-(($E113-50)*0.005))","v":245.80133980629637},{"$f":"AL111*(1-(($E113-50)*0.005))","v":264.41269546193195},{"$f":"AM111*(1-(($E113-50)*0.005))","v":321.96600000000001},0.95,0.95,0.95,246,264,322,106,114,138,0.10157049294564785,0.11663245094015465,0.1677592154689023,1.2,6.7,7.4,10.3,null,1616,null,0.68,null,null,0,12.5,14.7,21.85,null,1,1,1,246,264,322,null,0,0,0,1,null,null,null,null,null,null,null,null,null,null,null,null,null,null,4,16,2.0829999999999999E-4,1.724,4,1.392796E-3]
["1359015",null,null,1,35,90,15,16.5,0,26,30,43.3,1058.4000000000001,1597.9167676946356,1711.9130538160239,2331.36,1.5,1.08,1.08,1.08,755,1253,1343,1828,65,108,115,157,2.3242338524512064E-2,6.2677952603543502E-2,7.0873536439037516E-2,0.1304045922070263,2.0829999999999999E-4,1.724,2,4.6182900000000003E-4,218.12205414485143,233.68300487544244,318.24,1.01,1.01,1.01,218,234,318,94,101,137,4.7773932289979358E-2,5.4977761599022158E-2,9.9846629634346956E-2,0.9,7,7.7,10.7,null,1323,null,0.8,null,null,0,11.3,13.2,21.85,null,1,1,1,218,234,318,null,0,0,0,1,null,null,null,null,null,null,null,null,null,null,null,null,null,null,"4 rows"]
["1509015",null,null,1,50,90,15,16.5,0,26,30,43.3,1248.8000000000002,1597.9167676946356,1711.9130538160239,2331.36,1.5,1.08,1.08,1.08,891,1253,1343,1828,77,108,115,157,3.2352146782251102E-2,6.2677952603543502E-2,7.0873536439037516E-2,0.1304045922070263,2.0829999999999999E-4,1.724,2,4.6182900000000003E-4,218.12205414485143,233.68300487544244,318.24,1.01,1.01,1.01,218,234,318,94,101,137,4.7773932289979358E-2,5.4977761599022158E-2,9.9846629634346956E-2,0.9,7,7.7,10.7,null,1561,null,0.8,null,null,0,11.3,13.2,21.85,null,1,1,1,218,234,318,null,0,0,0,1,null,null,null,null,null,null,null,null,null,null,null,null,null,null,1,19,1.1616292894075E-2,1.5869346821790999,1,1.6553227470231999E-3]
["1659015",null,null,1,65,90,15,16.5,0,26,30,43.3,1384,1597.9167676946356,1711.9130538160239,2331.36,1.5,1.08,1.08,1.08,987,1253,1343,1828,85,108,115,157,3.9242929568578964E-2,6.2677952603543502E-2,7.0873536439037516E-2,0.1304045922070263,2.0829999999999999E-4,1.724,2,4.6182900000000003E-4,218.12205414485143,233.68300487544244,318.24,1.01,1.01,1.01,218,234,318,94,101,137,4.7773932289979358E-2,5.4977761599022158E-2,9.9846629634346956E-2,0.9,7,7.7,10.7,null,1730,null,0.8,null,null,0,11.3,13.2,21.85,null,1,1,1,218,234,318,null,0,0,0,1,null,null,null,null,null,null,null,null,null,null,null,null,null,null,2,20,1.2760000000000001E-4,1.7219,2,3.76611E-4]
["1959015",null,null,1,95,90,15,16.5,0,26,30,43.3,1502.9167676946356,1597.9167676946356,1711.9130538160239,2331.36,1.5,1.08,1.08,1.08,1072,1253,1343,1828,92,108,115,157,4.5807009490369296E-2,6.2677952603543502E-2,7.0873536439037516E-2,0.1304045922070263,2.0829999999999999E-4,1.724,2,4.6182900000000003E-4,218.12205414485143,233.68300487544244,318.24,1.01,1.01,1.01,218,234,318,94,101,137,4.7773932289979358E-2,5.4977761599022158E-2,9.9846629634346956E-2,0.9,7,7.7,10.7,null,1931,null,0.8,null,null,0,11.3,13.2,21.85,null,1,1,1,218,234,318,null,0,0,0,1,null,null,null,null,null,null,null,null,null,null,null,null,null,null,4,21,1.2760000000000001E-4,1.7219,4,5.1420100000000005E-4]
["1359016",null,null,1,35,90,16,16.5,0,26,30,43.3,975.12000000000012,2336.669516687492,2503.3688418217644,3409.2,1.5,1.1000000000000001,1.1000000000000001,1.1000000000000001,696,1824,1954,2662,60,157,168,229,5.6316279795488207E-2,0.37413425352165253,0.42759818960823864,0.7880408313931474,2.0829999999999999E-4,1.724,4,1.392796E-3,357.77938745479025,383.30357134546551,522,0.95,0.95,0.95,358,383,522,154,165,224,0.36016635113087053,0.41266687566708049,0.75442675175462648,1.8,7,7.7,10.7,null,1434,null,0.68,null,null,0,11.3,13.2,21.85,null,1,1,1,358,383,522,null,0,0,0,1]
["1509016",null,null,1,50,90,16,16.5,0,26,30,43.3,1161.44,2336.669516687492,2503.3688418217644,3409.2,1.5,1.1000000000000001,1.1000000000000001,1.1000000000000001,829,1824,1954,2662,71,157,168,229,7.8402105479962514E-2,0.37413425352165253,0.42759818960823864,0.7880408313931474,2.0829999999999999E-4,1.724,4,1.392796E-3,357.77938745479025,383.30357134546551,522,0.95,0.95,0.95,358,383,522,154,165,224,0.36016635113087053,0.41266687566708049,0.75442675175462648,1.8,7,7.7,10.7,null,1708,null,0.68,null,null,0,11.3,13.2,21.85,null,1,1,1,358,383,522,null,0,0,0,{"$f":"IF(SUM(BV119:BX119)=0,1,0)","v":1},null,null,null,null,null,null,null,null,null,null,null,null,null,null,{"$f":"CN111","v":1},7,{"$f":"CP111","v":2.5582398288699999E-3},{"$f":"CQ111","v":1.4942747715061999},{"$f":"CR111","v":3},{"$f":"CS111","v":5.6161694684148003E-4}]
["1659016",null,null,1,65,90,16,16.5,0,26,30,43.3,1330.0800000000002,2336.669516687492,2503.3688418217644,3409.2,1.5,1.1000000000000001,1.1000000000000001,1.1000000000000001,949,1824,1954,2662,82,157,168,229,0.10407877213752538,0.37413425352165253,0.42759818960823864,0.7880408313931474,2.0829999999999999E-4,1.724,4,1.392796E-3,{"$f":"AK119*(1-(($E120-50)*0.005))","v":330.94593339568098},{"$f":"AL119*(1-(($E120-50)*0.005))","v":354.55580349455562},{"$f":"AM119*(1-(($E120-50)*0.005))","v":482.85},0.95,0.95,0.95,331,355,483,142,153,208,0.30692527513830892,0.35556881420821179,0.65173992320045004,1.8,7,7.7,10.7,null,1956,null,0.68,null,null,0,11.3,13.2,21.85,null,1,1,1,331,355,483,null,0,0,0,1,null,null,null,null,null,null,null,null,null,null,null,null,null,null,{"$f":"CN105","v":4},8,{"$f":"CP105","v":9.3700000000000001E-4},{"$f":"CQ105","v":1.7889999999999999},{"$f":"CR105","v":4},{"$f":"CS105","v":1.39E-3}]
["1959016",null,null,1,95,90,16,16.5,0,26,30,43.3,1638.1200000000001,2336.669516687492,2503.3688418217644,3409.2,1.5,1.1000000000000001,1.1000000000000001,1.1000000000000001,1169,1824,1954,2662,101,157,168,229,0.15685515523044433,0.37413425352165253,0.42759818960823864,0.7880408313931474,2.0829999999999999E-4,1.724,4,1.392796E-3,{"$f":"AK119*(1-(($E121-50)*0.005))","v":277.27902527746244},{"$f":"AL119*(1-(($E121-50)*0.005))","v":297.06026779273577},{"$f":"AM119*(1-(($E121-50)*0.005))","v":404.55},0.95,0.95,0.95,277,297,405,119,128,174,0.21666354439365651,0.25013674069294162,0.45824838024611242,1.8,7,7.7,10.7,null,2409,null,0.68,null,null,0,11.3,13.2,21.85,null,1,1,1,277,297,405,null,0,0,0,1]
["1359020",null,null,1,35,90,20,21.5,0,26,30,43.3,1483.2,2232.7836804230465,2401.8435041457315,2924.64,1.5,1.08,1.08,1.08,1058,1751,1884,2294,91,151,162,197,3.5029240973248665E-2,9.4834579626451532E-2,0.10891673537133954,0.16011957350838529,1.2760000000000001E-4,1.7219,2,3.76611E-4,275.93732338069162,296.83048721840407,361.44,0.95,0.95,0.95,276,297,361,119,128,155,5.9353068879593893E-2,6.85057463009488E-2,9.9843942617951306E-2,1.2,7,7.7,10.7,null,1854,null,0.8,null,null,0,11.3,13.2,21.85,null,1,1,1,276,297,361,null,0,0,0,1]
["1509020",null,null,1,50,90,20,21.5,0,26,30,43.3,1746.4,2232.7836804230465,2401.8435041457315,2924.64,1.5,1.08,1.08,1.08,1246,1751,1884,2294,107,151,162,197,4.8158172851050444E-2,9.4834579626451532E-2,0.10891673537133954,0.16011957350838529,1.2760000000000001E-4,1.7219,2,3.76611E-4,275.93732338069162,296.83048721840407,361.44,0.95,0.95,0.95,276,297,361,119,128,155,5.9353068879593893E-2,6.85057463009488E-2,9.9843942617951306E-2,1.2,7,7.7,10.7,null,2183,null,0.8,null,null,0,11.3,13.2,21.85,null,1,1,1,276,297,361,null,0,0,0,1]
["1659020",null,null,1,65,90,20,21.5,0,26,30,43.3,1933.6000000000001,2232.7836804230465,2401.8435041457315,2924.64,1.5,1.08,1.08,1.08,1380,1751,1884,2294,119,151,162,197,5.9353068879593893E-2,9.4834579626451532E-2,0.10891673537133954,0.16011957350838529,1.2760000000000001E-4,1.7219,2,3.76611E-4,275.93732338069162,296.83048721840407,361.44,0.95,0.95,0.95,276,297,361,119,128,155,5.9353068879593893E-2,6.85057463009488E-2,9.9843942617951306E-2,1.2,7,7.7,10.7,null,2417,null,0.8,null,null,0,11.3,13.2,21.85,null,1,1,1,276,297,361,null,0,0,0,1]
["1959020",null,null,1,95,90,20,21.5,0,26,30,43.3,2137.7836804230465,2232.7836804230465,2401.8435041457315,2924.64,1.5,1.08,1.08,1.08,1525,1751,1884,2294,131,151,162,197,7.1700530261989179E-2,9.4834579626451532E-2,0.10891673537133954,0.16011957350838529,1.2760000000000001E-4,1.7219,2,3.76611E-4,275.93732338069162,296.83048721840407,361.44,0.95,0.95,0.95,276,297,361,119,128,155,5.9353068879593893E-2,6.85057463009488E-2,9.9843942617951306E-2,1.2,7,7.7,10.7,null,2693,null,0.8,null,null,0,11.3,13.2,21.85,null,1,1,1,276,297,361,null,0,0,0,1]
["1359021",null,null,1,35,90,21,21.5,0,26,30,43.3,1522.4,3009.2947651024979,3223.9795559512399,4390.5600000000004,1.5,1.05,1.05,1.05,1086,2376,2545,3467,93,204,219,298,5.2856119130027204E-2,0.24557012647784476,0.28220360612938261,0.51636549160207501,1.2760000000000001E-4,1.7219,4,5.1420100000000005E-4,390.34964893343317,418.19741370243202,569.52,0.85,0.85,0.85,390,418,570,168,180,245,0.16789509816318576,0.19217671661448937,0.35163070513405226,2.4,7,7.7,10.7,null,1903,null,0.8,null,null,0,11.3,13.2,21.85,null,1,1,1,390,418,570,null,0,0,0,1]
["1509021",null,null,1,50,90,21,21.5,0,26,30,43.3,1859.2,3009.2947651024979,3223.9795559512399,4390.5600000000004,1.5,1.05,1.05,1.05,1327,2376,2545,3467,114,204,219,298,7.8654721788001064E-2,0.24557012647784476,0.28220360612938261,0.51636549160207501,1.2760000000000001E-4,1.7219,4,5.1420100000000005E-4,390.34964893343317,418.19741370243202,569.52,0.85,0.85,0.85,390,418,570,168,180,245,0.16789509816318576,0.19217671661448937,0.35163070513405226,2.4,7,7.7,10.7,null,2324,null,0.8,null,null,0,11.3,13.2,21.85,null,1,1,1,390,418,570,null,0,0,0,1]
["1659021",null,null,1,65,90,21,21.5,0,26,30,43.3,2181.6,3009.2947651024979,3223.9795559512399,4390.5600000000004,1.5,1.05,1.05,1.05,1557,2376,2545,3467,134,204,219,298,0.10787416210567184,0.24557012647784476,0.28220360612938261,0.51636549160207501,1.2760000000000001E-4,1.7219,4,5.1420100000000005E-4,{"$f":"AK127*(1-(($E128-50)*0.005))","v":361.07342526342569},{"$f":"AL127*(1-(($E128-50)*0.005))","v":386.83260767474962},{"$f":"AM127*(1-(($E128-50)*0.005))","v":526.80600000000004},0.85,0.85,0.85,361,387,527,155,166,227,0.14341158589090264,0.16400500069628438,0.30276558287201993,2.4,7,7.7,10.7,null,2727,null,0.8,null,null,0,11.3,13.2,21.85,null,1,1,1,361,387,527,null,0,0,0,1]
["1959021",null,null,1,95,90,21,21.5,0,26,30,43.3,2822.4,3009.2947651024979,3223.9795559512399,4390.5600000000004,1.5,1.05,1.05,1.05,2014,2376,2545,3467,173,204,219,298,0.1778164648200648,0.24557012647784476,0.28220360612938261,0.51636549160207501,1.2760000000000001E-4,1.7219,4,5.1420100000000005E-4,{"$f":"AK127*(1-(($E129-50)*0.005))","v":302.52097792341073},{"$f":"AL127*(1-(($E129-50)*0.005))","v":324.10299561938484},{"$f":"AM127*(1-(($E129-50)*0.005))","v":441.37799999999999},0.85,0.85,0.85,303,324,441,130,139,190,0.10166856840266857,0.11588498714575281,0.21364215145761875,2.4,7,7.7,10.7,null,3528,null,0.8,null,null,0,11.3,13.2,21.85,null,1,1,1,303,324,441,null,0,0,0,1]
["13510010",null,null,1,35,100,10,11.5,0,26,30,43,808.2,1574.3905475253332,1696.1265760133244,2081.98,1.5,1.08,1.08,1.08,577,1235,1330,1633,50,106,114,140,1.4894465294243903E-2,6.2151943031227098E-2,7.1407310896984919E-2,0.10572290690654358,3.969E-4,1.7345999999999999,2,3.6734700000000002E-4,218.26918973175157,235.14633901405676,288.64,0.98,0.98,0.98,218,235,289,94,101,124,4.9429305306709352E-2,5.6681136080738742E-2,8.3841493078660942E-2,0.7,7.8,8.6999999999999993,12.2,null,898,null,0.9,null,null,0,12.3,14.1,21.85,null,1,1,1,218,235,289,null,0,0,0,1]
["15010010",null,null,1,50,100,10,11.5,0,26,30,43,968.4,1574.3905475253332,1696.1265760133244,2081.98,1.5,1.08,1.08,1.08,691,1235,1330,1633,59,106,114,140,2.038632436986812E-2,6.2151943031227098E-2,7.1407310896984919E-2,0.10572290690654358,3.969E-4,1.7345999999999999,2,3.6734700000000002E-4,218.26918973175157,235.14633901405676,288.64,0.98,0.98,0.98,218,235,289,94,101,124,4.9429305306709352E-2,5.6681136080738742E-2,8.3841493078660942E-2,0.7,7.8,8.6999999999999993,12.2,null,1076,null,0.9,null,null,0,12.3,14.1,21.85,null,1,1,1,218,235,289,null,0,0,0,1]
["16510010",null,null,1,65,100,10,11.5,0,26,30,43,1089.9000000000001,1574.3905475253332,1696.1265760133244,2081.98,1.5,1.08,1.08,1.08,778,1235,1330,1633,67,106,114,140,2.5953504914028737E-2,6.2151943031227098E-2,7.1407310896984919E-2,0.10572290690654358,3.969E-4,1.7345999999999999,2,3.6734700000000002E-4,218.26918973175157,235.14633901405676,288.64,0.98,0.98,0.98,218,235,289,94,101,124,4.9429305306709352E-2,5.6681136080738742E-2,8.3841493078660942E-2,0.7,7.8,8.6999999999999993,12.2,null,1211,null,0.9,null,null,0,12.3,14.1,21.85,null,1,1,1,218,235,289,null,0,0,0,1]
["19510010",null,null,1,95,100,10,11.5,0,26,30,43,1253.7,1574.39054752533,1696.1265760133199,2081.98,1.5,1.08,1.08,1.08,895,1235,1330,1633,77,106,114,140,3.3810134439080694E-2,6.2151943031227098E-2,7.1407310896984919E-2,0.10572290690654358,3.969E-4,1.7345999999999999,2,3.6734700000000002E-4,218.26918973175157,235.14633901405676,288.64,0.98,0.98,0.98,218,235,289,94,101,124,4.9429305306709352E-2,5.6681136080738742E-2,8.3841493078660942E-2,0.7,7.8,8.6999999999999993,12.2,null,1393,null,0.9,null,null,0,12.3,14.1,21.85,null,1,1,1,218,235,289,null,0,0,0,1]
["13510011",null,null,1,35,100,11,11.5,0,26,30,43,813.28000000000009,2136.1856779144437,2301.3611872256411,2824.9,1.5,1.1000000000000001,1.1000000000000001,1.1000000000000001,580,1668,1797,2205,50,143,155,190,2.5858983588487802E-2,0.18804776535798132,0.21911871198426447,0.32261632041631727,3.969E-4,1.7345999999999999,4,5.7428799999999995E-4,358,385,473,0.95,0.95,0.95,358,385,473,154,166,203,0.21644289597218058,0.2495876591101075,0.36590011099410291,1.3,7.8,8.6999999999999993,12.2,null,1196,null,0.68,null,null,0,12.3,14.1,21.85,null,1,1,1,358,385,473,null,0,0,0,1]
["15010011",null,null,1,50,100,11,11.5,0,26,30,43,942.48,2136.1856779144437,2301.3611872256411,2824.9,1.5,1.1000000000000001,1.1000000000000001,1.1000000000000001,672,1668,1797,2205,58,143,155,190,3.4183133840257368E-2,0.18804776535798132,0.21911871198426447,0.32261632041631727,3.969E-4,1.7345999999999999,4,5.7428799999999995E-4,358,385,473,0.95,0.95,0.95,358,385,473,154,166,203,0.21644289597218058,0.2495876591101075,0.36590011099410291,1.3,7.8,8.6999999999999993,12.2,null,1386,null,0.68,null,null,0,12.3,14.1,21.85,null,1,1,1,358,385,473,null,0,0,0,1]
["16510011",null,null,1,65,100,11,11.5,0,26,30,43,1049.24,2136.1856779144437,2301.3611872256411,2824.9,1.5,1.1000000000000001,1.1000000000000001,1.1000000000000001,749,1668,1797,2205,64,143,155,190,4.1142469165316699E-2,0.18804776535798132,0.21911871198426447,0.32261632041631727,3.969E-4,1.7345999999999999,4,5.7428799999999995E-4,{"$f":"AK135*(1-(($E136-50)*0.005))","v":331.15000000000003},{"$f":"AL135*(1-(($E136-50)*0.005))","v":356.125},{"$f":"AM135*(1-(($E136-50)*0.005))","v":437.52500000000003},0.95,0.95,0.95,331,356,438,142,153,188,0.1855610396003198,0.21378279383702437,0.31618904083700439,1.3,7.8,8.6999999999999993,12.2,null,1543,null,0.68,null,null,0,12.3,14.1,21.85,null,1,1,1,331,356,438,null,0,0,0,1]
["19510011",null,null,1,95,100,11,11.5,0,26,30,43,1221.2800000000002,2136.1856779144437,2301.3611872256411,2824.9,1.5,1.1000000000000001,1.1000000000000001,1.1000000000000001,871,1668,1797,2205,75,143,155,190,5.5476553256958279E-2,0.18804776535798132,0.21911871198426447,0.32261632041631727,3.969E-4,1.7345999999999999,4,5.7428799999999995E-4,{"$f":"AK135*(1-(($E137-50)*0.005))","v":277.45},{"$f":"AL135*(1-(($E137-50)*0.005))","v":298.375},{"$f":"AM135*(1-(($E137-50)*0.005))","v":366.57499999999999},0.95,0.95,0.95,277,298,367,119,128,158,0.13274833989527998,0.15241102337390627,0.22724036708041567,1.3,7.8,8.6999999999999993,12.2,null,1796,null,0.68,null,null,0,12.3,14.1,21.85,null,1,1,1,277,298,367,null,0,0,0,1]
["13510015",null,null,1,35,100,15,16.5,0,26,30,44.1,1176,1798.7737222599399,1926.0891717740149,2655.16,1.5,1.08,1.08,1.08,839,1411,1511,2082,72,121,130,179,2.9027329048777435E-2,7.9882926528895518E-2,9.1900063797744749E-2,0.17176599623849034,2.0829999999999999E-4,1.724,2,4.6182900000000003E-4,245.53983484833029,262.91890485611941,362.44,1.01,1.01,1.01,246,263,362,106,113,156,6.1693712021988735E-2,6.989545441405931E-2,0.13124694650181259,1,7,7.7,10.7,null,1470,null,0.8,null,null,0,10.9,12.8,21.85,null,1,1,1,246,263,362,null,0,0,0,1]
["15010015",null,null,1,50,100,15,16.5,0,26,30,44.1,1387.2,1798.7737222599399,1926.0891717740149,2655.16,1.5,1.08,1.08,1.08,990,1411,1511,2082,85,121,130,179,4.0108422587570892E-2,7.9882926528895518E-2,9.1900063797744749E-2,0.17176599623849034,2.0829999999999999E-4,1.724,2,4.6182900000000003E-4,245.53983484833029,262.91890485611941,362.44,1.01,1.01,1.01,246,263,362,106,113,156,6.1693712021988735E-2,6.989545441405931E-2,0.13124694650181259,1,7,7.7,10.7,null,1734,null,0.8,null,null,0,10.9,12.8,21.85,null,1,1,1,246,263,362,null,0,0,0,1]
["16510015",null,null,1,65,100,15,16.5,0,26,30,44.1,1537.6000000000001,1798.7737222599399,1926.0891717740149,2655.16,1.5,1.08,1.08,1.08,1097,1411,1511,2082,94,121,130,179,4.8803411927384036E-2,7.9882926528895518E-2,9.1900063797744749E-2,0.17176599623849034,2.0829999999999999E-4,1.724,2,4.6182900000000003E-4,245.53983484833029,262.91890485611941,362.44,1.01,1.01,1.01,246,263,362,106,113,156,6.1693712021988735E-2,6.989545441405931E-2,0.13124694650181259,1,7,7.7,10.7,null,1922,null,0.8,null,null,0,10.9,12.8,21.85,null,1,1,1,246,263,362,null,0,0,0,1]
["19510015",null,null,1,95,100,15,16.5,0,26,30,44.1,1703.7737222599399,1798.7737222599399,1926.0891717740149,2655.16,1.5,1.08,1.08,1.08,1216,1411,1511,2082,105,121,130,179,6.0563034303867752E-2,7.9882926528895518E-2,9.1900063797744749E-2,0.17176599623849034,2.0829999999999999E-4,1.724,2,4.6182900000000003E-4,245.53983484833029,262.91890485611941,362.44,1.01,1.01,1.01,246,263,362,106,113,156,6.1693712021988735E-2,6.989545441405931E-2,0.13124694650181259,1,7,7.7,10.7,null,2146,null,0.8,null,null,0,10.9,12.8,21.85,null,1,1,1,246,263,362,null,0,0,0,1]
["13510016",null,null,1,35,100,16,16.5,0,26,30,44.1,1083.24,2630.3871448118639,2816.5633812075234,3882.7,1.5,1.1000000000000001,1.1000000000000001,1.1000000000000001,773,2054,2199,3031,66,177,189,261,6.9036289989775235E-2,0.4800973876606639,0.5463285500064492,1.0323140112813236,2.0829999999999999E-4,1.724,4,1.392796E-3,403,431,595,0.95,0.95,0.95,403,431,595,173,185,256,0.45896052508691165,0.52378160296818432,0.99366847477469411,2,7,7.7,10.7,null,1593,null,0.68,null,null,0,10.9,12.8,21.85,null,1,1,1,403,431,595,null,0,0,0,1]
["15010016",null,null,1,50,100,16,16.5,0,26,30,44.1,1290.6400000000001,2630.3871448118639,2816.5633812075234,3882.7,1.5,1.1000000000000001,1.1000000000000001,1.1000000000000001,921,2054,2199,3031,79,177,189,261,9.8246362381930949E-2,0.4800973876606639,0.5463285500064492,1.0323140112813236,2.0829999999999999E-4,1.724,4,1.392796E-3,403,431,595,0.95,0.95,0.95,403,431,595,173,185,256,0.45896052508691165,0.52378160296818432,0.99366847477469411,2,7,7.7,10.7,null,1898,null,0.68,null,null,0,10.9,12.8,21.85,null,1,1,1,403,431,595,null,0,0,0,1]
["16510016",null,null,1,65,100,16,16.5,0,26,30,44.1,1477.64,2630.3871448118639,2816.5633812075234,3882.7,1.5,1.1000000000000001,1.1000000000000001,1.1000000000000001,1054,2054,2199,3031,91,177,189,261,0.12969688314369895,0.4800973876606639,0.5463285500064492,1.0323140112813236,2.0829999999999999E-4,1.724,4,1.392796E-3,{"$f":"AK143*(1-(($E144-50)*0.005))","v":372.77500000000003},{"$f":"AL143*(1-(($E144-50)*0.005))","v":398.67500000000001},{"$f":"AM143*(1-(($E144-50)*0.005))","v":550.375},0.95,0.95,0.95,373,399,550,160,172,237,0.39351586381621806,0.45374980786181529,0.8534722991447381,2,7,7.7,10.7,null,2173,null,0.68,null,null,0,10.9,12.8,21.85,null,1,1,1,373,399,550,null,0,0,0,1]
["19510016",null,null,1,95,100,16,16.5,0,26,30,44.1,1820.3600000000001,2630.3871448118639,2816.5633812075234,3882.7,1.5,1.1000000000000001,1.1000000000000001,1.1000000000000001,1299,2054,2199,3031,112,177,189,261,0.19505779388975528,0.4800973876606639,0.5463285500064492,1.0323140112813236,2.0829999999999999E-4,1.724,4,1.392796E-3,{"$f":"AK143*(1-(($E145-50)*0.005))","v":312.32499999999999},{"$f":"AL143*(1-(($E145-50)*0.005))","v":334.02500000000003},{"$f":"AM143*(1-(($E145-50)*0.005))","v":461.125},0.95,0.95,0.95,312,334,461,134,144,198,0.27756578050968417,0.31980163896983926,0.59877598380752439,2,7,7.7,10.7,null,2677,null,0.68,null,null,0,10.9,12.8,21.85,null,1,1,1,312,334,461,null,0,0,0,1]
["13510020",null,null,1,35,100,20,21.5,0,26,30,44.1,1648,2518.7768428703835,2713.5353098724395,3330.84,1.5,1.08,1.08,1.08,1176,1975,2128,2612,101,170,183,225,4.3700647362502357E-2,0.12149545292969745,0.14043896852494522,0.21087888899397389,1.2760000000000001E-4,1.7219,2,3.76611E-4,311.2816285378957,335.35074484391049,411.64,0.95,0.95,0.95,311,335,412,134,144,177,7.6117387440108403E-2,8.7676786087461309E-2,0.13152753973488002,1.3,7,7.7,10.7,null,2060,null,0.8,null,null,0,10.9,12.8,21.85,null,1,1,1,311,335,412,null,0,0,0,1]
["15010020",null,null,1,50,100,20,21.5,0,26,30,44.1,1940,2518.7768428703835,2713.5353098724395,3330.84,1.5,1.08,1.08,1.08,1384,1975,2128,2612,119,170,183,225,6.029061158379944E-2,0.12149545292969745,0.14043896852494522,0.21087888899397389,1.2760000000000001E-4,1.7219,2,3.76611E-4,311.2816285378957,335.35074484391049,411.64,0.95,0.95,0.95,311,335,412,134,144,177,7.6117387440108403E-2,8.7676786087461309E-2,0.13152753973488002,1.3,7,7.7,10.7,null,2425,null,0.8,null,null,0,10.9,12.8,21.85,null,1,1,1,311,335,412,null,0,0,0,1]
["16510020",null,null,1,65,100,20,21.5,0,26,30,44.1,2148,2518.7768428703835,2713.5353098724395,3330.84,1.5,1.08,1.08,1.08,1533,1975,2128,2612,132,170,183,225,7.3902221424334252E-2,0.12149545292969745,0.14043896852494522,0.21087888899397389,1.2760000000000001E-4,1.7219,2,3.76611E-4,311.2816285378957,335.35074484391049,411.64,0.95,0.95,0.95,311,335,412,134,144,177,7.6117387440108403E-2,8.7676786087461309E-2,0.13152753973488002,1.3,7,7.7,10.7,null,2685,null,0.8,null,null,0,10.9,12.8,21.85,null,1,1,1,311,335,412,null,0,0,0,1]
["19510020",null,null,1,95,100,20,21.5,0,26,30,44.1,2393.6,2518.7768428703835,2713.5353098724395,3330.84,1.5,1.08,1.08,1.08,1708,1975,2128,2612,147,170,183,225,9.1301634079610811E-2,0.12149545292969745,0.14043896852494522,0.21087888899397389,1.2760000000000001E-4,1.7219,2,3.76611E-4,311.2816285378957,335.35074484391049,411.64,0.95,0.95,0.95,311,335,412,134,144,177,7.6117387440108403E-2,8.7676786087461309E-2,0.13152753973488002,1.3,7,7.7,10.7,null,2992,null,0.8,null,null,0,10.9,12.8,21.85,null,1,1,1,311,335,412,null,0,0,0,1]
["13510021",null,null,1,35,100,21,21.5,0,26,30,44.1,1691.2,3387.5608889256064,3627.3291443724347,5000.3599999999997,1.5,1.05,1.05,1.05,1207,2675,2864,3948,104,230,246,340,6.7231075783527244E-2,0.31649151807140574,0.36099859926961725,0.68037875512768187,1.2760000000000001E-4,1.7219,4,5.1420100000000005E-4,439.41631078060919,470.51776864522725,648.62,0.85,0.85,0.85,439,471,649,189,203,279,0.21560419169801393,0.24792046126884393,0.46186798350799674,2.7,7,7.7,10.7,null,2114,null,0.8,null,null,0,10.9,12.8,21.85,null,1,1,1,439,471,649,null,0,0,0,1]
["15010021",null,null,1,50,100,21,21.5,0,26,30,44.1,2065.6,3387.5608889256064,3627.3291443724347,5000.3599999999997,1.5,1.05,1.05,1.05,1474,2675,2864,3948,127,230,246,340,9.923031133978083E-2,0.31649151807140574,0.36099859926961725,0.68037875512768187,1.2760000000000001E-4,1.7219,4,5.1420100000000005E-4,439.41631078060919,470.51776864522725,648.62,0.85,0.85,0.85,439,471,649,189,203,279,0.21560419169801393,0.24792046126884393,0.46186798350799674,2.7,7,7.7,10.7,null,2582,null,0.8,null,null,0,10.9,12.8,21.85,null,1,1,1,439,471,649,null,0,0,0,1]
["16510021",null,null,1,65,100,21,21.5,0,26,30,44.1,2424,3387.5608889256064,3627.3291443724347,5000.3599999999997,1.5,1.05,1.05,1.05,1730,2675,2864,3948,149,230,246,340,0.13551311020394005,0.31649151807140574,0.36099859926961725,0.68037875512768187,1.2760000000000001E-4,1.7219,4,5.1420100000000005E-4,{"$f":"AK151*(1-(($E152-50)*0.005))","v":406.46008747206355},{"$f":"AL151*(1-(($E152-50)*0.005))","v":435.22893599683522},{"$f":"AM151*(1-(($E152-50)*0.005))","v":599.97350000000006},0.85,0.85,0.85,406,435,600,175,187,258,0.18550612673564695,0.21116854253394793,0.39626579576401511,2.7,7,7.7,10.7,null,3030,null,0.8,null,null,0,10.9,12.8,21.85,null,1,1,1,406,435,600,null,0,0,0,1]
["19510021",null,null,1,95,100,21,21.5,0,26,30,44.1,3136,3387.5608889256064,3627.3291443724347,5000.3599999999997,1.5,1.05,1.05,1.05,2238,2675,2864,3948,192,230,246,340,0.22234253970695608,0.31649151807140574,0.36099859926961725,0.68037875512768187,1.2760000000000001E-4,1.7219,4,5.1420100000000005E-4,{"$f":"AK151*(1-(($E153-50)*0.005))","v":340.54764085497214},{"$f":"AL151*(1-(($E153-50)*0.005))","v":364.65127070005116},{"$f":"AM151*(1-(($E153-50)*0.005))","v":502.68049999999999},0.85,0.85,0.85,341,365,503,147,157,216,0.13198622122702164,0.15007654668733886,0.27991043654837722,2.7,7,7.7,10.7,null,3920,null,0.8,null,null,0,10.9,12.8,21.85,null,1,1,1,341,365,503,null,0,0,0,1]
["13511010",null,null,1,35,110,10,11.5,0,26,30,43.5,889.2,1766.3893947845202,1902.9712804051933,2335.88,1.5,1.08,1.08,1.08,634,1385,1492,1832,{"$f":"ROUND(U154*3600/(4186*ABS($O$1-$O$2)),0)","v":55},{"$f":"ROUND(V154*3600/(4186*ABS($O$1-$O$2)),0)","v":119},{"$f":"ROUND(W154*3600/(4186*ABS($O$1-$O$2)),0)","v":128},{"$f":"ROUND(X154*3600/(4186*ABS($O$1-$O$2)),0)","v":158},1.8656552552070726E-2,8.0603275811184871E-2,9.2599605028954202E-2,0.13830835282173867,3.969E-4,1.7345999999999999,2,3.6734700000000002E-4,244.88738360147738,263.82272182064906,323.83999999999997,0.98,0.98,0.98,245,264,324,{"$f":"ROUND(AQ154*3600/(4186*ABS($AM$1-$AM$2)),0)","v":105},{"$f":"ROUND(AR154*3600/(4186*ABS($AM$1-$AM$2)),0)","v":114},{"$f":"ROUND(AS154*3600/(4186*ABS($AM$1-$AM$2)),0)","v":139},6.3532409410345894E-2,7.4283678081492499E-2,0.10834103483995079,0.7,8.4,9.3000000000000007,14,null,988,null,0.9,null,null,0,12,13.9,21.85,null,1,1,1,245,264,324,null,0,0,0,1]
["15011010",null,null,1,50,110,10,11.5,0,26,30,43.5,1065.6000000000001,1766.3893947845202,1902.9712804051933,2335.88,1.5,1.08,1.08,1.08,760,1385,1492,1832,65,119,128,158,2.5587068344776139E-2,8.0603275811184871E-2,9.2599605028954202E-2,0.13830835282173867,3.969E-4,1.7345999999999999,2,3.6734700000000002E-4,244.88738360147738,263.82272182064906,323.83999999999997,0.98,0.98,0.98,245,264,324,105,114,139,6.3532409410345894E-2,7.4283678081492499E-2,0.10834103483995079,0.7,8.4,9.3000000000000007,14,null,1184,null,0.9,null,null,0,12,13.9,21.85,null,1,1,1,245,264,324,null,0,0,0,1]
["16511010",null,null,1,65,110,10,11.5,0,26,30,43.5,{"$f":"IF($N156-($BE156*$BG156)>100,$BE156*$BG156,$N156-95)","v":1198.8},1766.3893947845202,1902.9712804051933,2335.88,1.5,1.08,1.08,1.08,{"$f":"ROUND(M156*POWER(CF_heat,Q156),0)","v":855},{"$f":"ROUND(N156*POWER(CF_heat,R156),0)","v":1385},{"$f":"ROUND(O156*POWER(CF_heat,S156),0)","v":1492},{"$f":"ROUND(P156*POWER(CF_heat,T156),0)","v":1832},74,119,128,158,3.2708247808455326E-2,8.0603275811184871E-2,9.2599605028954202E-2,0.13830835282173867,{"$f":"IF($G156=$CO$103,CP$103,IF($G156=$CO$104,CP$104,IF($G156=$CO$105,CP$105,IF($G156=$CO$107,CP$107,IF($G156=$CO$108,CP$108,IF($G156=$CO$109,CP$109,IF($G156=$CO$111,CP$111,IF($G156=$CO$112,CP$112,IF($G156=$CO$113,CP$113,IF($G156=$CO$115,CP$115,IF($G156=$CO$116,CP$116,IF($G156=$CO$117,CP$117,IF($G156=$CO$119,CP$119,IF($G156=$CO$120,CP$120,))))))))))))))","v":3.969E-4},{"$f":"IF($G156=$CO$103,CQ$103,IF($G156=$CO$104,CQ$104,IF($G156=$CO$105,CQ$105,IF($G156=$CO$107,CQ$107,IF($G156=$CO$108,CQ$108,IF($G156=$CO$109,CQ$109,IF($G156=$CO$111,CQ$111,IF($G156=$CO$112,CQ$112,IF($G156=$CO$113,CQ$113,IF($G156=$CO$115,CQ$115,IF($G156=$CO$116,CQ$116,IF($G156=$CO$117,CQ$117,IF($G156=$CO$119,CQ$119,IF($G156=$CO$120,CQ$120,))))))))))))))","v":1.7345999999999999},{"$f":"IF($G156=$CO$103,CR$103,IF($G156=$CO$104,CR$104,IF($G156=$CO$105,CR$105,IF($G156=$CO$107,CR$107,IF($G156=$CO$108,CR$108,IF($G156=$CO$109,CR$109,IF($G156=$CO$111,CR$111,IF($G156=$CO$112,CR$112,IF($G156=$CO$113,CR$113,IF($G156=$CO$115,CR$115,IF($G156=$CO$116,CR$116,IF($G156=$CO$117,CR$117,IF($G156=$CO$119,CR$119,IF($G156=$CO$120,CR$120,))))))))))))))","v":2},{"$f":"IF($G156=$CO$103,CS$103,IF($G156=$CO$104,CS$104,IF($G156=$CO$105,CS$105,IF($G156=$CO$107,CS$107,IF($G156=$CO$108,CS$108,IF($G156=$CO$109,CS$109,IF($G156=$CO$111,CS$111,IF($G156=$CO$112,CS$112,IF($G156=$CO$113,CS$113,IF($G156=$CO$115,CS$115,IF($G156=$CO$116,CS$116,IF($G156=$CO$117,CS$117,IF($G156=$CO$119,CS$119,IF($G156=$CO$120,CS$120,))))))))))))))","v":3.6734700000000002E-4},244.88738360147738,263.82272182064906,323.83999999999997,0.98,0.98,0.98,{"$f":"ROUND(AK156*POWER(CF_cool,AN156),0)","v":245},{"$f":"ROUND(AL156*POWER(CF_cool,AO156),0)","v":264},{"$f":"ROUND(AM156*POWER(CF_cool,AP156),0)","v":324},105,114,139,6.3532409410345894E-2,7.4283678081492499E-2,0.10834103483995079,{"$f":"ROUND(IF(G156=10,$CO$92*F156,IF(G156=11,$CO$93*F156,IF(G156=15,$CO$94*F156,IF(G156=16,$CO$95*F156,IF(G156=20,$CO$96*F156,IF(G156=21,$CO$97*F156,)))))),1)","v":0.7},8.4,9.3000000000000007,14,null,1332,null,{"$f":"IF(G156=10,0.9,IF(G156=11,0.68,IF(G156=15,0.8,IF(G156=16,0.68,IF(G156=20,0.8,IF(G156=21,0.8))))))","v":0.9},null,null,0,12,13.9,21.85,null,1,1,1,{"$f":"AQ156/BO156","v":245},{"$f":"AR156/BP156","v":264},{"$f":"AS156/BQ156","v":324},null,{"$f":"BR156-AQ156","v":0},{"$f":"BS156-AR156","v":0},{"$f":"BT156-AS156","v":0},1]
[{"$f":"CONCATENATE(D157,E157,F157,G157)","v":"19511010"},null,null,1,95,110,10,11.5,0,26,30,43.5,1378.8,1766.3893947845199,1902.9712804051901,2335.88,1.5,{"$f":"IF($G157=10,1.08,IF($G157=11,1.1,IF($G157=15,1.08,IF($G157=16,1.1,IF($G157=20,1.08,IF($G157=21,1.05))))))","v":1.08},1.08,1.08,984,1385,1492,1832,85,119,128,158,{"$f":"(($AG157*(Y157^$AH157)*((($F157-14.4)*$AI157)/100))+($AJ157*(Y157^2)))*0.0098","v":4.2535904739040731E-2},{"$f":"(($AG157*(Z157^$AH157)*((($F157-14.4)*$AI157)/100))+($AJ157*(Z157^2)))*0.0098","v":8.0603275811184871E-2},{"$f":"(($AG157*(AA157^$AH157)*((($F157-14.4)*$AI157)/100))+($AJ157*(AA157^2)))*0.0098","v":9.2599605028954202E-2},{"$f":"(($AG157*(AB157^$AH157)*((($F157-14.4)*$AI157)/100))+($AJ157*(AB157^2)))*0.0098","v":0.13830835282173867},3.969E-4,1.7345999999999999,2,3.6734700000000002E-4,244.88738360147738,263.82272182064906,323.83999999999997,0.98,0.98,0.98,245,264,324,105,114,139,{"$f":"(($AG157*(AT157^$AH157)*((($F157-14.4)*$AI157)/100))+($AJ157*(AT157^2)))*0.0098","v":6.3532409410345894E-2},{"$f":"(($AG157*(AU157^$AH157)*((($F157-14.4)*$AI157)/100))+($AJ157*(AU157^2)))*0.0098","v":7.4283678081492499E-2},{"$f":"(($AG157*(AV157^$AH157)*((($F157-14.4)*$AI157)/100))+($AJ157*(AV157^2)))*0.0098","v":0.10834103483995079},0.7,8.4,9.3000000000000007,14,null,1532,null,0.9,null,null,0,12,13.9,21.85,null,{"$f":"IF(1/(1+((2258*((0.622/((101325/(1*611*EXP(17.27*((($AM$1+$AM$2)/2)/((($AM$1+$AM$2)/2)+237.3))))))-1)*1000-(0.622/((101325/($AQ$1*611*EXP(17.27*($AM$3/($AM$3+237.3))))))-1)*1000))/(1005*((($AM$1+$AM$2)/2)-$AM$3))))>1,1,1/(1+((2258*((0.622/((101325/(1*611*EXP(17.27*((($AM$1+$AM$2)/2)/((($AM$1+$AM$2)/2)+237.3))))))-1)*1000-(0.622/((101325/($AQ$1*611*EXP(17.27*($AM$3/($AM$3+237.3))))))-1)*1000))/(1005*((($AM$1+$AM$2)/2)-$AM$3)))))","v":1},1,1,245,264,324,null,0,0,0,1]
["13511011",null,null,1,35,110,11,11.5,0,26,30,43.5,894.88000000000011,2396.6961264405954,2582.0149905458411,3169.4,1.5,1.1000000000000001,1.1000000000000001,1.1000000000000001,639,1871,2016,2474,55,161,173,213,3.2557869234141446E-2,0.24597270880165012,0.28182196378494073,0.41797960302434661,3.969E-4,1.7345999999999999,4,5.7428799999999995E-4,401.42051232401269,432.4594048025981,530.84,0.95,0.95,0.95,401,432,531,172,186,228,0.27874588734236166,0.32327190223067265,0.47558723983145007,1.5,8.4,9.3000000000000007,14,null,1316,null,0.68,null,null,0,12,13.9,21.85,null,1,1,1,401,432,531,null,0,0,0,1]
["15011011",null,null,1,50,110,11,11.5,0,26,30,43.5,1037,2396.6961264405954,2582.0149905458411,3169.4,1.5,1.1000000000000001,1.1000000000000001,1.1000000000000001,740,1871,2016,2474,64,161,173,213,4.3255797367993884E-2,0.24597270880165012,0.28182196378494073,0.41797960302434661,3.969E-4,1.7345999999999999,4,5.7428799999999995E-4,401.42051232401269,432.4594048025981,530.84,0.95,0.95,0.95,401,432,531,172,186,228,0.27874588734236166,0.32327190223067265,0.47558723983145007,1.5,8.4,9.3000000000000007,14,null,1525,null,0.68,null,null,0,12,13.9,21.85,null,1,1,1,401,432,531,null,0,0,0,1]
["16511011",null,null,1,65,110,11,11.5,0,26,30,43.5,1153.96,2396.6961264405954,2582.0149905458411,3169.4,1.5,1.1000000000000001,1.1000000000000001,1.1000000000000001,823,1871,2016,2474,71,161,173,213,5.2559853977011808E-2,0.24597270880165012,0.28182196378494073,0.41797960302434661,3.969E-4,1.7345999999999999,4,5.7428799999999995E-4,{"$f":"AK159*(1-(($E160-50)*0.005))","v":371.31397389971175},{"$f":"AL159*(1-(($E160-50)*0.005))","v":400.02494944240328},{"$f":"AM159*(1-(($E160-50)*0.005))","v":491.02700000000004},0.95,0.95,0.95,371,400,491,160,172,211,0.243090227688014,0.27874588734236166,0.41056718300834116,1.5,8.4,9.3000000000000007,14,null,1697,null,0.68,null,null,0,12,13.9,21.85,null,1,1,1,371,400,491,null,0,0,0,1]
["19511011",null,null,1,95,110,11,11.5,0,26,30,43.5,1343.68,2396.6961264405954,2582.0149905458411,3169.4,1.5,1.1000000000000001,1.1000000000000001,1.1000000000000001,959,1871,2016,2474,82,161,173,213,6.8897467443090901E-2,0.24597270880165012,0.28182196378494073,0.41797960302434661,3.969E-4,1.7345999999999999,4,5.7428799999999995E-4,{"$f":"AK159*(1-(($E161-50)*0.005))","v":311.10089705110983},{"$f":"AL159*(1-(($E161-50)*0.005))","v":335.15603872201353},{"$f":"AM159*(1-(($E161-50)*0.005))","v":411.40100000000001},0.95,0.95,0.95,311,335,411,134,144,177,0.17385168491035621,0.19917735207332266,0.29428702881790797,1.5,8.4,9.3000000000000007,14,null,1976,null,0.68,null,null,0,12,13.9,21.85,null,1,1,1,311,335,411,null,0,0,0,1]
["13511015",null,null,1,35,110,15,16.5,0,26,30,44.1,1293.6000000000001,1908.1501882577959,2043.2071973479594,2816.6099999999997,1.5,1.08,1.08,1.08,923,1496,1602,2209,79,129,138,190,3.5539395795289482E-2,9.2300683368990388E-2,0.10527066402536114,0.19649702710776104,2.0829999999999999E-4,1.724,2,4.6182900000000003E-4,249.80785427097814,267.48901053042016,368.74,1.01,1.01,1.01,250,267,369,108,115,159,6.5293712586279876E-2,7.3788401225819936E-2,0.1387762211751877,1.1000000000000001,7.9,8.8000000000000007,12.5,null,1617,null,0.8,null,null,0,10.9,12.8,21.85,null,1,1,1,250,267,369,null,0,0,0,1]
["15011015",null,null,1,50,110,15,16.5,0,26,30,44.1,1525.6000000000001,1908.1501882577959,2043.2071973479594,2816.6099999999997,1.5,1.08,1.08,1.08,1089,1496,1602,2209,94,129,138,190,4.9832891564788713E-2,9.2300683368990388E-2,0.10527066402536114,0.19649702710776104,2.0829999999999999E-4,1.724,2,4.6182900000000003E-4,249.80785427097814,267.48901053042016,368.74,1.01,1.01,1.01,250,267,369,108,115,159,6.5293712586279876E-2,7.3788401225819936E-2,0.1387762211751877,1.1000000000000001,7.9,8.8000000000000007,12.5,null,1907,null,0.8,null,null,0,10.9,12.8,21.85,null,1,1,1,250,267,369,null,0,0,0,1]
["16511015",null,null,1,65,110,15,16.5,0,26,30,44.1,1691.2,1908.1501882577959,2043.2071973479594,2816.6099999999997,1.5,1.08,1.08,1.08,1207,1496,1602,2209,104,129,138,190,6.0668108777895295E-2,9.2300683368990388E-2,0.10527066402536114,0.19649702710776104,2.0829999999999999E-4,1.724,2,4.6182900000000003E-4,249.80785427097814,267.48901053042016,368.74,1.01,1.01,1.01,250,267,369,108,115,159,6.5293712586279876E-2,7.3788401225819936E-2,0.1387762211751877,1.1000000000000001,7.9,8.8000000000000007,12.5,null,2114,null,0.8,null,null,0,10.9,12.8,21.85,null,1,1,1,250,267,369,null,0,0,0,1]
["19511015",null,null,1,95,110,15,16.5,0,26,30,44.1,1813.1501882577959,1908.1501882577959,2043.2071973479594,2816.6099999999997,1.5,1.08,1.08,1.08,1294,1496,1602,2209,111,129,138,190,6.8872021216798224E-2,9.2300683368990388E-2,0.10527066402536114,0.19649702710776104,2.0829999999999999E-4,1.724,2,4.6182900000000003E-4,249.80785427097814,267.48901053042016,368.74,1.01,1.01,1.01,250,267,369,108,115,159,6.5293712586279876E-2,7.3788401225819936E-2,0.1387762211751877,1.1000000000000001,7.9,8.8000000000000007,12.5,null,2361,null,0.8,null,null,0,10.9,12.8,21.85,null,1,1,1,250,267,369,null,0,0,0,1]
["13511016",null,null,1,35,110,16,16.5,0,26,30,44.1,1191.3600000000001,2849.7497938679544,3051.4523045945984,4206.5,1.5,1.1000000000000001,1.1000000000000001,1.1000000000000001,850,2225,2382,3284,73,191,205,282,8.5466878258329354E-2,0.56476814232501726,0.64910736540223946,1.2162714994016472,2.0829999999999999E-4,1.724,4,1.392796E-3,407.83296705301524,436.69898665540194,602,0.95,0.95,0.95,408,437,602,175,188,259,0.47548152700019564,0.54744957167687558,1.0285851673079258,2.2000000000000002,7.9,8.8000000000000007,12.5,null,1752,null,0.68,null,null,0,10.9,12.8,21.85,null,1,1,1,408,437,602,null,0,0,0,1]
["15011016",null,null,1,50,110,16,16.5,0,26,30,44.1,1419.8400000000001,2849.7497938679544,3051.4523045945984,4206.5,1.5,1.1000000000000001,1.1000000000000001,1.1000000000000001,1013,2225,2382,3284,87,191,205,282,0.12053752050946154,0.56476814232501726,0.64910736540223946,1.2162714994016472,2.0829999999999999E-4,1.724,4,1.392796E-3,407.83296705301524,436.69898665540194,602,0.95,0.95,0.95,408,437,602,175,188,259,0.47548152700019564,0.54744957167687558,1.0285851673079258,2.2000000000000002,7.9,8.8000000000000007,12.5,null,2088,null,0.68,null,null,0,10.9,12.8,21.85,null,1,1,1,408,437,602,null,0,0,0,1]
["16511016",null,null,1,65,110,16,16.5,0,26,30,44.1,1625.2,2849.7497938679544,3051.4523045945984,4206.5,1.5,1.1000000000000001,1.1000000000000001,1.1000000000000001,1160,2225,2382,3284,100,191,205,282,0.15839345908314606,0.56476814232501726,0.64910736540223946,1.2162714994016472,2.0829999999999999E-4,1.724,4,1.392796E-3,{"$f":"AK167*(1-(($E168-50)*0.005))","v":377.24549452403909},{"$f":"AL167*(1-(($E168-50)*0.005))","v":403.94656265624684},{"$f":"AM167*(1-(($E168-50)*0.005))","v":556.85},0.95,0.95,0.95,377,404,557,162,174,240,0.40852288178542379,0.47015290977661839,0.88526983964966888,2.2000000000000002,7.9,8.8000000000000007,12.5,null,2390,null,0.68,null,null,0,10.9,12.8,21.85,null,1,1,1,377,404,557,null,0,0,0,1]
["19511016",null,null,1,95,110,16,16.5,0,26,30,44.1,2002.6000000000001,2849.7497938679544,3051.4523045945984,4206.5,1.5,1.1000000000000001,1.1000000000000001,1.1000000000000001,1429,2225,2382,3284,123,191,205,282,0.2377935195361516,0.56476814232501726,0.64910736540223946,1.2162714994016472,2.0829999999999999E-4,1.724,4,1.392796E-3,{"$f":"AK167*(1-(($E169-50)*0.005))","v":316.07054946608685},{"$f":"AL167*(1-(($E169-50)*0.005))","v":338.44171465793653},{"$f":"AM167*(1-(($E169-50)*0.005))","v":466.55},0.95,0.95,0.95,316,338,467,136,145,201,0.28966885772381273,0.32853445351079952,0.62441925454457303,2.2000000000000002,7.9,8.8000000000000007,12.5,null,2945,null,0.68,null,null,0,10.9,12.8,21.85,null,1,1,1,316,338,467,null,0,0,0,1]
["13511020",null,null,1,35,110,20,21.5,0,26,30,44.1,1812.8000000000002,2692.551301713082,2900.746468081386,3560.6400000000003,1.5,1.08,1.08,1.08,1293,2112,2275,2792,111,182,196,240,5.3424913114991104E-2,0.14088231271581872,0.16294943153117869,0.24258448149029985,1.2760000000000001E-4,1.7219,2,3.76611E-4,317.17997831584631,341.70517057946222,419.44,0.95,0.95,0.95,317,342,419,136,147,180,7.9544712053658623E-2,9.2650629466224224E-2,0.13785909087762688,1.5,7.9,8.8000000000000007,12.5,null,2266,null,0.8,null,null,0,10.9,12.8,21.85,null,1,1,1,317,342,419,null,0,0,0,1]
["15011020",null,null,1,50,110,20,21.5,0,26,30,44.1,2134.4,2692.551301713082,2900.746468081386,3560.6400000000003,1.5,1.08,1.08,1.08,1523,2112,2275,2792,131,182,196,240,7.3912943178970431E-2,0.14088231271581872,0.16294943153117869,0.24258448149029985,1.2760000000000001E-4,1.7219,2,3.76611E-4,317.17997831584631,341.70517057946222,419.44,0.95,0.95,0.95,317,342,419,136,147,180,7.9544712053658623E-2,9.2650629466224224E-2,0.13785909087762688,1.5,7.9,8.8000000000000007,12.5,null,2668,null,0.8,null,null,0,10.9,12.8,21.85,null,1,1,1,317,342,419,null,0,0,0,1]
["16511020",null,null,1,65,110,20,21.5,0,26,30,44.1,2363.2000000000003,2692.551301713082,2900.746468081386,3560.6400000000003,1.5,1.08,1.08,1.08,1686,2112,2275,2792,145,182,196,240,9.0194568392921101E-2,0.14088231271581872,0.16294943153117869,0.24258448149029985,1.2760000000000001E-4,1.7219,2,3.76611E-4,317.17997831584631,341.70517057946222,419.44,{"$f":"IF($G172=10,0.98,IF($G172=11,0.95,IF($G172=15,1.01,IF($G172=16,0.95,IF($G172=20,0.95,IF($G172=21,0.85))))))","v":0.95},0.95,0.95,317,342,419,136,147,180,7.9544712053658623E-2,9.2650629466224224E-2,0.13785909087762688,1.5,7.9,8.8000000000000007,12.5,null,2954,null,0.8,null,null,0,10.9,12.8,21.85,null,1,1,1,317,342,419,null,0,0,0,1]
["19511020",null,null,1,95,110,20,21.5,0,26,30,44.1,2597.551301713082,2692.551301713082,2900.746468081386,3560.6400000000003,1.5,1.08,1.08,1.08,1853,2112,2275,2792,159,182,196,240,0.10806898126869131,0.14088231271581872,0.16294943153117869,0.24258448149029985,1.2760000000000001E-4,1.7219,2,3.76611E-4,317.17997831584631,341.70517057946222,419.44,0.95,0.95,0.95,317,342,419,136,147,180,7.9544712053658623E-2,9.2650629466224224E-2,0.13785909087762688,1.5,7.9,8.8000000000000007,12.5,null,3291,null,0.8,null,null,0,10.9,12.8,21.85,null,1,1,1,317,342,419,null,0,0,0,1]
["13511021",null,null,1,35,110,21,21.5,0,26,30,44.1,1860,3556.1815292902165,3807.8845891872675,5249.2599999999993,1.5,1.05,1.05,1.05,1327,2808,3007,4145,114,241,259,356,8.2137703551810867E-2,0.35310128138501551,0.40643245418374957,0.75693105159793073,1.2760000000000001E-4,1.7219,4,5.1420100000000005E-4,445.64897406447591,477.19157375690452,657.82,0.85,0.85,0.85,446,477,658,192,205,283,0.22661573879571267,0.25750136415425773,0.48325773512719011,2.9,7.9,8.8000000000000007,12.5,null,2325,null,0.8,null,null,0,10.9,12.8,21.85,null,1,1,1,446,477,658,null,0,0,0,1]
["15011021",null,null,1,50,110,21,21.5,0,26,30,44.1,2272,3556.1815292902165,3807.8845891872675,5249.2599999999993,1.5,1.05,1.05,1.05,1621,2808,3007,4145,139,241,259,356,0.12078530128330646,0.35310128138501551,0.40643245418374957,0.75693105159793073,1.2760000000000001E-4,1.7219,4,5.1420100000000005E-4,445.64897406447591,477.19157375690452,657.82,0.85,0.85,0.85,446,477,658,192,205,283,0.22661573879571267,0.25750136415425773,0.48325773512719011,2.9,7.9,8.8000000000000007,12.5,null,2840,null,0.8,null,null,0,10.9,12.8,21.85,null,1,1,1,446,477,658,null,0,0,0,1]
["16511021",null,null,1,65,110,21,21.5,0,26,30,44.1,2666.4,3556.1815292902165,3807.8845891872675,5249.2599999999993,1.5,1.05,1.05,1.05,1903,2808,3007,4145,164,241,259,356,0.16667463291891743,0.35310128138501551,0.40643245418374957,0.75693105159793073,1.2760000000000001E-4,1.7219,4,5.1420100000000005E-4,{"$f":"AK175*(1-(($E176-50)*0.005))","v":412.22530100964025},{"$f":"AL175*(1-(($E176-50)*0.005))","v":441.4022057251367},{"$f":"AM175*(1-(($E176-50)*0.005))","v":608.48350000000005},0.85,0.85,0.85,412,441,608,177,190,261,0.19338453244863477,0.22203583444111574,0.41258520497574347,2.9,7.9,8.8000000000000007,12.5,null,3333,null,0.8,null,null,0,10.9,12.8,21.85,null,1,1,1,412,441,608,null,0,0,0,1]
["19511021",null,null,1,95,110,21,21.5,0,26,30,44.1,3449.6000000000004,3556.1815292902165,3807.8845891872675,5249.2599999999993,1.5,1.05,1.05,1.05,2461,2808,3007,4145,212,241,259,356,0.27493251934630958,0.35310128138501551,0.40643245418374957,0.75693105159793073,1.2760000000000001E-4,1.7219,4,5.1420100000000005E-4,{"$f":"AK175*(1-(($E177-50)*0.005))","v":345.37795489996881},{"$f":"AL175*(1-(($E177-50)*0.005))","v":369.823469661601},{"$f":"AM175*(1-(($E177-50)*0.005))","v":509.81050000000005},0.85,0.85,0.85,345,370,510,148,159,219,0.13647363506510682,0.15691960150758269,0.29292317844461613,2.9,7.9,8.8000000000000007,12.5,null,4312,null,0.8,null,null,0,10.9,12.8,21.85,null,1,1,1,345,370,510,null,0,0,0,1]
["13512010",null,null,1,35,120,10,11.5,0,26,30,44,970.2,1924.9914127028867,2079.6202422788024,2589.7800000000002,1.5,1.08,1.08,1.08,692,1510,1631,2031,60,130,140,175,2.2936594977450916E-2,9.8985854052659E-2,0.11393853661367993,0.17413148637766063,3.969E-4,1.7345999999999999,2,3.6734700000000002E-4,266.87553260000635,288.31284965818764,359.04,0.98,0.98,0.98,267,288,359,115,124,154,7.844810437960871E-2,9.0497540707880797E-2,0.13655457969155813,0.8,8.9,9.9,14.8,null,1078,null,0.9,null,null,0,11.8,13.7,21.85,null,1,1,1,267,288,359,null,0,0,0,1]
["15012010",null,null,1,50,120,10,11.5,0,26,30,44,1161.9000000000001,1924.9914127028867,2079.6202422788024,2589.7800000000002,1.5,1.08,1.08,1.08,829,1510,1631,2031,71,130,140,175,3.15072142536241E-2,9.8985854052659E-2,0.11393853661367993,0.17413148637766063,3.969E-4,1.7345999999999999,2,3.6734700000000002E-4,266.87553260000635,288.31284965818764,359.04,0.98,0.98,0.98,267,288,359,115,124,154,7.844810437960871E-2,9.0497540707880797E-2,0.13655457969155813,0.8,8.9,9.9,14.8,null,1291,null,0.9,null,null,0,11.8,13.7,21.85,null,1,1,1,267,288,359,null,0,0,0,1]
["16512010",null,null,1,65,120,10,11.5,0,26,30,44,1307.7,1924.9914127028867,2079.6202422788024,2589.7800000000002,1.5,1.08,1.08,1.08,933,1510,1631,2031,80,130,140,175,3.9472403153369168E-2,9.8985854052659E-2,0.11393853661367993,0.17413148637766063,3.969E-4,1.7345999999999999,2,3.6734700000000002E-4,266.87553260000635,288.31284965818764,359.04,0.98,0.98,0.98,267,288,359,115,124,154,7.844810437960871E-2,9.0497540707880797E-2,0.13655457969155813,0.8,8.9,9.9,14.8,null,1453,null,0.9,null,null,0,11.8,13.7,21.85,null,1,1,1,267,288,359,null,0,0,0,1]
["19512010",null,null,1,95,120,10,11.5,0,26,30,44,1504.8,1924.9914127028901,2079.6202422788001,2589.7800000000002,1.5,1.08,1.08,1.08,1074,1510,1631,2031,92,130,140,175,5.1410924682722882E-2,9.8985854052659E-2,0.11393853661367993,0.17413148637766063,3.969E-4,1.7345999999999999,2,3.6734700000000002E-4,266.87553260000635,288.31284965818764,359.04,0.98,0.98,0.98,267,288,359,115,124,154,7.844810437960871E-2,9.0497540707880797E-2,0.13655457969155813,0.8,8.9,9.9,14.8,null,1672,null,0.9,null,null,0,11.8,13.7,21.85,null,1,1,1,267,288,359,null,0,0,0,1]
["13512011",null,null,1,35,120,11,11.5,0,26,30,44,975.80000000000007,2611.8926414972211,2821.6982019103875,3513.9,1.5,1.1000000000000001,1.1000000000000001,1.1000000000000001,696,2039,2203,2743,60,175,189,236,4.021406627490183E-2,0.30012112200532121,0.34704829521290631,0.52808528089261231,3.969E-4,1.7345999999999999,4,5.7428799999999995E-4,437,473,589,0.95,0.95,0.95,437,473,589,188,203,253,0.34358909156864093,0.39720266611384658,0.60239378849067871,1.6,8.9,9.9,14.8,null,1435,null,0.68,null,null,0,11.8,13.7,21.85,null,1,1,1,437,473,589,null,0,0,0,1]
["15012011",null,null,1,50,120,11,11.5,0,26,30,44,1130.8400000000001,2611.8926414972211,2821.6982019103875,3513.9,1.5,1.1000000000000001,1.1000000000000001,1.1000000000000001,807,2039,2203,2743,69,175,189,236,5.2222225060914139E-2,0.30012112200532121,0.34704829521290631,0.52808528089261231,3.969E-4,1.7345999999999999,4,5.7428799999999995E-4,437,473,589,0.95,0.95,0.95,437,473,589,188,203,253,0.34358909156864093,0.39720266611384658,0.60239378849067871,1.6,8.9,9.9,14.8,null,1663,null,0.68,null,null,0,11.8,13.7,21.85,null,1,1,1,437,473,589,null,0,0,0,{"$f":"IF(SUM(BV183:BX183)=0,1,0)","v":1}]
["16512011",null,null,1,65,120,11,11.5,0,26,30,44,1259.3600000000001,2611.8926414972211,2821.6982019103875,3513.9,1.5,1.1000000000000001,1.1000000000000001,1.1000000000000001,899,2039,2203,2743,77,175,189,236,6.412511446159723E-2,0.30012112200532121,0.34704829521290631,0.52808528089261231,3.969E-4,1.7345999999999999,4,5.7428799999999995E-4,{"$f":"AK183*(1-(($E184-50)*0.005))","v":404.22500000000002},{"$f":"AL183*(1-(($E184-50)*0.005))","v":437.52500000000003},{"$f":"AM183*(1-(($E184-50)*0.005))","v":544.82500000000005},0.95,0.95,0.95,404,438,545,174,188,234,0.29689321527590273,0.34358909156864093,0.51964975177923689,1.6,8.9,9.9,14.8,null,1852,null,0.68,null,null,0,11.8,13.7,21.85,null,1,1,1,404,438,545,null,0,0,0,1]
["19512011",null,null,1,95,120,11,11.5,0,26,30,44,1465.4,2611.8926414972211,2821.6982019103875,3513.9,1.5,1.1000000000000001,1.1000000000000001,1.1000000000000001,1046,2039,2203,2743,90,175,189,236,8.5901375910148306E-2,0.30012112200532121,0.34704829521290631,0.52808528089261231,3.969E-4,1.7345999999999999,4,5.7428799999999995E-4,{"$f":"AK183*(1-(($E185-50)*0.005))","v":338.67500000000001},{"$f":"AL183*(1-(($E185-50)*0.005))","v":366.57499999999999},{"$f":"AM183*(1-(($E185-50)*0.005))","v":456.47500000000002},0.95,0.95,0.95,339,367,456,146,158,196,0.21327463910111719,0.24750728668013899,0.37172332179516204,1.6,8.9,9.9,14.8,null,2155,null,0.68,null,null,0,11.8,13.7,21.85,null,1,1,1,339,367,456,null,0,0,0,1]
["13512015",null,null,1,35,120,15,16.5,0,26,30,44.8,1411.2,2216.9073865755149,2373.9948983307781,3302.76,1.5,1.08,1.08,1.08,1007,1739,1862,2590,87,150,160,223,4.3770223084705955E-2,0.12616601065937175,0.14306010269934949,0.27327410250387973,2.0829999999999999E-4,1.724,2,4.6182900000000003E-4,302.61675876046246,324.05983479376272,450.84,1.01,1.01,1.01,303,324,451,130,139,194,9.5500985484133716E-2,0.10878402336268925,0.20824992292405745,1.2,8.6999999999999993,9.8000000000000007,14.3,null,1764,null,0.8,null,null,0,10.6,12.5,21.85,null,1,1,1,303,324,451,null,0,0,0,1]
["15012015",null,null,1,50,120,15,16.5,0,26,30,44.8,1664.8000000000002,2216.9073865755149,2373.9948983307781,3302.76,1.5,1.08,1.08,1.08,1188,1739,1862,2590,102,150,160,223,5.9602862391888348E-2,0.12616601065937175,0.14306010269934949,0.27327410250387973,2.0829999999999999E-4,1.724,2,4.6182900000000003E-4,302.61675876046246,324.05983479376272,450.84,1.01,1.01,1.01,303,324,451,{"$f":"ROUND(AQ187*3600/(4186*ABS($AM$1-$AM$2)),0)","v":130},{"$f":"ROUND(AR187*3600/(4186*ABS($AM$1-$AM$2)),0)","v":139},{"$f":"ROUND(AS187*3600/(4186*ABS($AM$1-$AM$2)),0)","v":194},9.5500985484133716E-2,0.10878402336268925,0.20824992292405745,1.2,8.6999999999999993,9.8000000000000007,14.3,null,2081,null,0.8,null,null,0,10.6,12.5,21.85,null,1,1,1,303,324,451,null,0,0,0,1]
["16512015",null,null,1,65,120,15,16.5,0,26,30,44.8,1844.8000000000002,2216.9073865755149,2373.9948983307781,3302.76,1.5,1.08,1.08,1.08,1316,1739,1862,2590,113,150,160,223,7.2723475045895589E-2,0.12616601065937175,0.14306010269934949,0.27327410250387973,2.0829999999999999E-4,1.724,2,4.6182900000000003E-4,302.61675876046246,324.05983479376272,450.84,1.01,1.01,1.01,303,324,451,130,139,194,9.5500985484133716E-2,0.10878402336268925,0.20824992292405745,1.2,8.6999999999999993,9.8000000000000007,14.3,null,2306,null,0.8,null,null,0,10.6,12.5,21.85,null,1,1,1,303,324,451,null,0,0,0,1]
["19512015",null,null,1,95,120,15,16.5,0,26,30,44.8,2060,2216.9073865755149,2373.9948983307781,3302.76,1.5,1.08,1.08,1.08,1470,1739,1862,2590,{"$f":"ROUND(U189*3600/(4186*ABS($O$1-$O$2)),0)","v":126},{"$f":"ROUND(V189*3600/(4186*ABS($O$1-$O$2)),0)","v":150},{"$f":"ROUND(W189*3600/(4186*ABS($O$1-$O$2)),0)","v":160},{"$f":"ROUND(X189*3600/(4186*ABS($O$1-$O$2)),0)","v":223},8.9869145579124649E-2,0.12616601065937175,0.14306010269934949,0.27327410250387973,2.0829999999999999E-4,1.724,2,4.6182900000000003E-4,302.61675876046246,324.05983479376272,450.84,1.01,1.01,1.01,303,324,451,130,139,194,9.5500985484133716E-2,0.10878402336268925,0.20824992292405745,1.2,8.6999999999999993,9.8000000000000007,14.3,null,2575,null,0.8,null,null,0,10.6,12.5,21.85,null,1,1,1,303,324,451,null,0,0,0,1]
["13512016",null,null,1,35,120,16,16.5,0,26,30,44.8,1300.1600000000001,3241.8333772189817,3471.5459677567114,4829.7,1.5,1.1000000000000001,1.1000000000000001,1.1000000000000001,928,2531,2710,3771,80,218,233,324,0.10382134170366887,0.74138661467882749,0.84499496566697219,1.6164367454023814,2.0829999999999999E-4,1.724,4,1.392796E-3,496,532,740,0.95,0.95,0.95,496,532,740,213,229,318,0.70833668732811383,0.81671249966312653,1.5580377368272431,2.4,8.6999999999999993,9.8000000000000007,14.3,null,1912,null,0.68,null,null,0,10.6,12.5,21.85,null,1,1,1,496,532,740,null,0,0,0,1]
["15012016",null,null,1,50,120,16,16.5,0,26,30,44.8,1549.0400000000002,3241.8333772189817,3471.5459677567114,4829.7,1.5,1.1000000000000001,1.1000000000000001,1.1000000000000001,1105,2531,2710,3771,95,218,233,324,0.14532875506635198,0.74138661467882749,0.84499496566697219,1.6164367454023814,2.0829999999999999E-4,1.724,4,1.392796E-3,496,532,740,0.95,0.95,0.95,496,532,740,213,229,318,0.70833668732811383,0.81671249966312653,1.5580377368272431,2.4,8.6999999999999993,9.8000000000000007,14.3,null,2278,null,0.68,null,null,0,10.6,12.5,21.85,null,1,1,1,496,532,740,null,0,0,0,1]
["16512016",null,null,1,65,120,16,16.5,0,26,30,44.8,1773.44,3241.8333772189817,3471.5459677567114,4829.7,1.5,1.1000000000000001,1.1000000000000001,1.1000000000000001,1265,2531,2710,3771,109,218,233,324,0.1902333687724167,0.74138661467882749,0.84499496566697219,1.6164367454023814,2.0829999999999999E-4,1.724,4,1.392796E-3,{"$f":"AK191*(1-(($E192-50)*0.005))","v":458.8},{"$f":"AL191*(1-(($E192-50)*0.005))","v":492.1},{"$f":"AM191*(1-(($E192-50)*0.005))","v":684.5},0.95,0.95,0.95,459,492,685,197,212,295,0.60757684011728452,0.70181593762691341,1.3440144268614191,2.4,8.6999999999999993,9.8000000000000007,14.3,null,2608,null,0.68,null,null,0,10.6,12.5,21.85,null,1,1,1,459,492,685,null,0,0,0,1]
["19512016",null,null,1,95,120,16,16.5,0,26,30,44.8,2184.1600000000003,3241.8333772189817,3471.5459677567114,4829.7,1.5,1.1000000000000001,1.1000000000000001,1.1000000000000001,1558,2531,2710,3771,134,218,233,324,0.28515389727250756,0.74138661467882749,0.84499496566697219,1.6164367454023814,2.0829999999999999E-4,1.724,4,1.392796E-3,{"$f":"AK191*(1-(($E193-50)*0.005))","v":384.40000000000003},{"$f":"AL191*(1-(($E193-50)*0.005))","v":412.3},{"$f":"AM191*(1-(($E193-50)*0.005))","v":573.5},0.95,0.95,0.95,384,412,574,165,177,247,0.42896129586036635,0.49235797410866955,0.94772330907241786,2.4,8.6999999999999993,9.8000000000000007,14.3,null,3212,null,0.68,null,null,0,10.6,12.5,21.85,null,1,1,1,384,412,574,null,0,0,0,1]
["13512020",null,null,1,35,120,20,21.5,0,26,30,44.8,1977.6000000000001,3079.6829926739365,3327.0647594078355,4143.24,1.5,1.08,1.08,1.08,1411,2415,2609,3249,121,208,224,279,6.4225524606592685E-2,0.1855749132469651,0.2146103274757947,0.33023406948567835,1.2760000000000001E-4,1.7219,2,3.76611E-4,380.60090160569081,411.17343900116532,512.04,0.95,0.95,0.95,381,411,512,164,177,220,0.11646670942658871,0.13524222402195477,0.20715667478646135,1.6,8.6999999999999993,9.8000000000000007,14.3,null,2472,null,0.8,null,null,0,10.6,12.5,21.85,null,1,1,1,381,411,512,null,0,0,0,1]
["15012020",null,null,1,50,120,20,21.5,0,26,30,44.8,2328,3079.6829926739365,3327.0647594078355,4143.24,1.5,1.08,1.08,1.08,1661,2415,2609,3249,143,208,224,279,8.9057423748788681E-2,0.1855749132469651,0.2146103274757947,0.33023406948567835,1.2760000000000001E-4,1.7219,2,3.76611E-4,380.60090160569081,411.17343900116532,512.04,0.95,0.95,0.95,381,411,512,164,177,220,0.11646670942658871,0.13524222402195477,0.20715667478646135,1.6,8.6999999999999993,9.8000000000000007,14.3,null,2910,null,0.8,null,null,0,10.6,12.5,21.85,null,1,1,1,381,411,512,null,0,0,0,1]
["16512020",null,null,1,65,120,20,21.5,0,26,30,44.8,2577.6000000000004,3079.6829926739365,3327.0647594078355,4143.24,1.5,1.08,1.08,1.08,1839,2415,2609,3249,158,208,224,279,0.10826697277280642,0.1855749132469651,0.2146103274757947,0.33023406948567835,1.2760000000000001E-4,1.7219,2,3.76611E-4,380.60090160569081,411.17343900116532,512.04,0.95,0.95,0.95,381,411,512,164,177,220,0.11646670942658871,0.13524222402195477,0.20715667478646135,1.6,8.6999999999999993,9.8000000000000007,14.3,null,3222,null,0.8,null,null,0,10.6,12.5,21.85,null,1,1,1,381,411,512,null,0,0,0,1]
["19512020",null,null,1,95,120,20,21.5,0,26,30,44.8,2872,3079.6829926739365,3327.0647594078355,4143.24,1.5,1.08,1.08,1.08,2049,2415,2609,3249,176,208,224,279,0.13374895991037916,0.1855749132469651,0.2146103274757947,0.33023406948567835,1.2760000000000001E-4,1.7219,2,3.76611E-4,380.60090160569081,411.17343900116532,512.04,0.95,0.95,0.95,381,411,512,164,177,220,0.11646670942658871,0.13524222402195477,0.20715667478646135,1.6,8.6999999999999993,9.8000000000000007,14.3,null,3590,null,0.8,null,null,0,10.6,12.5,21.85,null,1,1,1,381,411,512,null,0,0,0,1]
["13512021",null,null,1,35,120,21,21.5,0,26,30,44.8,2029.6000000000001,4175.015825613802,4470.8526528786542,6219.96,1.5,1.05,1.05,1.05,1448,3296,3530,4911,125,283,304,422,0.10028815635603619,0.49159200971034805,0.56525436757201819,1.0725116519177567,1.2760000000000001E-4,1.7219,4,5.1420100000000005E-4,541.56076058716258,579.9351342123673,806.82,0.85,0.85,0.85,542,580,807,233,249,347,0.33654397258851859,0.38303545484733642,0.73178556707416287,3.2,8.6999999999999993,9.8000000000000007,14.3,null,2537,null,0.8,null,null,0,10.6,12.5,21.85,null,1,1,1,542,580,807,null,0,0,0,1]
["15012021",null,null,1,50,120,21,21.5,0,26,30,44.8,2478.4,4175.015825613802,4470.8526528786542,6219.96,1.5,1.05,1.05,1.05,1768,3296,3530,4911,152,283,304,422,0.14660483300442131,0.49159200971034805,0.56525436757201819,1.0725116519177567,1.2760000000000001E-4,1.7219,4,5.1420100000000005E-4,541.56076058716258,579.9351342123673,806.82,0.85,0.85,0.85,542,580,807,233,249,347,0.33654397258851859,0.38303545484733642,0.73178556707416287,3.2,8.6999999999999993,9.8000000000000007,14.3,null,3098,null,0.8,null,null,0,10.6,12.5,21.85,null,1,1,1,542,580,807,null,0,0,0,1]
["16512021",null,null,1,65,120,21,21.5,0,26,30,44.8,2908.8,4175.015825613802,4470.8526528786542,6219.96,1.5,1.05,1.05,1.05,2075,3296,3530,4911,178,283,304,422,0.19927051046342678,0.49159200971034805,0.56525436757201819,1.0725116519177567,1.2760000000000001E-4,1.7219,4,5.1420100000000005E-4,{"$f":"AK199*(1-(($E200-50)*0.005))","v":500.94370354312542},{"$f":"AL199*(1-(($E200-50)*0.005))","v":536.43999914643973},{"$f":"AM199*(1-(($E200-50)*0.005))","v":746.30850000000009},0.85,0.85,0.85,501,536,746,215,230,321,0.2877666589992251,0.32815493761612674,0.62857419857368524,3.2,8.6999999999999993,9.8000000000000007,14.3,null,3636,null,0.8,null,null,0,10.6,12.5,21.85,null,1,1,1,501,536,746,null,0,0,0,1]
["19512021",null,null,1,95,120,21,21.5,0,26,30,44.8,3763.2000000000003,4175.015825613802,4470.8526528786542,6219.96,1.5,1.05,1.05,1.05,2685,3296,3530,4911,231,283,304,422,0.33093975952119276,0.49159200971034805,0.56525436757201819,1.0725116519177567,1.2760000000000001E-4,1.7219,4,5.1420100000000005E-4,{"$f":"AK199*(1-(($E201-50)*0.005))","v":419.709589455051},{"$f":"AL199*(1-(($E201-50)*0.005))","v":449.44972901458465},{"$f":"AM199*(1-(($E201-50)*0.005))","v":625.28550000000007},0.85,0.85,0.85,420,449,625,181,193,269,0.2058541758789294,0.23323446987220386,0.44528690328701026,3.2,8.6999999999999993,9.8000000000000007,14.3,null,4704,null,0.8,null,null,0,10.6,12.5,21.85,null,1,1,1,420,449,625,null,0,0,0,1]
["13514010",null,null,1,35,140,10,11.5,0,26,30,44.8,1131.3,2267.7915432376717,2456.1428225151312,3097.58,1.5,1.08,1.08,1.08,807,1778,1926,2429,69,153,166,209,3.2261087837958786E-2,0.14445801004372538,0.16853243053054429,0.26063544201388444,3.969E-4,1.7345999999999999,2,3.6734700000000002E-4,314.40040300104783,340.51290804463417,429.44,0.98,0.98,0.98,314,341,429,135,147,184,0.11404996966906063,0.1339431496553784,0.20476735769324847,0.9,10.1,11.2,17.5,null,1257,null,0.9,null,null,0,11.5,13.3,21.85,null,1,1,1,314,341,429,null,0,0,0,1]
["15014010",null,null,1,50,140,10,11.5,0,26,30,44.8,1355.4,2267.7915432376717,2456.1428225151312,3097.58,1.5,1.08,1.08,1.08,967,1778,1926,2429,83,153,166,209,4.5633780931715273E-2,0.14445801004372538,0.16853243053054429,0.26063544201388444,3.969E-4,1.7345999999999999,2,3.6734700000000002E-4,314.40040300104783,340.51290804463417,429.44,0.98,0.98,0.98,314,341,429,135,147,184,0.11404996966906063,0.1339431496553784,0.20476735769324847,0.9,10.1,11.2,17.5,null,1506,null,0.9,null,null,0,11.5,13.3,21.85,null,1,1,1,314,341,429,null,0,0,0,1]
["16514010",null,null,1,65,140,10,11.5,0,26,30,44.8,1525.5,2267.7915432376717,2456.1428225151312,3097.58,1.5,1.08,1.08,1.08,1088,1778,1926,2429,94,153,166,209,5.76628099819941E-2,0.14445801004372538,0.16853243053054429,0.26063544201388444,3.969E-4,1.7345999999999999,2,3.6734700000000002E-4,314.40040300104783,340.51290804463417,429.44,0.98,0.98,0.98,314,341,429,135,147,184,0.11404996966906063,0.1339431496553784,0.20476735769324847,0.9,10.1,11.2,17.5,null,1695,null,0.9,null,null,0,11.5,13.3,21.85,null,1,1,1,314,341,429,null,0,0,0,1]
["19514010",null,null,1,95,140,10,11.5,0,26,30,44.8,1755,2267.7915432376699,2456.1428225151299,3097.58,1.5,1.08,1.08,1.08,1252,1778,1926,2429,108,153,166,209,7.4883419941827789E-2,0.14445801004372538,0.16853243053054429,0.26063544201388444,3.969E-4,1.7345999999999999,2,3.6734700000000002E-4,314.40040300104783,340.51290804463417,429.44,0.98,0.98,0.98,314,341,429,135,147,184,0.11404996966906063,0.1339431496553784,0.20476735769324847,0.9,10.1,11.2,17.5,null,1950,null,0.9,null,null,0,11.5,13.3,21.85,null,1,1,1,314,341,429,null,0,0,0,1]
["13514011",null,null,1,35,140,11,11.5,0,26,30,44.8,1138.3200000000002,3077.015307780141,3332.5766142436496,4202.8999999999996,1.5,1.1000000000000001,1.1000000000000001,1.1000000000000001,812,2402,2602,3281,70,207,224,282,5.8584603648209013E-2,0.44450269226506778,0.51557472310872998,0.79522620174472214,3.969E-4,1.7345999999999999,4,5.7428799999999995E-4,515,558,704,0.95,0.95,0.95,515,558,704,221,240,303,0.5026708586376617,0.58700184508997044,0.91049538023254029,1.9,10.1,11.2,17.5,null,1674,null,0.68,null,null,0,11.5,13.3,21.85,null,1,1,1,515,558,704,null,0,0,0,1]
["15014011",null,null,1,50,140,11,11.5,0,26,30,44.8,1319.2,3077.015307780141,3332.5766142436496,4202.8999999999996,1.5,1.1000000000000001,1.1000000000000001,1.1000000000000001,941,2402,2602,3281,81,207,224,282,7.6866085718810581E-2,0.44450269226506778,0.51557472310872998,0.79522620174472214,3.969E-4,1.7345999999999999,4,5.7428799999999995E-4,515,558,704,0.95,0.95,0.95,515,558,704,221,240,303,0.5026708586376617,0.58700184508997044,0.91049538023254029,1.9,10.1,11.2,17.5,null,1940,null,0.68,null,null,0,11.5,13.3,21.85,null,1,1,1,515,558,704,null,0,0,0,1]
["16514011",null,null,1,65,140,11,11.5,0,26,30,44.8,1468.8000000000002,3077.015307780141,3332.5766142436496,4202.8999999999996,1.5,1.1000000000000001,1.1000000000000001,1.1000000000000001,1048,2402,2602,3281,90,207,224,282,9.3536677893130943E-2,0.44450269226506778,0.51557472310872998,0.79522620174472214,3.969E-4,1.7345999999999999,4,5.7428799999999995E-4,{"$f":"AK207*(1-(($E208-50)*0.005))","v":476.375},{"$f":"AL207*(1-(($E208-50)*0.005))","v":516.15},{"$f":"AM207*(1-(($E208-50)*0.005))","v":651.20000000000005},0.95,0.95,0.95,476,516,651,205,222,280,0.43646931918504489,0.50695495722689443,0.78463445410904231,1.9,10.1,11.2,17.5,null,2160,null,0.68,null,null,0,11.5,13.3,21.85,null,1,1,1,476,516,651,null,0,0,0,1]
["19514011",null,null,1,95,140,11,11.5,0,26,30,44.8,1709.5200000000002,3077.015307780141,3332.5766142436496,4202.8999999999996,1.5,1.1000000000000001,1.1000000000000001,1.1000000000000001,1220,2402,2602,3281,105,207,224,282,0.1246976036774779,0.44450269226506778,0.51557472310872998,0.79522620174472214,3.969E-4,1.7345999999999999,4,5.7428799999999995E-4,{"$f":"AK207*(1-(($E209-50)*0.005))","v":399.125},{"$f":"AL207*(1-(($E209-50)*0.005))","v":432.45},{"$f":"AM207*(1-(($E209-50)*0.005))","v":545.6},0.95,0.95,0.95,399,432,546,172,186,235,0.31396967583423258,0.36361651706757825,0.56421016775479216,1.9,10.1,11.2,17.5,null,2514,null,0.68,null,null,0,11.5,13.3,21.85,null,1,1,1,399,432,546,null,0,0,0,1]
["13514015",null,null,1,35,140,15,16.5,0,26,30,45.4,1646.4,2628.9846104428207,2815.4584574952669,3950.36,1.5,1.08,1.08,1.08,1175,2062,2208,3098,101,177,190,266,6.0803693368084444E-2,0.18029092070853758,0.20688755958299987,0.39793806455132874,2.0829999999999999E-4,1.724,2,4.6182900000000003E-4,358.86695423586366,384.32138301819265,539.24,1.01,1.01,1.01,359,384,539,154,165,232,0.137621338941047,0.1573279392829452,0.30498467021762166,1.4,9.6,10.5,16.100000000000001,null,2058,null,0.8,null,null,0,10.4,12.2,21.85,null,1,1,1,359,384,539,null,0,0,0,1]
["15014015",null,null,1,50,140,15,16.5,0,26,30,45.4,1942.4,2628.9846104428207,2815.4584574952669,3950.36,1.5,1.08,1.08,1.08,1386,2062,2208,3098,119,177,190,266,8.3508425333673433E-2,0.18029092070853758,0.20688755958299987,0.39793806455132874,2.0829999999999999E-4,1.724,2,4.6182900000000003E-4,358.86695423586366,384.32138301819265,539.24,1.01,1.01,1.01,359,384,539,154,165,232,0.137621338941047,0.1573279392829452,0.30498467021762166,1.4,9.6,10.5,16.100000000000001,null,2428,null,0.8,null,null,0,10.4,12.2,21.85,null,1,1,1,359,384,539,null,0,0,0,1]
["16514015",null,null,1,65,140,15,16.5,0,26,30,45.4,2152.8000000000002,2628.9846104428207,2815.4584574952669,3950.36,1.5,1.08,1.08,1.08,1536,2062,2208,3098,132,177,190,266,0.10207661434375148,0.18029092070853758,0.20688755958299987,0.39793806455132874,2.0829999999999999E-4,1.724,2,4.6182900000000003E-4,358.86695423586366,384.32138301819265,539.24,1.01,1.01,1.01,359,384,539,154,165,232,0.137621338941047,0.1573279392829452,0.30498467021762166,1.4,9.6,10.5,16.100000000000001,null,2691,null,0.8,null,null,0,10.4,12.2,21.85,null,1,1,1,359,384,539,null,0,0,0,1]
["19514015",null,null,1,95,140,15,16.5,0,26,30,45.4,2403.2000000000003,2628.9846104428207,2815.4584574952669,3950.36,1.5,1.08,1.08,1.08,1715,2062,2208,3098,147,177,190,266,0.12575122722115373,0.18029092070853758,0.20688755958299987,0.39793806455132874,2.0829999999999999E-4,1.724,2,4.6182900000000003E-4,358.86695423586366,384.32138301819265,539.24,1.01,1.01,1.01,359,384,539,154,165,232,0.137621338941047,0.1573279392829452,0.30498467021762166,1.4,9.6,10.5,16.100000000000001,null,3004,null,0.8,null,null,0,10.4,12.2,21.85,null,1,1,1,359,384,539,null,0,0,0,1]
["13514016",null,null,1,35,140,16,16.5,0,26,30,45.4,1516.4,3844.4231409656436,4117.1080284867467,5776.7,1.5,1.1000000000000001,1.1000000000000001,1.1000000000000001,1082,3001,3214,4510,93,258,276,388,0.14344173124054665,1.0559926133482667,1.2053689200498885,2.3527630854060915,2.0829999999999999E-4,1.724,4,1.392796E-3,589,630,885,0.95,0.95,0.95,589,630,885,253,271,381,1.0162271216516092,1.1628994061160329,2.2700825079676186,2.8,9.6,10.5,16.100000000000001,null,2230,null,0.68,null,null,0,10.4,12.2,21.85,null,1,1,1,589,630,885,null,0,0,0,1]
["15014016",null,null,1,50,140,16,16.5,0,26,30,45.4,1806.7600000000002,3844.4231409656436,4117.1080284867467,5776.7,1.5,1.1000000000000001,1.1000000000000001,1.1000000000000001,1289,3001,3214,4510,111,258,276,388,0.20261733229997858,1.0559926133482667,1.2053689200498885,2.3527630854060915,2.0829999999999999E-4,1.724,4,1.392796E-3,589,630,885,0.95,0.95,0.95,589,630,885,253,271,381,1.0162271216516092,1.1628994061160329,2.2700825079676186,2.8,9.6,10.5,16.100000000000001,null,2657,null,0.68,null,null,0,10.4,12.2,21.85,null,1,1,1,589,630,885,null,0,0,0,1]
["16514016",null,null,1,65,140,16,16.5,0,26,30,45.4,2068.56,3844.4231409656436,4117.1080284867467,5776.7,1.5,1.1000000000000001,1.1000000000000001,1.1000000000000001,1476,3001,3214,4510,127,258,276,388,0.26359446389487778,1.0559926133482667,1.2053689200498885,2.3527630854060915,2.0829999999999999E-4,1.724,4,1.392796E-3,{"$f":"AK215*(1-(($E216-50)*0.005))","v":544.82500000000005},{"$f":"AL215*(1-(($E216-50)*0.005))","v":582.75},{"$f":"AM215*(1-(($E216-50)*0.005))","v":818.625},0.95,0.95,0.95,545,583,819,234,251,352,0.87197943857793048,1.000531452602585,1.9431016458059469,2.8,9.6,10.5,16.100000000000001,null,3042,null,0.68,null,null,0,10.4,12.2,21.85,null,1,1,1,545,583,819,null,0,0,0,1]
["19514016",null,null,1,95,140,16,16.5,0,26,30,45.4,2548.6400000000003,3844.4231409656436,4117.1080284867467,5776.7,1.5,1.1000000000000001,1.1000000000000001,1.1000000000000001,1818,3001,3214,4510,156,258,276,388,0.39410334425732674,1.0559926133482667,1.2053689200498885,2.3527630854060915,2.0829999999999999E-4,1.724,4,1.392796E-3,{"$f":"AK215*(1-(($E217-50)*0.005))","v":456.47500000000002},{"$f":"AL215*(1-(($E217-50)*0.005))","v":488.25},{"$f":"AM215*(1-(($E217-50)*0.005))","v":685.875},0.95,0.95,0.95,456,488,686,196,210,295,0.61614941249378397,0.70532679104282126,1.3735930863768393,2.8,9.6,10.5,16.100000000000001,null,3748,null,0.68,null,null,0,10.4,12.2,21.85,null,1,1,1,456,488,686,null,0,0,0,1]
["13514020",null,null,1,35,140,20,21.5,0,26,30,45.4,2307.2000000000003,3628.1091959950468,3929.4415695377957,4955.6400000000003,1.5,1.08,1.08,1.08,1646,2845,3082,3886,142,245,265,334,9.0384308805262187E-2,0.26237161414251958,0.30592500796073402,0.48134974943137049,1.2760000000000001E-4,1.7219,2,3.76611E-4,448.37784746172167,485.61784045001809,612.44000000000005,0.95,0.95,0.95,448,486,612,193,209,263,0.16455496588623258,0.1922740711354792,0.30142179085547277,1.9,9.6,10.5,16.100000000000001,null,2884,null,0.8,null,null,0,10.4,12.2,21.85,null,1,1,1,448,486,612,null,0,0,0,1]
["15014020",null,null,1,50,140,20,21.5,0,26,30,45.4,2716,3628.1091959950468,3929.4415695377957,4955.6400000000003,1.5,1.08,1.08,1.08,1938,2845,3082,3886,167,245,265,334,0.1240376978184978,0.26237161414251958,0.30592500796073402,0.48134974943137049,1.2760000000000001E-4,1.7219,2,3.76611E-4,448.37784746172167,485.61784045001809,612.44000000000005,0.95,0.95,0.95,448,486,612,193,209,263,0.16455496588623258,0.1922740711354792,0.30142179085547277,1.9,9.6,10.5,16.100000000000001,null,3395,null,0.8,null,null,0,10.4,12.2,21.85,null,1,1,1,448,486,612,null,0,0,0,1]
["16514020",null,null,1,65,140,20,21.5,0,26,30,45.4,{"$f":"IF($N220-($BE220*$BG220)>100,$BE220*$BG220,$N220-95)","v":3007.2000000000003},3628.1091959950468,3929.4415695377957,4955.6400000000003,1.5,1.08,1.08,1.08,{"$f":"ROUND(M220*POWER(CF_heat,Q220),0)","v":2146},{"$f":"ROUND(N220*POWER(CF_heat,R220),0)","v":2845},{"$f":"ROUND(O220*POWER(CF_heat,S220),0)","v":3082},{"$f":"ROUND(P220*POWER(CF_heat,T220),0)","v":3886},185,245,265,334,0.15149046798427879,0.26237161414251958,0.30592500796073402,0.48134974943137049,{"$f":"IF($G220=$CO$103,CP$103,IF($G220=$CO$104,CP$104,IF($G220=$CO$105,CP$105,IF($G220=$CO$107,CP$107,IF($G220=$CO$108,CP$108,IF($G220=$CO$109,CP$109,IF($G220=$CO$111,CP$111,IF($G220=$CO$112,CP$112,IF($G220=$CO$113,CP$113,IF($G220=$CO$115,CP$115,IF($G220=$CO$116,CP$116,IF($G220=$CO$117,CP$117,IF($G220=$CO$119,CP$119,IF($G220=$CO$120,CP$120,))))))))))))))","v":1.2760000000000001E-4},{"$f":"IF($G220=$CO$103,CQ$103,IF($G220=$CO$104,CQ$104,IF($G220=$CO$105,CQ$105,IF($G220=$CO$107,CQ$107,IF($G220=$CO$108,CQ$108,IF($G220=$CO$109,CQ$109,IF($G220=$CO$111,CQ$111,IF($G220=$CO$112,CQ$112,IF($G220=$CO$113,CQ$113,IF($G220=$CO$115,CQ$115,IF($G220=$CO$116,CQ$116,IF($G220=$CO$117,CQ$117,IF($G220=$CO$119,CQ$119,IF($G220=$CO$120,CQ$120,))))))))))))))","v":1.7219},{"$f":"IF($G220=$CO$103,CR$103,IF($G220=$CO$104,CR$104,IF($G220=$CO$105,CR$105,IF($G220=$CO$107,CR$107,IF($G220=$CO$108,CR$108,IF($G220=$CO$109,CR$109,IF($G220=$CO$111,CR$111,IF($G220=$CO$112,CR$112,IF($G220=$CO$113,CR$113,IF($G220=$CO$115,CR$115,IF($G220=$CO$116,CR$116,IF($G220=$CO$117,CR$117,IF($G220=$CO$119,CR$119,IF($G220=$CO$120,CR$120,))))))))))))))","v":2},{"$f":"IF($G220=$CO$103,CS$103,IF($G220=$CO$104,CS$104,IF($G220=$CO$105,CS$105,IF($G220=$CO$107,CS$107,IF($G220=$CO$108,CS$108,IF($G220=$CO$109,CS$109,IF($G220=$CO$111,CS$111,IF($G220=$CO$112,CS$112,IF($G220=$CO$113,CS$113,IF($G220=$CO$115,CS$115,IF($G220=$CO$116,CS$116,IF($G220=$CO$117,CS$117,IF($G220=$CO$119,CS$119,IF($G220=$CO$120,CS$120,))))))))))))))","v":3.76611E-4},448.37784746172167,485.61784045001809,612.44000000000005,0.95,0.95,0.95,{"$f":"ROUND(AK220*POWER(CF_cool,AN220),0)","v":448},{"$f":"ROUND(AL220*POWER(CF_cool,AO220),0)","v":486},{"$f":"ROUND(AM220*POWER(CF_cool,AP220),0)","v":612},193,209,263,0.16455496588623258,0.1922740711354792,0.30142179085547277,{"$f":"ROUND(IF(G220=10,$CO$92*F220,IF(G220=11,$CO$93*F220,IF(G220=15,$CO$94*F220,IF(G220=16,$CO$95*F220,IF(G220=20,$CO$96*F220,IF(G220=21,$CO$97*F220,)))))),1)","v":1.9},9.6,10.5,16.100000000000001,null,3759,null,{"$f":"IF(G220=10,0.9,IF(G220=11,0.68,IF(G220=15,0.8,IF(G220=16,0.68,IF(G220=20,0.8,IF(G220=21,0.8))))))","v":0.8},null,null,0,10.4,12.2,21.85,null,1,1,1,{"$f":"AQ220/BO220","v":448},{"$f":"AR220/BP220","v":486},{"$f":"AS220/BQ220","v":612},null,{"$f":"BR220-AQ220","v":0},{"$f":"BS220-AR220","v":0},{"$f":"BT220-AS220","v":0},1]
[{"$f":"CONCATENATE(D221,E221,F221,G221)","v":"19514020"},null,null,1,95,140,20,21.5,0,26,30,45.4,3351.2000000000003,3628.1091959950468,3929.4415695377957,4955.6400000000003,1.5,{"$f":"IF($G221=10,1.08,IF($G221=11,1.1,IF($G221=15,1.08,IF($G221=16,1.1,IF($G221=20,1.08,IF($G221=21,1.05))))))","v":1.08},1.08,1.08,2391,2845,3082,3886,206,245,265,334,{"$f":"(($AG221*(Y221^$AH221)*((($F221-14.4)*$AI221)/100))+($AJ221*(Y221^2)))*0.0098","v":0.18691541526202796},{"$f":"(($AG221*(Z221^$AH221)*((($F221-14.4)*$AI221)/100))+($AJ221*(Z221^2)))*0.0098","v":0.26237161414251958},{"$f":"(($AG221*(AA221^$AH221)*((($F221-14.4)*$AI221)/100))+($AJ221*(AA221^2)))*0.0098","v":0.30592500796073402},{"$f":"(($AG221*(AB221^$AH221)*((($F221-14.4)*$AI221)/100))+($AJ221*(AB221^2)))*0.0098","v":0.48134974943137049},1.2760000000000001E-4,1.7219,2,3.76611E-4,448.37784746172167,485.61784045001809,612.44000000000005,0.95,0.95,0.95,448,486,612,193,209,263,{"$f":"(($AG221*(AT221^$AH221)*((($F221-14.4)*$AI221)/100))+($AJ221*(AT221^2)))*0.0098","v":0.16455496588623258},{"$f":"(($AG221*(AU221^$AH221)*((($F221-14.4)*$AI221)/100))+($AJ221*(AU221^2)))*0.0098","v":0.1922740711354792},{"$f":"(($AG221*(AV221^$AH221)*((($F221-14.4)*$AI221)/100))+($AJ221*(AV221^2)))*0.0098","v":0.30142179085547277},1.9,9.6,10.5,16.100000000000001,null,4189,null,0.8,null,null,0,10.4,12.2,21.85,null,{"$f":"IF(1/(1+((2258*((0.622/((101325/(1*611*EXP(17.27*((($AM$1+$AM$2)/2)/((($AM$1+$AM$2)/2)+237.3))))))-1)*1000-(0.622/((101325/($AQ$1*611*EXP(17.27*($AM$3/($AM$3+237.3))))))-1)*1000))/(1005*((($AM$1+$AM$2)/2)-$AM$3))))>1,1,1/(1+((2258*((0.622/((101325/(1*611*EXP(17.27*((($AM$1+$AM$2)/2)/((($AM$1+$AM$2)/2)+237.3))))))-1)*1000-(0.622/((101325/($AQ$1*611*EXP(17.27*($AM$3/($AM$3+237.3))))))-1)*1000))/(1005*((($AM$1+$AM$2)/2)-$AM$3)))))","v":1},1,1,448,486,612,null,0,0,0,1]
["13514021",null,null,1,35,140,21,21.5,0,26,30,45.4,2368,4951.0649025572329,5302.2438770247491,7439.56,1.5,1.05,1.05,1.05,1690,3909,4186,5874,145,336,360,505,0.13904534034162952,0.7095813437342614,0.81150138458700172,1.5688563953148518,1.2760000000000001E-4,1.7219,4,5.1420100000000005E-4,642.22570316870622,687.77876463210498,965.02,0.85,0.85,0.85,642,688,965,276,296,415,0.48412380536530875,0.55460694628885931,1.0702397452319661,3.7,9.6,10.5,16.100000000000001,null,2960,null,0.8,null,null,0,10.4,12.2,21.85,null,1,1,1,642,688,965,null,0,0,0,1]
["15014021",null,null,1,50,140,21,21.5,0,26,30,45.4,2892,4951.0649025572329,5302.2438770247491,7439.56,1.5,1.05,1.05,1.05,2063,3909,4186,5874,177,336,360,505,0.20452858530985907,0.7095813437342614,0.81150138458700172,1.5688563953148518,1.2760000000000001E-4,1.7219,4,5.1420100000000005E-4,642.22570316870622,687.77876463210498,965.02,0.85,0.85,0.85,642,688,965,276,296,415,0.48412380536530875,0.55460694628885931,1.0702397452319661,3.7,9.6,10.5,16.100000000000001,null,3615,null,0.8,null,null,0,10.4,12.2,21.85,null,1,1,1,642,688,965,null,0,0,0,1]
["16514021",null,null,1,65,140,21,21.5,0,26,30,45.4,3393.6000000000004,4951.0649025572329,5302.2438770247491,7439.56,1.5,1.05,1.05,1.05,2421,3909,4186,5874,208,336,360,505,0.27961732660961097,0.7095813437342614,0.81150138458700172,1.5688563953148518,1.2760000000000001E-4,1.7219,4,5.1420100000000005E-4,{"$f":"AK223*(1-(($E224-50)*0.005))","v":594.05877543105328},{"$f":"AL223*(1-(($E224-50)*0.005))","v":636.19535728469714},{"$f":"AM223*(1-(($E224-50)*0.005))","v":892.64350000000002},0.85,0.85,0.85,594,636,893,255,273,384,0.41515990120672369,0.4739551655402911,0.92010190227933408,3.7,9.6,10.5,16.100000000000001,null,4242,null,0.8,null,null,0,10.4,12.2,21.85,null,1,1,1,594,636,893,null,0,0,0,1]
["19514021",null,null,1,95,140,21,21.5,0,26,30,45.4,4390.4000000000005,4951.0649025572329,5302.2438770247491,7439.56,1.5,1.05,1.05,1.05,3133,3909,4186,5874,269,336,360,505,0.4605610580955728,0.7095813437342614,0.81150138458700172,1.5688563953148518,1.2760000000000001E-4,1.7219,4,5.1420100000000005E-4,{"$f":"AK223*(1-(($E225-50)*0.005))","v":497.72491995574734},{"$f":"AL223*(1-(($E225-50)*0.005))","v":533.02854258988134},{"$f":"AM223*(1-(($E225-50)*0.005))","v":747.89049999999997},0.85,0.85,0.85,498,533,748,214,229,322,0.29546809618167652,0.33695787930912308,0.65321975396990584,3.7,9.6,10.5,16.100000000000001,null,5488,null,0.8,null,null,0,10.4,12.2,21.85,null,1,1,1,498,533,748,null,0,0,0,1]
["13516010",null,null,1,35,160,10,11.5,0,26,30,45.5,1293.3,2603.9362232520607,2826.6988006529018,3605.38,1.5,1.08,1.08,1.08,923,2042,2217,2827,79,176,191,243,4.4635398806030152E-2,0.20046748279247403,0.23384464098890503,0.3682343427384388,3.969E-4,1.7345999999999999,2,3.6734700000000002E-4,361.00257998610687,391.88577307200529,499.84,0.98,0.98,0.98,361,392,500,155,169,215,0.15784887533096326,0.18572654509721107,0.29228700277798675,1.1000000000000001,11,12.4,19.2,null,1437,null,0.9,null,null,0,11.2,13,21.85,null,1,1,1,361,392,500,null,0,0,0,1]
["15016010",null,null,1,50,160,10,11.5,0,26,30,45.5,1549.8,2603.9362232520607,2826.6988006529018,3605.38,1.5,1.08,1.08,1.08,1106,2042,2217,2827,95,176,191,243,6.3015162741537498E-2,0.20046748279247403,0.23384464098890503,0.3682343427384388,3.969E-4,1.7345999999999999,2,3.6734700000000002E-4,361.00257998610687,391.88577307200529,499.84,0.98,0.98,0.98,361,392,500,155,169,215,0.15784887533096326,0.18572654509721107,0.29228700277798675,1.1000000000000001,11,12.4,19.2,null,1722,null,0.9,null,null,0,11.2,13,21.85,null,1,1,1,361,392,500,null,0,0,0,1]
["16516010",null,null,1,65,160,10,11.5,0,26,30,45.5,1744.2,2603.9362232520607,2826.6988006529018,3605.38,1.5,1.08,1.08,1.08,1245,2042,2217,2827,107,{"$f":"ROUND(V228*3600/(4186*ABS($O$1-$O$2)),0)","v":176},{"$f":"ROUND(W228*3600/(4186*ABS($O$1-$O$2)),0)","v":191},{"$f":"ROUND(X228*3600/(4186*ABS($O$1-$O$2)),0)","v":243},7.8736822966830475E-2,0.20046748279247403,0.23384464098890503,0.3682343427384388,3.969E-4,1.7345999999999999,2,3.6734700000000002E-4,361.00257998610687,391.88577307200529,499.84,0.98,0.98,0.98,361,392,500,{"$f":"ROUND(AQ228*3600/(4186*ABS($AM$1-$AM$2)),0)","v":155},{"$f":"ROUND(AR228*3600/(4186*ABS($AM$1-$AM$2)),0)","v":169},{"$f":"ROUND(AS228*3600/(4186*ABS($AM$1-$AM$2)),0)","v":215},0.15784887533096326,0.18572654509721107,0.29228700277798675,1.1000000000000001,11,12.4,19.2,null,1938,null,0.9,null,null,0,11.2,13,21.85,null,1,1,1,361,392,500,null,0,0,0,1]
["13516011",null,null,1,35,160,11,11.5,0,26,30,45.5,1301.52,3533.107636511756,3835.359341571188,4891.8999999999996,1.5,1.1000000000000001,1.1000000000000001,1.1000000000000001,929,2758,2994,3819,{"$f":"ROUND(U229*3600/(4186*ABS($O$1-$O$2)),0)","v":80},237,257,328,8.1332929345351329E-2,0.61422385368791244,0.71480772824658112,1.1292825279207326,3.969E-4,1.7345999999999999,4,5.7428799999999995E-4,592,642,819,0.95,0.95,0.95,592,642,819,255,276,352,0.70442666719486835,0.81698629969873737,1.2893886583447325,2.1,11,12.4,19.2,null,1914,null,0.68,null,null,0,11.2,13,21.85,null,1,1,1,592,642,819,null,0,0,0,1]
["15016011",null,null,1,50,160,11,11.5,0,26,30,45.5,1508.24,3533.107636511756,3835.359341571188,4891.8999999999996,1.5,1.1000000000000001,1.1000000000000001,1.1000000000000001,1076,2758,2994,3819,93,237,257,328,0.10751492310277221,0.61422385368791244,0.71480772824658112,1.1292825279207326,3.969E-4,1.7345999999999999,4,5.7428799999999995E-4,592,642,819,0.95,0.95,0.95,592,642,819,255,276,352,0.70442666719486835,0.81698629969873737,1.2893886583447325,2.1,11,12.4,19.2,null,2218,null,0.68,null,null,0,11.2,13,21.85,null,1,1,1,592,642,819,null,0,0,0,1]
["16516011",null,null,1,65,160,11,11.5,0,26,30,45.5,1678.92,3533.107636511756,3835.359341571188,4891.8999999999996,1.5,1.1000000000000001,1.1000000000000001,1.1000000000000001,1198,2758,2994,3819,103,237,257,328,0.12994954765830097,0.61422385368791244,0.71480772824658112,1.1292825279207326,3.969E-4,1.7345999999999999,4,5.7428799999999995E-4,{"$f":"AK230*(1-(($E231-50)*0.005))","v":547.6},{"$f":"AL230*(1-(($E231-50)*0.005))","v":593.85},{"$f":"AM230*(1-(($E231-50)*0.005))","v":757.57500000000005},0.95,0.95,0.95,548,594,758,236,255,326,0.6093833662343594,0.70442666719486835,1.1163933738472955,2.1,11,12.4,19.2,null,2469,null,0.68,null,null,0,11.2,13,21.85,null,1,1,1,548,594,758,null,0,0,0,1]
["13516015",null,null,1,35,160,15,16.5,0,26,30,46.4,1881.6000000000001,3021.1783832091446,3225.6120441880121,4597.96,1.5,1.08,1.08,1.08,1343,2369,2530,3606,115,204,218,310,8.1075563192775951E-2,0.24535535943304876,0.27900545112342201,0.55221870136410589,2.0829999999999999E-4,1.724,2,4.6182900000000003E-4,412.40297880742492,440.30899429620177,627.64,1.01,1.01,1.01,412,440,628,177,189,270,0.18642121393254038,0.21164255392481759,0.42236240265801678,1.6,11.5,12.8,19.600000000000001,null,2352,null,0.8,null,null,0,10,11.8,21.85,null,1,1,1,412,440,628,null,0,0,0,1]
["15016015",null,null,1,50,160,15,16.5,0,26,30,46.4,2219.2000000000003,3021.1783832091446,3225.6120441880121,4597.96,1.5,1.08,1.08,1.08,1583,2369,2530,3606,136,204,218,310,0.11204679264720135,0.24535535943304876,0.27900545112342201,0.55221870136410589,2.0829999999999999E-4,1.724,2,4.6182900000000003E-4,412.40297880742492,440.30899429620177,627.64,1.01,1.01,1.01,412,440,628,177,189,270,0.18642121393254038,0.21164255392481759,0.42236240265801678,1.6,11.5,12.8,19.600000000000001,null,2774,null,0.8,null,null,0,10,11.8,21.85,null,1,1,1,412,440,628,null,0,0,0,1]
["16516015",null,null,1,65,160,15,16.5,0,26,30,46.4,2460,3021.1783832091446,3225.6120441880121,4597.96,1.5,1.08,1.08,1.08,1755,2369,2530,3606,151,204,218,310,0.13713177914591443,0.24535535943304876,0.27900545112342201,0.55221870136410589,2.0829999999999999E-4,1.724,2,4.6182900000000003E-4,412.40297880742492,440.30899429620177,627.64,1.01,1.01,1.01,412,440,628,177,189,270,0.18642121393254038,0.21164255392481759,0.42236240265801678,1.6,11.5,12.8,19.600000000000001,null,3075,null,0.8,null,null,0,10,11.8,21.85,null,1,1,1,412,440,628,null,0,0,0,1]
["13516016",null,null,1,35,160,16,16.5,0,26,30,46.4,1733.3200000000002,4417.9368883555589,4716.8848144627045,6723.7,1.5,1.1000000000000001,1.1000000000000001,1.1000000000000001,1237,3449,3683,5249,106,297,317,451,0.19024238408718408,1.4218556466193635,1.6153748832768098,3.2239502067344685,2.0829999999999999E-4,1.724,4,1.392796E-3,676,722,1030,0.95,0.95,0.95,676,722,1030,291,310,443,1.3661686148172167,1.5462621883682115,3.112728234709111,3.2,11.5,12.8,19.600000000000001,null,2549,null,0.68,null,null,0,10,11.8,21.85,null,1,1,1,676,722,1030,null,0,0,0,1]
["15016016",null,null,1,50,160,16,16.5,0,26,30,46.4,2065.1600000000003,4417.9368883555589,4716.8848144627045,6723.7,1.5,1.1000000000000001,1.1000000000000001,1.1000000000000001,1474,3449,3683,5249,127,297,317,451,0.27051218338399846,1.4218556466193635,1.6153748832768098,3.2239502067344685,2.0829999999999999E-4,1.724,4,1.392796E-3,676,722,1030,{"$f":"IF($G236=10,0.98,IF($G236=11,0.95,IF($G236=15,1.01,IF($G236=16,0.95,IF($G236=20,0.95,IF($G236=21,0.85))))))","v":0.95},0.95,0.95,676,722,1030,291,310,443,1.3661686148172167,1.5462621883682115,3.112728234709111,3.2,11.5,12.8,19.600000000000001,null,3037,null,0.68,null,null,0,10,11.8,21.85,null,1,1,1,676,722,1030,null,0,0,0,1]
["16516016",null,null,1,65,160,16,16.5,0,26,30,46.4,2364.36,4417.9368883555589,4716.8848144627045,6723.7,1.5,1.1000000000000001,1.1000000000000001,1.1000000000000001,1687,3449,3683,5249,145,297,317,451,0.35026865941602947,1.4218556466193635,1.6153748832768098,3.2239502067344685,2.0829999999999999E-4,1.724,4,1.392796E-3,{"$f":"AK236*(1-(($E237-50)*0.005))","v":625.30000000000007},{"$f":"AL236*(1-(($E237-50)*0.005))","v":667.85},{"$f":"AM236*(1-(($E237-50)*0.005))","v":952.75},0.95,0.95,0.95,625,668,953,269,287,410,1.1713506613014071,1.3296518667136978,2.6742827452925968,3.2,11.5,12.8,19.600000000000001,null,3477,null,0.68,null,null,0,10,11.8,21.85,null,1,1,1,625,668,953,null,0,0,0,1]
["13516020",null,null,1,35,160,20,21.5,0,26,30,46.4,2636.8,4165.887726998767,4522.2727563025155,5768.04,1.5,1.08,1.08,1.08,1881,3267,3547,4524,162,281,305,389,0.12007942087887613,0.3513653688085987,0.41235697482772449,0.66342434491024516,1.2760000000000001E-4,1.7219,2,3.76611E-4,514.83890668473202,558.88255136973487,712.84,0.95,0.95,0.95,515,559,713,221,240,307,0.21989661309334549,0.25827229749987091,0.41765567382317259,2.1,11.5,12.8,19.600000000000001,null,3296,null,0.8,null,null,0,10,11.8,21.85,null,1,1,1,515,559,713,null,0,0,0,1]
["15016020",null,null,1,50,160,20,21.5,0,26,30,46.4,3104,4165.887726998767,4522.2727563025155,5768.04,1.5,1.08,1.08,1.08,2215,3267,3547,4524,190,281,305,389,0.16379044563992917,0.3513653688085987,0.41235697482772449,0.66342434491024516,1.2760000000000001E-4,1.7219,2,3.76611E-4,514.83890668473202,558.88255136973487,712.84,0.95,0.95,0.95,515,559,713,221,240,307,0.21989661309334549,0.25827229749987091,0.41765567382317259,2.1,11.5,12.8,19.600000000000001,null,3880,null,0.8,null,null,0,10,11.8,21.85,null,1,1,1,515,559,713,null,0,0,0,1]
["16516020",null,null,1,65,160,20,21.5,0,26,30,46.4,3436.8,4165.887726998767,4522.2727563025155,5768.04,1.5,1.08,1.08,1.08,2452,3267,3547,4524,211,281,305,389,0.20091495081118751,0.3513653688085987,0.41235697482772449,0.66342434491024516,1.2760000000000001E-4,1.7219,2,3.76611E-4,514.83890668473202,558.88255136973487,712.84,0.95,0.95,0.95,515,559,713,221,240,307,0.21989661309334549,0.25827229749987091,0.41765567382317259,2.1,11.5,12.8,19.600000000000001,null,4296,null,0.8,null,null,0,10,11.8,21.85,null,1,1,1,515,559,713,null,0,0,0,1]
["13516021",null,null,1,35,160,21,21.5,0,26,30,46.4,2705.6000000000004,5689.6682460807178,6074.6702425752001,8659.16,1.5,1.05,1.05,1.05,1930,4492,4796,6837,166,386,412,588,0.1872879985550662,0.95789835596811579,1.0870494190212092,2.1697162791451228,1.2760000000000001E-4,1.7219,4,5.1420100000000005E-4,738.0333851508442,787.97378843505794,1123.22,0.85,0.85,0.85,738,788,1123,317,339,483,0.65390832051840242,0.74470210261054104,1.4802227109968673,4.3,11.5,12.8,19.600000000000001,null,3382,null,0.8,null,null,0,10,11.8,21.85,null,1,1,1,738,788,1123,null,0,0,0,1]
["15016021",null,null,1,50,160,21,21.5,0,26,30,46.4,3304.8,5689.6682460807178,6074.6702425752001,8659.16,1.5,1.05,1.05,1.05,2358,4492,4796,6837,203,386,412,588,0.27614100775060368,0.95789835596811579,1.0870494190212092,2.1697162791451228,1.2760000000000001E-4,1.7219,4,5.1420100000000005E-4,738.0333851508442,787.97378843505794,1123.22,0.85,0.85,0.85,738,788,1123,317,339,483,0.65390832051840242,0.74470210261054104,1.4802227109968673,4.3,11.5,12.8,19.600000000000001,null,4131,null,0.8,null,null,0,10,11.8,21.85,null,1,1,1,738,788,1123,null,0,0,0,1]
["16516021",null,null,1,65,160,21,21.5,0,26,30,46.4,3878.4,5689.6682460807178,6074.6702425752001,8659.16,1.5,1.05,1.05,1.05,2767,4492,4796,6837,238,386,412,588,0.37549749742324318,0.95789835596811579,1.0870494190212092,2.1697162791451228,1.2760000000000001E-4,1.7219,4,5.1420100000000005E-4,{"$f":"AK242*(1-(($E243-50)*0.005))","v":682.68088126453097},{"$f":"AL242*(1-(($E243-50)*0.005))","v":728.87575430242862},{"$f":"AM242*(1-(($E243-50)*0.005))","v":1038.9785000000002},0.85,0.85,0.85,683,729,1039,294,313,447,0.56514789147038746,0.6380188401493293,1.2734730104129646,4.3,11.5,12.8,19.600000000000001,null,4848,null,0.8,null,null,0,10,11.8,21.85,null,1,1,1,683,729,1039,null,0,0,0,1]
["13518010",null,null,1,35,180,10,11.5,0,26,30,46,1454.4,2970.6878039917879,3224.8253922941558,4113.18,1.5,1.08,1.08,1.08,1038,2330,2529,3226,89,200,217,277,5.9519010800473553E-2,0.27028861945847477,0.31500621168669868,0.49841362806075101,3.969E-4,1.7345999999999999,2,3.6734700000000002E-4,411.84801378696699,447.08095237792156,570.24,0.98,0.98,0.98,412,447,570,{"$f":"ROUND(AQ244*3600/(4186*ABS($AM$1-$AM$2)),0)","v":177},{"$f":"ROUND(AR244*3600/(4186*ABS($AM$1-$AM$2)),0)","v":192},{"$f":"ROUND(AS244*3600/(4186*ABS($AM$1-$AM$2)),0)","v":245},0.21495642722836134,0.25036580839638034,0.39566467113231368,1.2,12.2,13.7,22,null,1616,null,0.9,null,null,0,10.9,12.7,21.85,null,1,1,1,412,447,570,null,0,0,0,1]
["15018010",null,null,1,50,180,10,11.5,0,26,30,46,1743.3,2970.6878039917879,3224.8253922941558,4113.18,1.5,1.08,1.08,1.08,1244,2330,2529,3226,107,200,217,277,8.3890726276917058E-2,0.27028861945847477,0.31500621168669868,0.49841362806075101,3.969E-4,1.7345999999999999,2,3.6734700000000002E-4,411.84801378696699,447.08095237792156,570.24,0.98,0.98,0.98,412,447,570,177,192,245,0.21495642722836134,0.25036580839638034,0.39566467113231368,1.2,12.2,13.7,22,null,1937,null,0.9,null,null,0,10.9,12.7,21.85,null,1,1,1,412,447,570,null,0,0,0,1]
["16518010",null,null,1,65,180,10,11.5,0,26,30,46,1962,2970.6878039917879,3224.8253922941558,4113.18,1.5,1.08,1.08,1.08,1400,2330,2529,3226,120,200,217,277,0.10390493903289866,0.27028861945847477,0.31500621168669868,0.49841362806075101,3.969E-4,1.7345999999999999,2,3.6734700000000002E-4,411.84801378696699,447.08095237792156,570.24,0.98,0.98,0.98,412,447,570,177,192,245,0.21495642722836134,0.25036580839638034,0.39566467113231368,1.2,12.2,13.7,22,null,2180,null,0.9,null,null,0,10.9,12.7,21.85,null,1,1,1,412,447,570,null,0,0,0,1]
["13518011",null,null,1,35,180,11,11.5,0,26,30,46,1464.0400000000002,4030.7284303866513,4375.55079813051,5580.9,1.5,1.1000000000000001,1.1000000000000001,1.1000000000000001,1045,3147,3416,4357,90,271,294,375,0.10880728185909622,0.84114261538251256,0.97920937003276931,1.542963405794187,3.969E-4,1.7345999999999999,4,5.7428799999999995E-4,675.10313623602258,732.85712932403612,934.74,0.95,0.95,0.95,675,733,935,290,315,402,0.95449169552535984,1.1138291531732329,1.7573589514811909,2.4,12.2,13.7,22,null,2153,null,0.68,null,null,0,10.9,12.7,21.85,null,1,1,1,675,733,935,null,0,0,0,{"$f":"IF(SUM(BV247:BX247)=0,1,0)","v":1}]
["15018011",null,null,1,50,180,11,11.5,0,26,30,46,1696.6000000000001,4030.7284303866513,4375.55079813051,5580.9,1.5,1.1000000000000001,1.1000000000000001,1.1000000000000001,1211,3147,3416,4357,104,271,294,375,0.14211336632171467,0.84114261538251256,0.97920937003276931,1.542963405794187,3.969E-4,1.7345999999999999,4,5.7428799999999995E-4,675.10313623602258,732.85712932403612,934.74,0.95,0.95,0.95,675,733,935,290,315,402,0.95449169552535984,1.1138291531732329,1.7573589514811909,2.4,12.2,13.7,22,null,2495,null,0.68,null,null,0,10.9,12.7,21.85,null,1,1,1,675,733,935,null,0,0,0,1]
["16518011",null,null,1,65,180,11,11.5,0,26,30,46,1888.3600000000001,4030.7284303866513,4375.55079813051,5580.9,1.5,1.1000000000000001,1.1000000000000001,1.1000000000000001,1347,3147,3416,4357,116,271,294,375,0.17391367587413878,0.84114261538251256,0.97920937003276931,1.542963405794187,3.969E-4,1.7345999999999999,4,5.7428799999999995E-4,{"$f":"AK248*(1-(($E249-50)*0.005))","v":624.4704010183209},{"$f":"AL248*(1-(($E249-50)*0.005))","v":677.89284462473347},{"$f":"AM248*(1-(($E249-50)*0.005))","v":864.6345},0.95,0.95,0.95,624,678,865,268,292,372,0.82386054296562061,0.96681346624204301,1.5199529421439992,2.4,12.2,13.7,22,null,2777,null,0.68,null,null,0,10.9,12.7,21.85,null,1,1,1,624,678,865,null,0,0,0,1]
["13518015",null,null,1,35,180,15,16.5,0,26,30,46.4,2116.8000000000002,3233.3460619053994,3452.1364439366635,4920.8599999999997,1.5,1.08,1.08,1.08,1510,2536,2707,3859,130,218,233,332,0.1063037505433006,0.28778504307982616,0.32723974604003053,0.64898864028636305,2.0829999999999999E-4,1.724,2,4.6182900000000003E-4,420.6820520547858,449.14828645115074,640.24,1.01,1.01,1.01,421,449,640,181,193,275,0.2010263623163458,0.22751208445626886,0.45076939507650016,1.8,11.5,12.8,19.600000000000001,null,2646,null,0.8,null,null,0,10,11.8,21.85,null,1,1,1,421,449,640,null,0,0,0,1]
["15018015",null,null,1,50,180,15,16.5,0,26,30,46.4,2496.8000000000002,3233.3460619053994,3452.1364439366635,4920.8599999999997,1.5,1.08,1.08,1.08,1781,2536,2707,3859,153,218,233,332,0.14543068294367006,0.28778504307982616,0.32723974604003053,0.64898864028636305,2.0829999999999999E-4,1.724,2,4.6182900000000003E-4,420.6820520547858,449.14828645115074,640.24,1.01,1.01,1.01,421,449,640,181,193,275,0.2010263623163458,0.22751208445626886,0.45076939507650016,1.8,11.5,12.8,19.600000000000001,null,3121,null,0.8,null,null,0,10,11.8,21.85,null,1,1,1,421,449,640,null,0,0,0,1]
["16518015",null,null,1,65,180,15,16.5,0,26,30,46.4,2768,3233.3460619053994,3452.1364439366635,4920.8599999999997,1.5,1.08,1.08,1.08,1975,2536,2707,3859,170,218,233,332,0.17814698863870285,0.28778504307982616,0.32723974604003053,0.64898864028636305,2.0829999999999999E-4,1.724,2,4.6182900000000003E-4,420.6820520547858,449.14828645115074,640.24,1.01,1.01,1.01,421,449,640,181,193,275,0.2010263623163458,0.22751208445626886,0.45076939507650016,1.8,11.5,12.8,19.600000000000001,null,3460,null,0.8,null,null,0,10,11.8,21.85,null,1,1,1,421,449,640,null,0,0,0,1]
["13518016",null,null,1,35,180,16,16.5,0,26,30,46.4,1949.5600000000002,4843.4549704976926,5171.1963699821436,7371.3,1.5,1.1000000000000001,1.1000000000000001,1.1000000000000001,1391,3781,4037,5755,120,325,347,495,0.24849641780799653,1.73113399073644,1.9675246325457276,3.9422156930022778,2.0829999999999999E-4,1.724,4,1.392796E-3,686.3088894339993,732.7492584003295,1044.5,0.95,0.95,0.95,686,733,1045,295,315,449,1.4327504054076798,1.6285969093831283,3.2569852229594378,3.6,11.5,12.8,19.600000000000001,null,2867,null,0.68,null,null,0,10,11.8,21.85,null,1,1,1,686,733,1045,null,0,0,0,1]
["15018016",null,null,1,50,180,16,16.5,0,26,30,46.4,2322.88,4843.4549704976926,5171.1963699821436,7371.3,1.5,1.1000000000000001,1.1000000000000001,1.1000000000000001,1657,3781,4037,5755,143,325,347,495,0.34939712211520163,1.73113399073644,1.9675246325457276,3.9422156930022778,2.0829999999999999E-4,1.724,4,1.392796E-3,686.3088894339993,732.7492584003295,1044.5,0.95,0.95,0.95,686,733,1045,295,315,449,1.4327504054076798,1.6285969093831283,3.2569852229594378,3.6,11.5,12.8,19.600000000000001,null,3416,null,0.68,null,null,0,10,11.8,21.85,null,1,1,1,686,733,1045,null,0,0,0,1]
["16518016",null,null,1,65,180,16,16.5,0,26,30,46.4,2659.48,4843.4549704976926,5171.1963699821436,7371.3,1.5,1.1000000000000001,1.1000000000000001,1.1000000000000001,1898,3781,4037,5755,163,325,347,495,0.450724803825786,1.73113399073644,1.9675246325457276,3.9422156930022778,2.0829999999999999E-4,1.724,4,1.392796E-3,{"$f":"AK254*(1-(($E255-50)*0.005))","v":634.83572272644938},{"$f":"AL254*(1-(($E255-50)*0.005))","v":677.79306402030477},{"$f":"AM254*(1-(($E255-50)*0.005))","v":966.16250000000002},0.95,0.95,0.95,635,678,966,273,292,415,1.2315554201626615,1.4044357978322337,2.7918817953891293,3.6,11.5,12.8,19.600000000000001,null,3911,null,0.68,null,null,0,10,11.8,21.85,null,1,1,1,635,678,966,null,0,0,0,1]
["13518020",null,null,1,35,180,20,21.5,0,26,30,46.4,2966.4,4497.8275192555193,4882.6094666576164,6227.64,1.5,1.08,1.08,1.08,2117,3527,3829,4884,182,303,329,420,0.15452254319702488,0.41646566084553188,0.48893351284694392,0.78724334085603187,1.2760000000000001E-4,1.7219,2,3.76611E-4,526.1057925837863,571.11330132956857,728.44,0.95,0.95,0.95,526,571,728,226,246,313,0.23536033293811029,0.27756656183252509,0.44366421223291913,2.4,11.5,12.8,19.600000000000001,null,3708,null,0.8,null,null,0,10,11.8,21.85,null,1,1,1,526,571,728,null,0,0,0,1]
["15018020",null,null,1,50,180,20,21.5,0,26,30,46.4,3492,4497.8275192555193,4882.6094666576164,6227.64,1.5,1.08,1.08,1.08,2492,3527,3829,4884,214,303,329,420,0.21167209240829504,0.41646566084553188,0.48893351284694392,0.78724334085603187,1.2760000000000001E-4,1.7219,2,3.76611E-4,526.1057925837863,571.11330132956857,728.44,0.95,0.95,0.95,526,571,728,226,246,313,0.23536033293811029,0.27756656183252509,0.44366421223291913,2.4,11.5,12.8,19.600000000000001,null,4365,null,0.8,null,null,0,10,11.8,21.85,null,1,1,1,526,571,728,null,0,0,0,1]
["16518020",null,null,1,65,180,20,21.5,0,26,30,46.4,3866.4,4497.8275192555193,4882.6094666576164,6227.64,1.5,1.08,1.08,1.08,2759,3527,3829,4884,237,303,329,420,0.25815262620037943,0.41646566084553188,0.48893351284694392,0.78724334085603187,1.2760000000000001E-4,1.7219,2,3.76611E-4,526.1057925837863,571.11330132956857,728.44,0.95,0.95,0.95,526,571,728,226,246,313,0.23536033293811029,0.27756656183252509,0.44366421223291913,2.4,11.5,12.8,19.600000000000001,null,4833,null,0.8,null,null,0,10,11.8,21.85,null,1,1,1,526,571,728,null,0,0,0,1]
["13518021",null,null,1,35,180,21,21.5,0,26,30,46.4,3044,6016.7573462820046,6423.892435808023,9156.9599999999991,1.5,1.05,1.05,1.05,2172,4751,5072,7230,187,409,436,622,0.24383565823277781,1.103167036901554,1.2484144659284111,2.4851546453410029,1.2760000000000001E-4,1.7219,4,5.1420100000000005E-4,750.12346036921247,800.88196110577712,1141.6200000000001,0.85,0.85,0.85,750,801,1142,323,344,491,0.69902928526631702,0.78946623977507491,1.5712748482814811,4.8,11.5,12.8,19.600000000000001,null,3805,null,0.8,null,null,0,10,11.8,21.85,null,1,1,1,750,801,1142,null,0,0,0,1]
["15018021",null,null,1,50,180,21,21.5,0,26,30,46.4,3718.4,6016.7573462820046,6423.892435808023,9156.9599999999991,1.5,1.05,1.05,1.05,2653,4751,5072,7230,228,409,436,622,0.35708786548323435,1.103167036901554,1.2484144659284111,2.4851546453410029,1.2760000000000001E-4,1.7219,4,5.1420100000000005E-4,750.12346036921247,800.88196110577712,1141.6200000000001,0.85,0.85,0.85,750,801,1142,323,344,491,0.69902928526631702,0.78946623977507491,1.5712748482814811,4.8,11.5,12.8,19.600000000000001,null,4648,null,0.8,null,null,0,10,11.8,21.85,null,1,1,1,750,801,1142,null,0,0,0,1]
["16518021",null,null,1,65,180,21,21.5,0,26,30,46.4,4363.2,6016.7573462820046,6423.892435808023,9156.9599999999991,1.5,1.05,1.05,1.05,3113,4751,5072,7230,268,409,436,622,0.4875948711190341,1.103167036901554,1.2484144659284111,2.4851546453410029,1.2760000000000001E-4,1.7219,4,5.1420100000000005E-4,{"$f":"AK260*(1-(($E261-50)*0.005))","v":693.86420084152155},{"$f":"AL260*(1-(($E261-50)*0.005))","v":740.81581402284382},{"$f":"AM260*(1-(($E261-50)*0.005))","v":1055.9985000000001},0.85,0.85,0.85,694,741,1056,298,319,454,0.59835008289121183,0.68240986136996196,1.3500986543574247,4.8,11.5,12.8,19.600000000000001,null,5454,null,0.8,null,null,0,10,11.8,21.85,null,1,1,1,694,741,1056,null,0,0,0,1]
["13520010",null,null,1,35,200,10,11.5,0,26,30,46.5,1616.4,3259.5785648750903,3552.8677924068675,4620.9799999999996,1.5,1.08,1.08,1.08,1153,2556,2786,3624,99,220,240,312,7.7080494192833679E-2,0.34122659140984074,0.40155124196507375,0.65654717810994445,3.969E-4,1.7345999999999999,2,3.6734700000000002E-4,451.89903695786995,492.55985148767917,640.64,0.98,0.98,0.98,452,493,641,194,212,276,0.26974633951173027,0.31839322337808124,0.52169992911952934,1.3,13.4,14.8,24,null,1796,null,0.9,null,null,0,10.7,12.5,21.85,null,1,1,1,452,493,641,null,0,0,0,1]
["15020010",null,null,1,50,200,10,11.5,0,26,30,46.5,1936.8,3259.5785648750903,3552.8677924068675,4620.9799999999996,1.5,1.08,1.08,1.08,1382,2556,2786,3624,119,220,240,312,0.1084916655424886,0.34122659140984074,0.40155124196507375,0.65654717810994445,3.969E-4,1.7345999999999999,2,3.6734700000000002E-4,451.89903695786995,492.55985148767917,640.64,0.98,0.98,0.98,452,493,641,194,212,276,0.26974633951173027,0.31839322337808124,0.52169992911952934,1.3,13.4,14.8,24,null,2152,null,0.9,null,null,0,10.7,12.5,21.85,null,1,1,1,452,493,641,null,0,0,0,1]
["16520010",null,null,1,65,200,10,11.5,0,26,30,46.5,2179.8000000000002,3259.5785648750903,3552.8677924068675,4620.9799999999996,1.5,1.08,1.08,1.08,1555,2556,2786,3624,134,220,240,312,0.13530445683829392,0.34122659140984074,0.40155124196507375,0.65654717810994445,3.969E-4,1.7345999999999999,2,3.6734700000000002E-4,451.89903695786995,492.55985148767917,640.64,0.98,0.98,0.98,452,493,641,194,212,276,0.26974633951173027,0.31839322337808124,0.52169992911952934,1.3,13.4,14.8,24,null,2422,null,0.9,null,null,0,10.7,12.5,21.85,null,1,1,1,452,493,641,null,0,0,0,1]
["13520011",null,null,1,35,200,11,11.5,0,26,30,46.5,1626.5600000000002,4422.7050634086982,4820.649682883678,6269.9,1.5,1.1000000000000001,1.1000000000000001,1.1000000000000001,1161,3453,3764,4895,100,297,324,421,0.14134409412875021,1.0585097287299379,1.2444441055870641,2.0270127868370142,3.969E-4,1.7345999999999999,4,5.7428799999999995E-4,741,807,1050,0.95,0.95,0.95,741,807,1050,319,347,452,1.2089524361917552,1.4138727396795772,2.3143510148052444,2.7,13.4,14.8,24,null,2392,null,0.68,null,null,0,10.7,12.5,21.85,null,1,1,1,741,807,1050,null,0,0,0,1]
["15020011",null,null,1,50,200,11,11.5,0,26,30,46.5,1884.96,4422.7050634086982,4820.649682883678,6269.9,1.5,1.1000000000000001,1.1000000000000001,1.1000000000000001,1345,3453,3764,4895,116,297,324,421,0.18577152689584636,1.0585097287299379,1.2444441055870641,2.0270127868370142,3.969E-4,1.7345999999999999,4,5.7428799999999995E-4,741,807,1050,0.95,0.95,0.95,741,807,1050,319,347,452,1.2089524361917552,1.4138727396795772,2.3143510148052444,2.7,13.4,14.8,24,null,2772,null,0.68,null,null,0,10.7,12.5,21.85,null,1,1,1,741,807,1050,null,0,0,0,1]
["16520011",null,null,1,65,200,11,11.5,0,26,30,46.5,2098.48,4422.7050634086982,4820.649682883678,6269.9,1.5,1.1000000000000001,1.1000000000000001,1.1000000000000001,1497,3453,3764,4895,129,297,324,421,0.22596024815975416,1.0585097287299379,1.2444441055870641,2.0270127868370142,3.969E-4,1.7345999999999999,4,5.7428799999999995E-4,{"$f":"AK266*(1-(($E267-50)*0.005))","v":685.42500000000007},{"$f":"AL266*(1-(($E267-50)*0.005))","v":746.47500000000002},{"$f":"AM266*(1-(($E267-50)*0.005))","v":971.25},0.95,0.95,0.95,685,746,971,295,321,418,1.0452969961684331,1.223091481259345,2.0001552183357725,2.7,13.4,14.8,24,null,3086,null,0.68,null,null,0,10.7,12.5,21.85,null,1,1,1,685,746,971,null,0,0,0,1]
["13520015",null,null,1,35,200,15,16.5,0,26,30,47.1,2352,3875.4624109054007,4083.4735576056296,5893.16,1.5,1.08,1.08,1.08,1678,3039,3202,4622,144,261,275,397,0.1337098354429809,0.41943542456469279,0.46387282230494226,0.94232779221518648,2.0829999999999999E-4,1.724,2,4.6182900000000003E-4,529.01617838795164,557.41053504066974,804.44,1.01,1.01,1.01,529,557,804,227,240,346,0.3205762003800503,0.35685612106712633,0.72249739815889857,2,13.2,14.7,23.5,null,2940,null,0.8,null,null,0,10,11.4,21.85,null,1,1,1,529,557,804,null,0,0,0,1]
["15020015",null,null,1,50,200,15,16.5,0,26,30,47.1,2774.4,3875.4624109054007,4083.4735576056296,5893.16,1.5,1.08,1.08,1.08,1980,3039,3202,4622,170,261,275,397,0.18386531946704859,0.41943542456469279,0.46387282230494226,0.94232779221518648,2.0829999999999999E-4,1.724,2,4.6182900000000003E-4,529.01617838795164,557.41053504066974,804.44,1.01,1.01,1.01,529,557,804,227,240,346,0.3205762003800503,0.35685612106712633,0.72249739815889857,2,13.2,14.7,23.5,null,3468,null,0.8,null,null,0,10,11.4,21.85,null,1,1,1,529,557,804,null,0,0,0,1]
["16520015",null,null,1,65,200,15,16.5,0,26,30,47.1,3075.2000000000003,3875.4624109054007,4083.4735576056296,5893.16,1.5,1.08,1.08,1.08,2194,3039,3202,4622,189,261,275,397,0.22537112963267958,0.41943542456469279,0.46387282230494226,0.94232779221518648,2.0829999999999999E-4,1.724,2,4.6182900000000003E-4,529.01617838795164,557.41053504066974,804.44,1.01,1.01,1.01,529,557,804,227,240,346,0.3205762003800503,0.35685612106712633,0.72249739815889857,2,13.2,14.7,23.5,null,3844,null,0.8,null,null,0,10,11.4,21.85,null,1,1,1,529,557,804,null,0,0,0,1]
["13520016",null,null,1,35,200,16,16.5,0,26,30,47.1,2166.48,5667.1755761695722,5971.3549398587584,8617.7000000000007,1.5,1.1000000000000001,1.1000000000000001,1.1000000000000001,1546,4424,4662,6728,133,380,401,579,0.31095845216022883,2.3956910473507516,2.6608247339246818,5.453670256932595,2.0829999999999999E-4,1.724,4,1.392796E-3,868,914,1320,0.95,0.95,0.95,868,914,1320,373,393,568,2.3103470177002245,2.5582125224157561,5.2529022162438315,4,13.2,14.7,23.5,null,3186,null,0.68,null,null,0,10,11.4,21.85,null,1,1,1,868,914,1320,null,0,0,0,1]
["15020016",null,null,1,50,200,16,16.5,0,26,30,47.1,2581.2800000000002,5667.1755761695722,5971.3549398587584,8617.7000000000007,1.5,1.1000000000000001,1.1000000000000001,1.1000000000000001,1842,4424,4662,6728,158,380,401,579,0.43429242128316042,2.3956910473507516,2.6608247339246818,5.453670256932595,2.0829999999999999E-4,1.724,4,1.392796E-3,868,914,1320,0.95,0.95,0.95,868,914,1320,373,393,568,2.3103470177002245,2.5582125224157561,5.2529022162438315,4,13.2,14.7,23.5,null,3796,null,0.68,null,null,0,10,11.4,21.85,null,1,1,1,868,914,1320,null,0,0,0,1]
["16520016",null,null,1,65,200,16,16.5,0,26,30,47.1,2955.28,5667.1755761695722,5971.3549398587584,8617.7000000000007,1.5,1.1000000000000001,1.1000000000000001,1.1000000000000001,2109,4424,4662,6728,181,380,401,579,0.56541530296371623,2.3956910473507516,2.6608247339246818,5.453670256932595,2.0829999999999999E-4,1.724,4,1.392796E-3,{"$f":"AK272*(1-(($E273-50)*0.005))","v":802.90000000000009},{"$f":"AL272*(1-(($E273-50)*0.005))","v":845.45},{"$f":"AM272*(1-(($E273-50)*0.005))","v":1221},0.95,0.95,0.95,803,845,1221,345,363,525,1.9841650752047741,2.1910612688725521,4.5036106192409688,4,13.2,14.7,23.5,null,4346,null,0.68,null,null,0,10,11.4,21.85,null,1,1,1,803,845,1221,null,0,0,0,1]
["13520020",null,null,1,35,200,20,21.5,0,26,30,47.1,3296,5214.8121821672385,5684.028740747025,7392.84,1.5,1.08,1.08,1.08,2352,4090,4458,5798,202,352,383,499,0.19387711048406964,0.56991326043648238,0.67162306767239033,1.1243831840072513,1.2760000000000001E-4,1.7219,2,3.76611E-4,644.46964929787134,702.45751547390614,913.64,0.95,0.95,0.95,644,702,914,277,302,393,0.35773067054432378,0.42311312971539766,0.70617331390652549,2.7,13.2,14.7,23.5,null,4120,null,0.8,null,null,0,10,11.4,21.85,null,1,1,1,644,702,914,null,0,0,0,1]
["15020020",null,null,1,50,200,20,21.5,0,26,30,47.1,3880,5214.8121821672385,5684.028740747025,7392.84,1.5,1.08,1.08,1.08,2768,4090,4458,5798,238,352,383,499,0.26646107501988686,0.56991326043648238,0.67162306767239033,1.1243831840072513,1.2760000000000001E-4,1.7219,2,3.76611E-4,644.46964929787134,702.45751547390614,913.64,0.95,0.95,0.95,644,702,914,277,302,393,0.35773067054432378,0.42311312971539766,0.70617331390652549,2.7,13.2,14.7,23.5,null,4850,null,0.8,null,null,0,10,11.4,21.85,null,1,1,1,644,702,914,null,0,0,0,1]
["16520020",null,null,1,65,200,20,21.5,0,26,30,47.1,4296,5214.8121821672385,5684.028740747025,7392.84,1.5,1.08,1.08,1.08,3065,4090,4458,5798,264,352,383,499,0.32585216777665882,0.56991326043648238,0.67162306767239033,1.1243831840072513,1.2760000000000001E-4,1.7219,2,3.76611E-4,644.46964929787134,702.45751547390614,913.64,0.95,0.95,0.95,644,702,914,277,302,393,0.35773067054432378,0.42311312971539766,0.70617331390652549,2.7,13.2,14.7,23.5,null,5370,null,0.8,null,null,0,10,11.4,21.85,null,1,1,1,644,702,914,null,0,0,0,1]
["13520021",null,null,1,35,200,21,21.5,0,26,30,47.1,3382.4,7298.5082710627348,7690.2476078687869,11098.36,1.5,1.05,1.05,1.05,2413,5763,6072,8763,208,496,522,754,0.30904536055025311,1.6462201996699861,1.8169792507482643,3.7009529132948087,1.2760000000000001E-4,1.7219,4,5.1420100000000005E-4,946.7235228616961,997.53785795739748,1439.62,0.85,0.85,0.85,947,998,1440,407,429,619,1.123918147974541,1.2440371883056511,2.5261009474966261,5.3,13.2,14.7,23.5,null,4228,null,0.8,null,null,0,10,11.4,21.85,null,1,1,1,947,998,1440,null,0,0,0,1]
["15020021",null,null,1,50,200,21,21.5,0,26,30,47.1,4131.2,7298.5082710627348,7690.2476078687869,11098.36,1.5,1.05,1.05,1.05,2948,5763,6072,8763,254,496,522,754,0.45351679614084284,1.6462201996699861,1.8169792507482643,3.7009529132948087,1.2760000000000001E-4,1.7219,4,5.1420100000000005E-4,946.7235228616961,997.53785795739748,1439.62,0.85,0.85,0.85,947,998,1440,407,429,619,1.123918147974541,1.2440371883056511,2.5261009474966261,5.3,13.2,14.7,23.5,null,5164,null,0.8,null,null,0,10,11.4,21.85,null,1,1,1,947,998,1440,null,0,0,0,1]
["16520021",null,null,1,65,200,21,21.5,0,26,30,47.1,4848,7298.5082710627348,7690.2476078687869,11098.36,1.5,1.05,1.05,1.05,3459,5763,6072,8763,297,496,522,754,0.61259483777125867,1.6462201996699861,1.8169792507482643,3.7009529132948087,1.2760000000000001E-4,1.7219,4,5.1420100000000005E-4,{"$f":"AK278*(1-(($E279-50)*0.005))","v":875.71925864706895},{"$f":"AL278*(1-(($E279-50)*0.005))","v":922.72251861059272},{"$f":"AM278*(1-(($E279-50)*0.005))","v":1331.6485},0.85,0.85,0.85,876,923,1332,377,397,573,0.96967651460445303,1.0712774010557167,2.1756776792914172,5.3,13.2,14.7,23.5,null,6060,null,0.8,null,null,0,10,11.4,21.85,null,1,1,1,876,923,1332,null,0,0,0,1]
["13522010",null,null,1,35,220,10,11.5,0,26,30,46.9,1658.413043478261,3560.7045070849035,3890.5075371280445,5128.78,1.5,1.08,1.08,1.08,1183,2792,3051,4022,102,240,262,346,8.6216027683881466E-2,0.42247701862510323,0.49758266516536109,0.83671193247343323,3.969E-4,1.7345999999999999,2,3.6734700000000002E-4,493.64631212835212,539.36930014536108,711.04,0.98,0.98,0.98,494,539,711,212,232,306,0.33526766264658142,0.39659808957963044,0.66495285135759441,1.5,13.4,14.8,24,null,{"$f":"(BE298/(F298-102))*(F280-102)","v":1842.68115942029},null,0.9,null,null,0,10.5,12.3,21.85,null,1,1,1,494,539,711,null,0,0,0,1]
["15022010",null,null,1,50,220,10,11.5,0,26,30,46.9,1987.0173913043475,3560.7045070849035,3890.5075371280445,5128.78,1.5,1.08,1.08,1.08,1418,2792,3051,4022,122,240,262,346,0.12010360400777267,0.42247701862510323,0.49758266516536109,0.83671193247343323,3.969E-4,1.7345999999999999,2,3.6734700000000002E-4,493.64631212835212,539.36930014536108,711.04,0.98,0.98,0.98,494,539,711,212,232,306,0.33526766264658142,0.39659808957963044,0.66495285135759441,1.5,13.4,14.8,24,null,2207.797101449275,null,0.9,null,null,0,10.5,12.3,21.85,null,1,1,1,494,539,711,null,0,0,0,1]
["16522010",null,null,1,65,220,10,11.5,0,26,30,46.9,2236.3565217391306,3560.7045070849035,3890.5075371280445,5128.78,1.5,1.08,1.08,1.08,1596,2792,3051,4022,137,240,262,346,0.14891058543679467,0.42247701862510323,0.49758266516536109,0.83671193247343323,3.969E-4,1.7345999999999999,2,3.6734700000000002E-4,493.64631212835212,539.36930014536108,711.04,0.98,0.98,0.98,494,539,711,212,232,306,0.33526766264658142,0.39659808957963044,0.66495285135759441,1.5,13.4,14.8,24,null,2484.840579710145,null,0.9,null,null,0,10.5,12.3,21.85,null,1,1,1,494,539,711,null,0,0,0,1]
["13522011",null,null,1,35,220,11,11.5,0,26,30,46.9,1668.7594202898554,4831.2827990970827,5278.770565343093,6958.9,1.5,1.1000000000000001,1.1000000000000001,1.1000000000000001,1191,3772,4121,5433,102,324,354,467,0.15607718793256292,1.314879108402222,1.5495706507880502,2.5925816673788113,3.969E-4,1.7345999999999999,4,5.7428799999999995E-4,809.18727868766814,884.1366084769129,1165.54,0.95,0.95,0.95,809,884,1166,348,380,501,1.5011980733038943,1.7674215645183677,2.9547969820093392,2.9,13.4,14.8,24,null,2454.057971014493,null,0.68,null,null,0,10.5,12.3,21.85,null,1,1,1,809,884,1166,null,0,0,0,1]
["15022011",null,null,1,50,220,11,11.5,0,26,30,46.9,{"$f":"IF($N284-($BE284*$BG284)>100,$BE284*$BG284,$N284-95)","v":1933.9002898550727},4831.2827990970827,5278.770565343093,6958.9,1.5,1.1000000000000001,1.1000000000000001,1.1000000000000001,{"$f":"ROUND(M284*POWER(CF_heat,Q284),0)","v":1380},{"$f":"ROUND(N284*POWER(CF_heat,R284),0)","v":3772},{"$f":"ROUND(O284*POWER(CF_heat,S284),0)","v":4121},{"$f":"ROUND(P284*POWER(CF_heat,T284),0)","v":5433},119,324,354,467,0.20711737917875661,1.314879108402222,1.5495706507880502,2.5925816673788113,{"$f":"IF($G284=$CO$103,CP$103,IF($G284=$CO$104,CP$104,IF($G284=$CO$105,CP$105,IF($G284=$CO$107,CP$107,IF($G284=$CO$108,CP$108,IF($G284=$CO$109,CP$109,IF($G284=$CO$111,CP$111,IF($G284=$CO$112,CP$112,IF($G284=$CO$113,CP$113,IF($G284=$CO$115,CP$115,IF($G284=$CO$116,CP$116,IF($G284=$CO$117,CP$117,IF($G284=$CO$119,CP$119,IF($G284=$CO$120,CP$120,))))))))))))))","v":3.969E-4},{"$f":"IF($G284=$CO$103,CQ$103,IF($G284=$CO$104,CQ$104,IF($G284=$CO$105,CQ$105,IF($G284=$CO$107,CQ$107,IF($G284=$CO$108,CQ$108,IF($G284=$CO$109,CQ$109,IF($G284=$CO$111,CQ$111,IF($G284=$CO$112,CQ$112,IF($G284=$CO$113,CQ$113,IF($G284=$CO$115,CQ$115,IF($G284=$CO$116,CQ$116,IF($G284=$CO$117,CQ$117,IF($G284=$CO$119,CQ$119,IF($G284=$CO$120,CQ$120,))))))))))))))","v":1.7345999999999999},{"$f":"IF($G284=$CO$103,CR$103,IF($G284=$CO$104,CR$104,IF($G284=$CO$105,CR$105,IF($G284=$CO$107,CR$107,IF($G284=$CO$108,CR$108,IF($G284=$CO$109,CR$109,IF($G284=$CO$111,CR$111,IF($G284=$CO$112,CR$112,IF($G284=$CO$113,CR$113,IF($G284=$CO$115,CR$115,IF($G284=$CO$116,CR$116,IF($G284=$CO$117,CR$117,IF($G284=$CO$119,CR$119,IF($G284=$CO$120,CR$120,))))))))))))))","v":4},{"$f":"IF($G284=$CO$103,CS$103,IF($G284=$CO$104,CS$104,IF($G284=$CO$105,CS$105,IF($G284=$CO$107,CS$107,IF($G284=$CO$108,CS$108,IF($G284=$CO$109,CS$109,IF($G284=$CO$111,CS$111,IF($G284=$CO$112,CS$112,IF($G284=$CO$113,CS$113,IF($G284=$CO$115,CS$115,IF($G284=$CO$116,CS$116,IF($G284=$CO$117,CS$117,IF($G284=$CO$119,CS$119,IF($G284=$CO$120,CS$120,))))))))))))))","v":5.7428799999999995E-4},809.18727868766814,884.1366084769129,1165.54,0.95,0.95,0.95,{"$f":"ROUND(AK284*POWER(CF_cool,AN284),0)","v":809},{"$f":"ROUND(AL284*POWER(CF_cool,AO284),0)","v":884},{"$f":"ROUND(AM284*POWER(CF_cool,AP284),0)","v":1166},348,380,501,1.5011980733038943,1.7674215645183677,2.9547969820093392,{"$f":"ROUND(IF(G284=10,$CO$92*F284,IF(G284=11,$CO$93*F284,IF(G284=15,$CO$94*F284,IF(G284=16,$CO$95*F284,IF(G284=20,$CO$96*F284,IF(G284=21,$CO$97*F284,)))))),1)","v":2.9},13.4,14.8,24,null,2843.971014492754,null,{"$f":"IF(G284=10,0.9,IF(G284=11,0.68,IF(G284=15,0.8,IF(G284=16,0.68,IF(G284=20,0.8,IF(G284=21,0.8))))))","v":0.68},null,null,0,10.5,12.3,21.85,null,1,1,1,{"$f":"AQ284/BO284","v":809},{"$f":"AR284/BP284","v":884},{"$f":"AS284/BQ284","v":1166},null,{"$f":"BR284-AQ284","v":0},{"$f":"BS284-AR284","v":0},{"$f":"BT284-AS284","v":0},1]
[{"$f":"CONCATENATE(D285,E285,F285,G285)","v":"16522011"},null,null,1,65,220,11,11.5,0,26,30,46.9,2153.1066666666666,4831.2827990970827,5278.770565343093,6958.9,1.5,{"$f":"IF($G285=10,1.08,IF($G285=11,1.1,IF($G285=15,1.08,IF($G285=16,1.1,IF($G285=20,1.08,IF($G285=21,1.05))))))","v":1.1000000000000001},1.1000000000000001,1.1000000000000001,1536,3772,4121,5433,132,324,354,467,{"$f":"(($AG285*(Y285^$AH285)*((($F285-14.4)*$AI285)/100))+($AJ285*(Y285^2)))*0.0098","v":0.25058653271604386},{"$f":"(($AG285*(Z285^$AH285)*((($F285-14.4)*$AI285)/100))+($AJ285*(Z285^2)))*0.0098","v":1.314879108402222},{"$f":"(($AG285*(AA285^$AH285)*((($F285-14.4)*$AI285)/100))+($AJ285*(AA285^2)))*0.0098","v":1.5495706507880502},{"$f":"(($AG285*(AB285^$AH285)*((($F285-14.4)*$AI285)/100))+($AJ285*(AB285^2)))*0.0098","v":2.5925816673788113},3.969E-4,1.7345999999999999,4,5.7428799999999995E-4,{"$f":"AK284*(1-(($E285-50)*0.005))","v":748.49823278609301},{"$f":"AL284*(1-(($E285-50)*0.005))","v":817.82636284114449},{"$f":"AM284*(1-(($E285-50)*0.005))","v":1078.1245000000001},0.95,0.95,0.95,748,818,1078,322,352,464,{"$f":"(($AG285*(AT285^$AH285)*((($F285-14.4)*$AI285)/100))+($AJ285*(AT285^2)))*0.0098","v":1.2998723591132086},{"$f":"(($AG285*(AU285^$AH285)*((($F285-14.4)*$AI285)/100))+($AJ285*(AU285^2)))*0.0098","v":1.5333670254718474},{"$f":"(($AG285*(AV285^$AH285)*((($F285-14.4)*$AI285)/100))+($AJ285*(AV285^2)))*0.0098","v":2.5616863488863584},2.9,13.4,14.8,24,null,3166.333333333333,null,0.68,null,null,0,10.5,12.3,21.85,null,{"$f":"IF(1/(1+((2258*((0.622/((101325/(1*611*EXP(17.27*((($AM$1+$AM$2)/2)/((($AM$1+$AM$2)/2)+237.3))))))-1)*1000-(0.622/((101325/($AQ$1*611*EXP(17.27*($AM$3/($AM$3+237.3))))))-1)*1000))/(1005*((($AM$1+$AM$2)/2)-$AM$3))))>1,1,1/(1+((2258*((0.622/((101325/(1*611*EXP(17.27*((($AM$1+$AM$2)/2)/((($AM$1+$AM$2)/2)+237.3))))))-1)*1000-(0.622/((101325/($AQ$1*611*EXP(17.27*($AM$3/($AM$3+237.3))))))-1)*1000))/(1005*((($AM$1+$AM$2)/2)-$AM$3)))))","v":1},1,1,748,818,1078,null,0,0,0,1]
["13522015",null,null,1,35,220,15,16.5,0,26,30,47.8,2413.3565217391306,4302.5567439745028,4481.7988603493422,6540.76,1.5,1.08,1.08,1.08,1722,3374,3515,5130,148,290,302,441,0.1454271726381805,0.52824934112772992,0.57108950097253486,1.1842811694377704,2.0829999999999999E-4,1.724,2,4.6182900000000003E-4,587.31626956044784,611.78353807115786,892.84,1.01,1.01,1.01,587,612,893,252,263,384,0.40328748590288432,0.43778400702821296,0.90690223440245954,2.2000000000000002,15.5,16.8,27.5,null,3016.695652173913,null,0.8,null,null,0,10,11.1,21.85,null,1,1,1,587,612,893,null,0,0,0,1]
["15022015",null,null,1,50,220,15,16.5,0,26,30,47.8,2847.0492753623193,4302.5567439745028,4481.7988603493422,6540.76,1.5,1.08,1.08,1.08,2031,3374,3515,5130,175,290,302,441,0.20040323727583806,0.52824934112772992,0.57108950097253486,1.1842811694377704,2.0829999999999999E-4,1.724,2,4.6182900000000003E-4,587.31626956044784,611.78353807115786,892.84,1.01,1.01,1.01,587,612,893,252,263,384,0.40328748590288432,0.43778400702821296,0.90690223440245954,2.2000000000000002,15.5,16.8,27.5,null,3558.811594202899,null,0.8,null,null,0,10,11.1,21.85,null,1,1,1,587,612,893,null,0,0,0,1]
["16522015",null,null,1,65,220,15,16.5,0,26,30,47.8,3155.5594202898551,4302.5567439745028,4481.7988603493422,6540.76,1.5,1.08,1.08,1.08,2252,3374,3515,5130,194,290,302,441,0.24415166509532396,0.52824934112772992,0.57108950097253486,1.1842811694377704,2.0829999999999999E-4,1.724,2,4.6182900000000003E-4,587.31626956044784,611.78353807115786,892.84,1.01,1.01,1.01,587,612,893,252,263,384,0.40328748590288432,0.43778400702821296,0.90690223440245954,2.2000000000000002,15.5,16.8,27.5,null,3944.4492753623185,null,0.8,null,null,0,10,11.1,21.85,null,1,1,1,587,612,893,null,0,0,0,1]
["13522016",null,null,1,35,220,16,16.5,0,26,30,47.8,2222.880579710145,6291.7251954043459,6553.83496101116,9564.7000000000007,1.5,1.1000000000000001,1.1000000000000001,1.1000000000000001,1586,4912,5117,7467,136,422,440,642,0.33248318259799065,2.9944257157555945,3.2482983187702561,6.7877453647142758,2.0829999999999999E-4,1.724,4,1.392796E-3,963.35813446001066,1003.4910975149082,1464.5,0.95,0.95,0.95,963,1003,1465,414,431,630,2.8848425296225417,3.1200973344986664,6.542211558205909,4.4000000000000004,15.5,16.8,27.5,null,3268.942028985507,null,0.68,null,null,0,10,11.1,21.85,null,1,1,1,963,1003,1465,null,0,0,0,1]
["15022016",null,null,1,50,220,16,16.5,0,26,30,47.8,2648.5014492753626,6291.7251954043459,6553.83496101116,9564.7000000000007,1.5,1.1000000000000001,1.1000000000000001,1.1000000000000001,1890,4912,5117,7467,163,422,440,642,0.4719986864273768,2.9944257157555945,3.2482983187702561,6.7877453647142758,2.0829999999999999E-4,1.724,4,1.392796E-3,963.35813446001066,1003.4910975149082,1464.5,0.95,0.95,0.95,963,1003,1465,414,431,630,2.8848425296225417,3.1200973344986664,6.542211558205909,4.4000000000000004,15.5,16.8,27.5,null,3894.855072463768,null,0.68,null,null,0,10,11.1,21.85,null,1,1,1,963,1003,1465,null,0,0,0,1]
["16522016",null,null,1,65,220,16,16.5,0,26,30,47.8,3032.2579710144928,6291.7251954043459,6553.83496101116,9564.7000000000007,1.5,1.1000000000000001,1.1000000000000001,1.1000000000000001,2164,4912,5117,7467,186,422,440,642,0.60950462521922644,2.9944257157555945,3.2482983187702561,6.7877453647142758,2.0829999999999999E-4,1.724,4,1.392796E-3,{"$f":"AK290*(1-(($E291-50)*0.005))","v":891.10627437550988},{"$f":"AL290*(1-(($E291-50)*0.005))","v":928.2292652012901},{"$f":"AM290*(1-(($E291-50)*0.005))","v":1354.6625000000001},0.95,0.95,0.95,891,928,1355,383,399,583,2.4791233352665301,2.6847693120569986,5.6233172989312203,4.4000000000000004,15.5,16.8,27.5,null,4459.2028985507241,null,0.68,null,null,0,10,11.1,21.85,null,1,1,1,891,928,1355,null,0,0,0,1]
["13522020",null,null,1,35,220,20,21.5,0,26,30,47.8,3381.9826086956527,5696.5662496175182,6224.1991397456159,8205.24,1.5,1.08,1.08,1.08,2413,4467,4881,6435,208,{"$f":"ROUND(V292*3600/(4186*ABS($O$1-$O$2)),0)","v":384},{"$f":"ROUND(W292*3600/(4186*ABS($O$1-$O$2)),0)","v":420},{"$f":"ROUND(X292*3600/(4186*ABS($O$1-$O$2)),0)","v":553},0.21009827486416688,0.68913594795268296,0.82013908311111194,1.4002126537427437,1.2760000000000001E-4,1.7219,2,3.76611E-4,704.00695650122941,769.21417236639559,1014.04,0.95,0.95,0.95,704,769,1014,303,331,436,0.43521399990720622,0.5165738484716168,0.88193136480825907,2.9,15.5,16.8,27.5,null,4227.4782608695659,null,0.8,null,null,0,10,11.1,21.85,null,1,1,1,704,769,1014,null,0,0,0,1]
["15022020",null,null,1,50,220,20,21.5,0,26,30,47.8,3981.2173913043475,5696.5662496175182,6224.1991397456159,8205.24,1.5,1.08,1.08,1.08,2841,4467,4881,6435,{"$f":"ROUND(U293*3600/(4186*ABS($O$1-$O$2)),0)","v":244},384,420,553,0.28610544245231112,0.68913594795268296,0.82013908311111194,1.4002126537427437,1.2760000000000001E-4,1.7219,2,3.76611E-4,704.00695650122941,769.21417236639559,1014.04,0.95,0.95,0.95,704,769,1014,303,331,436,0.43521399990720622,0.5165738484716168,0.88193136480825907,2.9,15.5,16.8,27.5,null,4976.5217391304341,null,0.8,null,null,0,10,11.1,21.85,null,1,1,1,704,769,1014,null,0,0,0,1]
["16522020",null,null,1,65,220,20,21.5,0,26,30,47.8,4408.0695652173918,5696.5662496175182,6224.1991397456159,8205.24,1.5,1.08,1.08,1.08,3145,4467,4881,6435,270,384,420,553,0.34807080658443318,0.68913594795268296,0.82013908311111194,1.4002126537427437,1.2760000000000001E-4,1.7219,2,3.76611E-4,704.00695650122941,769.21417236639559,1014.04,0.95,0.95,0.95,704,769,1014,303,331,436,0.43521399990720622,0.5165738484716168,0.88193136480825907,2.9,15.5,16.8,27.5,null,5510.0869565217399,null,0.8,null,null,0,10,11.1,21.85,null,1,1,1,704,769,1014,null,0,0,0,1]
["13522021",null,null,1,35,220,21,21.5,0,26,30,47.8,3470.9101449275363,8102.8384881891643,8440.3982243391856,12317.96,1.5,1.05,1.05,1.05,2477,6398,6664,9726,213,550,573,836,0.33367224804820006,2.062358887776655,2.231838465716764,4.6282420475748083,1.2760000000000001E-4,1.7219,4,5.1420100000000005E-4,1051.0569439418873,1094.8433905300585,1597.82,0.85,0.85,0.85,1051,1095,1598,452,471,687,1.4132675404061716,1.529835024440543,3.1674021588285153,5.9,15.5,16.8,27.5,null,4338.63768115942,null,0.8,null,null,0,10,11.1,21.85,null,1,1,1,1051,1095,1598,null,0,0,0,1]
["15022021",null,null,1,50,220,21,21.5,0,26,30,47.8,4239.1072463768114,8102.8384881891643,8440.3982243391856,12317.96,1.5,1.05,1.05,1.05,3025,6398,6664,9726,260,550,573,836,0.48872994265793779,2.062358887776655,2.231838465716764,4.6282420475748083,1.2760000000000001E-4,1.7219,4,5.1420100000000005E-4,1051.0569439418873,1094.8433905300585,1597.82,0.85,0.85,0.85,1051,1095,1598,452,471,687,1.4132675404061716,1.529835024440543,3.1674021588285153,5.9,15.5,16.8,27.5,null,5298.884057971014,null,0.8,null,null,0,10,11.1,21.85,null,1,1,1,1051,1095,1598,null,0,0,0,1]
["16522021",null,null,1,65,220,21,21.5,0,26,30,47.8,4974.4695652173923,8102.8384881891643,8440.3982243391856,12317.96,1.5,1.05,1.05,1.05,3549,6398,6664,9726,305,550,573,836,0.66369745208796915,2.062358887776655,2.231838465716764,4.6282420475748083,1.2760000000000001E-4,1.7219,4,5.1420100000000005E-4,{"$f":"AK296*(1-(($E297-50)*0.005))","v":972.22767314624582},{"$f":"AL296*(1-(($E297-50)*0.005))","v":1012.7301362403042},{"$f":"AM296*(1-(($E297-50)*0.005))","v":1477.9835},0.85,0.85,0.85,972,1013,1478,418,436,636,1.2158640841145845,1.3185807566597181,2.7292518146347087,5.9,15.5,16.8,27.5,null,6218.0869565217399,null,0.8,null,null,0,10,11.1,21.85,null,1,1,1,972,1013,1478,null,0,0,0,1]
["13524010",null,null,1,35,240,10,11.5,0,26,30,47.2,1939.5,3860.4188735925432,4228.9855673527691,5636.58,1.5,1.08,1.08,1.08,1384,3027,3317,4420,119,260,285,380,0.12088650542306804,0.51455963451703945,0.61042691940395077,1.0436441851774703,3.969E-4,1.7345999999999999,2,3.6734700000000002E-4,535.19789031294818,586.29496640731588,781.44,0.98,0.98,0.98,535,586,781,230,252,336,0.40968486620571454,0.48550351822928639,0.82954646870937465,1.6,14.8,16.600000000000001,28,null,2155,null,0.9,null,null,0,10.4,12.2,21.85,null,1,1,1,535,586,781,null,0,0,0,1]
["15024010",null,null,1,50,240,10,11.5,0,26,30,47.2,2323.8000000000002,3860.4188735925432,4228.9855673527691,5636.58,1.5,1.08,1.08,1.08,1658,3027,3317,4420,143,260,285,380,0.16976040551569688,0.51455963451703945,0.61042691940395077,1.0436441851774703,3.969E-4,1.7345999999999999,2,3.6734700000000002E-4,535.19789031294818,586.29496640731588,781.44,0.98,0.98,0.98,535,586,781,230,252,336,0.40968486620571454,0.48550351822928639,0.82954646870937465,1.6,14.8,16.600000000000001,28,null,2582,null,0.9,null,null,0,10.4,12.2,21.85,null,1,1,1,535,586,781,null,0,0,0,1]
["16524010",null,null,1,65,240,10,11.5,0,26,30,47.2,2615.4,3860.4188735925432,4228.9855673527691,5636.58,1.5,1.08,1.08,1.08,1866,3027,3317,4420,160,260,285,380,0.20898689777815879,0.51455963451703945,0.61042691940395077,1.0436441851774703,3.969E-4,1.7345999999999999,2,3.6734700000000002E-4,535.19789031294818,586.29496640731588,781.44,{"$f":"IF($G300=10,0.98,IF($G300=11,0.95,IF($G300=15,1.01,IF($G300=16,0.95,IF($G300=20,0.95,IF($G300=21,0.85))))))","v":0.98},0.98,0.98,535,586,781,230,252,336,0.40968486620571454,0.48550351822928639,0.82954646870937465,1.6,14.8,16.600000000000001,28,null,2906,null,0.9,null,null,0,10.4,12.2,21.85,null,1,1,1,535,586,781,null,0,0,0,1]
["13524011",null,null,1,35,240,11,11.5,0,26,30,47.2,1951.6000000000001,5237.9452617275747,5738.028861571599,7647.9,1.5,1.1000000000000001,1.1000000000000001,1.1000000000000001,1392,4089,4480,5971,120,352,385,514,0.22290159377543398,1.6146931478475526,1.905847517886774,3.2559623282985095,3.969E-4,1.7345999999999999,4,5.7428799999999995E-4,877,961,1281,0.95,0.95,0.95,877,961,1281,377,413,551,1.8332088548014907,2.1703781533558777,3.704430979547201,3.2,14.8,16.600000000000001,28,null,2870,null,0.68,null,null,0,10.4,12.2,21.85,null,1,1,1,877,961,1281,null,0,0,0,1]
["15024011",null,null,1,50,240,11,11.5,0,26,30,47.2,2261.6800000000003,5237.9452617275747,5738.028861571599,7647.9,1.5,1.1000000000000001,1.1000000000000001,1.1000000000000001,1614,4089,4480,5971,139,352,385,514,0.29179323594944478,1.6146931478475526,1.905847517886774,3.2559623282985095,3.969E-4,1.7345999999999999,4,5.7428799999999995E-4,877,961,1281,0.95,0.95,0.95,877,961,1281,377,413,551,1.8332088548014907,2.1703781533558777,3.704430979547201,3.2,14.8,16.600000000000001,28,null,3326,null,0.68,null,null,0,10.4,12.2,21.85,null,1,1,1,877,961,1281,null,0,0,0,1]
["16524011",null,null,1,65,240,11,11.5,0,26,30,47.2,2518.04,5237.9452617275747,5738.028861571599,7647.9,1.5,1.1000000000000001,1.1000000000000001,1.1000000000000001,1797,4089,4480,5971,155,352,385,514,0.35634729066880916,1.6146931478475526,1.905847517886774,3.2559623282985095,3.969E-4,1.7345999999999999,4,5.7428799999999995E-4,{"$f":"AK302*(1-(($E303-50)*0.005))","v":811.22500000000002},{"$f":"AL302*(1-(($E303-50)*0.005))","v":888.92500000000007},{"$f":"AM302*(1-(($E303-50)*0.005))","v":1184.925},0.95,0.95,0.95,811,889,1185,349,382,510,1.5893381100358872,1.8784543295822771,3.209097991383699,3.2,14.8,16.600000000000001,28,null,3703,null,0.68,null,null,0,10.4,12.2,21.85,null,1,1,1,811,889,1185,null,0,0,0,1]
["13524015",null,null,1,35,240,15,16.5,0,26,30,48.1,2822.4,4729.715265656896,4901.7743245246338,7188.36,1.5,1.08,1.08,1.08,2014,3709,3844,5637,173,319,331,485,0.20193407514500877,0.65146857081143239,0.69931956136513895,1.4577106558488697,2.0829999999999999E-4,1.724,2,4.6182900000000003E-4,645.62512273636446,669.11187505864359,981.24,1.01,1.01,1.01,646,669,981,278,288,422,0.50037899202077363,0.5354561461459616,1.1152542227427753,2.4,16.399999999999999,17.7,29.7,null,3528,null,0.8,null,null,0,10,10.9,21.85,null,1,1,1,646,669,981,null,0,0,0,1]
["15024015",null,null,1,50,240,15,16.5,0,26,30,48.1,3329.6000000000004,4729.715265656896,4901.7743245246338,7188.36,1.5,1.08,1.08,1.08,2376,3709,3844,5637,204,319,331,485,0.27667651213955907,0.65146857081143239,0.69931956136513895,1.4577106558488697,2.0829999999999999E-4,1.724,2,4.6182900000000003E-4,645.62512273636446,669.11187505864359,981.24,1.01,1.01,1.01,646,669,981,278,288,422,0.50037899202077363,0.5354561461459616,1.1152542227427753,2.4,16.399999999999999,17.7,29.7,null,4162,null,0.8,null,null,0,10,10.9,21.85,null,1,1,1,646,669,981,null,0,0,0,1]
["16524015",null,null,1,65,240,15,16.5,0,26,30,48.1,3690.4,4729.715265656896,4901.7743245246338,7188.36,1.5,1.08,1.08,1.08,2633,3709,3844,5637,226,319,331,485,0.33654833473979201,0.65146857081143239,0.69931956136513895,1.4577106558488697,2.0829999999999999E-4,1.724,2,4.6182900000000003E-4,645.62512273636446,669.11187505864359,981.24,1.01,1.01,1.01,646,669,981,278,288,422,0.50037899202077363,0.5354561461459616,1.1152542227427753,2.4,16.399999999999999,17.7,29.7,null,4613,null,0.8,null,null,0,10,10.9,21.85,null,1,1,1,646,669,981,null,0,0,0,1]
["13524016",null,null,1,35,240,16,16.5,0,26,30,48.1,2599.6400000000003,6916.3686790875245,7167.9744986485921,10511.7,1.5,1.1000000000000001,1.1000000000000001,1.1000000000000001,1855,5400,5596,8207,160,464,481,706,0.46562764497358416,3.667097444714627,3.9329940571020581,8.3052967253826289,2.0829999999999999E-4,1.724,4,1.392796E-3,1059,1098,1610,0.95,0.95,0.95,1059,1098,1610,455,472,692,3.5300159430065703,3.7910912175214273,7.987173009623401,4.8,16.399999999999999,17.7,29.7,null,3823,null,0.68,null,null,0,10,10.9,21.85,null,1,1,1,1059,1098,1610,null,0,0,0,1]
["15024016",null,null,1,50,240,16,16.5,0,26,30,48.1,3097.4,6916.3686790875245,7167.9744986485921,10511.7,1.5,1.1000000000000001,1.1000000000000001,1.1000000000000001,2210,5400,5596,8207,190,464,481,706,0.64901697730759178,3.667097444714627,3.9329940571020581,8.3052967253826289,2.0829999999999999E-4,1.724,4,1.392796E-3,1059,1098,1610,0.95,0.95,0.95,1059,1098,1610,{"$f":"ROUND(AQ308*3600/(4186*ABS($AM$1-$AM$2)),0)","v":455},{"$f":"ROUND(AR308*3600/(4186*ABS($AM$1-$AM$2)),0)","v":472},{"$f":"ROUND(AS308*3600/(4186*ABS($AM$1-$AM$2)),0)","v":692},3.5300159430065703,3.7910912175214273,7.987173009623401,4.8,16.399999999999999,17.7,29.7,null,4555,null,0.68,null,null,0,10,10.9,21.85,null,1,1,1,1059,1098,1610,null,0,0,0,1]
["16524016",null,null,1,65,240,16,16.5,0,26,30,48.1,3546.2000000000003,6916.3686790875245,7167.9744986485921,10511.7,1.5,1.1000000000000001,1.1000000000000001,1.1000000000000001,2530,5400,5596,8207,218,464,481,706,0.84674171815567689,3.667097444714627,3.9329940571020581,8.3052967253826289,2.0829999999999999E-4,1.724,4,1.392796E-3,{"$f":"AK308*(1-(($E309-50)*0.005))","v":979.57500000000005},{"$f":"AL308*(1-(($E309-50)*0.005))","v":1015.6500000000001},{"$f":"AM308*(1-(($E309-50)*0.005))","v":1489.25},0.95,0.95,0.95,980,1016,1489,421,437,640,3.0352278492996239,3.2635202379938697,6.8589389653075363,4.8,16.399999999999999,17.7,29.7,null,5215,null,0.68,null,null,0,10,10.9,21.85,null,1,1,1,980,1016,1489,null,0,0,0,1]
["13524020",null,null,1,35,240,20,21.5,0,26,30,48.1,3955.2000000000003,6176.0620183272586,6765.7106634844222,9017.64,1.5,1.08,1.08,1.08,2822,4844,5306,7072,243,417,456,608,0.29025114541892943,0.82504336232375919,0.98120320393227112,1.7151431662130303,1.2760000000000001E-4,1.7219,2,3.76611E-4,763.26517311676128,836.13657141043336,1114.44,0.95,0.95,0.95,763,836,1114,328,359,479,0.51827708039997999,0.61727233073709142,1.0794747424565225,3.2,16.399999999999999,17.7,29.7,null,4944,null,0.8,null,null,0,10,10.9,21.85,null,1,1,1,763,836,1114,null,0,0,0,1]
["15024020",null,null,1,50,240,20,21.5,0,26,30,48.1,4656,6176.0620183272586,6765.7106634844222,9017.64,1.5,1.08,1.08,1.08,3322,4844,5306,7072,286,417,456,608,0.39762486511490663,0.82504336232375919,0.98120320393227112,1.7151431662130303,1.2760000000000001E-4,1.7219,2,3.76611E-4,763.26517311676128,836.13657141043336,1114.44,0.95,0.95,0.95,763,836,1114,328,359,479,0.51827708039997999,0.61727233073709142,1.0794747424565225,3.2,16.399999999999999,17.7,29.7,null,5820,null,0.8,null,null,0,10,10.9,21.85,null,1,1,1,763,836,1114,null,0,0,0,{"$f":"IF(SUM(BV311:BX311)=0,1,0)","v":1}]
["16524020",null,null,1,65,240,20,21.5,0,26,30,48.1,5155.2000000000007,6176.0620183272586,6765.7106634844222,9017.64,1.5,1.08,1.08,1.08,3678,4844,5306,7072,316,417,456,608,0.48222022981115237,0.82504336232375919,0.98120320393227112,1.7151431662130303,1.2760000000000001E-4,1.7219,2,3.76611E-4,763.26517311676128,836.13657141043336,1114.44,0.95,0.95,0.95,763,836,1114,328,359,479,0.51827708039997999,0.61727233073709142,1.0794747424565225,3.2,16.399999999999999,17.7,29.7,null,6444,null,0.8,null,null,0,10,10.9,21.85,null,1,1,1,763,836,1114,null,0,0,0,1]
["13524021",null,null,1,35,240,21,21.5,0,26,30,48.1,4059.2000000000003,8907.2895892451361,9231.3217513746804,13537.56,1.5,1.05,1.05,1.05,2896,7033,7289,10689,249,605,627,919,0.46326487311726416,2.5400955106251395,2.7208037343149845,5.6848092494770484,1.2760000000000001E-4,1.7219,4,5.1420100000000005E-4,1155.4060454399644,1197.4377673560793,1756.02,0.85,0.85,0.85,1155,1197,1756,497,515,755,1.7405492683847181,1.8636668369026486,3.8910739231720726,6.4,16.399999999999999,17.7,29.7,null,5074,null,0.8,null,null,0,10,10.9,21.85,null,1,1,1,1155,1197,1756,null,0,0,0,1]
["15024021",null,null,1,50,240,21,21.5,0,26,30,48.1,4957.6000000000004,8907.2895892451361,9231.3217513746804,13537.56,1.5,1.05,1.05,1.05,3537,7033,7289,10689,304,605,627,919,0.67838442590749337,2.5400955106251395,2.7208037343149845,5.6848092494770484,1.2760000000000001E-4,1.7219,4,5.1420100000000005E-4,1155.4060454399644,1197.4377673560793,1756.02,0.85,0.85,0.85,1155,1197,1756,497,515,755,1.7405492683847181,1.8636668369026486,3.8910739231720726,6.4,16.399999999999999,17.7,29.7,null,6197,null,0.8,null,null,0,10,10.9,21.85,null,1,1,1,1155,1197,1756,null,0,0,0,1]
["16524021",null,null,1,65,240,21,21.5,0,26,30,48.1,5817.6,8907.2895892451361,9231.3217513746804,13537.56,1.5,1.05,1.05,1.05,4151,7033,7289,10689,357,605,627,919,0.92272576687421537,2.5400955106251395,2.7208037343149845,5.6848092494770484,1.2760000000000001E-4,1.7219,4,5.1420100000000005E-4,{"$f":"AK314*(1-(($E315-50)*0.005))","v":1068.750592031967},{"$f":"AL314*(1-(($E315-50)*0.005))","v":1107.6299348043735},{"$f":"AM314*(1-(($E315-50)*0.005))","v":1624.3185000000001},0.85,0.85,0.85,1069,1108,1624,460,476,698,1.500277154983225,1.6020615860345597,3.3449407424486819,6.4,16.399999999999999,17.7,29.7,null,7272,null,0.8,null,null,0,10,10.9,21.85,null,1,1,1,1069,1108,1624,null,0,0,0,1]
["13526010",null,null,1,35,260,10,11.5,0,26,30,47.8,2008.3752808988763,4178.1784000000007,4608.2849999999999,6144.38,1.5,1.08,1.08,1.08,1433,3277,3614,4819,123,282,311,414,0.13506067832374535,0.62619933930989857,0.75101257718335657,1.2786543856943258,3.969E-4,1.7345999999999999,2,3.6734700000000002E-4,579.25120000000004,638.88,851.84,0.98,0.98,0.98,579,639,852,249,275,366,0.4971168110898011,0.59766089099899167,1.0165350975712137,1.7,16.2,18.600000000000001,31.4,null,{"$f":"(BE334/(F334-102))*(F316-102)","v":2231.5280898876404},null,0.9,null,null,0,10.199999999999999,11.9,21.85,null,1,1,1,579,639,852,null,0,0,0,1]
["15026010",null,null,1,50,260,10,11.5,0,26,30,47.8,2407.0146067415731,4178.1784000000007,4608.2849999999999,6144.38,1.5,1.08,1.08,1.08,1717,3277,3614,4819,148,282,311,414,0.1899512014846646,0.62619933930989857,0.75101257718335657,1.2786543856943258,3.969E-4,1.7345999999999999,2,3.6734700000000002E-4,579.25120000000004,638.88,851.84,0.98,0.98,0.98,579,639,852,249,275,366,0.4971168110898011,0.59766089099899167,1.0165350975712137,1.7,16.2,18.600000000000001,31.4,null,2674.4606741573034,null,0.9,null,null,0,10.199999999999999,11.9,21.85,null,1,1,1,579,639,852,null,0,0,0,1]
["16526010",null,null,1,65,260,10,11.5,0,26,30,47.8,2708.9898876404495,4178.1784000000007,4608.2849999999999,6144.38,1.5,1.08,1.08,1.08,1933,3277,3614,4819,166,282,311,414,0.2347720617378159,0.62619933930989857,0.75101257718335657,1.2786543856943258,3.969E-4,1.7345999999999999,2,3.6734700000000002E-4,579.25120000000004,638.88,851.84,0.98,0.98,0.98,579,639,852,249,275,366,0.4971168110898011,0.59766089099899167,1.0165350975712137,1.7,16.2,18.600000000000001,31.4,null,3009.9887640449438,null,0.9,null,null,0,10.199999999999999,11.9,21.85,null,1,1,1,579,639,852,null,0,0,0,1]
["13526011",null,null,1,35,260,11,11.5,0,26,30,47.8,2021.4413483146068,5669.0920000000006,6252.6749999999993,8336.9,1.5,1.1000000000000001,1.1000000000000001,1.1000000000000001,1442,4426,4882,6509,124,381,420,560,0.25000900219603939,1.9626616514787372,2.3494829093201255,3.9995616431127772,3.969E-4,1.7345999999999999,4,5.7428799999999995E-4,949.51120000000003,1047.2549999999999,1396.34,0.95,0.95,0.95,950,1047,1396,409,450,600,2.2371204011135477,2.6688522314760581,4.5447894857124886,3.5,16.2,18.600000000000001,31.4,null,2972.7078651685392,null,0.68,null,null,0,10.199999999999999,11.9,21.85,null,1,1,1,950,1047,1396,null,0,0,0,1]
["15026011",null,null,1,50,260,11,11.5,0,26,30,47.8,2342.5541573033711,5669.0920000000006,6252.6749999999993,8336.9,1.5,1.1000000000000001,1.1000000000000001,1.1000000000000001,1671,4426,4882,6509,144,381,420,560,0.32858323008627671,1.9626616514787372,2.3494829093201255,3.9995616431127772,3.969E-4,1.7345999999999999,4,5.7428799999999995E-4,949.51120000000003,1047.2549999999999,1396.34,0.95,0.95,0.95,950,1047,1396,409,450,600,2.2371204011135477,2.6688522314760581,4.5447894857124886,3.5,16.2,18.600000000000001,31.4,null,3444.932584269663,null,0.68,null,null,0,10.199999999999999,11.9,21.85,null,1,1,1,950,1047,1396,null,0,0,0,1]
["16526011",null,null,1,65,260,11,11.5,0,26,30,47.8,2607.5325842696629,5669.0920000000006,6252.6749999999993,8336.9,1.5,1.1000000000000001,1.1000000000000001,1.1000000000000001,1860,4426,4882,6509,160,381,420,560,0.39844512452067204,1.9626616514787372,2.3494829093201255,3.9995616431127772,3.969E-4,1.7345999999999999,4,5.7428799999999995E-4,{"$f":"AK320*(1-(($E321-50)*0.005))","v":878.29786000000001},{"$f":"AL320*(1-(($E321-50)*0.005))","v":968.71087499999999},{"$f":"AM320*(1-(($E321-50)*0.005))","v":1291.6144999999999},0.95,0.95,0.95,878,969,1292,378,417,556,1.9342437605196754,2.3185855639535426,3.9468239703814647,3.5,16.2,18.600000000000001,31.4,null,3834.6067415730336,null,0.68,null,null,0,10.199999999999999,11.9,21.85,null,1,1,1,878,969,1292,null,0,0,0,1]
["13526015",null,null,1,35,260,15,16.5,0,26,30,48.1,2922.8224719101127,4942.1733310961072,5121.9619484404784,7511.2599999999993,1.5,1.08,1.08,1.08,2085,3876,4017,5891,179,333,345,507,0.22176760174557505,0.72567906330489695,0.77658683374621928,1.6253475371689938,2.0829999999999999E-4,1.724,2,4.6182900000000003E-4,653.91552727192982,677.70396216321694,993.84,1.01,1.01,1.01,654,678,994,281,292,427,0.52438185580177876,0.5643390276130934,1.1687899905071639,2.6,16.399999999999999,17.7,29.7,null,3653.5280898876404,null,0.8,null,null,0,10,10.9,21.85,null,1,1,1,654,678,994,null,0,0,0,1]
["15026015",null,null,1,50,260,15,16.5,0,26,30,48.1,3447.5955056179773,4942.1733310961072,5121.9619484404784,7511.2599999999993,1.5,1.08,1.08,1.08,2460,3876,4017,5891,212,333,345,507,0.30616193004031539,0.72567906330489695,0.77658683374621928,1.6253475371689938,2.0829999999999999E-4,1.724,2,4.6182900000000003E-4,653.91552727192982,677.70396216321694,993.84,1.01,1.01,1.01,654,678,994,281,292,427,0.52438185580177876,0.5643390276130934,1.1687899905071639,2.6,16.399999999999999,17.7,29.7,null,4309.4943820224717,null,0.8,null,null,0,10,10.9,21.85,null,1,1,1,654,678,994,null,0,0,0,1]
["16526015",null,null,1,65,260,15,16.5,0,26,30,48.1,3821.8247191011237,4942.1733310961072,5121.9619484404784,7511.2599999999993,1.5,1.08,1.08,1.08,2727,3876,4017,5891,235,333,345,507,0.37265832943365651,0.72567906330489695,0.77658683374621928,1.6253475371689938,2.0829999999999999E-4,1.724,2,4.6182900000000003E-4,653.91552727192982,677.70396216321694,993.84,1.01,1.01,1.01,654,678,994,281,292,427,0.52438185580177876,0.5643390276130934,1.1687899905071639,2.6,16.399999999999999,17.7,29.7,null,4777.2808988764045,null,0.8,null,null,0,10,10.9,21.85,null,1,1,1,654,678,994,null,0,0,0,1]
["13526016",null,null,1,35,260,16,16.5,0,26,30,48.1,2692.0359550561798,7342.4691534710291,7609.5768181679023,11159.300000000001,1.5,1.1000000000000001,1.1000000000000001,1.1000000000000001,1921,5732,5941,8712,165,493,511,749,0.50500192342903394,4.1978564997308982,4.5006744046263982,9.4678767911138362,2.0829999999999999E-4,1.724,4,1.392796E-3,1068.8700133353962,1107.7538502516963,1624.5,0.95,0.95,0.95,1069,1108,1625,460,476,699,3.66947790801381,3.9213280612116019,8.2763568685468254,5.2,16.399999999999999,17.7,29.7,null,3958.8764044943819,null,0.68,null,null,0,10,10.9,21.85,null,1,1,1,1069,1108,1625,null,0,0,0,1]
["15026016",null,null,1,50,260,16,16.5,0,26,30,48.1,3207.5065168539327,7342.4691534710291,7609.5768181679023,11159.300000000001,1.5,1.1000000000000001,1.1000000000000001,1.1000000000000001,2289,5732,5941,8712,197,493,511,749,0.71079667180110884,4.1978564997308982,4.5006744046263982,9.4678767911138362,2.0829999999999999E-4,1.724,4,1.392796E-3,1068.8700133353962,1107.7538502516963,1624.5,0.95,0.95,0.95,1069,1108,1625,460,476,699,3.66947790801381,3.9213280612116019,8.2763568685468254,5.2,16.399999999999999,17.7,29.7,null,4716.9213483146068,null,0.68,null,null,0,10,10.9,21.85,null,1,1,1,1069,1108,1625,null,0,0,0,1]
["16526016",null,null,1,65,260,16,16.5,0,26,30,48.1,3672.2750561797752,7342.4691534710291,7609.5768181679023,11159.300000000001,1.5,1.1000000000000001,1.1000000000000001,1.1000000000000001,2620,5732,5941,8712,225,493,511,749,0.91870266144532897,4.1978564997308982,4.5006744046263982,9.4678767911138362,2.0829999999999999E-4,1.724,4,1.392796E-3,{"$f":"AK326*(1-(($E327-50)*0.005))","v":988.70476233524153},{"$f":"AL326*(1-(($E327-50)*0.005))","v":1024.6723114828192},{"$f":"AM326*(1-(($E327-50)*0.005))","v":1502.6625000000001},0.95,0.95,0.95,989,1025,1503,425,441,646,3.1470491246627477,3.3810160108754932,7.0990709908512901,5.2,16.399999999999999,17.7,29.7,null,5400.4044943820218,null,0.68,null,null,0,10,10.9,21.85,null,1,1,1,989,1025,1503,null,0,0,0,1]
["13526020",null,null,1,35,260,20,21.5,0,26,30,48.1,4095.9280898876405,6444.5232000000005,7107.93,9477.24,1.5,1.08,1.08,1.08,2922,5054,5574,7432,251,435,479,639,0.3157635555792167,0.91294981512938123,1.1001003363250261,1.9230584519635214,1.2760000000000001E-4,1.7219,2,3.76611E-4,768.42720000000008,847.53,1130.04,0.95,0.95,0.95,768,848,1130,330,365,486,0.53526796134941879,0.65032127694667174,1.1314386418343181,3.5,16.399999999999999,17.7,29.7,null,5119.9101123595501,null,0.8,null,null,0,10,10.9,21.85,null,1,1,1,768,848,1130,null,0,0,0,1]
["15026020",null,null,1,50,260,20,21.5,0,26,30,48.1,4821.6629213483147,6444.5232000000005,7107.93,9477.24,1.5,1.08,1.08,1.08,3440,5054,5574,7432,296,435,479,639,0.43394588185697264,0.91294981512938123,1.1001003363250261,1.9230584519635214,1.2760000000000001E-4,1.7219,2,3.76611E-4,768.42720000000008,847.53,1130.04,0.95,0.95,0.95,768,848,1130,330,365,486,0.53526796134941879,0.65032127694667174,1.1314386418343181,3.5,16.399999999999999,17.7,29.7,null,6027.0786516853932,null,0.8,null,null,0,10,10.9,21.85,null,1,1,1,768,848,1130,null,0,0,0,1]
["16526020",null,null,1,65,260,20,21.5,0,26,30,48.1,5338.6247191011244,6444.5232000000005,7107.93,9477.24,1.5,1.08,1.08,1.08,3809,5054,5574,7432,328,435,479,639,0.5290224142408293,0.91294981512938123,1.1001003363250261,1.9230584519635214,1.2760000000000001E-4,1.7219,2,3.76611E-4,768.42720000000008,847.53,1130.04,0.95,0.95,0.95,768,848,1130,330,365,486,0.53526796134941879,0.65032127694667174,1.1314386418343181,3.5,16.399999999999999,17.7,29.7,null,6673.2808988764045,null,0.8,null,null,0,10,10.9,21.85,null,1,1,1,768,848,1130,null,0,0,0,1]
["13526021",null,null,1,35,260,21,21.5,0,26,30,48.1,4203.1550561797758,9234.8263652613623,9570.7750567366256,14035.359999999999,1.5,1.05,1.05,1.05,2999,7291,7557,11082,258,627,650,953,0.50998261295432368,2.7863852901670048,2.9859304369033395,6.2326378089967651,1.2760000000000001E-4,1.7219,4,5.1420100000000005E-4,1167.5126679363457,1209.9849719689844,1774.42,0.85,0.85,0.85,1168,1210,1774,502,520,763,1.8190609839698662,1.9461054883013664,4.0628828592588073,6.9,16.399999999999999,17.7,29.7,null,5253.9438202247193,null,0.8,null,null,0,10,10.9,21.85,null,1,1,1,1168,1210,1774,null,0,0,0,1]
["15026021",null,null,1,50,260,21,21.5,0,26,30,48.1,5134.1123595505624,9234.8263652613623,9570.7750567366256,14035.359999999999,1.5,1.05,1.05,1.05,3663,7291,7557,11082,315,627,650,953,0.74616514106560183,2.7863852901670048,2.9859304369033395,6.2326378089967651,1.2760000000000001E-4,1.7219,4,5.1420100000000005E-4,1167.5126679363457,1209.9849719689844,1774.42,0.85,0.85,0.85,1168,1210,1774,502,520,763,1.8190609839698662,1.9461054883013664,4.0628828592588073,6.9,16.399999999999999,17.7,29.7,null,6417.6404494382023,null,0.8,null,null,0,10,10.9,21.85,null,1,1,1,1168,1210,1774,null,0,0,0,1]
["16526021",null,null,1,65,260,21,21.5,0,26,30,48.1,6024.5932584269667,9234.8263652613623,9570.7750567366256,14035.359999999999,1.5,1.05,1.05,1.05,4299,7291,7557,11082,370,627,650,953,1.0146142096531841,2.7863852901670048,2.9859304369033395,6.2326378089967651,1.2760000000000001E-4,1.7219,4,5.1420100000000005E-4,{"$f":"AK332*(1-(($E333-50)*0.005))","v":1079.9492178411199},{"$f":"AL332*(1-(($E333-50)*0.005))","v":1119.2360990713107},{"$f":"AM332*(1-(($E333-50)*0.005))","v":1641.3385000000001},0.85,0.85,0.85,1080,1119,1641,464,481,706,1.5644725083651521,1.6760794134881409,3.4996239591687601,6.9,16.399999999999999,17.7,29.7,null,7530.7415730337079,null,0.8,null,null,0,10,10.9,21.85,null,1,1,1,1080,1119,1641,null,0,0,0,1]
["13528010",null,null,1,35,280,10,11.5,0,26,30,47.8,2262.6,4331.3824000000004,4782.2249168521384,6369.68,1.5,1.08,1.08,1.08,1614,3397,3750,4995,139,292,323,430,0.17731092973586751,0.69744802061985678,0.84077185533321985,1.4297918820056932,3.969E-4,1.7345999999999999,2,3.6734700000000002E-4,587.68320000000006,648.85364133524638,864.24,0.98,0.98,0.98,588,649,864,{"$f":"ROUND(AQ334*3600/(4186*ABS($AM$1-$AM$2)),0)","v":253},{"$f":"ROUND(AR334*3600/(4186*ABS($AM$1-$AM$2)),0)","v":279},{"$f":"ROUND(AS334*3600/(4186*ABS($AM$1-$AM$2)),0)","v":372},0.53495403421136267,0.64106400571541289,1.0925143603098122,1.9,16.2,18.600000000000001,31.4,null,2514,null,0.9,null,null,0,10.199999999999999,11.9,21.85,null,1,1,1,588,649,864,null,0,0,0,1]
["15028010",null,null,1,50,280,10,11.5,0,26,30,47.8,2711.7000000000003,4331.3824000000004,4782.2249168521384,6369.68,1.5,1.08,1.08,1.08,1935,3397,3750,4995,166,292,323,430,0.24581200027236116,0.69744802061985678,0.84077185533321985,1.4297918820056932,3.969E-4,1.7345999999999999,2,3.6734700000000002E-4,587.68320000000006,648.85364133524638,864.24,0.98,0.98,0.98,588,649,864,253,279,372,0.53495403421136267,0.64106400571541289,1.0925143603098122,1.9,16.2,18.600000000000001,31.4,null,3013,null,0.9,null,null,0,10.199999999999999,11.9,21.85,null,1,1,1,588,649,864,null,0,0,0,1]
["16528010",null,null,1,65,280,10,11.5,0,26,30,47.8,3051.9,4331.3824000000004,4782.2249168521384,6369.68,1.5,1.08,1.08,1.08,2178,3397,3750,4995,187,292,323,430,0.30614938597761154,0.69744802061985678,0.84077185533321985,1.4297918820056932,3.969E-4,1.7345999999999999,2,3.6734700000000002E-4,587.68320000000006,648.85364133524638,864.24,0.98,0.98,0.98,588,649,864,253,279,372,0.53495403421136267,0.64106400571541289,1.0925143603098122,1.9,16.2,18.600000000000001,31.4,null,3391,null,0.9,null,null,0,10.199999999999999,11.9,21.85,null,1,1,1,588,649,864,null,0,0,0,1]
["13528011",null,null,1,35,280,11,11.5,0,26,30,47.8,2277.3200000000002,5976.8600000000006,6598.9760720588583,8789.5,1.5,1.1000000000000001,1.1000000000000001,1.1000000000000001,1625,4666,5152,6862,140,401,443,590,0.3285163640615415,2.2589629505887028,2.7138313013647335,4.6046594930075209,3.969E-4,1.7345999999999999,4,5.7428799999999995E-4,956,1056,1406,0.95,0.95,0.95,956,1056,1406,411,454,605,2.3637663276478489,2.839310118041396,4.8232973600811606,3.7,16.2,18.600000000000001,31.4,null,3349,null,0.68,null,null,0,10.199999999999999,11.9,21.85,null,1,1,1,956,1056,1406,null,0,0,0,1]
["15028011",null,null,1,50,280,11,11.5,0,26,30,47.8,2639.0800000000004,5976.8600000000006,6598.9760720588583,8789.5,1.5,1.1000000000000001,1.1000000000000001,1.1000000000000001,1883,4666,5152,6862,162,401,443,590,0.42877537112266756,2.2589629505887028,2.7138313013647335,4.6046594930075209,3.969E-4,1.7345999999999999,4,5.7428799999999995E-4,956,1056,1406,0.95,0.95,0.95,956,1056,1406,411,454,605,2.3637663276478489,2.839310118041396,4.8232973600811606,3.7,16.2,18.600000000000001,31.4,null,3881,null,0.68,null,null,0,10.199999999999999,11.9,21.85,null,1,1,1,956,1056,1406,null,0,0,0,1]
["16528011",null,null,1,65,280,11,11.5,0,26,30,47.8,2937.6000000000004,5976.8600000000006,6598.9760720588583,8789.5,1.5,1.1000000000000001,1.1000000000000001,1.1000000000000001,2096,4666,5152,6862,180,401,443,590,0.51978354482484246,2.2589629505887028,2.7138313013647335,4.6046594930075209,3.969E-4,1.7345999999999999,4,5.7428799999999995E-4,{"$f":"AK338*(1-(($E339-50)*0.005))","v":884.30000000000007},{"$f":"AL338*(1-(($E339-50)*0.005))","v":976.80000000000007},{"$f":"AM338*(1-(($E339-50)*0.005))","v":1300.55},0.95,0.95,0.95,884,977,1301,380,420,559,2.0460407658680859,2.4599633456360963,4.1677552317663364,3.7,16.2,18.600000000000001,31.4,null,4320,null,0.68,null,null,0,10.199999999999999,11.9,21.85,null,1,1,1,884,977,1301,null,0,0,0,1]
["13528015",null,null,1,35,280,15,16.5,0,26,30,48.9,3292.8,5583.9635634029,5708.9475468201636,8483.56,1.5,1.08,1.08,1.08,2349,4379,4477,6653,202,377,385,572,0.2869107102099937,0.94303351503609456,0.98167422248603797,2.0958794463889725,2.0829999999999999E-4,1.724,2,4.6182900000000003E-4,762.23344503523219,779.29426056038062,1158.04,1.01,1.01,1.01,762,779,1158,328,335,498,0.72271492130345638,0.75246226647382841,1.6068391234938044,2.8,19.3,20.399999999999999,34.5,null,4116,null,0.8,null,null,0,10,10.6,21.85,null,1,1,1,762,779,1158,null,0,0,0,1]
["15028015",null,null,1,50,280,15,16.5,0,26,30,48.9,3884,5583.9635634029,5708.9475468201636,8483.56,1.5,1.08,1.08,1.08,2771,4379,4477,6653,238,377,385,572,0.39200779489658094,0.94303351503609456,0.98167422248603797,2.0958794463889725,2.0829999999999999E-4,1.724,2,4.6182900000000003E-4,762.23344503523219,779.29426056038062,1158.04,1.01,1.01,1.01,762,779,1158,328,335,498,0.72271492130345638,0.75246226647382841,1.6068391234938044,2.8,19.3,20.399999999999999,34.5,null,4855,null,0.8,null,null,0,10,10.6,21.85,null,1,1,1,762,779,1158,null,0,0,0,1]
["16528015",null,null,1,65,280,15,16.5,0,26,30,48.9,4305.6000000000004,5583.9635634029,5708.9475468201636,8483.56,1.5,1.08,1.08,1.08,3072,4379,4477,6653,264,377,385,572,0.47762676207894833,0.94303351503609456,0.98167422248603797,2.0958794463889725,2.0829999999999999E-4,1.724,2,4.6182900000000003E-4,762.23344503523219,779.29426056038062,1158.04,1.01,1.01,1.01,762,779,1158,328,335,498,0.72271492130345638,0.75246226647382841,1.6068391234938044,2.8,19.3,20.399999999999999,34.5,null,5382,null,0.8,null,null,0,10,10.6,21.85,null,1,1,1,762,779,1158,null,0,0,0,1]
["13528016",null,null,1,35,280,16,16.5,0,26,30,48.9,3032.8,8165.5551181941737,8348.321999442087,12405.7,1.5,1.1000000000000001,1.1000000000000001,1.1000000000000001,2164,6375,6518,9685,186,548,561,833,0.64956978722577119,5.2414825003503225,5.4853925820263667,11.822942017746373,2.0829999999999999E-4,1.724,4,1.392796E-3,1250,1278,1900,0.95,0.95,0.95,1250,1278,1900,538,550,817,5.0575445569651576,5.2786547361922693,11.385263573722288,5.6,19.3,20.399999999999999,34.5,null,4460,null,0.68,null,null,0,10,10.6,21.85,null,1,1,1,1250,1278,1900,null,0,0,0,1]
["15028016",null,null,1,50,280,16,16.5,0,26,30,48.9,3613.5200000000004,8165.5551181941737,8348.321999442087,12405.7,1.5,1.1000000000000001,1.1000000000000001,1.1000000000000001,2578,6375,6518,9685,222,548,561,833,0.9133083225181986,5.2414825003503225,5.4853925820263667,11.822942017746373,2.0829999999999999E-4,1.724,4,1.392796E-3,1250,1278,1900,0.95,0.95,0.95,1250,1278,1900,538,550,817,5.0575445569651576,5.2786547361922693,11.385263573722288,5.6,19.3,20.399999999999999,34.5,null,5314,null,0.68,null,null,0,10,10.6,21.85,null,1,1,1,1250,1278,1900,null,0,0,0,1]
["16528016",null,null,1,65,280,16,16.5,0,26,30,48.9,4137.12,8165.5551181941737,8348.321999442087,12405.7,1.5,1.1000000000000001,1.1000000000000001,1.1000000000000001,2952,6375,6518,9685,254,548,561,833,1.1840893957878338,5.2414825003503225,5.4853925820263667,11.822942017746373,2.0829999999999999E-4,1.724,4,1.392796E-3,{"$f":"AK344*(1-(($E345-50)*0.005))","v":1156.25},{"$f":"AL344*(1-(($E345-50)*0.005))","v":1182.1500000000001},{"$f":"AM344*(1-(($E345-50)*0.005))","v":1757.5},0.95,0.95,0.95,1156,1182,1758,497,508,756,4.3369571358382482,4.5249837568654003,9.7907661330203499,5.6,19.3,20.399999999999999,34.5,null,6084,null,0.68,null,null,0,10,10.6,21.85,null,1,1,1,1156,1182,1758,null,0,0,0,1]
["13528020",null,null,1,35,280,20,21.5,0,26,30,48.9,4614.4000000000005,7236.8592000000008,7990.1253664397382,10642.44,1.5,1.08,1.08,1.08,3292,5675,6266,8346,283,488,539,718,0.40627067057853766,1.1617686015146995,1.4078788417424029,2.45260460232267,1.2760000000000001E-4,1.7219,2,3.76611E-4,894.36320000000012,987.455178225689,1315.24,0.95,0.95,0.95,894,987,1315,384,424,565,0.73142402444564503,0.88553710556508203,1.5421797125957473,3.7,19.3,20.399999999999999,34.5,null,5768,null,0.8,null,null,0,10,10.6,21.85,null,1,1,1,894,987,1315,null,0,0,0,1]
["15028020",null,null,1,50,280,20,21.5,0,26,30,48.9,5432,7236.8592000000008,7990.1253664397382,10642.44,1.5,1.08,1.08,1.08,3876,5675,6266,8346,333,488,539,718,0.55573198802446522,1.1617686015146995,1.4078788417424029,2.45260460232267,1.2760000000000001E-4,1.7219,2,3.76611E-4,894.36320000000012,987.455178225689,1315.24,0.95,0.95,0.95,894,987,1315,384,424,565,0.73142402444564503,0.88553710556508203,1.5421797125957473,3.7,19.3,20.399999999999999,34.5,null,6790,null,0.8,null,null,0,10,10.6,21.85,null,1,1,1,894,987,1315,null,0,0,0,1]
["16528020",null,null,1,65,280,20,21.5,0,26,30,48.9,{"$f":"IF($N348-($BE348*$BG348)>100,$BE348*$BG348,$N348-95)","v":6014.4000000000005},7236.8592000000008,7990.1253664397382,10642.44,1.5,1.08,1.08,1.08,{"$f":"ROUND(M348*POWER(CF_heat,Q348),0)","v":4291},{"$f":"ROUND(N348*POWER(CF_heat,R348),0)","v":5675},{"$f":"ROUND(O348*POWER(CF_heat,S348),0)","v":6266},{"$f":"ROUND(P348*POWER(CF_heat,T348),0)","v":8346},369,488,539,718,0.67732368431758827,1.1617686015146995,1.4078788417424029,2.45260460232267,{"$f":"IF($G348=$CO$103,CP$103,IF($G348=$CO$104,CP$104,IF($G348=$CO$105,CP$105,IF($G348=$CO$107,CP$107,IF($G348=$CO$108,CP$108,IF($G348=$CO$109,CP$109,IF($G348=$CO$111,CP$111,IF($G348=$CO$112,CP$112,IF($G348=$CO$113,CP$113,IF($G348=$CO$115,CP$115,IF($G348=$CO$116,CP$116,IF($G348=$CO$117,CP$117,IF($G348=$CO$119,CP$119,IF($G348=$CO$120,CP$120,))))))))))))))","v":1.2760000000000001E-4},{"$f":"IF($G348=$CO$103,CQ$103,IF($G348=$CO$104,CQ$104,IF($G348=$CO$105,CQ$105,IF($G348=$CO$107,CQ$107,IF($G348=$CO$108,CQ$108,IF($G348=$CO$109,CQ$109,IF($G348=$CO$111,CQ$111,IF($G348=$CO$112,CQ$112,IF($G348=$CO$113,CQ$113,IF($G348=$CO$115,CQ$115,IF($G348=$CO$116,CQ$116,IF($G348=$CO$117,CQ$117,IF($G348=$CO$119,CQ$119,IF($G348=$CO$120,CQ$120,))))))))))))))","v":1.7219},{"$f":"IF($G348=$CO$103,CR$103,IF($G348=$CO$104,CR$104,IF($G348=$CO$105,CR$105,IF($G348=$CO$107,CR$107,IF($G348=$CO$108,CR$108,IF($G348=$CO$109,CR$109,IF($G348=$CO$111,CR$111,IF($G348=$CO$112,CR$112,IF($G348=$CO$113,CR$113,IF($G348=$CO$115,CR$115,IF($G348=$CO$116,CR$116,IF($G348=$CO$117,CR$117,IF($G348=$CO$119,CR$119,IF($G348=$CO$120,CR$120,))))))))))))))","v":2},{"$f":"IF($G348=$CO$103,CS$103,IF($G348=$CO$104,CS$104,IF($G348=$CO$105,CS$105,IF($G348=$CO$107,CS$107,IF($G348=$CO$108,CS$108,IF($G348=$CO$109,CS$109,IF($G348=$CO$111,CS$111,IF($G348=$CO$112,CS$112,IF($G348=$CO$113,CS$113,IF($G348=$CO$115,CS$115,IF($G348=$CO$116,CS$116,IF($G348=$CO$117,CS$117,IF($G348=$CO$119,CS$119,IF($G348=$CO$120,CS$120,))))))))))))))","v":3.76611E-4},894.36320000000012,987.455178225689,1315.24,0.95,0.95,0.95,{"$f":"ROUND(AK348*POWER(CF_cool,AN348),0)","v":894},{"$f":"ROUND(AL348*POWER(CF_cool,AO348),0)","v":987},{"$f":"ROUND(AM348*POWER(CF_cool,AP348),0)","v":1315},384,424,565,0.73142402444564503,0.88553710556508203,1.5421797125957473,{"$f":"ROUND(IF(G348=10,$CO$92*F348,IF(G348=11,$CO$93*F348,IF(G348=15,$CO$94*F348,IF(G348=16,$CO$95*F348,IF(G348=20,$CO$96*F348,IF(G348=21,$CO$97*F348,)))))),1)","v":3.7},19.3,20.399999999999999,34.5,null,7518,null,{"$f":"IF(G348=10,0.9,IF(G348=11,0.68,IF(G348=15,0.8,IF(G348=16,0.68,IF(G348=20,0.8,IF(G348=21,0.8))))))","v":0.8},null,null,0,10,10.6,21.85,null,1,1,1,{"$f":"AQ348/BO348","v":894},{"$f":"AR348/BP348","v":987},{"$f":"AS348/BQ348","v":1315},null,{"$f":"BR348-AQ348","v":0},{"$f":"BS348-AR348","v":0},{"$f":"BT348-AS348","v":0},1]
[{"$f":"CONCATENATE(D349,E349,F349,G349)","v":"13528021"},null,null,1,35,280,21,21.5,0,26,30,48.9,4735.2,10516.06232539558,10751.439821034392,15976.76,1.5,{"$f":"IF($G349=10,1.08,IF($G349=11,1.1,IF($G349=15,1.08,IF($G349=16,1.1,IF($G349=20,1.08,IF($G349=21,1.05))))))","v":1.05},1.05,1.05,3379,8303,8489,12614,291,714,730,1085,{"$f":"(($AG349*(Y349^$AH349)*((($F349-14.4)*$AI349)/100))+($AJ349*(Y349^2)))*0.0098","v":0.65896467953218674},{"$f":"(($AG349*(Z349^$AH349)*((($F349-14.4)*$AI349)/100))+($AJ349*(Z349^2)))*0.0098","v":3.6582492578050627},{"$f":"(($AG349*(AA349^$AH349)*((($F349-14.4)*$AI349)/100))+($AJ349*(AA349^2)))*0.0098","v":3.8170452588806048},{"$f":"(($AG349*(AB349^$AH349)*((($F349-14.4)*$AI349)/100))+($AJ349*(AB349^2)))*0.0098","v":8.1713252650858994},1.2760000000000001E-4,1.7219,4,5.1420100000000005E-4,1364.0874548028703,1394.6193667494595,2072.42,0.85,0.85,0.85,1364,1395,2072,587,600,891,{"$f":"(($AG349*(AT349^$AH349)*((($F349-14.4)*$AI349)/100))+($AJ349*(AT349^2)))*0.0098","v":2.5138101209572565},{"$f":"(($AG349*(AU349^$AH349)*((($F349-14.4)*$AI349)/100))+($AJ349*(AU349^2)))*0.0098","v":2.6214541033696332},{"$f":"(($AG349*(AV349^$AH349)*((($F349-14.4)*$AI349)/100))+($AJ349*(AV349^2)))*0.0098","v":5.5954958100538708},7.5,19.3,20.399999999999999,34.5,null,5919,null,0.8,null,null,0,10,10.6,21.85,null,{"$f":"IF(1/(1+((2258*((0.622/((101325/(1*611*EXP(17.27*((($AM$1+$AM$2)/2)/((($AM$1+$AM$2)/2)+237.3))))))-1)*1000-(0.622/((101325/($AQ$1*611*EXP(17.27*($AM$3/($AM$3+237.3))))))-1)*1000))/(1005*((($AM$1+$AM$2)/2)-$AM$3))))>1,1,1/(1+((2258*((0.622/((101325/(1*611*EXP(17.27*((($AM$1+$AM$2)/2)/((($AM$1+$AM$2)/2)+237.3))))))-1)*1000-(0.622/((101325/($AQ$1*611*EXP(17.27*($AM$3/($AM$3+237.3))))))-1)*1000))/(1005*((($AM$1+$AM$2)/2)-$AM$3)))))","v":1},1,1,1364,1395,2072,null,0,0,0,1]
["15028021",null,null,1,50,280,21,21.5,0,26,30,48.9,5784,10516.06232539558,10751.439821034392,15976.76,1.5,1.05,1.05,1.05,4127,8303,8489,12614,{"$f":"ROUND(U350*3600/(4186*ABS($O$1-$O$2)),0)","v":355},714,730,1085,0.96210298487776746,3.6582492578050627,3.8170452588806048,8.1713252650858994,1.2760000000000001E-4,1.7219,4,5.1420100000000005E-4,1364.0874548028703,1394.6193667494595,2072.42,0.85,0.85,0.85,1364,1395,2072,587,600,891,2.5138101209572565,2.6214541033696332,5.5954958100538708,7.5,19.3,20.399999999999999,34.5,null,7230,null,0.8,null,null,0,10,10.6,21.85,null,1,1,1,1364,1395,2072,null,0,0,0,1]
["16528021",null,null,1,65,280,21,21.5,0,26,30,48.9,6787.2000000000007,10516.06232539558,10751.439821034392,15976.76,1.5,1.05,1.05,1.05,4843,8303,8489,12614,{"$f":"ROUND(U351*3600/(4186*ABS($O$1-$O$2)),0)","v":417},{"$f":"ROUND(V351*3600/(4186*ABS($O$1-$O$2)),0)","v":714},{"$f":"ROUND(W351*3600/(4186*ABS($O$1-$O$2)),0)","v":730},{"$f":"ROUND(X351*3600/(4186*ABS($O$1-$O$2)),0)","v":1085},1.3077525063812332,3.6582492578050627,3.8170452588806048,8.1713252650858994,1.2760000000000001E-4,1.7219,4,5.1420100000000005E-4,{"$f":"AK350*(1-(($E351-50)*0.005))","v":1261.7808956926551},{"$f":"AL350*(1-(($E351-50)*0.005))","v":1290.0229142432502},{"$f":"AM350*(1-(($E351-50)*0.005))","v":1916.9885000000002},0.85,0.85,0.85,1262,1290,1917,{"$f":"ROUND(AQ351*3600/(4186*ABS($AM$1-$AM$2)),0)","v":543},{"$f":"ROUND(AR351*3600/(4186*ABS($AM$1-$AM$2)),0)","v":555},{"$f":"ROUND(AS351*3600/(4186*ABS($AM$1-$AM$2)),0)","v":824},2.1656497129108883,2.258122327655359,4.8155944562823167,7.5,19.3,20.399999999999999,34.5,null,8484,null,0.8,null,null,0,10,10.6,21.85,null,1,1,1,1262,1290,1917,null,0,0,0,1]
["2205010",null,null,2,20,50,10,11.5,0,26,30,38.799999999999997,255.6,649,695,812,1.5,1.08,1.08,1.08,182,509,545,637,{"$f":"ROUND(U352*3600/(4186*ABS($O$1-$O$2)),0)","v":16},{"$f":"ROUND(V352*3600/(4186*ABS($O$1-$O$2)),0)","v":44},{"$f":"ROUND(W352*3600/(4186*ABS($O$1-$O$2)),0)","v":47},{"$f":"ROUND(X352*3600/(4186*ABS($O$1-$O$2)),0)","v":55},1.2612674153481599E-3,8.9335048277857931E-3,1.0154354668942562E-2,1.3782148323783661E-2,3.969E-4,1.7345999999999999,2,3.6734700000000002E-4,90.020119234756137,96.328259324977694,112.64,0.98,0.98,0.98,90,96,113,{"$f":"ROUND(AQ352*3600/(4186*ABS($AM$1-$AM$2)),0)","v":39},{"$f":"ROUND(AR352*3600/(4186*ABS($AM$1-$AM$2)),0)","v":41},{"$f":"ROUND(AS352*3600/(4186*ABS($AM$1-$AM$2)),0)","v":49},7.0687185128054265E-3,7.7890899379448103E-3,1.1010617958771767E-2,0.3,3.6,4.0999999999999996,5.0999999999999996,null,284,null,0.9,null,null,0,14.2,16.2,21.85,null,1,1,1,90,96,113,null,0,0,0,{"$f":"IF(SUM(BV352:BX352)=0,1,0)","v":1}]
["2206010",null,null,2,20,60,10,11.5,0,26,30,40,306.90000000000003,841.69225687813923,901.35950941531064,1066.3800000000001,1.5,1.08,1.08,1.08,219,660,707,836,19,57,61,72,1.8857761843938433E-3,1.5637729576638788E-2,1.782898414147421E-2,2.4572994832794695E-2,3.969E-4,1.7345999999999999,2,3.6734700000000002E-4,116.68990721587436,124.96201154556491,147.84,0.98,0.98,0.98,117,125,148,50,54,64,1.214004296048507E-2,1.4086095785072505E-2,1.9563990759703984E-2,0.4,4.8,5.4,6.8,null,341,null,0.9,null,null,0,13.6,15.6,21.85,null,1,1,1,117,125,148,null,0,0,0,1]
["2206015",null,null,2,20,60,15,16.5,0,26,30,41.1,498.40000000000003,957.19258357509659,1027.5250511543745,1359.96,1.5,1.08,1.08,1.08,356,751,806,1067,31,65,69,92,5.0428672943638201E-3,2.1607295358039021E-2,2.4302699376319299E-2,4.2830982878635446E-2,2.0829999999999999E-4,1.724,2,4.6182900000000003E-4,189.925625,140.26129481477255,185.64,1.01,1.01,1.01,190,140,186,82,60,80,3.4141898797120353E-2,1.8458252538956766E-2,3.25208961878376E-2,0.6,4.8,5.5,7.2,null,623,null,0.8,null,null,0,12.3,14.4,21.85,null,1,1,1,190,140,186,null,0,0,0,1]
["2206020",null,null,2,20,60,20,21.5,0,26,30,41.1,668.80000000000007,1346.575008837732,1442.0332127786496,1706.04,1.5,1.08,1.08,1.08,477,1056,1131,1338,41,91,97,115,6.8867480103826269E-3,3.3257087321880145E-2,3.773334830335235E-2,5.2841431064416994E-2,1.2760000000000001E-4,1.7219,2,3.76611E-4,166.41571994991173,178.21286873827722,210.84,0.95,0.95,0.95,166,178,211,71,77,91,2.0362186770824586E-2,2.3902999958867951E-2,3.3257087321880145E-2,0.8,4.8,5.5,7.2,null,836,null,0.8,null,null,0,12.3,14.4,21.85,null,1,1,1,166,178,211,null,0,0,0,1]
["2207010",null,null,2,20,70,10,11.5,0,26,30,41,358.2,1029.7403904507714,1104.2859635902939,1320.28,1.5,1.08,1.08,1.08,256,808,866,1035,22,69,74,89,2.6640764287323374E-3,2.3833508628602774E-2,2.7271158049938453E-2,3.8924960889446435E-2,3.969E-4,1.7345999999999999,2,3.6734700000000002E-4,142.7603849699376,153.09517888293954,183.04,0.98,0.98,0.98,143,153,183,61,66,79,1.8801217016227327E-2,2.1878764945327631E-2,3.093277823234393E-2,0.5,5.5,5.9,7.9,null,398,null,0.9,null,null,0,13.2,15.1,21.85,null,1,1,1,143,153,183,null,0,0,0,1]
["2207015",null,null,2,20,70,15,16.5,0,26,30,41.1,581.6,1070.8273541699666,1149.5094620994566,1521.41,1.5,1.08,1.08,1.08,415,840,901,1193,36,72,77,103,6.9597698823088243E-3,2.7077000311869458E-2,3.0892373713348693E-2,5.4716713303803698E-2,2.0829999999999999E-4,1.724,2,4.6182900000000003E-4,135.09481491470635,145.02129350758159,191.94,1.01,1.01,1.01,135,145,192,58,62,83,1.7715040719154605E-2,2.0190861450308E-2,3.5797696205080359E-2,0.7,5.0999999999999996,5.6,7.2,null,727,null,0.8,null,null,0,12.3,14.4,21.85,null,1,1,1,135,145,192,null,0,0,0,1]
["2207020",null,null,2,20,70,20,21.5,0,26,30,41.1,780.80000000000007,1509.840819712653,1619.1421060355642,1935.84,1.5,1.08,1.08,1.08,557,1184,1270,1518,48,102,109,131,9.5952939786789967E-3,4.2396471925119035E-2,4.8331778986334215E-2,6.9488117345007913E-2,1.2760000000000001E-4,1.7219,2,3.76611E-4,170.52628152222005,182.87112058001478,218.64000000000001,0.95,0.95,0.95,171,183,219,74,79,94,2.2511197833279682E-2,2.5608782122359248E-2,3.6084845824600094E-2,0.9,5.0999999999999996,5.6,7.2,null,976,null,0.8,null,null,0,12.3,14.4,21.85,null,1,1,1,171,183,219,null,0,0,0,1]
["2208010",null,null,2,20,80,10,11.5,0,26,30,41.8,408.6,1214.2269940407766,1304.1433704057049,1574.18,1.5,1.08,1.08,1.08,292,952,1023,1235,25,82,88,106,3.6074000744065566E-3,3.4861135731848764E-2,3.9921570095941127E-2,5.7081303711220763E-2,3.969E-4,1.7345999999999999,2,3.6734700000000002E-4,168.33710197020613,180.80286190736828,218.24,0.98,0.98,0.98,168,181,218,72,78,94,2.7165359623318678E-2,3.167181300086596E-2,4.5312552969066985E-2,0.5,6.3,6.8,9.1,null,454,null,0.9,null,null,0,12.8,14.7,21.85,null,1,1,1,168,181,218,null,0,0,0,1]
["2208015",null,null,2,20,80,15,16.5,0,26,30,42.4,664,1395.33740436932,1496.2563490716184,2007.56,1.5,1.08,1.08,1.08,474,1094,1173,1574,41,94,101,135,9.2235100896487805E-3,4.6744452652574681E-2,5.3812575245209708E-2,9.5090019266223458E-2,2.0829999999999999E-4,1.724,2,4.6182900000000003E-4,190.46915773046311,204.24499885412456,274.04000000000002,1.01,1.01,1.01,190,204,274,82,88,118,3.5768909532348576E-2,4.1076258231928696E-2,7.3013760578283488E-2,0.8,6,6.7,9,null,830,null,0.8,null,null,0,11.8,13.7,21.85,null,1,1,1,190,204,274,null,0,0,0,1]
["2208020",null,null,2,20,80,20,21.5,0,26,30,42.4,892,1942.5718983039128,2086.4239348515057,2518.44,1.5,1.08,1.08,1.08,636,1523,1636,1975,55,131,141,170,1.279295813031895E-2,7.0594323803498546E-2,8.1613209141998835E-2,0.11803010584799242,1.2760000000000001E-4,1.7219,2,3.76611E-4,240.07166246887351,257.84953601562182,311.24,0.95,0.95,0.95,240,258,311,103,111,134,4.3951963441231798E-2,5.0929918356249132E-2,7.381701321036345E-2,1.1000000000000001,6,6.7,9,null,1115,null,0.8,null,null,0,11.8,13.7,21.85,null,1,1,1,240,258,311,null,0,0,0,1]
["2209010",null,null,2,20,90,10,11.5,0,26,30,42.4,459.90000000000003,1395.6272192501513,1501.3000140389001,1828.08,1.5,1.08,1.08,1.08,328,1095,1177,1434,28,94,101,123,4.72654227082375E-3,4.7370929137888165E-2,5.4349648935862721E-2,7.9273358405672414E-2,3.969E-4,1.7345999999999999,2,3.6734700000000002E-4,193.48593193227777,208.13611852764589,253.44,0.98,0.98,0.98,193,208,253,83,89,109,3.7340239212640722E-2,4.2669333600542279E-2,6.2889336846315577E-2,0.6,6.7,7.4,10.3,null,511,null,0.9,null,null,0,12.5,14.7,21.85,null,1,1,1,193,208,253,null,0,0,0,1]
["2209015",null,null,2,20,90,15,16.5,0,26,30,43.3,747.2,1597.9167676946356,1711.9130538160239,2331.36,1.5,1.08,1.08,1.08,533,1253,1343,1828,46,108,115,157,1.1847042639728906E-2,6.2677952603543502E-2,7.0873536439037516E-2,0.1304045922070263,2.0829999999999999E-4,1.724,2,4.6182900000000003E-4,218.12205414485143,233.68300487544244,318.24,1.01,1.01,1.01,218,234,318,94,101,137,4.7773932289979358E-2,5.4977761599022158E-2,9.9846629634346956E-2,0.9,7,7.7,10.7,null,934,null,0.8,null,null,0,11.3,13.2,21.85,null,1,1,1,218,234,318,null,0,0,0,1]
["2209020",null,null,2,20,90,20,21.5,0,26,30,43.3,1004,2232.7836804230465,2401.8435041457315,2924.64,1.5,1.08,1.08,1.08,716,1751,1884,2294,62,151,162,197,1.6493858203510712E-2,9.4834579626451532E-2,0.10891673537133954,0.16011957350838529,1.2760000000000001E-4,1.7219,2,3.76611E-4,275.93732338069162,296.83048721840407,361.44,{"$f":"IF($G364=10,0.98,IF($G364=11,0.95,IF($G364=15,1.01,IF($G364=16,0.95,IF($G364=20,0.95,IF($G364=21,0.85))))))","v":0.95},0.95,0.95,276,297,361,119,128,155,5.9353068879593893E-2,6.85057463009488E-2,9.9843942617951306E-2,1.2,7,7.7,10.7,null,1255,null,0.8,null,null,0,11.3,13.2,21.85,null,1,1,1,276,297,361,null,0,0,0,1]
["22010010",null,null,2,20,100,10,11.5,0,26,30,43,511.2,1574.3905475253332,1696.1265760133244,2081.98,1.5,1.08,1.08,1.08,365,1235,1330,1633,31,106,114,140,6.0319320355091861E-3,6.2151943031227098E-2,7.1407310896984919E-2,0.10572290690654358,3.969E-4,1.7345999999999999,2,3.6734700000000002E-4,218.26918973175157,235.14633901405676,288.64,0.98,0.98,0.98,218,235,289,94,101,124,4.9429305306709352E-2,5.6681136080738742E-2,8.3841493078660942E-2,0.7,7.8,8.6999999999999993,12.2,null,568,null,0.9,null,null,0,12.3,14.1,21.85,null,1,1,1,218,235,289,null,0,0,0,1]
["22010015",null,null,2,20,100,15,16.5,0,26,30,44.1,830.40000000000009,1798.7737222599399,1926.0891717740149,2655.16,1.5,1.08,1.08,1.08,592,1411,1511,2082,51,121,130,179,1.4842860063957609E-2,7.9882926528895518E-2,9.1900063797744749E-2,0.17176599623849034,2.0829999999999999E-4,1.724,2,4.6182900000000003E-4,245.53983484833029,262.91890485611941,362.44,1.01,1.01,1.01,246,263,362,106,113,156,6.1693712021988735E-2,6.989545441405931E-2,0.13124694650181259,1,7,7.7,10.7,null,1038,null,0.8,null,null,0,10.9,12.8,21.85,null,1,1,1,246,263,362,null,0,0,0,1]
["22010020",null,null,2,20,100,20,21.5,0,26,30,44.1,1115.2,2518.7768428703835,2713.5353098724395,3330.84,1.5,1.08,1.08,1.08,796,1975,2128,2612,68,170,183,225,2.0128008346115396E-2,0.12149545292969745,0.14043896852494522,0.21087888899397389,1.2760000000000001E-4,1.7219,2,3.76611E-4,311.2816285378957,335.35074484391049,411.64,0.95,0.95,0.95,311,335,412,134,144,177,7.6117387440108403E-2,8.7676786087461309E-2,0.13152753973488002,1.3,7,7.7,10.7,null,1394,null,0.8,null,null,0,10.9,12.8,21.85,null,1,1,1,311,335,412,null,0,0,0,1]
["22011010",null,null,2,20,110,10,11.5,0,26,30,43.5,562.5,1766.3893947845202,1902.9712804051933,2335.88,1.5,1.08,1.08,1.08,401,1385,1492,1832,34,119,128,158,7.5336847518302002E-3,8.0603275811184871E-2,9.2599605028954202E-2,0.13830835282173867,3.969E-4,1.7345999999999999,2,3.6734700000000002E-4,244.88738360147738,263.82272182064906,323.83999999999997,0.98,0.98,0.98,245,264,324,105,114,139,6.3532409410345894E-2,7.4283678081492499E-2,0.10834103483995079,0.7,8.4,9.3000000000000007,14,null,625,null,0.9,null,null,0,12,13.9,21.85,null,1,1,1,245,264,324,null,0,0,0,1]
["22011015",null,null,2,20,110,15,16.5,0,26,30,44.1,913.6,1908.1501882577959,2043.2071973479594,2816.6099999999997,1.5,1.08,1.08,1.08,652,1496,1602,2209,56,129,138,190,1.822306024402395E-2,9.2300683368990388E-2,0.10527066402536114,0.19649702710776104,2.0829999999999999E-4,1.724,2,4.6182900000000003E-4,249.80785427097814,267.48901053042016,368.74,1.01,1.01,1.01,250,267,369,108,115,159,6.5293712586279876E-2,7.3788401225819936E-2,0.1387762211751877,1.1000000000000001,7.9,8.8000000000000007,12.5,null,1142,null,0.8,null,null,0,10.9,12.8,21.85,null,1,1,1,250,267,369,null,0,0,0,1]
["22011020",null,null,2,20,110,20,21.5,0,26,30,44.1,1226.4000000000001,2692.551301713082,2900.746468081386,3560.6400000000003,1.5,1.08,1.08,1.08,875,2112,2275,2792,75,182,196,240,2.4808607960996685E-2,0.14088231271581872,0.16294943153117869,0.24258448149029985,1.2760000000000001E-4,1.7219,2,3.76611E-4,317.17997831584631,341.70517057946222,419.44,0.95,0.95,0.95,317,342,419,136,147,180,7.9544712053658623E-2,9.2650629466224224E-2,0.13785909087762688,1.5,7.9,8.8000000000000007,12.5,null,1533,null,0.8,null,null,0,10.9,12.8,21.85,null,1,1,1,317,342,419,null,0,0,0,1]
["22012010",null,null,2,20,120,10,11.5,0,26,30,44,613.80000000000007,1924.9914127028867,2079.6202422788024,2589.7800000000002,1.5,1.08,1.08,1.08,438,1510,1631,2031,38,130,140,175,9.7158546188317995E-3,9.8985854052659E-2,0.11393853661367993,0.17413148637766063,3.969E-4,1.7345999999999999,2,3.6734700000000002E-4,266.87553260000635,288.31284965818764,359.04,0.98,0.98,0.98,267,288,359,115,124,154,7.844810437960871E-2,9.0497540707880797E-2,0.13655457969155813,0.8,8.9,9.9,14.8,null,682,null,0.9,null,null,0,11.8,13.7,21.85,null,1,1,1,267,288,359,null,0,0,0,1]
["22012015",null,null,2,20,120,15,16.5,0,26,30,44.8,996.80000000000007,2216.9073865755149,2373.9948983307781,3302.76,1.5,1.08,1.08,1.08,711,1739,1862,2590,61,150,160,223,2.1999398147307919E-2,0.12616601065937175,0.14306010269934949,0.27327410250387973,2.0829999999999999E-4,1.724,2,4.6182900000000003E-4,302.61675876046246,324.05983479376272,450.84,1.01,1.01,1.01,303,324,451,130,139,194,9.5500985484133716E-2,0.10878402336268925,0.20824992292405745,1.2,8.6999999999999993,9.8000000000000007,14.3,null,1246,null,0.8,null,null,0,10.6,12.5,21.85,null,1,1,1,303,324,451,null,0,0,0,1]
["22012020",null,null,2,20,120,20,21.5,0,26,30,44.8,1338.4,3079.6829926739365,3327.0647594078355,4143.24,1.5,1.08,1.08,1.08,955,2415,2609,3249,82,208,224,279,3.0030805657409735E-2,0.1855749132469651,0.2146103274757947,0.33023406948567835,1.2760000000000001E-4,1.7219,2,3.76611E-4,380.60090160569081,411.17343900116532,512.04,0.95,0.95,0.95,381,411,512,164,177,220,0.11646670942658871,0.13524222402195477,0.20715667478646135,1.6,8.6999999999999993,9.8000000000000007,14.3,null,1673,null,0.8,null,null,0,10.6,12.5,21.85,null,1,1,1,381,411,512,null,0,0,0,1]
["22014010",null,null,2,20,140,10,11.5,0,26,30,44.8,715.5,2267.7915432376717,2456.1428225151312,3097.58,1.5,1.08,1.08,1.08,511,1778,1926,2429,44,153,166,209,1.3898429826570101E-2,0.14445801004372538,0.16853243053054429,0.26063544201388444,3.969E-4,1.7345999999999999,2,3.6734700000000002E-4,314.40040300104783,340.51290804463417,429.44,0.98,0.98,0.98,314,341,429,135,147,184,0.11404996966906063,0.1339431496553784,0.20476735769324847,0.9,10.1,11.2,17.5,null,795,null,0.9,null,null,0,11.5,13.3,21.85,null,1,1,1,314,341,429,null,0,0,0,1]
["22014015",null,null,2,20,140,15,16.5,0,26,30,45.4,1162.4000000000001,2628.9846104428207,2815.4584574952669,3950.36,1.5,1.08,1.08,1.08,829,2062,2208,3098,71,177,190,266,3.0786029074234486E-2,0.18029092070853758,0.20688755958299987,0.39793806455132874,2.0829999999999999E-4,1.724,2,4.6182900000000003E-4,358.86695423586366,384.32138301819265,539.24,1.01,1.01,1.01,359,384,539,154,165,232,0.137621338941047,0.1573279392829452,0.30498467021762166,1.4,9.6,10.5,16.100000000000001,null,1453,null,0.8,null,null,0,10.4,12.2,21.85,null,1,1,1,359,384,539,null,0,0,0,1]
["22014020",null,null,2,20,140,20,21.5,0,26,30,45.4,1561.6000000000001,3628.1091959950468,3929.4415695377957,4955.6400000000003,1.5,1.08,1.08,1.08,1114,2845,3082,3886,96,245,265,334,4.214951885306014E-2,0.26237161414251958,0.30592500796073402,0.48134974943137049,1.2760000000000001E-4,1.7219,2,3.76611E-4,448.37784746172167,485.61784045001809,612.44000000000005,0.95,0.95,0.95,448,486,612,193,209,263,0.16455496588623258,0.1922740711354792,0.30142179085547277,1.9,9.6,10.5,16.100000000000001,null,1952,null,0.8,null,null,0,10.4,12.2,21.85,null,1,1,1,448,486,612,null,0,0,0,1]
["22016010",null,null,2,20,160,10,11.5,0,26,30,45.5,818.1,2603.9362232520607,2826.6988006529018,3605.38,1.5,1.08,1.08,1.08,584,2042,2217,2827,50,176,191,243,1.9026098794882155E-2,0.20046748279247403,0.23384464098890503,0.3682343427384388,3.969E-4,1.7345999999999999,2,3.6734700000000002E-4,361.00257998610687,391.88577307200529,499.84,0.98,0.98,0.98,361,392,500,155,169,215,0.15784887533096326,0.18572654509721107,0.29228700277798675,1.1000000000000001,11,12.4,19.2,null,909,null,0.9,null,null,0,11.2,13,21.85,null,1,1,1,361,392,500,null,0,0,0,1]
["22016015",null,null,2,20,160,15,16.5,0,26,30,46.4,1328.8000000000002,3021.1783832091446,3225.6120441880121,4597.96,1.5,1.08,1.08,1.08,948,2369,2530,3606,82,204,218,310,4.2276952473261485E-2,0.24535535943304876,0.27900545112342201,0.55221870136410589,2.0829999999999999E-4,1.724,2,4.6182900000000003E-4,412.40297880742492,440.30899429620177,627.64,1.01,1.01,1.01,412,440,628,177,189,270,0.18642121393254038,0.21164255392481759,0.42236240265801678,1.6,11.5,12.8,19.600000000000001,null,1661,null,0.8,null,null,0,10,11.8,21.85,null,1,1,1,412,440,628,null,0,0,0,1]
["22016020",null,null,2,20,160,20,21.5,0,26,30,46.4,1784,4165.887726998767,4522.2727563025155,5768.04,1.5,1.08,1.08,1.08,1273,3267,3547,4524,109,281,305,389,5.5586052765256501E-2,0.3513653688085987,0.41235697482772449,0.66342434491024516,1.2760000000000001E-4,1.7219,2,3.76611E-4,514.83890668473202,558.88255136973487,712.84,0.95,0.95,0.95,515,559,713,221,240,307,0.21989661309334549,0.25827229749987091,0.41765567382317259,2.1,11.5,12.8,19.600000000000001,null,2230,null,0.8,null,null,0,10,11.8,21.85,null,1,1,1,515,559,713,null,0,0,0,1]
["22018010",null,null,2,20,180,10,11.5,0,26,30,46,919.80000000000007,2970.6878039917879,3224.8253922941558,4113.18,1.5,1.08,1.08,1.08,656,2330,2529,3226,56,200,217,277,2.5170080912190085E-2,0.27028861945847477,0.31500621168669868,0.49841362806075101,3.969E-4,1.7345999999999999,2,3.6734700000000002E-4,411.84801378696699,447.08095237792156,570.24,0.98,0.98,0.98,412,447,570,177,192,245,0.21495642722836134,0.25036580839638034,0.39566467113231368,1.2,12.2,13.7,22,null,1022,null,0.9,null,null,0,10.9,12.7,21.85,null,1,1,1,412,447,570,null,0,0,0,1]
["22018015",null,null,2,20,180,15,16.5,0,26,30,46.4,1494.4,3233.3460619053994,3452.1364439366635,4920.8599999999997,1.5,1.08,1.08,1.08,1066,2536,2707,3859,92,218,233,332,5.4735089325570835E-2,0.28778504307982616,0.32723974604003053,0.64898864028636305,2.0829999999999999E-4,1.724,2,4.6182900000000003E-4,420.6820520547858,449.14828645115074,640.24,1.01,1.01,1.01,421,449,640,181,193,275,0.2010263623163458,0.22751208445626886,0.45076939507650016,1.8,11.5,12.8,19.600000000000001,null,1868,null,0.8,null,null,0,10,11.8,21.85,null,1,1,1,421,449,640,null,0,0,0,1]
["22018020",null,null,2,20,180,20,21.5,0,26,30,46.4,2007.2,4497.8275192555193,4882.6094666576164,6227.64,1.5,1.08,1.08,1.08,1432,3527,3829,4884,123,303,329,420,7.2273117129261918E-2,0.41646566084553188,0.48893351284694392,0.78724334085603187,1.2760000000000001E-4,1.7219,2,3.76611E-4,526.1057925837863,571.11330132956857,728.44,0.95,0.95,0.95,526,571,728,226,246,313,0.23536033293811029,0.27756656183252509,0.44366421223291913,2.4,11.5,12.8,19.600000000000001,null,2509,null,0.8,null,null,0,10,11.8,21.85,null,1,1,1,526,571,728,null,0,0,0,1]
["22020010",null,null,2,20,200,10,11.5,0,26,30,46.5,1022.4,3259.5785648750903,3552.8677924068675,4620.9799999999996,1.5,1.08,1.08,1.08,729,2556,2786,3624,63,220,240,312,3.3371604900033554E-2,0.34122659140984074,0.40155124196507375,0.65654717810994445,3.969E-4,1.7345999999999999,2,3.6734700000000002E-4,451.89903695786995,492.55985148767917,640.64,0.98,0.98,0.98,452,493,641,194,212,276,0.26974633951173027,0.31839322337808124,0.52169992911952934,1.3,13.4,14.8,24,null,1136,null,0.9,null,null,0,10.7,12.5,21.85,null,1,1,1,452,493,641,null,0,0,0,1]
["22020015",null,null,2,20,200,15,16.5,0,26,30,47.1,1660.8000000000002,3875.4624109054007,4083.4735576056296,5893.16,1.5,1.08,1.08,1.08,1185,3039,3202,4622,102,261,275,397,6.9084034373015885E-2,0.41943542456469279,0.46387282230494226,0.94232779221518648,2.0829999999999999E-4,1.724,2,4.6182900000000003E-4,529.01617838795164,557.41053504066974,804.44,1.01,1.01,1.01,529,557,804,227,240,346,0.3205762003800503,0.35685612106712633,0.72249739815889857,2,13.2,14.7,23.5,null,2076,null,0.8,null,null,0,10,11.4,21.85,null,1,1,1,529,557,804,null,0,0,0,1]
["22020020",null,null,2,20,200,20,21.5,0,26,30,47.1,2230.4,5214.8121821672385,5684.028740747025,7392.84,1.5,1.08,1.08,1.08,1591,4090,4458,5798,137,352,383,499,9.1449450639392887E-2,0.56991326043648238,0.67162306767239033,1.1243831840072513,1.2760000000000001E-4,1.7219,2,3.76611E-4,644.46964929787134,702.45751547390614,913.64,0.95,0.95,0.95,644,702,914,277,302,393,0.35773067054432378,0.42311312971539766,0.70617331390652549,2.7,13.2,14.7,23.5,null,2788,null,0.8,null,null,0,10,11.4,21.85,null,1,1,1,644,702,914,null,0,0,0,1]
["22022010",null,null,2,20,220,10,11.5,0,26,30,46.9,1125,3560.7045070849035,3890.5075371280445,5128.78,1.5,1.08,1.08,1.08,803,2792,3051,4022,69,240,262,346,4.1892606934365653E-2,0.42247701862510323,0.49758266516536109,0.83671193247343323,3.969E-4,1.7345999999999999,2,3.6734700000000002E-4,493.64631212835212,539.36930014536108,711.04,0.98,0.98,0.98,494,539,711,212,232,306,0.33526766264658142,0.39659808957963044,0.66495285135759441,1.5,13.4,14.8,24,null,1250,null,0.9,null,null,0,10.5,12.3,21.85,null,1,1,1,494,539,711,null,0,0,0,1]
["22022015",null,null,2,20,220,15,16.5,0,26,30,47.8,1827.2,4302.5567439745028,4481.7988603493422,6540.76,1.5,1.08,1.08,1.08,1304,3374,3515,5130,112,290,302,441,8.5403125573307995E-2,0.52824934112772992,0.57108950097253486,1.1842811694377704,2.0829999999999999E-4,1.724,2,4.6182900000000003E-4,587.31626956044784,611.78353807115786,892.84,1.01,1.01,1.01,587,612,893,252,263,384,0.40328748590288432,0.43778400702821296,0.90690223440245954,2.2000000000000002,15.5,16.8,27.5,null,2284,null,0.8,null,null,0,10,11.1,21.85,null,1,1,1,587,612,893,null,0,0,0,1]
["22022020",null,null,2,20,220,20,21.5,0,26,30,47.8,2453.6,5696.5662496175182,6224.1991397456159,8205.24,1.5,1.08,1.08,1.08,1751,4467,4881,6435,151,384,420,553,0.11320125303683118,0.68913594795268296,0.82013908311111194,1.4002126537427437,1.2760000000000001E-4,1.7219,2,3.76611E-4,704.00695650122941,769.21417236639559,1014.04,0.95,0.95,0.95,704,769,1014,303,331,436,0.43521399990720622,0.5165738484716168,0.88193136480825907,2.9,15.5,16.8,27.5,null,3067,null,0.8,null,null,0,10,11.1,21.85,null,1,1,1,704,769,1014,null,0,0,0,1]
["22024010",null,null,2,20,240,10,11.5,0,26,30,47.2,1226.7,3860.4188735925432,4228.9855673527691,5636.58,1.5,1.08,1.08,1.08,875,3027,3317,4420,75,260,285,380,5.1637561722954368E-2,0.51455963451703945,0.61042691940395077,1.0436441851774703,3.969E-4,1.7345999999999999,2,3.6734700000000002E-4,535.19789031294818,586.29496640731588,781.44,0.98,0.98,0.98,535,586,781,230,252,336,0.40968486620571454,0.48550351822928639,0.82954646870937465,1.6,14.8,16.600000000000001,28,null,1363,null,0.9,null,null,0,10.4,12.2,21.85,null,1,1,1,535,586,781,null,0,0,0,1]
["22024015",null,null,2,20,240,15,16.5,0,26,30,48.1,1992.8000000000002,4729.715265656896,4901.7743245246338,7188.36,1.5,1.08,1.08,1.08,1422,3709,3844,5637,122,319,331,485,0.10376950538933435,0.65146857081143239,0.69931956136513895,1.4577106558488697,2.0829999999999999E-4,1.724,2,4.6182900000000003E-4,645.62512273636446,669.11187505864359,981.24,1.01,1.01,1.01,646,669,981,278,288,422,0.50037899202077363,0.5354561461459616,1.1152542227427753,2.4,16.399999999999999,17.7,29.7,null,2491,null,0.8,null,null,0,10,10.9,21.85,null,1,1,1,646,669,981,null,0,0,0,1]
["22024020",null,null,2,20,240,20,21.5,0,26,30,48.1,2676.8,6176.0620183272586,6765.7106634844222,9017.64,1.5,1.08,1.08,1.08,1910,4844,5306,7072,164,417,456,608,0.13601134665134859,0.82504336232375919,0.98120320393227112,1.7151431662130303,1.2760000000000001E-4,1.7219,2,3.76611E-4,763.26517311676128,836.13657141043336,1114.44,0.95,0.95,0.95,763,836,1114,328,359,479,0.51827708039997999,0.61727233073709142,1.0794747424565225,3.2,16.399999999999999,17.7,29.7,null,3346,null,0.8,null,null,0,10,10.9,21.85,null,1,1,1,763,836,1114,null,0,0,0,1]
["22026010",null,null,2,20,260,10,11.5,0,26,30,47.8,1329.3,4178.1784000000007,4608.2849999999999,6144.38,1.5,1.08,1.08,1.08,948,3277,3614,4819,82,282,311,414,6.4096680023628907E-2,0.62619933930989857,0.75101257718335657,1.2786543856943258,3.969E-4,1.7345999999999999,2,3.6734700000000002E-4,579.25120000000004,638.88,851.84,0.98,0.98,0.98,579,639,852,249,275,366,0.4971168110898011,0.59766089099899167,1.0165350975712137,1.7,16.2,18.600000000000001,31.4,null,1477,null,0.9,null,null,0,10.199999999999999,11.9,21.85,null,1,1,1,579,639,852,null,0,0,0,1]
["22026015",null,null,2,20,260,15,16.5,0,26,30,47.8,2159.2000000000003,5669.0920000000006,6252.6749999999993,8336.9,1.5,1.08,1.08,1.08,1541,4446,4904,6538,133,382,422,562,0.12605230557158417,0.94400486337667466,1.142670848408553,1.9812064912053122,2.0829999999999999E-4,1.724,2,4.6182900000000003E-4,949.51120000000003,1047.2549999999999,1396.34,1.01,1.01,1.01,950,1047,1396,409,450,600,1.0760967217157777,1.2926072229862295,2.2469315346740024,2.6,16.2,18.600000000000001,31.4,null,2699,null,0.8,null,null,0,10,10.9,21.85,null,1,1,1,950,1047,1396,null,0,0,0,1]
["22026020",null,null,2,20,260,20,21.5,0,26,30,48.1,2899.2000000000003,6444.5232000000005,7107.93,9477.24,1.5,1.08,1.08,1.08,2069,5054,5574,7432,178,435,479,639,0.16299991511622125,0.91294981512938123,1.1001003363250261,1.9230584519635214,1.2760000000000001E-4,1.7219,2,3.76611E-4,768.42720000000008,847.53,1130.04,0.95,0.95,0.95,768,848,1130,330,365,486,0.53526796134941879,0.65032127694667174,1.1314386418343181,3.5,16.399999999999999,17.7,29.7,null,3624,null,0.8,null,null,0,10,10.9,21.85,null,1,1,1,768,848,1130,null,0,0,0,1]
["22028010",null,null,2,20,280,10,11.5,0,26,30,47.8,1431.9,4331.3824000000004,4782.2249168521384,6369.68,1.5,1.08,1.08,1.08,1022,3397,3750,4995,88,292,323,430,7.6638537929907991E-2,0.69744802061985678,0.84077185533321985,1.4297918820056932,3.969E-4,1.7345999999999999,2,3.6734700000000002E-4,587.68320000000006,648.85364133524638,864.24,0.98,0.98,0.98,588,649,864,253,279,372,0.53495403421136267,0.64106400571541289,1.0925143603098122,1.9,16.2,18.600000000000001,31.4,null,1591,null,0.9,null,null,0,10.199999999999999,11.9,21.85,null,1,1,1,588,649,864,null,0,0,0,1]
["22028015",null,null,2,20,280,15,16.5,0,26,30,48.9,2324.8000000000002,5583.9635634029,5708.9475468201636,8483.56,1.5,1.08,1.08,1.08,1659,4379,4477,6653,143,377,385,572,0.14891085186868058,0.94303351503609456,0.98167422248603797,2.0958794463889725,2.0829999999999999E-4,1.724,2,4.6182900000000003E-4,762.23344503523219,779.29426056038062,1158.04,1.01,1.01,1.01,762,779,1158,328,335,498,0.72271492130345638,0.75246226647382841,1.6068391234938044,2.8,19.3,20.399999999999999,34.5,null,2906,null,0.8,null,null,0,10,10.6,21.85,null,1,1,1,762,779,1158,null,0,0,0,{"$f":"IF(SUM(BV396:BX396)=0,1,0)","v":1}]
["22028020",null,null,2,20,280,20,21.5,0,26,30,48.9,3122.4,7236.8592000000008,7990.1253664397382,10642.44,1.5,1.08,1.08,1.08,2228,5675,6266,8346,192,488,539,718,0.19280528535788705,1.1617686015146995,1.4078788417424029,2.45260460232267,1.2760000000000001E-4,1.7219,2,3.76611E-4,894.36320000000012,987.455178225689,1315.24,0.95,0.95,0.95,894,987,1315,384,424,565,0.73142402444564503,0.88553710556508203,1.5421797125957473,3.7,19.3,20.399999999999999,34.5,null,3903,null,0.8,null,null,0,10,10.6,21.85,null,1,1,1,894,987,1315,null,0,0,0,1]
["2355010",null,null,2,35,50,10,11.5,0,26,30,{"$f":"L28","v":38.799999999999997},353.7,{"$f":"N28","v":649},{"$f":"O28","v":695},812,1.5,1.08,1.08,1.08,252,509,545,637,{"$f":"ROUND(U398*3600/(4186*ABS($O$1-$O$2)),0)","v":22},{"$f":"ROUND(V398*3600/(4186*ABS($O$1-$O$2)),0)","v":44},{"$f":"ROUND(W398*3600/(4186*ABS($O$1-$O$2)),0)","v":47},{"$f":"ROUND(X398*3600/(4186*ABS($O$1-$O$2)),0)","v":55},2.3325382494761011E-3,8.9335048277857931E-3,1.0154354668942562E-2,1.3782148323783661E-2,3.969E-4,1.7345999999999999,2,3.6734700000000002E-4,{"$f":"AK28","v":90.020119234756137},96.328259324977694,112.64,0.98,0.98,0.98,90,96,113,{"$f":"ROUND(AQ398*3600/(4186*ABS($AM$1-$AM$2)),0)","v":39},{"$f":"ROUND(AR398*3600/(4186*ABS($AM$1-$AM$2)),0)","v":41},{"$f":"ROUND(AS398*3600/(4186*ABS($AM$1-$AM$2)),0)","v":49},7.0687185128054265E-3,7.7890899379448103E-3,1.1010617958771767E-2,0.3,{"$f":"BA28","v":3.6},{"$f":"BB28","v":4.0999999999999996},5.0999999999999996,null,393,null,0.9,null,null,0,{"$f":"BK352","v":14.2},{"$f":"BL352","v":16.2},21.85,null,1,1,1,90,96,113,null,0,0,0,1]
["2355011",null,null,2,35,50,11,11.5,0,26,30,{"$f":"L31","v":38.799999999999997},373.32000000000005,{"$f":"N31","v":881.02076921515595},{"$f":"O31","v":942.75810617769378},1102.4000000000001,1.5,1.1000000000000001,1.1000000000000001,1.1000000000000001,266,688,736,861,23,59,63,74,4.2521066682452155E-3,2.6124513105548242E-2,2.9658332216627524E-2,4.0497070432560033E-2,3.969E-4,1.7345999999999999,4,5.7428799999999995E-4,{"$f":"AK31","v":147.56138863197239},{"$f":"AL31","v":157.90172054122763},184.64,0.95,0.95,0.95,148,158,185,64,68,80,3.0575828151930776E-2,3.4381682232525662E-2,4.7098764109165574E-2,0.7,{"$f":"BA31","v":3.6},{"$f":"BB31","v":4.0999999999999996},5.0999999999999996,null,549,null,0.68,null,null,0,{"$f":"BK398","v":14.2},{"$f":"BL398","v":16.2},21.85,null,1,1,1,148,158,185,null,0,0,0,1]
["2356010",null,null,2,35,60,10,11.5,0,26,30,{"$f":"L34","v":40},423.90000000000003,{"$f":"N34","v":841.69225687813923},{"$f":"O34","v":901.35950941531064},1066.3800000000001,1.5,1.08,1.08,1.08,302,660,707,836,26,57,61,72,3.4435850765346123E-3,1.5637729576638788E-2,1.782898414147421E-2,2.4572994832794695E-2,3.969E-4,1.7345999999999999,2,3.6734700000000002E-4,{"$f":"AK34","v":116.68990721587436},124.96201154556491,147.84,0.98,0.98,0.98,117,125,148,50,54,64,1.214004296048507E-2,1.4086095785072505E-2,1.9563990759703984E-2,0.4,{"$f":"BA34","v":4.8},{"$f":"BB34","v":5.4},6.8,null,471,null,0.9,null,null,0,{"$f":"BK353","v":13.6},{"$f":"BL353","v":15.6},21.85,null,1,1,1,117,125,148,null,0,0,0,1]
["2356011",null,null,2,35,60,11,11.5,0,26,30,{"$f":"L38","v":40},448.12,{"$f":"N38","v":1142.0361657917249},{"$f":"O38","v":1222.9946868592929},1446.9,1.5,1.1000000000000001,1.1000000000000001,1.1000000000000001,320,892,955,1130,28,77,82,97,6.7094295113175398E-3,4.6649790795689712E-2,5.2655498392101936E-2,7.2777833153007732E-2,3.969E-4,1.7345999999999999,4,5.7428799999999995E-4,{"$f":"AK38","v":191},205,242,0.95,0.95,0.95,191,205,242,82,88,104,5.2655498392101936E-2,6.0326342797888885E-2,8.3243311217863464E-2,0.8,{"$f":"BA38","v":4.8},{"$f":"BB38","v":5.4},6.8,null,659,null,0.68,null,null,0,{"$f":"BK400","v":13.6},{"$f":"BL400","v":15.6},21.85,null,1,1,1,191,205,242,null,0,0,0,1]
["2356015",null,null,2,35,60,15,16.5,0,26,30,{"$f":"L42","v":41.1},632,{"$f":"N42","v":957.19258357509659},{"$f":"O42","v":1027.5250511543745},1359.96,1.5,1.08,1.08,1.08,451,751,806,1067,39,65,69,92,7.9140928045936913E-3,2.1607295358039021E-2,2.4302699376319299E-2,4.2830982878635446E-2,2.0829999999999999E-4,1.724,2,4.6182900000000003E-4,{"$f":"AK42","v":130.66063061772473},140.26129481477255,185.64,1.01,1.01,1.01,131,140,186,56,60,80,1.6115444159911004E-2,1.8458252538956766E-2,3.25208961878376E-2,0.6,{"$f":"BA42","v":4.8},{"$f":"BB42","v":5.5},7.2,null,790,null,0.8,null,null,0,{"$f":"BK354","v":12.3},{"$f":"BL354","v":14.4},21.85,null,1,1,1,131,140,186,null,0,0,0,1]
["2356016",null,null,2,35,60,16,16.5,0,26,30,{"$f":"L46","v":41.1},663,{"$f":"N46","v":1399.7241764138612},{"$f":"O46","v":1502.5729206967153},1988.7,1.5,1.1000000000000001,1.1000000000000001,1.1000000000000001,473,1093,1173,1553,41,94,101,134,2.5190486550619035E-2,0.12999495976193065,0.1498640371075696,0.26238954698403733,2.0829999999999999E-4,1.724,4,1.392796E-3,{"$f":"AK46","v":214},230,305,0.95,0.95,0.95,214,230,305,92,99,131,0.12457564927087089,0.14404410806926615,0.25087593311274681,1.2,{"$f":"BA46","v":4.8},{"$f":"BB46","v":5.5},7.2,null,975,null,0.68,null,null,0,{"$f":"BK402","v":12.3},{"$f":"BL402","v":14.4},21.85,null,1,1,1,214,230,305,null,0,0,0,1]
["2356020",null,null,2,35,60,20,21.5,0,26,30,{"$f":"L50","v":41.1},864.80000000000007,{"$f":"N50","v":1346.575008837732},{"$f":"O50","v":1442.0332127786496},1706.04,1.5,1.08,1.08,1.08,617,1056,1131,1338,53,91,97,115,1.1429368379677979E-2,3.3257087321880145E-2,3.773334830335235E-2,5.2841431064416994E-2,1.2760000000000001E-4,1.7219,2,3.76611E-4,{"$f":"AK50","v":166.41571994991173},178.21286873827722,210.84,0.95,0.95,0.95,166,178,211,71,77,91,2.0362186770824586E-2,2.3902999958867951E-2,3.3257087321880145E-2,0.8,{"$f":"BA50","v":4.8},{"$f":"BB50","v":5.5},7.2,null,1081,null,0.8,null,null,0,{"$f":"BK403","v":12.3},14.4,21.85,null,1,1,1,166,178,211,null,0,0,0,1]
["2356021",null,null,2,35,60,21,21.5,0,26,30,{"$f":"L54","v":41.1},997.6,{"$f":"N54","v":1802.6437228662567},{"$f":"O54","v":1935.0981352499616},2561.16,1.5,1.05,1.05,1.05,712,1423,1528,2022,61,122,131,174,2.1456334856943895E-2,8.3927928329369905E-2,9.6565795839234567E-2,0.16901353512975539,1.2760000000000001E-4,1.7219,4,5.1420100000000005E-4,{"$f":"AK54","v":233.82931859416351},251.01059773412922,332.22,0.85,0.85,0.85,234,251,332,101,108,143,5.7851346790324013E-2,6.601213332318584E-2,0.1147780548995266,1.6,{"$f":"BA54","v":4.8},{"$f":"BB54","v":5.5},7.2,null,1247,null,0.8,null,null,0,{"$f":"BK404","v":12.3},14.4,21.85,null,1,1,1,234,251,332,null,0,0,0,1]
["2357010",null,null,2,35,70,10,11.5,0,26,30,{"$f":"L58","v":41},495,{"$f":"N58","v":1029.7403904507714},{"$f":"O58","v":1104.2859635902939},1320.28,1.5,1.08,1.08,1.08,353,808,866,1035,30,69,74,89,4.8184347692924283E-3,2.3833508628602774E-2,2.7271158049938453E-2,3.8924960889446435E-2,3.969E-4,1.7345999999999999,2,3.6734700000000002E-4,{"$f":"AK58","v":142.7603849699376},153.09517888293954,183.04,0.98,0.98,0.98,143,153,183,61,66,79,1.8801217016227327E-2,2.1878764945327631E-2,3.093277823234393E-2,0.5,{"$f":"BA58","v":5.5},{"$f":"BB58","v":5.9},7.9,null,550,null,0.9,null,null,0,{"$f":"BK356","v":13.2},{"$f":"BL356","v":15.1},21.85,null,1,1,1,143,153,183,null,0,0,0,1]
["2357011",null,null,2,35,70,11,11.5,0,26,30,{"$f":"L62","v":41},522.92000000000007,{"$f":"N62","v":1397.1861540381678},{"$f":"O62","v":1498.3320774196782},1791.4,1.5,1.1000000000000001,1.1000000000000001,1.1000000000000001,373,1091,1170,1399,32,94,101,120,9.2939111324354343E-3,7.2618348923691595E-2,8.3337593553421352E-2,0.11600499755813,3.969E-4,1.7345999999999999,4,5.7428799999999995E-4,{"$f":"AK62","v":234.01347195356249},250.95431311209123,300.04000000000002,0.95,0.95,0.95,234,251,300,101,108,129,8.3337593553421352E-2,9.4767092758545599E-2,0.13329019125147809,0.9,{"$f":"BA62","v":5.5},{"$f":"BB62","v":5.9},7.9,null,769,null,0.68,null,null,0,{"$f":"BK406","v":13.2},{"$f":"BL406","v":15.1},21.85,null,1,1,1,234,251,300,null,0,0,0,1]
["2357015",null,null,2,35,70,15,16.5,0,26,30,{"$f":"L66","v":41.1},737.6,{"$f":"N66","v":1070.8273541699666},{"$f":"O66","v":1149.5094620994566},1521.41,1.5,1.08,1.08,1.08,526,840,901,1193,45,72,77,103,1.0772524358461263E-2,2.7077000311869458E-2,3.0892373713348693E-2,5.4716713303803698E-2,2.0829999999999999E-4,1.724,2,4.6182900000000003E-4,{"$f":"AK66","v":135.09481491470635},145.02129350758159,191.94,1.01,1.01,1.01,135,145,192,58,62,83,1.7715040719154605E-2,2.0190861450308E-2,3.5797696205080359E-2,0.7,{"$f":"BA66","v":5.0999999999999996},{"$f":"BB66","v":5.6},7.2,null,922,null,0.8,null,null,0,{"$f":"BK357","v":12.3},{"$f":"BL357","v":14.4},21.85,null,1,1,1,135,145,192,null,0,0,0,1]
["2357016",null,null,2,35,70,16,16.5,0,26,30,{"$f":"L70","v":41.1},773.84,{"$f":"N70","v":1627.62717250317},{"$f":"O70","v":1747.2217424001376},2312.5,1.5,1.1000000000000001,1.1000000000000001,1.1000000000000001,552,1271,1364,1805,47,109,117,155,3.3616874218939947E-2,0.17694509326691635,0.20354226765780917,0.35504012904622118,2.0829999999999999E-4,1.724,4,1.392796E-3,{"$f":"AK70","v":219.59769851718443},235.73326859625641,312,0.95,0.95,0.95,220,236,312,95,101,134,0.1348444213322838,0.1521944098151945,0.26618360536544905,1.4,{"$f":"BA70","v":5.0999999999999996},{"$f":"BB70","v":5.6},7.2,null,1138,null,0.68,null,null,0,{"$f":"BK408","v":12.3},{"$f":"BL408","v":14.4},21.85,null,1,1,1,220,236,312,null,0,0,0,1]
["2357020",null,null,2,35,70,20,21.5,0,26,30,{"$f":"L74","v":41.1},1008.8000000000001,{"$f":"N74","v":1509.840819712653},{"$f":"O74","v":1619.1421060355642},1935.84,1.5,1.08,1.08,1.08,720,1184,1270,1518,62,102,109,131,1.5883680981206291E-2,4.2396471925119035E-2,4.8331778986334215E-2,6.9488117345007913E-2,1.2760000000000001E-4,1.7219,2,3.76611E-4,{"$f":"AK74","v":170.52628152222005},182.87112058001478,218.64000000000001,0.95,0.95,0.95,171,183,219,74,79,94,2.2511197833279682E-2,2.5608782122359248E-2,3.6084845824600094E-2,0.9,{"$f":"BA74","v":5.0999999999999996},{"$f":"BB74","v":5.6},7.2,null,1261,null,0.8,null,null,0,{"$f":"BK409","v":12.3},14.4,21.85,null,1,1,1,171,183,219,null,0,0,0,1]
["2357021",null,null,2,35,70,21,21.5,0,26,30,{"$f":"L78","v":41.1},1164,{"$f":"N78","v":1977.8291945358951},{"$f":"O78","v":2123.1558613833213},2810.06,1.5,1.05,1.05,1.05,831,1562,1676,2219,71,134,144,191,2.968688725078978E-2,0.10327341364618195,0.11896980279584603,0.20738026513327959,1.2760000000000001E-4,1.7219,4,5.1420100000000005E-4,{"$f":"AK78","v":240.30463534531125},257.96170693632649,341.42,0.85,0.85,0.85,240,258,341,103,111,147,6.1591027996900249E-2,7.1335725011536941E-2,0.12389224890734116,1.9,{"$f":"BA78","v":5.0999999999999996},{"$f":"BB78","v":5.6},7.2,null,1455,null,0.8,null,null,0,{"$f":"BK410","v":12.3},14.4,21.85,null,1,1,1,240,258,341,null,0,0,0,1]
["2358010",null,null,2,35,80,10,11.5,0,26,30,{"$f":"L82","v":41.8},{"$f":"IF($N412-($BE412*$BG412)>100,$BE412*$BG412,$N412-95)","v":565.20000000000005},{"$f":"N82","v":1214.2269940407766},{"$f":"O82","v":1304.1433704057049},1574.18,1.5,1.08,1.08,1.08,{"$f":"ROUND(M412*POWER(CF_heat,Q412),0)","v":403},{"$f":"ROUND(N412*POWER(CF_heat,R412),0)","v":952},{"$f":"ROUND(O412*POWER(CF_heat,S412),0)","v":1023},{"$f":"ROUND(P412*POWER(CF_heat,T412),0)","v":1235},35,82,88,106,6.8432210815479776E-3,3.4861135731848764E-2,3.9921570095941127E-2,5.7081303711220763E-2,{"$f":"IF($G412=$CO$103,CP$103,IF($G412=$CO$104,CP$104,IF($G412=$CO$105,CP$105,IF($G412=$CO$107,CP$107,IF($G412=$CO$108,CP$108,IF($G412=$CO$109,CP$109,IF($G412=$CO$111,CP$111,IF($G412=$CO$112,CP$112,IF($G412=$CO$113,CP$113,IF($G412=$CO$115,CP$115,IF($G412=$CO$116,CP$116,IF($G412=$CO$117,CP$117,IF($G412=$CO$119,CP$119,IF($G412=$CO$120,CP$120,))))))))))))))","v":3.969E-4},{"$f":"IF($G412=$CO$103,CQ$103,IF($G412=$CO$104,CQ$104,IF($G412=$CO$105,CQ$105,IF($G412=$CO$107,CQ$107,IF($G412=$CO$108,CQ$108,IF($G412=$CO$109,CQ$109,IF($G412=$CO$111,CQ$111,IF($G412=$CO$112,CQ$112,IF($G412=$CO$113,CQ$113,IF($G412=$CO$115,CQ$115,IF($G412=$CO$116,CQ$116,IF($G412=$CO$117,CQ$117,IF($G412=$CO$119,CQ$119,IF($G412=$CO$120,CQ$120,))))))))))))))","v":1.7345999999999999},{"$f":"IF($G412=$CO$103,CR$103,IF($G412=$CO$104,CR$104,IF($G412=$CO$105,CR$105,IF($G412=$CO$107,CR$107,IF($G412=$CO$108,CR$108,IF($G412=$CO$109,CR$109,IF($G412=$CO$111,CR$111,IF($G412=$CO$112,CR$112,IF($G412=$CO$113,CR$113,IF($G412=$CO$115,CR$115,IF($G412=$CO$116,CR$116,IF($G412=$CO$117,CR$117,IF($G412=$CO$119,CR$119,IF($G412=$CO$120,CR$120,))))))))))))))","v":2},{"$f":"IF($G412=$CO$103,CS$103,IF($G412=$CO$104,CS$104,IF($G412=$CO$105,CS$105,IF($G412=$CO$107,CS$107,IF($G412=$CO$108,CS$108,IF($G412=$CO$109,CS$109,IF($G412=$CO$111,CS$111,IF($G412=$CO$112,CS$112,IF($G412=$CO$113,CS$113,IF($G412=$CO$115,CS$115,IF($G412=$CO$116,CS$116,IF($G412=$CO$117,CS$117,IF($G412=$CO$119,CS$119,IF($G412=$CO$120,CS$120,))))))))))))))","v":3.6734700000000002E-4},{"$f":"AK82","v":168.33710197020613},180.80286190736828,218.24,0.98,0.98,0.98,{"$f":"ROUND(AK412*POWER(CF_cool,AN412),0)","v":168},{"$f":"ROUND(AL412*POWER(CF_cool,AO412),0)","v":181},{"$f":"ROUND(AM412*POWER(CF_cool,AP412),0)","v":218},72,78,94,2.7165359623318678E-2,3.167181300086596E-2,4.5312552969066985E-2,{"$f":"ROUND(IF(G412=10,$CO$92*F412,IF(G412=11,$CO$93*F412,IF(G412=15,$CO$94*F412,IF(G412=16,$CO$95*F412,IF(G412=20,$CO$96*F412,IF(G412=21,$CO$97*F412,)))))),1)","v":0.5},{"$f":"BA82","v":6.3},{"$f":"BB82","v":6.8},9.1,null,628,null,{"$f":"IF(G412=10,0.9,IF(G412=11,0.68,IF(G412=15,0.8,IF(G412=16,0.68,IF(G412=20,0.8,IF(G412=21,0.8))))))","v":0.9},null,null,0,{"$f":"BK359","v":12.8},{"$f":"BL359","v":14.7},21.85,null,1,1,1,{"$f":"AQ412/BO412","v":168},{"$f":"AR412/BP412","v":181},{"$f":"AS412/BQ412","v":218},null,{"$f":"BR412-AQ412","v":0},{"$f":"BS412-AR412","v":0},{"$f":"BT412-AS412","v":0},1]
[{"$f":"CONCATENATE(D413,E413,F413,G413)","v":"2358011"},null,null,2,35,80,11,11.5,0,26,30,{"$f":"L86","v":41.8},597.04000000000008,{"$f":"N86","v":1647.5037394527276},{"$f":"O86","v":1769.505282019556},2135.9,1.5,{"$f":"IF($G413=10,1.08,IF($G413=11,1.1,IF($G413=15,1.08,IF($G413=16,1.1,IF($G413=20,1.08,IF($G413=21,1.05))))))","v":1.1000000000000001},1.1000000000000001,1.1000000000000001,426,1286,1381,1668,37,111,119,143,{"$f":"(($AG413*(Y413^$AH413)*((($F413-14.4)*$AI413)/100))+($AJ413*(Y413^2)))*0.0098","v":1.3063638763431881E-2},{"$f":"(($AG413*(Z413^$AH413)*((($F413-14.4)*$AI413)/100))+($AJ413*(Z413^2)))*0.0098","v":0.10537485365866733},{"$f":"(($AG413*(AA413^$AH413)*((($F413-14.4)*$AI413)/100))+($AJ413*(AA413^2)))*0.0098","v":0.12035350001470055},{"$f":"(($AG413*(AB413^$AH413)*((($F413-14.4)*$AI413)/100))+($AJ413*(AB413^2)))*0.0098","v":0.17100095804480808},3.969E-4,1.7345999999999999,4,5.7428799999999995E-4,{"$f":"AK86","v":276},296,358,0.95,0.95,0.95,276,296,358,119,127,154,{"$f":"(($AG413*(AT413^$AH413)*((($F413-14.4)*$AI413)/100))+($AJ413*(AT413^2)))*0.0098","v":0.12035350001470055},{"$f":"(($AG413*(AU413^$AH413)*((($F413-14.4)*$AI413)/100))+($AJ413*(AU413^2)))*0.0098","v":0.13628668965853094},{"$f":"(($AG413*(AV413^$AH413)*((($F413-14.4)*$AI413)/100))+($AJ413*(AV413^2)))*0.0098","v":0.19705768178204491},1.1000000000000001,{"$f":"BA86","v":6.3},{"$f":"BB86","v":6.8},9.1,null,878,null,0.68,null,null,0,{"$f":"BK412","v":12.8},{"$f":"BL412","v":14.7},21.85,null,{"$f":"IF(1/(1+((2258*((0.622/((101325/(1*611*EXP(17.27*((($AM$1+$AM$2)/2)/((($AM$1+$AM$2)/2)+237.3))))))-1)*1000-(0.622/((101325/($AQ$1*611*EXP(17.27*($AM$3/($AM$3+237.3))))))-1)*1000))/(1005*((($AM$1+$AM$2)/2)-$AM$3))))>1,1,1/(1+((2258*((0.622/((101325/(1*611*EXP(17.27*((($AM$1+$AM$2)/2)/((($AM$1+$AM$2)/2)+237.3))))))-1)*1000-(0.622/((101325/($AQ$1*611*EXP(17.27*($AM$3/($AM$3+237.3))))))-1)*1000))/(1005*((($AM$1+$AM$2)/2)-$AM$3)))))","v":1},1,1,276,296,358,null,0,0,0,1]
["2358015",null,null,2,35,80,15,16.5,0,26,30,{"$f":"L90","v":42.4},843.2,{"$f":"N90","v":1395.33740436932},{"$f":"O90","v":1496.2563490716184},2007.56,1.5,1.08,1.08,1.08,602,1094,1173,1574,52,94,101,135,1.4671641591893861E-2,4.6744452652574681E-2,5.3812575245209708E-2,9.5090019266223458E-2,2.0829999999999999E-4,1.724,2,4.6182900000000003E-4,{"$f":"AK90","v":190.46915773046311},204.24499885412456,274.04000000000002,1.01,1.01,1.01,190,204,274,82,88,118,3.5768909532348576E-2,4.1076258231928696E-2,7.3013760578283488E-2,0.8,{"$f":"BA90","v":6},{"$f":"BB90","v":6.7},9,null,1054,null,0.8,null,null,0,{"$f":"BK360","v":11.8},{"$f":"BL360","v":13.7},21.85,null,1,1,1,190,204,274,null,0,0,0,1]
["2358016",null,null,2,35,80,16,16.5,0,26,30,{"$f":"L94","v":42.4},884.00000000000011,{"$f":"N94","v":2040.4331716148024},{"$f":"O94","v":2188.0092071816284},2935.7,1.5,1.1000000000000001,1.1000000000000001,1.1000000000000001,631,1593,1708,2292,54,137,147,197,4.4995940644704649E-2,0.28204303816785287,0.32414663509783698,0.57808545963619196,2.0829999999999999E-4,1.724,4,1.392796E-3,{"$f":"AK94","v":312},335,450,0.95,0.95,0.95,312,335,450,134,144,194,0.26997766374686077,0.31121106327333475,0.56081193423750164,1.6,{"$f":"BA94","v":6},{"$f":"BB94","v":6.7},9,null,1300,null,0.68,null,null,0,{"$f":"BK414","v":11.8},{"$f":"BL414","v":13.7},21.85,null,1,1,1,312,335,450,null,0,0,0,1]
["2358020",null,null,2,35,80,20,21.5,0,26,30,{"$f":"L98","v":42.4},1152.8,{"$f":"N98","v":1942.5718983039128},{"$f":"O98","v":2086.4239348515057},2518.44,1.5,1.08,1.08,1.08,823,1523,1636,1975,71,131,141,170,2.1132768117765193E-2,7.0594323803498546E-2,8.1613209141998835E-2,0.11803010584799242,1.2760000000000001E-4,1.7219,2,3.76611E-4,{"$f":"AK98","v":240.07166246887351},257.84953601562182,311.24,0.95,0.95,0.95,240,258,311,103,111,134,4.3951963441231798E-2,5.0929918356249132E-2,7.381701321036345E-2,1.1000000000000001,{"$f":"BA98","v":6},{"$f":"BB98","v":6.7},9,null,1441,null,0.8,null,null,0,{"$f":"BK415","v":11.8},13.7,21.85,null,1,1,1,240,258,311,null,0,0,0,1]
["2358021",null,null,2,35,80,21,21.5,0,26,30,{"$f":"L102","v":42.4},1329.6000000000001,{"$f":"N102","v":2627.7848955664344},{"$f":"O102","v":2817.8416357747774},3780.76,1.5,1.05,1.05,1.05,949,2075,2225,2985,82,178,191,257,4.0361313738187854E-2,0.1842669292057651,0.21161521327347374,0.37914528733911407,1.2760000000000001E-4,1.7219,4,5.1420100000000005E-4,{"$f":"AK102","v":340.86222571220884},365.51537125251701,490.42,0.85,0.85,0.85,341,366,490,147,157,211,0.12659023968056798,0.14403307699408213,0.25732674402542394,2.1,{"$f":"BA102","v":6},{"$f":"BB102","v":6.7},9,null,1662,null,0.8,null,null,0,{"$f":"BK416","v":11.8},13.7,21.85,null,1,1,1,341,366,490,null,0,0,0,1]
["2359010",null,null,2,35,90,10,11.5,0,26,30,{"$f":"L106","v":42.4},636.30000000000007,{"$f":"N106","v":1395.6272192501513},{"$f":"O106","v":1501.3000140389001},1828.08,1.5,1.08,1.08,1.08,454,1095,1177,1434,39,94,101,123,8.8587382883171424E-3,4.7370929137888165E-2,5.4349648935862721E-2,7.9273358405672414E-2,3.969E-4,1.7345999999999999,2,3.6734700000000002E-4,{"$f":"AK106","v":193.48593193227777},208.13611852764589,253.44,0.98,0.98,0.98,193,208,253,83,89,109,3.7340239212640722E-2,4.2669333600542279E-2,6.2889336846315577E-2,0.6,{"$f":"BA106","v":6.7},{"$f":"BB106","v":7.4},10.3,null,707,null,0.9,null,null,0,{"$f":"BK362","v":12.5},{"$f":"BL362","v":14.7},21.85,null,1,1,1,193,208,253,null,0,0,0,1]
["2359011",null,null,2,35,90,11,11.5,0,26,30,{"$f":"L110","v":42.4},671.84,{"$f":"N110","v":1893.6336235985709},{"$f":"O110","v":2037.0140009310799},2480.4,1.5,1.1000000000000001,1.1000000000000001,1.1000000000000001,479,1478,1590,1936,41,127,137,166,1.6840153017235262E-2,0.1432245427635509,0.16545208362851668,0.2385477205755622,3.969E-4,1.7345999999999999,4,5.7428799999999995E-4,{"$f":"AK110","v":317.16301910489852},341.17767156378318,415.44,0.95,0.95,0.95,317,341,415,136,147,178,0.16316026903161293,0.18921140887221088,0.27252186122633548,1.2,{"$f":"BA110","v":6.7},{"$f":"BB110","v":7.4},10.3,null,988,null,0.68,null,null,0,{"$f":"BK418","v":12.5},{"$f":"BL418","v":14.7},21.85,null,1,1,1,317,341,415,null,0,0,0,1]
["2359015",null,null,2,35,90,15,16.5,0,26,30,{"$f":"L114","v":43.3},948,{"$f":"N114","v":1597.9167676946356},{"$f":"O114","v":1711.9130538160239},2331.36,1.5,1.08,1.08,1.08,676,1253,1343,1828,58,108,115,157,1.8610663636548345E-2,6.2677952603543502E-2,7.0873536439037516E-2,0.1304045922070263,2.0829999999999999E-4,1.724,2,4.6182900000000003E-4,{"$f":"AK114","v":218.12205414485143},233.68300487544244,318.24,1.01,1.01,1.01,218,234,318,94,101,137,4.7773932289979358E-2,5.4977761599022158E-2,9.9846629634346956E-2,0.9,{"$f":"BA114","v":7},{"$f":"BB114","v":7.7},10.7,null,1185,null,0.8,null,null,0,{"$f":"BK363","v":11.3},{"$f":"BL363","v":13.2},21.85,null,1,1,1,218,234,318,null,0,0,0,1]
["2359016",null,null,2,35,90,16,16.5,0,26,30,{"$f":"L118","v":43.3},994.84,{"$f":"N118","v":2336.669516687492},{"$f":"O118","v":2503.3688418217644},3409.2,1.5,1.1000000000000001,1.1000000000000001,1.1000000000000001,710,1824,1954,2662,61,157,168,229,5.8175360252795426E-2,0.37413425352165253,0.42759818960823864,0.7880408313931474,2.0829999999999999E-4,1.724,4,1.392796E-3,{"$f":"AK118","v":357.77938745479025},383.30357134546551,522,0.95,0.95,0.95,358,383,522,154,165,224,0.36016635113087053,0.41266687566708049,0.75442675175462648,1.8,{"$f":"BA118","v":7},{"$f":"BB118","v":7.7},10.7,null,1463,null,0.68,null,null,0,{"$f":"BK420","v":11.3},{"$f":"BL420","v":13.2},21.85,null,1,1,1,358,383,522,null,0,0,0,1]
["2359020",null,null,2,35,90,20,21.5,0,26,30,{"$f":"L122","v":43.3},1296.8000000000002,{"$f":"N122","v":2232.7836804230465},{"$f":"O122","v":2401.8435041457315},2924.64,1.5,1.08,1.08,1.08,925,1751,1884,2294,80,151,162,197,2.7198373445814474E-2,9.4834579626451532E-2,0.10891673537133954,0.16011957350838529,1.2760000000000001E-4,1.7219,2,3.76611E-4,{"$f":"AK122","v":275.93732338069162},296.83048721840407,361.44,0.95,0.95,0.95,276,297,361,119,128,155,5.9353068879593893E-2,6.85057463009488E-2,9.9843942617951306E-2,1.2,{"$f":"BA122","v":7},{"$f":"BB122","v":7.7},10.7,null,1621,null,0.8,null,null,0,{"$f":"BK421","v":11.3},13.2,21.85,null,1,1,1,276,297,361,null,0,0,0,1]
["2359021",null,null,2,35,90,21,21.5,0,26,30,{"$f":"L126","v":43.3},1496,{"$f":"N126","v":3009.2947651024979},{"$f":"O126","v":3223.9795559512399},4390.5600000000004,1.5,1.05,1.05,1.05,1067,2376,2545,3467,92,204,219,298,5.1752861831752178E-2,0.24557012647784476,0.28220360612938261,0.51636549160207501,1.2760000000000001E-4,1.7219,4,5.1420100000000005E-4,{"$f":"AK126","v":390.34964893343317},418.19741370243202,569.52,0.85,0.85,0.85,390,418,570,168,180,245,0.16789509816318576,0.19217671661448937,0.35163070513405226,2.4,{"$f":"BA126","v":7},{"$f":"BB126","v":7.7},10.7,null,1870,null,0.8,null,null,0,{"$f":"BK422","v":11.3},13.2,21.85,null,1,1,1,390,418,570,null,0,0,0,1]
["23510010",null,null,2,35,100,10,11.5,0,26,30,{"$f":"L130","v":43},706.5,{"$f":"N130","v":1574.3905475253332},{"$f":"O130","v":1696.1265760133244},2081.98,1.5,1.08,1.08,1.08,504,1235,1330,1633,43,106,114,140,1.1193991798196537E-2,6.2151943031227098E-2,7.1407310896984919E-2,0.10572290690654358,3.969E-4,1.7345999999999999,2,3.6734700000000002E-4,{"$f":"AK130","v":218.26918973175157},235.14633901405676,288.64,0.98,0.98,0.98,218,235,289,94,101,124,4.9429305306709352E-2,5.6681136080738742E-2,8.3841493078660942E-2,0.7,{"$f":"BA130","v":7.8},{"$f":"BB130","v":8.6999999999999993},12.2,null,785,null,0.9,null,null,0,{"$f":"BK365","v":12.3},{"$f":"BL365","v":14.1},21.85,null,1,1,1,218,235,289,null,0,0,0,1]
["23510011",null,null,2,35,100,11,11.5,0,26,30,{"$f":"L134","v":43},746.6400000000001,{"$f":"N134","v":2136.1856779144437},{"$f":"O134","v":2301.3611872256411},2824.9,1.5,1.1000000000000001,1.1000000000000001,1.1000000000000001,533,1668,1797,2205,46,143,155,190,2.2110316274129269E-2,0.18804776535798132,0.21911871198426447,0.32261632041631727,3.969E-4,1.7345999999999999,4,5.7428799999999995E-4,{"$f":"AK134","v":358},385,473,0.95,0.95,0.95,358,385,473,154,166,203,0.21644289597218058,0.2495876591101075,0.36590011099410291,1.3,{"$f":"BA134","v":7.8},{"$f":"BB134","v":8.6999999999999993},12.2,null,1098,null,0.68,null,null,0,{"$f":"BK424","v":12.3},{"$f":"BL424","v":14.1},21.85,null,1,1,1,358,385,473,null,0,0,0,1]
["23510015",null,null,2,35,100,15,16.5,0,26,30,{"$f":"L138","v":44.1},1053.6000000000001,{"$f":"N138","v":1798.7737222599399},{"$f":"O138","v":1926.0891717740149},2655.16,1.5,1.08,1.08,1.08,752,1411,1511,2082,65,121,130,179,2.3787352913336408E-2,7.9882926528895518E-2,9.1900063797744749E-2,0.17176599623849034,2.0829999999999999E-4,1.724,2,4.6182900000000003E-4,{"$f":"AK138","v":245.53983484833029},262.91890485611941,362.44,1.01,1.01,1.01,246,263,362,106,113,156,6.1693712021988735E-2,6.989545441405931E-2,0.13124694650181259,1,{"$f":"BA138","v":7},{"$f":"BB138","v":7.7},10.7,null,1317,null,0.8,null,null,0,{"$f":"BK366","v":10.9},{"$f":"BL366","v":12.8},21.85,null,1,1,1,246,263,362,null,0,0,0,1]
["23510016",null,null,2,35,100,16,16.5,0,26,30,{"$f":"L142","v":44.1},1105,{"$f":"N142","v":2630.3871448118639},{"$f":"O142","v":2816.5633812075234},3882.7,1.5,1.1000000000000001,1.1000000000000001,1.1000000000000001,788,2054,2199,3031,68,177,189,261,7.3200260407634166E-2,0.4800973876606639,0.5463285500064492,1.0323140112813236,2.0829999999999999E-4,1.724,4,1.392796E-3,{"$f":"AK142","v":403},431,595,0.95,0.95,0.95,403,431,595,173,185,256,0.45896052508691165,0.52378160296818432,0.99366847477469411,2,{"$f":"BA142","v":7},{"$f":"BB142","v":7.7},10.7,null,1625,null,0.68,null,null,0,{"$f":"BK426","v":10.9},{"$f":"BL426","v":12.8},21.85,null,1,1,1,403,431,595,null,0,0,0,1]
["23510020",null,null,2,35,100,20,21.5,0,26,30,{"$f":"L146","v":44.1},1440.8000000000002,{"$f":"N146","v":2518.7768428703835},{"$f":"O146","v":2713.5353098724395},3330.84,1.5,1.08,1.08,1.08,1028,1975,2128,2612,88,170,183,225,3.3354392465820545E-2,0.12149545292969745,0.14043896852494522,0.21087888899397389,1.2760000000000001E-4,1.7219,2,3.76611E-4,{"$f":"AK146","v":311.2816285378957},335.35074484391049,411.64,{"$f":"IF($G428=10,0.98,IF($G428=11,0.95,IF($G428=15,1.01,IF($G428=16,0.95,IF($G428=20,0.95,IF($G428=21,0.85))))))","v":0.95},0.95,0.95,311,335,412,134,144,177,7.6117387440108403E-2,8.7676786087461309E-2,0.13152753973488002,1.3,{"$f":"BA146","v":7},{"$f":"BB146","v":7.7},10.7,null,1801,null,0.8,null,null,0,{"$f":"BK427","v":10.9},12.8,21.85,null,1,1,1,311,335,412,null,0,0,0,1]
["23510021",null,null,2,35,100,21,21.5,0,26,30,{"$f":"L150","v":44.1},1662.4,{"$f":"N150","v":3387.5608889256064},{"$f":"O150","v":3627.3291443724347},5000.3599999999997,1.5,1.05,1.05,1.05,1186,2675,2864,3948,102,230,246,340,6.4736419720619762E-2,0.31649151807140574,0.36099859926961725,0.68037875512768187,1.2760000000000001E-4,1.7219,4,5.1420100000000005E-4,{"$f":"AK150","v":439.41631078060919},470.51776864522725,648.62,0.85,0.85,0.85,439,471,649,189,203,279,0.21560419169801393,0.24792046126884393,0.46186798350799674,2.7,{"$f":"BA150","v":7},{"$f":"BB150","v":7.7},10.7,null,2078,null,0.8,null,null,0,{"$f":"BK428","v":10.9},12.8,21.85,null,1,1,1,439,471,649,null,0,0,0,1]
["23511010",null,null,2,35,110,10,11.5,0,26,30,{"$f":"L154","v":43.5},777.6,{"$f":"N154","v":1766.3893947845202},{"$f":"O154","v":1902.9712804051933},2335.88,1.5,1.08,1.08,1.08,555,1385,1492,1832,48,119,128,158,1.4427445840723906E-2,8.0603275811184871E-2,9.2599605028954202E-2,0.13830835282173867,3.969E-4,1.7345999999999999,2,3.6734700000000002E-4,{"$f":"AK154","v":244.88738360147738},263.82272182064906,323.83999999999997,0.98,0.98,0.98,245,264,324,105,114,139,6.3532409410345894E-2,7.4283678081492499E-2,0.10834103483995079,0.7,{"$f":"BA154","v":8.4},{"$f":"BB154","v":9.3000000000000007},14,null,864,null,0.9,null,null,0,{"$f":"BK368","v":12},{"$f":"BL368","v":13.9},21.85,null,1,1,1,245,264,324,null,0,0,0,1]
["23511011",null,null,2,35,110,11,11.5,0,26,30,{"$f":"L158","v":43.5},821.44,{"$f":"N158","v":2396.6961264405954},{"$f":"O158","v":2582.0149905458411},3169.4,1.5,1.1000000000000001,1.1000000000000001,1.1000000000000001,586,1871,2016,2474,50,161,173,213,2.7236194755367218E-2,0.24597270880165012,0.28182196378494073,0.41797960302434661,3.969E-4,1.7345999999999999,4,5.7428799999999995E-4,{"$f":"AK158","v":401.42051232401269},432.4594048025981,530.84,0.95,0.95,0.95,401,432,531,172,186,228,0.27874588734236166,0.32327190223067265,0.47558723983145007,1.5,{"$f":"BA158","v":8.4},{"$f":"BB158","v":9.3000000000000007},14,null,1208,null,0.68,null,null,0,{"$f":"BK430","v":12},{"$f":"BL430","v":13.9},21.85,null,1,1,1,401,432,531,null,0,0,0,1]
["23511015",null,null,2,35,110,15,16.5,0,26,30,{"$f":"L162","v":44.1},1159.2,{"$f":"N162","v":1908.1501882577959},{"$f":"O162","v":2043.2071973479594},2816.6099999999997,1.5,1.08,1.08,1.08,827,1496,1602,2209,71,129,138,190,2.8882164779162556E-2,9.2300683368990388E-2,0.10527066402536114,0.19649702710776104,2.0829999999999999E-4,1.724,2,4.6182900000000003E-4,{"$f":"AK162","v":249.80785427097814},267.48901053042016,368.74,1.01,1.01,1.01,250,267,369,108,115,159,6.5293712586279876E-2,7.3788401225819936E-2,0.1387762211751877,1.1000000000000001,{"$f":"BA162","v":7.9},{"$f":"BB162","v":8.8000000000000007},12.5,null,1449,null,0.8,null,null,0,{"$f":"BK366","v":10.9},{"$f":"BL366","v":12.8},21.85,null,1,1,1,250,267,369,null,0,0,0,1]
["23511016",null,null,2,35,110,16,16.5,0,26,30,{"$f":"L166","v":44.1},1215.8400000000001,{"$f":"N166","v":2849.7497938679544},{"$f":"O166","v":3051.4523045945984},4206.5,1.5,1.1000000000000001,1.1000000000000001,1.1000000000000001,868,2225,2382,3284,75,191,205,282,9.0114286700391663E-2,0.56476814232501726,0.64910736540223946,1.2162714994016472,2.0829999999999999E-4,1.724,4,1.392796E-3,{"$f":"AK166","v":407.83296705301524},436.69898665540194,602,0.95,0.95,0.95,408,437,602,175,188,259,0.47548152700019564,0.54744957167687558,1.0285851673079258,2.2000000000000002,{"$f":"BA166","v":7.9},{"$f":"BB166","v":8.8000000000000007},12.5,null,1788,null,0.68,null,null,0,{"$f":"BK432","v":10.9},{"$f":"BL432","v":12.8},21.85,null,1,1,1,408,437,602,null,0,0,0,1]
["23511020",null,null,2,35,110,20,21.5,0,26,30,{"$f":"L170","v":44.1},1584.8000000000002,{"$f":"N170","v":2692.551301713082},{"$f":"O170","v":2900.746468081386},3560.6400000000003,1.5,1.08,1.08,1.08,1131,2112,2275,2792,97,182,196,240,4.1030196870405357E-2,0.14088231271581872,0.16294943153117869,0.24258448149029985,1.2760000000000001E-4,1.7219,2,3.76611E-4,{"$f":"AK170","v":317.17997831584631},341.70517057946222,419.44,0.95,0.95,0.95,317,342,419,136,147,180,7.9544712053658623E-2,9.2650629466224224E-2,0.13785909087762688,1.5,{"$f":"BA170","v":7.9},{"$f":"BB170","v":8.8000000000000007},12.5,null,1981,null,0.8,null,null,0,{"$f":"BK433","v":10.9},12.8,21.85,null,1,1,1,317,342,419,null,0,0,0,1]
["23511021",null,null,2,35,110,21,21.5,0,26,30,{"$f":"L174","v":44.1},1828.8000000000002,{"$f":"N174","v":3556.1815292902165},{"$f":"O174","v":3807.8845891872675},5249.2599999999993,1.5,1.05,1.05,1.05,1305,2808,3007,4145,112,241,259,356,7.9360253470771136E-2,0.35310128138501551,0.40643245418374957,0.75693105159793073,1.2760000000000001E-4,1.7219,4,5.1420100000000005E-4,{"$f":"AK174","v":445.64897406447591},477.19157375690452,657.82,0.85,0.85,0.85,446,477,658,192,205,283,0.22661573879571267,0.25750136415425773,0.48325773512719011,2.9,{"$f":"BA174","v":7.9},{"$f":"BB174","v":8.8000000000000007},12.5,null,2286,null,0.8,null,null,0,{"$f":"BK434","v":10.9},12.8,21.85,null,1,1,1,446,477,658,null,0,0,0,1]
["23512010",null,null,2,35,120,10,11.5,0,26,30,{"$f":"L178","v":44},847.80000000000007,{"$f":"N178","v":1924.9914127028867},{"$f":"O178","v":2079.6202422788024},2589.7800000000002,1.5,1.08,1.08,1.08,605,1510,1631,2031,52,130,140,175,1.7518001244854677E-2,9.8985854052659E-2,0.11393853661367993,0.17413148637766063,3.969E-4,1.7345999999999999,2,3.6734700000000002E-4,{"$f":"AK178","v":266.87553260000635},288.31284965818764,359.04,0.98,0.98,0.98,267,288,359,115,124,154,7.844810437960871E-2,9.0497540707880797E-2,0.13655457969155813,0.8,{"$f":"BA178","v":8.9},{"$f":"BB178","v":9.9},14.8,null,942,null,0.9,null,null,0,{"$f":"BK371","v":11.8},{"$f":"BL371","v":13.7},21.85,null,1,1,1,267,288,359,null,0,0,0,1]
["23512011",null,null,2,35,120,11,11.5,0,26,30,{"$f":"L182","v":44},896.24,{"$f":"N182","v":2611.8926414972211},{"$f":"O182","v":2821.6982019103875},3513.9,1.5,1.1000000000000001,1.1000000000000001,1.1000000000000001,639,2039,2203,2743,55,175,189,236,3.4182670643570473E-2,0.30012112200532121,0.34704829521290631,0.52808528089261231,3.969E-4,1.7345999999999999,4,5.7428799999999995E-4,{"$f":"AK182","v":437},473,589,0.95,0.95,0.95,437,473,589,188,203,253,0.34358909156864093,0.39720266611384658,0.60239378849067871,1.6,{"$f":"BA182","v":8.9},{"$f":"BB182","v":9.9},14.8,null,1318,null,0.68,null,null,0,{"$f":"BK436","v":11.8},{"$f":"BL436","v":13.7},21.85,null,1,1,1,437,473,589,null,0,0,0,1]
["23512015",null,null,2,35,120,15,16.5,0,26,30,{"$f":"L186","v":44.8},1264,{"$f":"N186","v":2216.9073865755149},{"$f":"O186","v":2373.9948983307781},3302.76,1.5,1.08,1.08,1.08,902,1739,1862,2590,78,150,160,223,3.5416705176735994E-2,0.12616601065937175,0.14306010269934949,0.27327410250387973,2.0829999999999999E-4,1.724,2,4.6182900000000003E-4,{"$f":"AK186","v":302.61675876046246},324.05983479376272,450.84,1.01,1.01,1.01,303,324,451,130,139,194,9.5500985484133716E-2,0.10878402336268925,0.20824992292405745,1.2,{"$f":"BA186","v":8.6999999999999993},{"$f":"BB186","v":9.8000000000000007},14.3,null,1580,null,0.8,null,null,0,{"$f":"BK372","v":10.6},{"$f":"BL372","v":12.5},21.85,null,1,1,1,303,324,451,null,0,0,0,1]
["23512016",null,null,2,35,120,16,16.5,0,26,30,{"$f":"L190","v":44.8},1326,{"$f":"N190","v":3241.8333772189817},{"$f":"O190","v":3471.5459677567114},4829.7,1.5,1.1000000000000001,1.1000000000000001,1.1000000000000001,946,2531,2710,3771,81,218,233,324,0.10637532352986273,0.74138661467882749,0.84499496566697219,1.6164367454023814,2.0829999999999999E-4,1.724,4,1.392796E-3,{"$f":"AK190","v":496},532,740,0.95,0.95,0.95,496,532,740,213,229,318,0.70833668732811383,0.81671249966312653,1.5580377368272431,2.4,{"$f":"BA190","v":8.6999999999999993},{"$f":"BB190","v":9.8000000000000007},14.3,null,1950,null,0.68,null,null,0,{"$f":"BK438","v":10.6},{"$f":"BL438","v":12.5},21.85,null,1,1,1,496,532,740,null,0,0,0,1]
["23512020",null,null,2,35,120,20,21.5,0,26,30,{"$f":"L194","v":44.8},1728.8000000000002,{"$f":"N194","v":3079.6829926739365},{"$f":"O194","v":3327.0647594078355},4143.24,1.5,1.08,1.08,1.08,1234,2415,2609,3249,106,208,224,279,4.9582007233195474E-2,0.1855749132469651,0.2146103274757947,0.33023406948567835,1.2760000000000001E-4,1.7219,2,3.76611E-4,{"$f":"AK194","v":380.60090160569081},411.17343900116532,512.04,0.95,0.95,0.95,381,411,512,164,177,220,0.11646670942658871,0.13524222402195477,0.20715667478646135,1.6,{"$f":"BA194","v":8.6999999999999993},{"$f":"BB194","v":9.8000000000000007},14.3,null,2161,null,0.8,null,null,0,{"$f":"BK439","v":10.6},12.5,21.85,null,1,1,1,381,411,512,null,0,0,0,1]
["23512021",null,null,2,35,120,21,21.5,0,26,30,{"$f":"L198","v":44.8},1995.2,{"$f":"N198","v":4175.015825613802},{"$f":"O198","v":4470.8526528786542},6219.96,1.5,1.05,1.05,1.05,1424,3296,3530,4911,122,283,304,422,9.5671250732225016E-2,0.49159200971034805,0.56525436757201819,1.0725116519177567,1.2760000000000001E-4,1.7219,4,5.1420100000000005E-4,{"$f":"AK198","v":541.56076058716258},579.9351342123673,806.82,0.85,0.85,0.85,542,580,807,233,249,347,0.33654397258851859,0.38303545484733642,0.73178556707416287,3.2,{"$f":"BA198","v":8.6999999999999993},{"$f":"BB198","v":9.8000000000000007},14.3,null,2494,null,0.8,null,null,0,{"$f":"BK440","v":10.6},12.5,21.85,null,1,1,1,542,580,807,null,0,0,0,1]
["23514010",null,null,2,35,140,10,11.5,0,26,30,{"$f":"L202","v":44.8},989.1,{"$f":"N202","v":2267.7915432376717},{"$f":"O202","v":2456.1428225151312},3097.58,1.5,1.08,1.08,1.08,706,1778,1926,2429,61,153,166,209,2.5606847139499143E-2,0.14445801004372538,0.16853243053054429,0.26063544201388444,3.969E-4,1.7345999999999999,2,3.6734700000000002E-4,{"$f":"AK202","v":314.40040300104783},340.51290804463417,429.44,0.98,0.98,0.98,314,341,429,135,147,184,0.11404996966906063,0.1339431496553784,0.20476735769324847,0.9,{"$f":"BA202","v":10.1},{"$f":"BB202","v":11.2},17.5,null,1099,null,0.9,null,null,0,{"$f":"BK374","v":11.5},{"$f":"BL374","v":13.3},21.85,null,1,1,1,314,341,429,null,0,0,0,1]
["23514011",null,null,2,35,140,11,11.5,0,26,30,{"$f":"L206","v":44.8},1045.1600000000001,{"$f":"N206","v":3077.015307780141},{"$f":"O206","v":3332.5766142436496},4202.8999999999996,1.5,1.1000000000000001,1.1000000000000001,1.1000000000000001,746,2402,2602,3281,64,207,224,282,4.959578197602544E-2,0.44450269226506778,0.51557472310872998,0.79522620174472214,3.969E-4,1.7345999999999999,4,5.7428799999999995E-4,{"$f":"AK206","v":515},558,704,0.95,0.95,0.95,515,558,704,221,240,303,0.5026708586376617,0.58700184508997044,0.91049538023254029,1.9,{"$f":"BA206","v":10.1},{"$f":"BB206","v":11.2},17.5,null,1537,null,0.68,null,null,0,{"$f":"BK442","v":11.5},{"$f":"BL442","v":13.3},21.85,null,1,1,1,515,558,704,null,0,0,0,1]
["23514015",null,null,2,35,140,15,16.5,0,26,30,{"$f":"L210","v":45.4},1475.2,{"$f":"N210","v":2628.9846104428207},{"$f":"O210","v":2815.4584574952669},3950.36,1.5,1.08,1.08,1.08,1053,2062,2208,3098,91,177,190,266,4.9706246681822136E-2,0.18029092070853758,0.20688755958299987,0.39793806455132874,2.0829999999999999E-4,1.724,2,4.6182900000000003E-4,{"$f":"AK210","v":358.86695423586366},384.32138301819265,539.24,1.01,1.01,1.01,359,384,539,154,165,232,0.137621338941047,0.1573279392829452,0.30498467021762166,1.4,{"$f":"BA210","v":9.6},{"$f":"BB210","v":10.5},16.100000000000001,null,1844,null,0.8,null,null,0,{"$f":"BK375","v":10.4},{"$f":"BL375","v":12.2},21.85,null,1,1,1,359,384,539,null,0,0,0,1]
["23514016",null,null,2,35,140,16,16.5,0,26,30,{"$f":"L214","v":45.4},1547,{"$f":"N214","v":3844.4231409656436},{"$f":"O214","v":4117.1080284867467},5776.7,1.5,1.1000000000000001,1.1000000000000001,1.1000000000000001,1104,3001,3214,4510,95,258,276,388,0.14952248855997924,1.0559926133482667,1.2053689200498885,2.3527630854060915,2.0829999999999999E-4,1.724,4,1.392796E-3,{"$f":"AK214","v":589},630,885,0.95,0.95,0.95,589,630,885,253,271,381,1.0162271216516092,1.1628994061160329,2.2700825079676186,2.8,{"$f":"BA214","v":9.6},{"$f":"BB214","v":10.5},16.100000000000001,null,2275,null,0.68,null,null,0,{"$f":"BK444","v":10.4},{"$f":"BL444","v":12.2},21.85,null,1,1,1,589,630,885,null,0,0,0,1]
["23514020",null,null,2,35,140,20,21.5,0,26,30,{"$f":"L218","v":45.4},1936.8000000000002,{"$f":"N218","v":3628.1091959950468},{"$f":"O218","v":3929.4415695377957},4955.6400000000003,1.5,1.08,1.08,1.08,1382,2845,3082,3886,119,245,265,334,6.4040782400621596E-2,0.26237161414251958,0.30592500796073402,0.48134974943137049,1.2760000000000001E-4,1.7219,2,3.76611E-4,{"$f":"AK218","v":448.37784746172167},485.61784045001809,612.44000000000005,0.95,0.95,0.95,448,486,612,193,209,263,0.16455496588623258,0.1922740711354792,0.30142179085547277,1.9,{"$f":"BA218","v":9.6},{"$f":"BB218","v":10.5},16.100000000000001,null,2421,null,0.8,null,null,0,{"$f":"BK445","v":10.4},12.2,21.85,null,1,1,1,448,486,612,null,0,0,0,1]
["23514021",null,null,2,35,140,21,21.5,0,26,30,{"$f":"L222","v":45.4},2327.2000000000003,{"$f":"N222","v":4951.0649025572329},{"$f":"O222","v":5302.2438770247491},7439.56,1.5,1.05,1.05,1.05,1660,3909,4186,5874,143,336,360,505,0.13536063675799428,0.7095813437342614,0.81150138458700172,1.5688563953148518,1.2760000000000001E-4,1.7219,4,5.1420100000000005E-4,{"$f":"AK222","v":642.22570316870622},687.77876463210498,965.02,0.85,0.85,0.85,642,688,965,276,296,415,0.48412380536530875,0.55460694628885931,1.0702397452319661,3.7,{"$f":"BA222","v":9.6},{"$f":"BB222","v":10.5},16.100000000000001,null,2909,null,0.8,null,null,0,{"$f":"BK446","v":10.4},12.2,21.85,null,1,1,1,642,688,965,null,0,0,0,1]
["23516010",null,null,2,35,160,10,11.5,0,26,30,{"$f":"L226","v":45.5},1130.4000000000001,{"$f":"N226","v":2603.9362232520607},{"$f":"O226","v":2826.6988006529018},3605.38,1.5,1.08,1.08,1.08,807,2042,2217,2827,69,176,191,243,3.4668967612060501E-2,0.20046748279247403,0.23384464098890503,0.3682343427384388,3.969E-4,1.7345999999999999,2,3.6734700000000002E-4,{"$f":"AK226","v":361.00257998610687},391.88577307200529,499.84,0.98,0.98,0.98,361,392,500,155,169,215,0.15784887533096326,0.18572654509721107,0.29228700277798675,1.1000000000000001,{"$f":"BA226","v":11},{"$f":"BB226","v":12.4},19.2,null,1256,null,0.9,null,null,0,{"$f":"BK377","v":11.2},{"$f":"BL377","v":13},21.85,null,1,1,1,361,392,500,null,0,0,0,1]
["23516011",null,null,2,35,160,11,11.5,0,26,30,{"$f":"L229","v":45.5},1194.76,{"$f":"N229","v":3533.107636511756},{"$f":"O229","v":3835.359341571188},4891.8999999999996,1.5,1.1000000000000001,1.1000000000000001,1.1000000000000001,852,2758,2994,3819,73,237,257,328,6.8650531816019073E-2,0.61422385368791244,0.71480772824658112,1.1292825279207326,3.969E-4,1.7345999999999999,4,5.7428799999999995E-4,{"$f":"AK229","v":592},642,819,0.95,0.95,0.95,592,642,819,255,276,352,0.70442666719486835,0.81698629969873737,1.2893886583447325,2.1,{"$f":"BA229","v":11},{"$f":"BB229","v":12.4},19.2,null,1757,null,0.68,null,null,0,{"$f":"BK448","v":11.2},{"$f":"BL448","v":13},21.85,null,1,1,1,592,642,819,null,0,0,0,1]
["23516015",null,null,2,35,160,15,16.5,0,26,30,{"$f":"L232","v":46.4},1685.6000000000001,{"$f":"N232","v":3021.1783832091446},{"$f":"O232","v":3225.6120441880121},4597.96,1.5,1.08,1.08,1.08,1203,2369,2530,3606,103,204,218,310,6.5563952727190955E-2,0.24535535943304876,0.27900545112342201,0.55221870136410589,2.0829999999999999E-4,1.724,2,4.6182900000000003E-4,{"$f":"AK232","v":412.40297880742492},440.30899429620177,627.64,1.01,1.01,1.01,412,440,628,177,189,270,0.18642121393254038,0.21164255392481759,0.42236240265801678,1.6,{"$f":"BA232","v":11.5},{"$f":"BB232","v":12.8},19.600000000000001,null,2107,null,0.8,null,null,0,{"$f":"BK378","v":10},{"$f":"BL378","v":11.8},21.85,null,1,1,1,412,440,628,null,0,0,0,1]
["23516016",null,null,2,35,160,16,16.5,0,26,30,{"$f":"L235","v":46.4},1768.0000000000002,{"$f":"N235","v":4417.9368883555589},{"$f":"O235","v":4716.8848144627045},6723.7,1.5,1.1000000000000001,1.1000000000000001,1.1000000000000001,1261,3449,3683,5249,108,297,317,451,0.19729207627984158,1.4218556466193635,1.6153748832768098,3.2239502067344685,2.0829999999999999E-4,1.724,4,1.392796E-3,{"$f":"AK235","v":676},722,1030,0.95,0.95,0.95,676,722,1030,291,310,443,1.3661686148172167,1.5462621883682115,3.112728234709111,3.2,{"$f":"BA235","v":11.5},{"$f":"BB235","v":12.8},19.600000000000001,null,2600,null,0.68,null,null,0,{"$f":"BK450","v":10},{"$f":"BL450","v":11.8},21.85,null,1,1,1,676,722,1030,null,0,0,0,1]
["23516020",null,null,2,35,160,20,21.5,0,26,30,{"$f":"L238","v":46.4},2305.6,{"$f":"N238","v":4165.887726998767},{"$f":"O238","v":4522.2727563025155},5768.04,1.5,1.08,1.08,1.08,1645,3267,3547,4524,141,281,305,389,9.1657912666631577E-2,0.3513653688085987,0.41235697482772449,0.66342434491024516,1.2760000000000001E-4,1.7219,2,3.76611E-4,{"$f":"AK238","v":514.83890668473202},558.88255136973487,712.84,0.95,0.95,0.95,515,559,713,221,240,307,0.21989661309334549,0.25827229749987091,0.41765567382317259,2.1,{"$f":"BA238","v":11.5},{"$f":"BB238","v":12.8},19.600000000000001,null,2882,null,0.8,null,null,0,{"$f":"BK451","v":10},11.8,21.85,null,1,1,1,515,559,713,null,0,0,0,1]
["23516021",null,null,2,35,160,21,21.5,0,26,30,{"$f":"L241","v":46.4},2660,{"$f":"N241","v":5689.6682460807178},{"$f":"O241","v":6074.6702425752001},8659.16,1.5,1.05,1.05,1.05,1898,4492,4796,6837,163,386,412,588,0.18081715025156717,0.95789835596811579,1.0870494190212092,2.1697162791451228,1.2760000000000001E-4,1.7219,4,5.1420100000000005E-4,{"$f":"AK241","v":738.0333851508442},787.97378843505794,1123.22,0.85,0.85,0.85,738,788,1123,317,339,483,0.65390832051840242,0.74470210261054104,1.4802227109968673,4.3,{"$f":"BA241","v":11.5},{"$f":"BB241","v":12.8},19.600000000000001,null,3325,null,0.8,null,null,0,{"$f":"BK452","v":10},11.8,21.85,null,1,1,1,738,788,1123,null,0,0,0,1]
["23518010",null,null,2,35,180,10,11.5,0,26,30,{"$f":"L244","v":46},1271.7,{"$f":"N244","v":2970.6878039917879},{"$f":"O244","v":3224.8253922941558},4113.18,1.5,1.08,1.08,1.08,907,2330,2529,3226,78,200,217,277,4.6564205303405541E-2,0.27028861945847477,0.31500621168669868,0.49841362806075101,3.969E-4,1.7345999999999999,2,3.6734700000000002E-4,{"$f":"AK244","v":411.84801378696699},447.08095237792156,570.24,0.98,0.98,0.98,412,447,570,177,192,245,0.21495642722836134,0.25036580839638034,0.39566467113231368,1.2,{"$f":"BA244","v":12.2},{"$f":"BB244","v":13.7},22,null,1413,null,0.9,null,null,0,{"$f":"BK380","v":10.9},{"$f":"BL380","v":12.7},21.85,null,1,1,1,412,447,570,null,0,0,0,1]
["23518011",null,null,2,35,180,11,11.5,0,26,30,{"$f":"L247","v":46},1343.68,{"$f":"N247","v":4030.7284303866513},{"$f":"O247","v":4375.55079813051},5580.9,1.5,1.1000000000000001,1.1000000000000001,1.1000000000000001,959,3147,3416,4357,82,271,294,375,9.1636224114475473E-2,0.84114261538251256,0.97920937003276931,1.542963405794187,3.969E-4,1.7345999999999999,4,5.7428799999999995E-4,{"$f":"AK247","v":675.10313623602258},732.85712932403612,934.74,0.95,0.95,0.95,675,733,935,290,315,402,0.95449169552535984,1.1138291531732329,1.7573589514811909,2.4,{"$f":"BA247","v":12.2},{"$f":"BB247","v":13.7},22,null,1976,null,0.68,null,null,0,{"$f":"BK454","v":10.9},{"$f":"BL454","v":12.7},21.85,null,1,1,1,675,733,935,null,0,0,0,1]
["23518015",null,null,2,35,180,15,16.5,0,26,30,{"$f":"L250","v":46.4},1896.8000000000002,{"$f":"N250","v":3233.3460619053994},{"$f":"O250","v":3452.1364439366635},4920.8599999999997,1.5,1.08,1.08,1.08,1353,2536,2707,3859,116,218,233,332,8.5398870832283619E-2,0.28778504307982616,0.32723974604003053,0.64898864028636305,2.0829999999999999E-4,1.724,2,4.6182900000000003E-4,{"$f":"AK250","v":420.6820520547858},449.14828645115074,640.24,1.01,1.01,1.01,421,449,640,181,193,275,0.2010263623163458,0.22751208445626886,0.45076939507650016,1.8,{"$f":"BA250","v":11.5},{"$f":"BB250","v":12.8},19.600000000000001,null,2371,null,0.8,null,null,0,{"$f":"BK381","v":10},{"$f":"BL381","v":11.8},21.85,null,1,1,1,421,449,640,null,0,0,0,1]
["23518016",null,null,2,35,180,16,16.5,0,26,30,{"$f":"L253","v":46.4},1989.0000000000002,{"$f":"N253","v":4843.4549704976926},{"$f":"O253","v":5171.1963699821436},7371.3,1.5,1.1000000000000001,1.1000000000000001,1.1000000000000001,1419,3781,4037,5755,122,325,347,495,0.25660427346806958,1.73113399073644,1.9675246325457276,3.9422156930022778,2.0829999999999999E-4,1.724,4,1.392796E-3,{"$f":"AK253","v":686.3088894339993},732.7492584003295,1044.5,0.95,0.95,0.95,686,733,1045,295,315,449,1.4327504054076798,1.6285969093831283,3.2569852229594378,3.6,{"$f":"BA253","v":11.5},{"$f":"BB253","v":12.8},19.600000000000001,null,2925,null,0.68,null,null,0,{"$f":"BK456","v":10},{"$f":"BL456","v":11.8},21.85,null,1,1,1,686,733,1045,null,0,0,0,1]
["23518020",null,null,2,35,180,20,21.5,0,26,30,{"$f":"L256","v":46.4},2593.6000000000004,{"$f":"N256","v":4497.8275192555193},{"$f":"O256","v":4882.6094666576164},6227.64,1.5,1.08,1.08,1.08,1851,3527,3829,4884,159,303,329,420,0.11887810514716823,0.41646566084553188,0.48893351284694392,0.78724334085603187,1.2760000000000001E-4,1.7219,2,3.76611E-4,{"$f":"AK256","v":526.1057925837863},571.11330132956857,728.44,0.95,0.95,0.95,526,571,728,226,246,313,0.23536033293811029,0.27756656183252509,0.44366421223291913,2.4,{"$f":"BA256","v":11.5},{"$f":"BB256","v":12.8},19.600000000000001,null,3242,null,0.8,null,null,0,{"$f":"BK457","v":10},11.8,21.85,null,1,1,1,526,571,728,null,0,0,0,1]
["23518021",null,null,2,35,180,21,21.5,0,26,30,{"$f":"L259","v":46.4},2992,{"$f":"N259","v":6016.7573462820046},{"$f":"O259","v":6423.892435808023},9156.9599999999991,1.5,1.05,1.05,1.05,2135,4751,5072,7230,184,409,436,622,0.23636993023440994,1.103167036901554,1.2484144659284111,2.4851546453410029,1.2760000000000001E-4,1.7219,4,5.1420100000000005E-4,{"$f":"AK259","v":750.12346036921247},800.88196110577712,1141.6200000000001,0.85,0.85,0.85,750,801,1142,323,344,491,0.69902928526631702,0.78946623977507491,1.5712748482814811,4.8,{"$f":"BA259","v":11.5},{"$f":"BB259","v":12.8},19.600000000000001,null,3740,null,0.8,null,null,0,{"$f":"BK458","v":10},11.8,21.85,null,1,1,1,750,801,1142,null,0,0,0,1]
["23520010",null,null,2,35,200,10,11.5,0,26,30,{"$f":"L262","v":46.5},1413,{"$f":"N262","v":3259.5785648750903},{"$f":"O262","v":3552.8677924068675},4620.9799999999996,1.5,1.08,1.08,1.08,1008,2556,2786,3624,87,220,240,312,6.0652924704269875E-2,0.34122659140984074,0.40155124196507375,0.65654717810994445,3.969E-4,1.7345999999999999,2,3.6734700000000002E-4,{"$f":"AK262","v":451.89903695786995},492.55985148767917,640.64,0.98,0.98,0.98,452,493,641,194,212,276,0.26974633951173027,0.31839322337808124,0.52169992911952934,1.3,{"$f":"BA262","v":13.4},{"$f":"BB262","v":14.8},24,null,1570,null,0.9,null,null,0,{"$f":"BK383","v":10.7},{"$f":"BL383","v":12.5},21.85,null,1,1,1,452,493,641,null,0,0,0,{"$f":"IF(SUM(BV460:BX460)=0,1,0)","v":1}]
["23520011",null,null,2,35,200,11,11.5,0,26,30,{"$f":"L265","v":46.5},1493.2800000000002,{"$f":"N265","v":4422.7050634086982},{"$f":"O265","v":4820.649682883678},6269.9,1.5,1.1000000000000001,1.1000000000000001,1.1000000000000001,1065,3453,3764,4895,92,297,324,421,0.12124468080879555,1.0585097287299379,1.2444441055870641,2.0270127868370142,3.969E-4,1.7345999999999999,4,5.7428799999999995E-4,{"$f":"AK265","v":741},807,1050,0.95,0.95,0.95,741,807,1050,319,347,452,1.2089524361917552,1.4138727396795772,2.3143510148052444,2.7,{"$f":"BA265","v":13.4},{"$f":"BB265","v":14.8},24,null,2196,null,0.68,null,null,0,{"$f":"BK460","v":10.7},{"$f":"BL460","v":12.5},21.85,null,1,1,1,741,807,1050,null,0,0,0,1]
["23520015",null,null,2,35,200,15,16.5,0,26,30,{"$f":"L268","v":47.1},2107.2000000000003,{"$f":"N268","v":3875.4624109054007},{"$f":"O268","v":4083.4735576056296},5893.16,1.5,1.08,1.08,1.08,1504,3039,3202,4622,{"$f":"ROUND(U462*3600/(4186*ABS($O$1-$O$2)),0)","v":129},{"$f":"ROUND(V462*3600/(4186*ABS($O$1-$O$2)),0)","v":261},{"$f":"ROUND(W462*3600/(4186*ABS($O$1-$O$2)),0)","v":275},{"$f":"ROUND(X462*3600/(4186*ABS($O$1-$O$2)),0)","v":397},0.10829053784714034,0.41943542456469279,0.46387282230494226,0.94232779221518648,2.0829999999999999E-4,1.724,2,4.6182900000000003E-4,{"$f":"AK268","v":529.01617838795164},557.41053504066974,804.44,1.01,1.01,1.01,529,557,804,{"$f":"ROUND(AQ462*3600/(4186*ABS($AM$1-$AM$2)),0)","v":227},{"$f":"ROUND(AR462*3600/(4186*ABS($AM$1-$AM$2)),0)","v":240},{"$f":"ROUND(AS462*3600/(4186*ABS($AM$1-$AM$2)),0)","v":346},0.3205762003800503,0.35685612106712633,0.72249739815889857,2,{"$f":"BA268","v":13.2},{"$f":"BB268","v":14.7},23.5,null,2634,null,0.8,null,null,0,{"$f":"BK384","v":10},{"$f":"BL384","v":11.4},21.85,null,1,1,1,529,557,804,null,0,0,0,1]
["23520016",null,null,2,35,200,16,16.5,0,26,30,{"$f":"L271","v":47.1},2210,{"$f":"N271","v":5667.1755761695722},{"$f":"O271","v":5971.3549398587584},8617.7000000000007,1.5,1.1000000000000001,1.1000000000000001,1.1000000000000001,1577,4424,4662,6728,136,380,401,579,0.32469875989359465,2.3956910473507516,2.6608247339246818,5.453670256932595,2.0829999999999999E-4,1.724,4,1.392796E-3,{"$f":"AK271","v":868},914,1320,0.95,0.95,0.95,868,914,1320,373,393,568,2.3103470177002245,2.5582125224157561,5.2529022162438315,4,{"$f":"BA271","v":13.2},{"$f":"BB271","v":14.7},23.5,null,3250,null,0.68,null,null,0,{"$f":"BK462","v":10},{"$f":"BL462","v":11.4},21.85,null,1,1,1,868,914,1320,null,0,0,0,1]
["23520020",null,null,2,35,200,20,21.5,0,26,30,{"$f":"L274","v":47.1},2881.6000000000004,{"$f":"N274","v":5214.8121821672385},{"$f":"O274","v":5684.028740747025},7392.84,1.5,1.08,1.08,1.08,2056,4090,4458,5798,177,352,383,499,0.15010096117025384,0.56991326043648238,0.67162306767239033,1.1243831840072513,1.2760000000000001E-4,1.7219,2,3.76611E-4,{"$f":"AK274","v":644.46964929787134},702.45751547390614,913.64,0.95,0.95,0.95,644,702,914,277,302,393,0.35773067054432378,0.42311312971539766,0.70617331390652549,2.7,{"$f":"BA274","v":13.2},{"$f":"BB274","v":14.7},23.5,null,3602,null,0.8,null,null,0,{"$f":"BK463","v":10},11.4,21.85,null,1,1,1,644,702,914,null,0,0,0,1]
["23520021",null,null,2,35,200,21,21.5,0,26,30,{"$f":"L277","v":47.1},3324.8,{"$f":"N277","v":7298.5082710627348},{"$f":"O277","v":7690.2476078687869},11098.36,1.5,1.05,1.05,1.05,2372,5763,6072,8763,204,496,522,754,0.29774742765396811,1.6462201996699861,1.8169792507482643,3.7009529132948087,1.2760000000000001E-4,1.7219,4,5.1420100000000005E-4,{"$f":"AK277","v":946.7235228616961},997.53785795739748,1439.62,0.85,0.85,0.85,947,998,1440,407,429,619,1.123918147974541,1.2440371883056511,2.5261009474966261,5.3,{"$f":"BA277","v":13.2},{"$f":"BB277","v":14.7},23.5,null,4156,null,0.8,null,null,0,{"$f":"BK464","v":10},11.4,21.85,null,1,1,1,947,998,1440,null,0,0,0,1]
["23522010",null,null,2,35,220,10,11.5,0,26,30,{"$f":"L280","v":46.9},1554.3,{"$f":"N280","v":3560.7045070849035},{"$f":"O280","v":3890.5075371280445},5128.78,1.5,1.08,1.08,1.08,1109,2792,3051,4022,95,240,262,346,7.5594211090385374E-2,0.42247701862510323,0.49758266516536109,0.83671193247343323,3.969E-4,1.7345999999999999,2,3.6734700000000002E-4,{"$f":"AK280","v":493.64631212835212},539.36930014536108,711.04,0.98,0.98,0.98,494,539,711,212,232,306,0.33526766264658142,0.39659808957963044,0.66495285135759441,1.5,{"$f":"BA280","v":13.4},{"$f":"BB280","v":14.8},24,null,1727,null,0.9,null,null,0,{"$f":"BK386","v":10.5},{"$f":"BL386","v":12.3},21.85,null,1,1,1,494,539,711,null,0,0,0,1]
["23522011",null,null,2,35,220,11,11.5,0,26,30,{"$f":"L283","v":46.9},1642.88,{"$f":"N283","v":4831.2827990970827},{"$f":"O283","v":5278.770565343093},6958.9,1.5,1.1000000000000001,1.1000000000000001,1.1000000000000001,1172,3772,4121,5433,101,324,354,467,0.15328220789970198,1.314879108402222,1.5495706507880502,2.5925816673788113,3.969E-4,1.7345999999999999,4,5.7428799999999995E-4,{"$f":"AK283","v":809.18727868766814},884.1366084769129,1165.54,0.95,0.95,0.95,809,884,1166,348,380,501,1.5011980733038943,1.7674215645183677,2.9547969820093392,2.9,{"$f":"BA283","v":13.4},{"$f":"BB283","v":14.8},24,null,2416,null,0.68,null,null,0,{"$f":"BK466","v":10.5},{"$f":"BL466","v":12.3},21.85,null,1,1,1,809,884,1166,null,0,0,0,1]
["23522015",null,null,2,35,220,15,16.5,0,26,30,{"$f":"L286","v":47.8},2317.6,{"$f":"N286","v":4302.5567439745028},{"$f":"O286","v":4481.7988603493422},6540.76,1.5,1.08,1.08,1.08,1654,3374,3515,5130,142,290,302,441,0.13436433691074179,0.52824934112772992,0.57108950097253486,1.1842811694377704,2.0829999999999999E-4,1.724,2,4.6182900000000003E-4,{"$f":"AK286","v":587.31626956044784},611.78353807115786,892.84,1.01,1.01,1.01,587,612,893,252,263,384,0.40328748590288432,0.43778400702821296,0.90690223440245954,2.2000000000000002,{"$f":"BA286","v":15.5},{"$f":"BB286","v":16.8},27.5,null,2897,null,0.8,null,null,0,{"$f":"BK387","v":10},{"$f":"BL387","v":11.1},21.85,null,1,1,1,587,612,893,null,0,0,0,1]
["23522016",null,null,2,35,220,16,16.5,0,26,30,{"$f":"L289","v":47.8},2431,{"$f":"N289","v":6291.7251954043459},{"$f":"O289","v":6553.83496101116},9564.7000000000007,1.5,1.1000000000000001,1.1000000000000001,1.1000000000000001,1735,4912,5117,7467,149,422,440,642,0.39669410416227618,2.9944257157555945,3.2482983187702561,6.7877453647142758,2.0829999999999999E-4,1.724,4,1.392796E-3,{"$f":"AK289","v":963.35813446001066},1003.4910975149082,1464.5,0.95,0.95,0.95,963,1003,1465,414,431,630,2.8848425296225417,3.1200973344986664,6.542211558205909,4.4000000000000004,{"$f":"BA289","v":15.5},{"$f":"BB289","v":16.8},27.5,null,3575,null,0.68,null,null,0,{"$f":"BK468","v":10},{"$f":"BL468","v":11.1},21.85,null,1,1,1,963,1003,1465,null,0,0,0,1]
["23522020",null,null,2,35,220,20,21.5,0,26,30,{"$f":"L292","v":47.8},3169.6000000000004,{"$f":"N292","v":5696.5662496175182},{"$f":"O292","v":6224.1991397456159},8205.24,1.5,1.08,1.08,1.08,2262,4467,4881,6435,195,384,420,553,0.1854592309566907,0.68913594795268296,0.82013908311111194,1.4002126537427437,1.2760000000000001E-4,1.7219,2,3.76611E-4,{"$f":"AK292","v":704.00695650122941},769.21417236639559,1014.04,0.95,0.95,0.95,704,769,1014,303,331,436,0.43521399990720622,0.5165738484716168,0.88193136480825907,2.9,{"$f":"BA292","v":15.5},{"$f":"BB292","v":16.8},27.5,null,3962,null,0.8,null,null,0,{"$f":"BK469","v":10},11.1,21.85,null,1,1,1,704,769,1014,null,0,0,0,1]
["23522021",null,null,2,35,220,21,21.5,0,26,30,{"$f":"L295","v":47.8},3657.6000000000004,{"$f":"N295","v":8102.8384881891643},{"$f":"O295","v":8440.3982243391856},12317.96,1.5,1.05,1.05,1.05,2610,6398,6664,9726,224,550,573,836,0.36741037202888549,2.062358887776655,2.231838465716764,4.6282420475748083,1.2760000000000001E-4,1.7219,4,5.1420100000000005E-4,{"$f":"AK295","v":1051.0569439418873},1094.8433905300585,1597.82,0.85,0.85,0.85,1051,1095,1598,452,471,687,1.4132675404061716,1.529835024440543,3.1674021588285153,5.9,{"$f":"BA295","v":15.5},{"$f":"BB295","v":16.8},27.5,null,4572,null,0.8,null,null,0,{"$f":"BK470","v":10},11.1,21.85,null,1,1,1,1051,1095,1598,null,0,0,0,1]
["23524010",null,null,2,35,240,10,11.5,0,26,30,{"$f":"L298","v":47.2},1695.6000000000001,{"$f":"N298","v":3860.4188735925432},{"$f":"O298","v":4228.9855673527691},5636.58,1.5,1.08,1.08,1.08,1210,3027,3317,4420,104,260,285,380,9.4275458287220129E-2,0.51455963451703945,0.61042691940395077,1.0436441851774703,3.969E-4,1.7345999999999999,2,3.6734700000000002E-4,{"$f":"AK298","v":535.19789031294818},586.29496640731588,781.44,0.98,0.98,0.98,535,586,781,230,252,336,0.40968486620571454,0.48550351822928639,0.82954646870937465,1.6,{"$f":"BA298","v":14.8},{"$f":"BB298","v":16.600000000000001},28,null,1884,null,0.9,null,null,0,{"$f":"BK389","v":10.4},{"$f":"BL389","v":12.2},21.85,null,1,1,1,535,586,781,null,0,0,0,1]
["23524011",null,null,2,35,240,11,11.5,0,26,30,{"$f":"L301","v":47.2},1791.8000000000002,{"$f":"N301","v":5237.9452617275747},{"$f":"O301","v":5738.028861571599},7647.9,1.5,1.1000000000000001,1.1000000000000001,1.1000000000000001,1278,4089,4480,5971,110,352,385,514,0.1900839537400108,1.6146931478475526,1.905847517886774,3.2559623282985095,3.969E-4,1.7345999999999999,4,5.7428799999999995E-4,{"$f":"AK301","v":877},961,1281,0.95,0.95,0.95,877,961,1281,377,413,551,1.8332088548014907,2.1703781533558777,3.704430979547201,3.2,{"$f":"BA301","v":14.8},{"$f":"BB301","v":16.600000000000001},28,null,2635,null,0.68,null,null,0,{"$f":"BK472","v":10.4},{"$f":"BL472","v":12.2},21.85,null,1,1,1,877,961,1281,null,0,0,0,1]
["23524015",null,null,2,35,240,15,16.5,0,26,30,{"$f":"L304","v":48.1},2528.8000000000002,{"$f":"N304","v":4729.715265656896},{"$f":"O304","v":4901.7743245246338},7188.36,1.5,1.08,1.08,1.08,1804,3709,3844,5637,155,319,331,485,0.16374211668193789,0.65146857081143239,0.69931956136513895,1.4577106558488697,2.0829999999999999E-4,1.724,2,4.6182900000000003E-4,{"$f":"AK304","v":645.62512273636446},669.11187505864359,981.24,1.01,1.01,1.01,646,669,981,278,288,422,0.50037899202077363,0.5354561461459616,1.1152542227427753,2.4,{"$f":"BA304","v":16.399999999999999},{"$f":"BB304","v":17.7},29.7,null,3161,null,0.8,null,null,0,{"$f":"BK390","v":10},{"$f":"BL390","v":10.9},21.85,null,1,1,1,646,669,981,null,0,0,0,1]
["23524016",null,null,2,35,240,16,16.5,0,26,30,{"$f":"L307","v":48.1},2652,{"$f":"N307","v":6916.3686790875245},{"$f":"O307","v":7167.9744986485921},10511.7,1.5,1.1000000000000001,1.1000000000000001,1.1000000000000001,1892,5400,5596,8207,163,464,481,706,0.48263562772817226,3.667097444714627,3.9329940571020581,8.3052967253826289,2.0829999999999999E-4,1.724,4,1.392796E-3,{"$f":"AK307","v":1059},1098,1610,0.95,0.95,0.95,1059,1098,1610,455,472,692,3.5300159430065703,3.7910912175214273,7.987173009623401,4.8,{"$f":"BA307","v":16.399999999999999},{"$f":"BB307","v":17.7},29.7,null,3900,null,0.68,null,null,0,{"$f":"BK474","v":10},{"$f":"BL474","v":10.9},21.85,null,1,1,1,1059,1098,1610,null,0,0,0,1]
["23524020",null,null,2,35,240,20,21.5,0,26,30,{"$f":"L310","v":48.1},{"$f":"IF($N476-($BE476*$BG476)>100,$BE476*$BG476,$N476-95)","v":3457.6000000000004},{"$f":"N310","v":6176.0620183272586},{"$f":"O310","v":6765.7106634844222},9017.64,1.5,1.08,1.08,1.08,{"$f":"ROUND(M476*POWER(CF_heat,Q476),0)","v":2467},{"$f":"ROUND(N476*POWER(CF_heat,R476),0)","v":4844},{"$f":"ROUND(O476*POWER(CF_heat,S476),0)","v":5306},{"$f":"ROUND(P476*POWER(CF_heat,T476),0)","v":7072},212,417,456,608,0.22304815710554687,0.82504336232375919,0.98120320393227112,1.7151431662130303,{"$f":"IF($G476=$CO$103,CP$103,IF($G476=$CO$104,CP$104,IF($G476=$CO$105,CP$105,IF($G476=$CO$107,CP$107,IF($G476=$CO$108,CP$108,IF($G476=$CO$109,CP$109,IF($G476=$CO$111,CP$111,IF($G476=$CO$112,CP$112,IF($G476=$CO$113,CP$113,IF($G476=$CO$115,CP$115,IF($G476=$CO$116,CP$116,IF($G476=$CO$117,CP$117,IF($G476=$CO$119,CP$119,IF($G476=$CO$120,CP$120,))))))))))))))","v":1.2760000000000001E-4},{"$f":"IF($G476=$CO$103,CQ$103,IF($G476=$CO$104,CQ$104,IF($G476=$CO$105,CQ$105,IF($G476=$CO$107,CQ$107,IF($G476=$CO$108,CQ$108,IF($G476=$CO$109,CQ$109,IF($G476=$CO$111,CQ$111,IF($G476=$CO$112,CQ$112,IF($G476=$CO$113,CQ$113,IF($G476=$CO$115,CQ$115,IF($G476=$CO$116,CQ$116,IF($G476=$CO$117,CQ$117,IF($G476=$CO$119,CQ$119,IF($G476=$CO$120,CQ$120,))))))))))))))","v":1.7219},{"$f":"IF($G476=$CO$103,CR$103,IF($G476=$CO$104,CR$104,IF($G476=$CO$105,CR$105,IF($G476=$CO$107,CR$107,IF($G476=$CO$108,CR$108,IF($G476=$CO$109,CR$109,IF($G476=$CO$111,CR$111,IF($G476=$CO$112,CR$112,IF($G476=$CO$113,CR$113,IF($G476=$CO$115,CR$115,IF($G476=$CO$116,CR$116,IF($G476=$CO$117,CR$117,IF($G476=$CO$119,CR$119,IF($G476=$CO$120,CR$120,))))))))))))))","v":2},{"$f":"IF($G476=$CO$103,CS$103,IF($G476=$CO$104,CS$104,IF($G476=$CO$105,CS$105,IF($G476=$CO$107,CS$107,IF($G476=$CO$108,CS$108,IF($G476=$CO$109,CS$109,IF($G476=$CO$111,CS$111,IF($G476=$CO$112,CS$112,IF($G476=$CO$113,CS$113,IF($G476=$CO$115,CS$115,IF($G476=$CO$116,CS$116,IF($G476=$CO$117,CS$117,IF($G476=$CO$119,CS$119,IF($G476=$CO$120,CS$120,))))))))))))))","v":3.76611E-4},{"$f":"AK310","v":763.26517311676128},836.13657141043336,1114.44,0.95,0.95,0.95,{"$f":"ROUND(AK476*POWER(CF_cool,AN476),0)","v":763},{"$f":"ROUND(AL476*POWER(CF_cool,AO476),0)","v":836},{"$f":"ROUND(AM476*POWER(CF_cool,AP476),0)","v":1114},328,359,479,0.51827708039997999,0.61727233073709142,1.0794747424565225,{"$f":"ROUND(IF(G476=10,$CO$92*F476,IF(G476=11,$CO$93*F476,IF(G476=15,$CO$94*F476,IF(G476=16,$CO$95*F476,IF(G476=20,$CO$96*F476,IF(G476=21,$CO$97*F476,)))))),1)","v":3.2},{"$f":"BA310","v":16.399999999999999},{"$f":"BB310","v":17.7},29.7,null,4322,null,{"$f":"IF(G476=10,0.9,IF(G476=11,0.68,IF(G476=15,0.8,IF(G476=16,0.68,IF(G476=20,0.8,IF(G476=21,0.8))))))","v":0.8},null,null,0,{"$f":"BK475","v":10},10.9,21.85,null,1,1,1,{"$f":"AQ476/BO476","v":763},{"$f":"AR476/BP476","v":836},{"$f":"AS476/BQ476","v":1114},null,{"$f":"BR476-AQ476","v":0},{"$f":"BS476-AR476","v":0},{"$f":"BT476-AS476","v":0},1]
[{"$f":"CONCATENATE(D477,E477,F477,G477)","v":"23524021"},null,null,2,35,240,21,21.5,0,26,30,{"$f":"L313","v":48.1},3989.6000000000004,{"$f":"N313","v":8907.2895892451361},{"$f":"O313","v":9231.3217513746804},13537.56,1.5,{"$f":"IF($G477=10,1.08,IF($G477=11,1.1,IF($G477=15,1.08,IF($G477=16,1.1,IF($G477=20,1.08,IF($G477=21,1.05))))))","v":1.05},1.05,1.05,2847,7033,7289,10689,245,605,627,919,{"$f":"(($AG477*(Y477^$AH477)*((($F477-14.4)*$AI477)/100))+($AJ477*(Y477^2)))*0.0098","v":0.44915955015201309},{"$f":"(($AG477*(Z477^$AH477)*((($F477-14.4)*$AI477)/100))+($AJ477*(Z477^2)))*0.0098","v":2.5400955106251395},{"$f":"(($AG477*(AA477^$AH477)*((($F477-14.4)*$AI477)/100))+($AJ477*(AA477^2)))*0.0098","v":2.7208037343149845},{"$f":"(($AG477*(AB477^$AH477)*((($F477-14.4)*$AI477)/100))+($AJ477*(AB477^2)))*0.0098","v":5.6848092494770484},1.2760000000000001E-4,1.7219,4,5.1420100000000005E-4,{"$f":"AK313","v":1155.4060454399644},1197.4377673560793,1756.02,0.85,0.85,0.85,1155,1197,1756,497,515,755,{"$f":"(($AG477*(AT477^$AH477)*((($F477-14.4)*$AI477)/100))+($AJ477*(AT477^2)))*0.0098","v":1.7405492683847181},{"$f":"(($AG477*(AU477^$AH477)*((($F477-14.4)*$AI477)/100))+($AJ477*(AU477^2)))*0.0098","v":1.8636668369026486},{"$f":"(($AG477*(AV477^$AH477)*((($F477-14.4)*$AI477)/100))+($AJ477*(AV477^2)))*0.0098","v":3.8910739231720726},6.4,{"$f":"BA313","v":16.399999999999999},{"$f":"BB313","v":17.7},29.7,null,4987,null,0.8,null,null,0,{"$f":"BK476","v":10},10.9,21.85,null,{"$f":"IF(1/(1+((2258*((0.622/((101325/(1*611*EXP(17.27*((($AM$1+$AM$2)/2)/((($AM$1+$AM$2)/2)+237.3))))))-1)*1000-(0.622/((101325/($AQ$1*611*EXP(17.27*($AM$3/($AM$3+237.3))))))-1)*1000))/(1005*((($AM$1+$AM$2)/2)-$AM$3))))>1,1,1/(1+((2258*((0.622/((101325/(1*611*EXP(17.27*((($AM$1+$AM$2)/2)/((($AM$1+$AM$2)/2)+237.3))))))-1)*1000-(0.622/((101325/($AQ$1*611*EXP(17.27*($AM$3/($AM$3+237.3))))))-1)*1000))/(1005*((($AM$1+$AM$2)/2)-$AM$3)))))","v":1},1,1,1155,1197,1756,null,0,0,0,1]
["23526010",null,null,2,35,260,10,11.5,0,26,30,{"$f":"L316","v":47.8},1836.9,{"$f":"N316","v":4178.1784000000007},{"$f":"O316","v":4608.2849999999999},6144.38,1.5,1.08,1.08,1.08,1311,3277,3614,4819,113,282,311,414,0.1155405538419705,0.62619933930989857,0.75101257718335657,1.2786543856943258,3.969E-4,1.7345999999999999,2,3.6734700000000002E-4,{"$f":"AK316","v":579.25120000000004},638.88,851.84,0.98,0.98,0.98,579,639,852,249,275,366,0.4971168110898011,0.59766089099899167,1.0165350975712137,1.7,{"$f":"BA316","v":16.2},{"$f":"BB316","v":18.600000000000001},31.4,null,2041,null,0.9,null,null,0,{"$f":"BK392","v":10.199999999999999},{"$f":"BL392","v":11.9},21.85,null,1,1,1,579,639,852,null,0,0,0,1]
["23526011",null,null,2,35,260,11,11.5,0,26,30,{"$f":"L319","v":47.8},1941.4,{"$f":"N319","v":5669.0920000000006},{"$f":"O319","v":6252.6749999999993},8336.9,1.5,1.1000000000000001,1.1000000000000001,1.1000000000000001,1385,4426,4882,6509,119,381,420,560,0.23190705893991548,1.9626616514787372,2.3494829093201255,3.9995616431127772,3.969E-4,1.7345999999999999,4,5.7428799999999995E-4,{"$f":"AK319","v":949.51120000000003},1047.2549999999999,1396.34,0.95,0.95,0.95,950,1047,1396,409,450,600,2.2371204011135477,2.6688522314760581,4.5447894857124886,3.5,{"$f":"BA319","v":16.2},{"$f":"BB319","v":18.600000000000001},31.4,null,2855,null,0.68,null,null,0,{"$f":"BK478","v":10.199999999999999},{"$f":"BL478","v":11.9},21.85,null,1,1,1,950,1047,1396,null,0,0,0,1]
["23526015",null,null,2,35,260,15,16.5,0,26,30,{"$f":"L322","v":48.1},2739.2000000000003,{"$f":"N322","v":4942.1733310961072},{"$f":"O322","v":5121.9619484404784},7511.2599999999993,1.5,1.08,1.08,1.08,1954,3876,4017,5891,168,333,345,507,0.19654261022246602,0.72567906330489695,0.77658683374621928,1.6253475371689938,2.0829999999999999E-4,1.724,2,4.6182900000000003E-4,{"$f":"AK322","v":653.91552727192982},677.70396216321694,993.84,1.01,1.01,1.01,654,678,994,281,292,427,0.52438185580177876,0.5643390276130934,1.1687899905071639,2.6,{"$f":"BA322","v":16.399999999999999},{"$f":"BB322","v":17.7},29.7,null,3424,null,0.8,null,null,0,{"$f":"BK393","v":10},{"$f":"BL393","v":10.9},21.85,null,1,1,1,654,678,994,null,0,0,0,1]
["23526016",null,null,2,35,260,16,16.5,0,26,30,{"$f":"L325","v":48.1},2893.4,{"$f":"N325","v":7342.4691534710291},{"$f":"O325","v":7609.5768181679023},11159.300000000001,1.5,1.1000000000000001,1.1000000000000001,1.1000000000000001,2064,5732,5941,8712,178,493,511,749,0.58449708562447611,4.1978564997308982,4.5006744046263982,9.4678767911138362,2.0829999999999999E-4,1.724,4,1.392796E-3,{"$f":"AK325","v":1068.8700133353962},1107.7538502516963,1624.5,0.95,0.95,0.95,1069,1108,1625,460,476,699,3.66947790801381,3.9213280612116019,8.2763568685468254,5.2,{"$f":"BA325","v":16.399999999999999},{"$f":"BB325","v":17.7},29.7,null,4255,null,0.68,null,null,0,{"$f":"BK480","v":10},{"$f":"BL480","v":10.9},21.85,null,1,1,1,1069,1108,1625,null,0,0,0,1]
["23526020",null,null,2,35,260,20,21.5,0,26,30,{"$f":"L328","v":48.1},3746.4,{"$f":"N328","v":6444.5232000000005},{"$f":"O328","v":7107.93},9477.24,1.5,1.08,1.08,1.08,2673,5054,5574,7432,230,435,479,639,0.26685607062458672,0.91294981512938123,1.1001003363250261,1.9230584519635214,1.2760000000000001E-4,1.7219,2,3.76611E-4,{"$f":"AK328","v":768.42720000000008},847.53,1130.04,0.95,0.95,0.95,768,848,1130,330,365,486,0.53526796134941879,0.65032127694667174,1.1314386418343181,3.5,{"$f":"BA328","v":16.399999999999999},{"$f":"BB328","v":17.7},29.7,null,4683,null,0.8,null,null,0,{"$f":"BK481","v":10},10.9,21.85,null,1,1,1,768,848,1130,null,0,0,0,1]
["23526021",null,null,2,35,260,21,21.5,0,26,30,{"$f":"L331","v":48.1},4322.4000000000005,{"$f":"N331","v":9234.8263652613623},{"$f":"O331","v":9570.7750567366256},14035.359999999999,1.5,1.05,1.05,1.05,3084,7291,7557,11082,265,627,650,953,0.53666559034716999,2.7863852901670048,2.9859304369033395,6.2326378089967651,1.2760000000000001E-4,1.7219,4,5.1420100000000005E-4,{"$f":"AK331","v":1167.5126679363457},1209.9849719689844,1774.42,0.85,0.85,0.85,1168,1210,1774,502,520,763,1.8190609839698662,1.9461054883013664,4.0628828592588073,6.9,{"$f":"BA331","v":16.399999999999999},{"$f":"BB331","v":17.7},29.7,null,5403,null,0.8,null,null,0,{"$f":"BK482","v":10},10.9,21.85,null,1,1,1,1168,1210,1774,null,0,0,0,1]
["23528010",null,null,2,35,280,10,11.5,0,26,30,{"$f":"L334","v":47.8},1978.2,{"$f":"N334","v":4331.3824000000004},{"$f":"O334","v":4782.2249168521384},6369.68,1.5,1.08,1.08,1.08,1411,3397,3750,4995,121,292,323,430,0.13742347275132782,0.69744802061985678,0.84077185533321985,1.4297918820056932,3.969E-4,1.7345999999999999,2,3.6734700000000002E-4,{"$f":"AK334","v":587.68320000000006},648.85364133524638,864.24,0.98,0.98,0.98,588,649,864,253,279,372,0.53495403421136267,0.64106400571541289,1.0925143603098122,1.9,{"$f":"BA334","v":16.2},{"$f":"BB334","v":18.600000000000001},31.4,null,2198,null,0.9,null,null,0,{"$f":"BK395","v":10.199999999999999},{"$f":"BL395","v":11.9},21.85,null,1,1,1,588,649,864,null,0,0,0,1]
["23528011",null,null,2,35,280,11,11.5,0,26,30,{"$f":"L337","v":47.8},2090.3200000000002,{"$f":"N337","v":5976.8600000000006},{"$f":"O337","v":6598.9760720588583},8789.5,1.5,1.1000000000000001,1.1000000000000001,1.1000000000000001,1491,4666,5152,6862,128,401,443,590,0.27900297182034478,2.2589629505887028,2.7138313013647335,4.6046594930075209,3.969E-4,1.7345999999999999,4,5.7428799999999995E-4,{"$f":"AK337","v":956},1056,1406,0.95,0.95,0.95,956,1056,1406,411,454,605,2.3637663276478489,2.839310118041396,4.8232973600811606,3.7,{"$f":"BA337","v":16.2},{"$f":"BB337","v":18.600000000000001},31.4,null,3074,null,0.68,null,null,0,{"$f":"BK484","v":10.199999999999999},{"$f":"BL484","v":11.9},21.85,null,1,1,1,956,1056,1406,null,0,0,0,1]
["23528015",null,null,2,35,280,15,16.5,0,26,30,{"$f":"L340","v":48.9},2950.4,{"$f":"N340","v":5583.9635634029},{"$f":"O340","v":5708.9475468201636},8483.56,1.5,1.08,1.08,1.08,2105,4379,4477,6653,181,377,385,572,0.2328817727029073,0.94303351503609456,0.98167422248603797,2.0958794463889725,2.0829999999999999E-4,1.724,2,4.6182900000000003E-4,{"$f":"AK340","v":762.23344503523219},779.29426056038062,1158.04,1.01,1.01,1.01,762,779,1158,328,335,498,0.72271492130345638,0.75246226647382841,1.6068391234938044,2.8,{"$f":"BA340","v":19.3},{"$f":"BB340","v":20.399999999999999},34.5,null,3688,null,0.8,null,null,0,{"$f":"BK396","v":10},{"$f":"BL396","v":10.6},21.85,null,1,1,1,762,779,1158,null,0,0,0,1]
["23528016",null,null,2,35,280,16,16.5,0,26,30,{"$f":"L343","v":48.9},3094,{"$f":"N343","v":8165.5551181941737},{"$f":"O343","v":8348.321999442087},12405.7,1.5,1.1000000000000001,1.1000000000000001,1.1000000000000001,2208,6375,6518,9685,190,548,561,833,0.67672506390822851,5.2414825003503225,5.4853925820263667,11.822942017746373,2.0829999999999999E-4,1.724,4,1.392796E-3,{"$f":"AK343","v":1250},1278,1900,0.95,0.95,0.95,1250,1278,1900,538,550,817,5.0575445569651576,5.2786547361922693,11.385263573722288,5.6,{"$f":"BA343","v":19.3},{"$f":"BB343","v":20.399999999999999},34.5,null,4550,null,0.68,null,null,0,{"$f":"BK486","v":10},{"$f":"BL486","v":10.6},21.85,null,1,1,1,1250,1278,1900,null,0,0,0,1]
["23528020",null,null,2,35,280,20,21.5,0,26,30,{"$f":"L346","v":48.9},4034.4,{"$f":"N346","v":7236.8592000000008},{"$f":"O346","v":7990.1253664397382},10642.44,1.5,1.08,1.08,1.08,2879,5675,6266,8346,248,488,539,718,0.3151723392790361,1.1617686015146995,1.4078788417424029,2.45260460232267,1.2760000000000001E-4,1.7219,2,3.76611E-4,{"$f":"AK346","v":894.36320000000012},987.455178225689,1315.24,0.95,0.95,0.95,894,987,1315,384,424,565,0.73142402444564503,0.88553710556508203,1.5421797125957473,3.7,{"$f":"BA346","v":19.3},{"$f":"BB346","v":20.399999999999999},34.5,null,5043,null,0.8,null,null,0,{"$f":"BK487","v":10},10.6,21.85,null,1,1,1,894,987,1315,null,0,0,0,1]
["23528021",null,null,2,35,280,21,21.5,0,26,30,{"$f":"L351","v":48.9},4654.4000000000005,{"$f":"N351","v":10516.06232539558},10751.439821034392,15976.76,1.5,1.05,1.05,1.05,3321,8303,8489,12614,286,714,730,1085,0.63759824379106533,3.6582492578050627,3.8170452588806048,8.1713252650858994,1.2760000000000001E-4,1.7219,4,5.1420100000000005E-4,{"$f":"AK351","v":1261.7808956926551},1290.0229142432502,1916.9885000000002,0.85,0.85,0.85,1262,1290,1917,543,555,824,2.1656497129108883,2.258122327655359,4.8155944562823167,7.5,{"$f":"BA351","v":19.3},{"$f":"BB351","v":20.399999999999999},34.5,null,5818,null,0.8,null,null,0,{"$f":"BK488","v":10},10.6,21.85,null,1,1,1,1262,1290,1917,null,0,0,0,1]
["2505010",null,null,2,50,50,10,11.5,0,26,30,38.799999999999997,433.8,649,695,812,1.5,1.08,1.08,1.08,310,509,545,637,27,44,47,55,3.4662427560425285E-3,8.9335048277857931E-3,1.0154354668942562E-2,1.3782148323783661E-2,3.969E-4,1.7345999999999999,2,3.6734700000000002E-4,90.020119234756137,96.328259324977694,112.64,0.98,0.98,0.98,90,96,113,39,41,49,7.0687185128054265E-3,7.7890899379448103E-3,1.1010617958771767E-2,0.3,3.6,4.0999999999999996,5.0999999999999996,null,482,null,0.9,null,null,0,14.2,16.2,21.85,null,1,1,1,90,96,113,null,0,0,0,1]
["2505011",null,null,2,50,50,11,11.5,0,26,30,38.799999999999997,445.40000000000003,881.02076921515595,942.75810617769378,1102.4000000000001,1.5,1.1000000000000001,1.1000000000000001,1.1000000000000001,318,688,736,861,27,59,63,74,5.7865129668850561E-3,2.6124513105548242E-2,2.9658332216627524E-2,4.0497070432560033E-2,3.969E-4,1.7345999999999999,4,5.7428799999999995E-4,147.56138863197239,157.90172054122763,184.64,0.95,0.95,0.95,148,158,185,64,68,80,3.0575828151930776E-2,3.4381682232525662E-2,4.7098764109165574E-2,0.7,3.6,4.0999999999999996,5.0999999999999996,null,655,null,0.68,null,null,0,14.2,16.2,21.85,null,1,1,1,148,158,185,null,0,0,0,1]
["2506010",null,null,2,50,60,10,11.5,0,26,30,40,520.20000000000005,841.69225687813923,901.35950941531064,1066.3800000000001,1.5,1.08,1.08,1.08,371,660,707,836,32,57,61,72,5.1342892698361137E-3,1.5637729576638788E-2,1.782898414147421E-2,2.4572994832794695E-2,3.969E-4,1.7345999999999999,2,3.6734700000000002E-4,116.68990721587436,124.96201154556491,147.84,{"$f":"IF($G492=10,0.98,IF($G492=11,0.95,IF($G492=15,1.01,IF($G492=16,0.95,IF($G492=20,0.95,IF($G492=21,0.85))))))","v":0.98},0.98,0.98,117,125,148,50,54,64,1.214004296048507E-2,1.4086095785072505E-2,1.9563990759703984E-2,0.4,4.8,5.4,6.8,null,578,null,0.9,null,null,0,13.6,15.6,21.85,null,1,1,1,117,125,148,null,0,0,0,1]
["2506011",null,null,2,50,60,11,11.5,0,26,30,40,533.80000000000007,1142.0361657917249,1222.9946868592929,1446.9,1.5,1.1000000000000001,1.1000000000000001,1.1000000000000001,381,892,955,1130,33,77,82,97,9.1834597133316504E-3,4.6649790795689712E-2,5.2655498392101936E-2,7.2777833153007732E-2,3.969E-4,1.7345999999999999,4,5.7428799999999995E-4,191,205,242,0.95,0.95,0.95,191,205,242,82,88,104,5.2655498392101936E-2,6.0326342797888885E-2,8.3243311217863464E-2,0.8,4.8,5.4,6.8,null,785,null,0.68,null,null,0,13.6,15.6,21.85,null,1,1,1,191,205,242,null,0,0,0,1]
["2506015",null,null,2,50,60,15,16.5,0,26,30,41.1,736,957.19258357509659,1027.5250511543745,1359.96,1.5,1.08,1.08,1.08,525,751,806,1067,45,65,69,92,1.0483400643809957E-2,2.1607295358039021E-2,2.4302699376319299E-2,4.2830982878635446E-2,2.0829999999999999E-4,1.724,2,4.6182900000000003E-4,189.925625,140.26129481477255,185.64,1.01,1.01,1.01,190,140,186,82,60,80,3.4141898797120353E-2,1.8458252538956766E-2,3.25208961878376E-2,0.6,4.8,5.5,7.2,null,920,null,0.8,null,null,0,12.3,14.4,21.85,null,1,1,1,190,140,186,null,0,0,0,1]
["2506016",null,null,2,50,60,16,16.5,0,26,30,41.1,796.28000000000009,1399.7241764138612,1502.5729206967153,1988.7,1.5,1.1000000000000001,1.1000000000000001,1.1000000000000001,568,1093,1173,1553,49,94,101,134,3.5825994661776335E-2,0.12999495976193065,0.1498640371075696,0.26238954698403733,2.0829999999999999E-4,1.724,4,1.392796E-3,214,230,305,0.95,0.95,0.95,214,230,305,92,99,131,0.12457564927087089,0.14404410806926615,0.25087593311274681,1.2,4.8,5.5,7.2,null,1171,null,0.68,null,null,0,12.3,14.4,21.85,null,1,1,1,214,230,305,null,0,0,0,1]
["2506020",null,null,2,50,60,20,21.5,0,26,30,41.1,1017.6,1346.575008837732,1442.0332127786496,1706.04,1.5,1.08,1.08,1.08,726,1056,1131,1338,62,91,97,115,1.557859237005408E-2,3.3257087321880145E-2,3.773334830335235E-2,5.2841431064416994E-2,1.2760000000000001E-4,1.7219,2,3.76611E-4,166.41571994991173,178.21286873827722,210.84,0.95,0.95,0.95,166,178,211,71,77,91,2.0362186770824586E-2,2.3902999958867951E-2,3.3257087321880145E-2,0.8,4.8,5.5,7.2,null,1272,null,0.8,null,null,0,12.3,14.4,21.85,null,1,1,1,166,178,211,null,0,0,0,1]
["2506021",null,null,2,50,60,21,21.5,0,26,30,41.1,1230.4000000000001,1802.6437228662567,1935.0981352499616,2561.16,1.5,1.05,1.05,1.05,878,1423,1528,2022,76,122,131,174,3.3056948915059815E-2,8.3927928329369905E-2,9.6565795839234567E-2,0.16901353512975539,1.2760000000000001E-4,1.7219,4,5.1420100000000005E-4,233.82931859416351,251.01059773412922,332.22,0.85,0.85,0.85,234,251,332,101,108,143,5.7851346790324013E-2,6.601213332318584E-2,0.1147780548995266,1.6,4.8,5.5,7.2,null,1538,null,0.8,null,null,0,12.3,14.4,21.85,null,1,1,1,234,251,332,null,0,0,0,1]
["2507010",null,null,2,50,70,10,11.5,0,26,30,41,607.5,1029.7403904507714,1104.2859635902939,1320.28,1.5,1.08,1.08,1.08,433,808,866,1035,37,69,74,89,7.1993879482250972E-3,2.3833508628602774E-2,2.7271158049938453E-2,3.8924960889446435E-2,3.969E-4,1.7345999999999999,2,3.6734700000000002E-4,142.7603849699376,153.09517888293954,183.04,0.98,0.98,0.98,143,153,183,61,66,79,1.8801217016227327E-2,2.1878764945327631E-2,3.093277823234393E-2,0.5,5.5,5.9,7.9,null,675,null,0.9,null,null,0,13.2,15.1,21.85,null,1,1,1,143,153,183,null,0,0,0,1]
["2507011",null,null,2,50,70,11,11.5,0,26,30,41,622.88,1397.1861540381678,1498.3320774196782,1791.4,1.5,1.1000000000000001,1.1000000000000001,1.1000000000000001,444,1091,1170,1399,38,94,101,120,1.2883880039448637E-2,7.2618348923691595E-2,8.3337593553421352E-2,0.11600499755813,3.969E-4,1.7345999999999999,4,5.7428799999999995E-4,234.01347195356249,250.95431311209123,300.04000000000002,0.95,0.95,0.95,234,251,300,101,108,129,8.3337593553421352E-2,9.4767092758545599E-2,0.13329019125147809,0.9,5.5,5.9,7.9,null,916,null,0.68,null,null,0,13.2,15.1,21.85,null,1,1,1,234,251,300,null,0,0,0,1]
["2507015",null,null,2,50,70,15,16.5,0,26,30,41.1,858.40000000000009,1070.8273541699666,1149.5094620994566,1521.41,1.5,1.08,1.08,1.08,612,840,901,1193,53,72,77,103,1.4844754306514059E-2,2.7077000311869458E-2,3.0892373713348693E-2,5.4716713303803698E-2,2.0829999999999999E-4,1.724,2,4.6182900000000003E-4,135.09481491470635,145.02129350758159,191.94,1.01,1.01,1.01,135,145,192,58,62,83,1.7715040719154605E-2,2.0190861450308E-2,3.5797696205080359E-2,0.7,5.0999999999999996,5.6,7.2,null,1073,null,0.8,null,null,0,12.3,14.4,21.85,null,1,1,1,135,145,192,null,0,0,0,1]
["2507016",null,null,2,50,70,16,16.5,0,26,30,41.1,928.88000000000011,1627.62717250317,1747.2217424001376,2312.5,1.5,1.1000000000000001,1.1000000000000001,1.1000000000000001,663,1271,1364,1805,57,109,117,155,4.917947571630641E-2,0.17694509326691635,0.20354226765780917,0.35504012904622118,2.0829999999999999E-4,1.724,4,1.392796E-3,219.59769851718443,235.73326859625641,312,0.95,0.95,0.95,220,236,312,95,101,134,0.1348444213322838,0.1521944098151945,0.26618360536544905,1.4,5.0999999999999996,5.6,7.2,null,1366,null,0.68,null,null,0,12.3,14.4,21.85,null,1,1,1,220,236,312,null,0,0,0,1]
["2507020",null,null,2,50,70,20,21.5,0,26,30,41.1,1187.2,1509.840819712653,1619.1421060355642,1935.84,1.5,1.08,1.08,1.08,847,1184,1270,1518,73,102,109,131,2.1915384611750369E-2,4.2396471925119035E-2,4.8331778986334215E-2,6.9488117345007913E-2,1.2760000000000001E-4,1.7219,2,3.76611E-4,170.52628152222005,182.87112058001478,218.64000000000001,0.95,0.95,0.95,171,183,219,74,79,94,2.2511197833279682E-2,2.5608782122359248E-2,3.6084845824600094E-2,0.9,5.0999999999999996,5.6,7.2,null,1484,null,0.8,null,null,0,12.3,14.4,21.85,null,1,1,1,171,183,219,null,0,0,0,1]
["2508010",null,null,2,50,80,10,11.5,0,26,30,41.8,693.9,1214.2269940407766,1304.1433704057049,1574.18,1.5,1.08,1.08,1.08,495,952,1023,1235,43,82,88,106,1.0133807057823513E-2,3.4861135731848764E-2,3.9921570095941127E-2,5.7081303711220763E-2,3.969E-4,1.7345999999999999,2,3.6734700000000002E-4,168.33710197020613,180.80286190736828,218.24,0.98,0.98,0.98,168,181,218,72,78,94,2.7165359623318678E-2,3.167181300086596E-2,4.5312552969066985E-2,0.5,6.3,6.8,9.1,null,771,null,0.9,null,null,0,12.8,14.7,21.85,null,1,1,1,168,181,218,null,0,0,0,1]
["2508011",null,null,2,50,80,11,11.5,0,26,30,41.8,711.96,1647.5037394527276,1769.505282019556,2135.9,1.5,1.1000000000000001,1.1000000000000001,1.1000000000000001,508,1286,1381,1668,44,111,119,143,1.8133608697961122E-2,0.10537485365866733,0.12035350001470055,0.17100095804480808,3.969E-4,1.7345999999999999,4,5.7428799999999995E-4,276,296,358,0.95,0.95,0.95,276,296,358,119,127,154,0.12035350001470055,0.13628668965853094,0.19705768178204491,1.1000000000000001,6.3,6.8,9.1,null,1047,null,0.68,null,null,0,12.8,14.7,21.85,null,1,1,1,276,296,358,null,0,0,0,1]
["2508016",null,null,2,50,80,16,16.5,0,26,30,42.4,1061.48,2040.4331716148024,2188.0092071816284,2935.7,1.5,1.1000000000000001,1.1000000000000001,1.1000000000000001,757,1593,1708,2292,65,137,147,197,6.4819307161375433E-2,0.28204303816785287,0.32414663509783698,0.57808545963619196,2.0829999999999999E-4,1.724,4,1.392796E-3,312,335,450,0.95,0.95,0.95,312,335,450,134,144,194,0.26997766374686077,0.31121106327333475,0.56081193423750164,1.6,6,6.7,9,null,1561,null,0.68,null,null,0,11.8,13.7,21.85,null,1,1,1,312,335,450,null,0,0,0,1]
["2508020",null,null,2,50,80,20,21.5,0,26,30,42.4,1356.8000000000002,1942.5718983039128,2086.4239348515057,2518.44,1.5,1.08,1.08,1.08,968,1523,1636,1975,83,131,141,170,2.873311858430181E-2,7.0594323803498546E-2,8.1613209141998835E-2,0.11803010584799242,1.2760000000000001E-4,1.7219,2,3.76611E-4,240.07166246887351,257.84953601562182,311.24,0.95,0.95,0.95,240,258,311,103,111,134,4.3951963441231798E-2,5.0929918356249132E-2,7.381701321036345E-2,1.1000000000000001,6,6.7,9,null,1696,null,0.8,null,null,0,11.8,13.7,21.85,null,1,1,1,240,258,311,null,0,0,0,1]
["2509010",null,null,2,50,90,10,11.5,0,26,30,42.4,781.2,1395.6272192501513,1501.3000140389001,1828.08,1.5,1.08,1.08,1.08,557,1095,1177,1434,48,94,101,123,1.3144382146513884E-2,4.7370929137888165E-2,5.4349648935862721E-2,7.9273358405672414E-2,3.969E-4,1.7345999999999999,2,3.6734700000000002E-4,193.48593193227777,208.13611852764589,253.44,0.98,0.98,0.98,193,208,253,83,89,109,3.7340239212640722E-2,4.2669333600542279E-2,6.2889336846315577E-2,0.6,6.7,7.4,10.3,null,868,null,0.9,null,null,0,12.5,14.7,21.85,null,1,1,1,193,208,253,null,0,0,0,1]
["2509011",null,null,2,50,90,11,11.5,0,26,30,42.4,801.04000000000008,1893.6336235985709,2037.0140009310799,2480.4,1.5,1.1000000000000001,1.1000000000000001,1.1000000000000001,572,1478,1590,1936,49,127,137,166,2.3566053061826152E-2,0.1432245427635509,0.16545208362851668,0.2385477205755622,3.969E-4,1.7345999999999999,4,5.7428799999999995E-4,317.16301910489852,341.17767156378318,415.44,0.95,0.95,0.95,317,341,415,136,147,178,0.16316026903161293,0.18921140887221088,0.27252186122633548,1.2,6.7,7.4,10.3,null,1178,null,0.68,null,null,0,12.5,14.7,21.85,null,1,1,1,317,341,415,null,0,0,0,1]
["2509016",null,null,2,50,90,16,16.5,0,26,30,43.3,1194.0800000000002,2336.669516687492,2503.3688418217644,3409.2,1.5,1.1000000000000001,1.1000000000000001,1.1000000000000001,852,1824,1954,2662,73,157,168,229,8.2803861230059603E-2,0.37413425352165253,0.42759818960823864,0.7880408313931474,2.0829999999999999E-4,1.724,4,1.392796E-3,357.77938745479025,383.30357134546551,522,0.95,0.95,0.95,358,383,522,154,165,224,0.36016635113087053,0.41266687566708049,0.75442675175462648,1.8,7,7.7,10.7,null,1756,null,0.68,null,null,0,11.3,13.2,21.85,null,1,1,1,358,383,522,null,0,0,0,1]
["2509020",null,null,2,50,90,20,21.5,0,26,30,43.3,1526.4,2232.7836804230465,2401.8435041457315,2924.64,1.5,1.08,1.08,1.08,1089,1751,1884,2294,94,151,162,197,3.7334142523808754E-2,9.4834579626451532E-2,0.10891673537133954,0.16011957350838529,1.2760000000000001E-4,1.7219,2,3.76611E-4,275.93732338069162,296.83048721840407,361.44,0.95,0.95,0.95,276,297,361,119,128,155,5.9353068879593893E-2,6.85057463009488E-2,9.9843942617951306E-2,1.2,7,7.7,10.7,null,1908,null,0.8,null,null,0,11.3,13.2,21.85,null,1,1,1,276,297,361,null,0,0,0,1]
["25010010",null,null,2,50,100,10,11.5,0,26,30,43,867.6,1574.3905475253332,1696.1265760133244,2081.98,1.5,1.08,1.08,1.08,619,1235,1330,1633,53,106,114,140,1.6633786957834285E-2,6.2151943031227098E-2,7.1407310896984919E-2,0.10572290690654358,3.969E-4,1.7345999999999999,2,3.6734700000000002E-4,218.26918973175157,235.14633901405676,288.64,0.98,0.98,0.98,218,235,289,94,101,124,4.9429305306709352E-2,5.6681136080738742E-2,8.3841493078660942E-2,0.7,7.8,8.6999999999999993,12.2,null,964,null,0.9,null,null,0,12.3,14.1,21.85,null,1,1,1,218,235,289,null,0,0,0,1]
["25010011",null,null,2,50,100,11,11.5,0,26,30,43,890.12000000000012,2136.1856779144437,2301.3611872256411,2824.9,1.5,1.1000000000000001,1.1000000000000001,1.1000000000000001,635,1668,1797,2205,55,143,155,190,3.0933067824712428E-2,0.18804776535798132,0.21911871198426447,0.32261632041631727,3.969E-4,1.7345999999999999,4,5.7428799999999995E-4,358,385,473,0.95,0.95,0.95,358,385,473,154,166,203,0.21644289597218058,0.2495876591101075,0.36590011099410291,1.3,7.8,8.6999999999999993,12.2,null,1309,null,0.68,null,null,0,12.3,14.1,21.85,null,1,1,1,358,385,473,null,0,0,0,1]
["25010015",null,null,2,50,100,15,16.5,0,26,30,44.1,1226.4000000000001,1798.7737222599399,1926.0891717740149,2655.16,1.5,1.08,1.08,1.08,875,1411,1511,2082,75,121,130,179,3.1429016388355262E-2,7.9882926528895518E-2,9.1900063797744749E-2,0.17176599623849034,2.0829999999999999E-4,1.724,2,4.6182900000000003E-4,245.53983484833029,262.91890485611941,362.44,1.01,1.01,1.01,246,263,362,106,113,156,6.1693712021988735E-2,6.989545441405931E-2,0.13124694650181259,1,7,7.7,10.7,null,1533,null,0.8,null,null,0,10.9,12.8,21.85,null,1,1,1,246,263,362,null,0,0,0,1]
["25010016",null,null,2,50,100,16,16.5,0,26,30,44.1,1326.68,2630.3871448118639,2816.5633812075234,3882.7,1.5,1.1000000000000001,1.1000000000000001,1.1000000000000001,947,2054,2199,3031,81,177,189,261,0.10318941351450994,0.4800973876606639,0.5463285500064492,1.0323140112813236,2.0829999999999999E-4,1.724,4,1.392796E-3,403,431,595,0.95,0.95,0.95,403,431,595,173,185,256,0.45896052508691165,0.52378160296818432,0.99366847477469411,2,7,7.7,10.7,null,1951,null,0.68,null,null,0,10.9,12.8,21.85,null,1,1,1,403,431,595,null,0,0,0,1]
["25010021",null,null,2,50,100,21,21.5,0,26,30,44.1,2051.2000000000003,3387.5608889256064,3627.3291443724347,5000.3599999999997,1.5,1.05,1.05,1.05,1464,2675,2864,3948,126,230,246,340,9.7712674789928983E-2,0.31649151807140574,0.36099859926961725,0.68037875512768187,1.2760000000000001E-4,1.7219,4,5.1420100000000005E-4,439.41631078060919,470.51776864522725,648.62,0.85,0.85,0.85,439,471,649,189,203,279,0.21560419169801393,0.24792046126884393,0.46186798350799674,2.7,7,7.7,10.7,null,2564,null,0.8,null,null,0,10.9,12.8,21.85,null,1,1,1,439,471,649,null,0,0,0,1]
["25011010",null,null,2,50,110,10,11.5,0,26,30,43.5,954,1766.3893947845202,1902.9712804051933,2335.88,1.5,1.08,1.08,1.08,681,1385,1492,1832,59,119,128,158,2.1303932113006917E-2,8.0603275811184871E-2,9.2599605028954202E-2,0.13830835282173867,3.969E-4,1.7345999999999999,2,3.6734700000000002E-4,244.88738360147738,263.82272182064906,323.83999999999997,0.98,0.98,0.98,245,264,324,105,114,139,6.3532409410345894E-2,7.4283678081492499E-2,0.10834103483995079,0.7,8.4,9.3000000000000007,14,null,1060,null,0.9,null,null,0,12,13.9,21.85,null,1,1,1,245,264,324,null,0,0,0,1]
["25011015",null,null,2,50,110,15,16.5,0,26,30,44.1,1348.8000000000002,1908.1501882577959,2043.2071973479594,2816.6099999999997,1.5,1.08,1.08,1.08,962,1496,1602,2209,83,129,138,190,3.9120433177224495E-2,9.2300683368990388E-2,0.10527066402536114,0.19649702710776104,2.0829999999999999E-4,1.724,2,4.6182900000000003E-4,249.80785427097814,267.48901053042016,368.74,1.01,1.01,1.01,250,267,369,108,115,159,6.5293712586279876E-2,7.3788401225819936E-2,0.1387762211751877,1.1000000000000001,7.9,8.8000000000000007,12.5,null,1686,null,0.8,null,null,0,10.9,12.8,21.85,null,1,1,1,250,267,369,null,0,0,0,{"$f":"IF(SUM(BV524:BX524)=0,1,0)","v":1}]
["25011016",null,null,2,50,110,16,16.5,0,26,30,44.1,1459.2800000000002,2849.7497938679544,3051.4523045945984,4206.5,1.5,1.1000000000000001,1.1000000000000001,1.1000000000000001,1041,2225,2382,3284,90,191,205,282,0.12882210346616613,0.56476814232501726,0.64910736540223946,1.2162714994016472,2.0829999999999999E-4,1.724,4,1.392796E-3,407.83296705301524,436.69898665540194,602,0.95,0.95,0.95,408,437,602,175,188,259,0.47548152700019564,0.54744957167687558,1.0285851673079258,2.2000000000000002,7.9,8.8000000000000007,12.5,null,2146,null,0.68,null,null,0,10.9,12.8,21.85,null,1,1,1,408,437,602,null,0,0,0,1]
["25011021",null,null,2,50,110,21,21.5,0,26,30,44.1,2256,3556.1815292902165,3807.8845891872675,5249.2599999999993,1.5,1.05,1.05,1.05,1610,2808,3007,4145,138,241,259,356,0.11910004029676541,0.35310128138501551,0.40643245418374957,0.75693105159793073,1.2760000000000001E-4,1.7219,4,5.1420100000000005E-4,445.64897406447591,477.19157375690452,657.82,0.85,0.85,0.85,446,477,658,192,205,283,0.22661573879571267,0.25750136415425773,0.48325773512719011,2.9,7.9,8.8000000000000007,12.5,null,2820,null,0.8,null,null,0,10.9,12.8,21.85,null,1,1,1,446,477,658,null,0,0,0,1]
["25012010",null,null,2,50,120,10,11.5,0,26,30,44,1041.3,1924.9914127028867,2079.6202422788024,2589.7800000000002,1.5,1.08,1.08,1.08,743,1510,1631,2031,64,130,140,175,2.5903975367735539E-2,9.8985854052659E-2,0.11393853661367993,0.17413148637766063,3.969E-4,1.7345999999999999,2,3.6734700000000002E-4,266.87553260000635,288.31284965818764,359.04,0.98,0.98,0.98,267,288,359,115,124,154,7.844810437960871E-2,9.0497540707880797E-2,0.13655457969155813,0.8,8.9,9.9,14.8,null,1157,null,0.9,null,null,0,11.8,13.7,21.85,null,1,1,1,267,288,359,null,0,0,0,1]
["25012015",null,null,2,50,120,15,16.5,0,26,30,44.8,1472,2216.9073865755149,2373.9948983307781,3302.76,1.5,1.08,1.08,1.08,1050,1739,1862,2590,90,150,160,223,4.6746087786418117E-2,0.12616601065937175,0.14306010269934949,0.27327410250387973,2.0829999999999999E-4,1.724,2,4.6182900000000003E-4,302.61675876046246,324.05983479376272,450.84,1.01,1.01,1.01,303,324,451,130,139,194,9.5500985484133716E-2,0.10878402336268925,0.20824992292405745,1.2,8.6999999999999993,9.8000000000000007,14.3,null,1840,null,0.8,null,null,0,10.6,12.5,21.85,null,1,1,1,303,324,451,null,0,0,0,1]
["25012016",null,null,2,50,120,16,16.5,0,26,30,44.8,1591.88,3241.8333772189817,3471.5459677567114,4829.7,1.5,1.1000000000000001,1.1000000000000001,1.1000000000000001,1136,2531,2710,3771,98,218,233,324,0.15445100612826654,0.74138661467882749,0.84499496566697219,1.6164367454023814,2.0829999999999999E-4,1.724,4,1.392796E-3,496,532,740,0.95,0.95,0.95,496,532,740,213,229,318,0.70833668732811383,0.81671249966312653,1.5580377368272431,2.4,8.6999999999999993,9.8000000000000007,14.3,null,2341,null,0.68,null,null,0,10.6,12.5,21.85,null,1,1,1,496,532,740,null,0,0,0,1]
["25012021",null,null,2,50,120,21,21.5,0,26,30,44.8,2461.6000000000004,4175.015825613802,4470.8526528786542,6219.96,1.5,1.05,1.05,1.05,1756,3296,3530,4911,151,283,304,422,0.14473689079650909,0.49159200971034805,0.56525436757201819,1.0725116519177567,1.2760000000000001E-4,1.7219,4,5.1420100000000005E-4,541.56076058716258,579.9351342123673,806.82,0.85,0.85,0.85,542,580,807,233,249,347,0.33654397258851859,0.38303545484733642,0.73178556707416287,3.2,8.6999999999999993,9.8000000000000007,14.3,null,3077,null,0.8,null,null,0,10.6,12.5,21.85,null,1,1,1,542,580,807,null,0,0,0,1]
["25014010",null,null,2,50,140,10,11.5,0,26,30,44.8,1215,2267.7915432376717,2456.1428225151312,3097.58,1.5,1.08,1.08,1.08,867,1778,1926,2429,75,153,166,209,3.7724636923329211E-2,0.14445801004372538,0.16853243053054429,0.26063544201388444,3.969E-4,1.7345999999999999,2,3.6734700000000002E-4,314.40040300104783,340.51290804463417,429.44,0.98,0.98,0.98,314,341,429,135,147,184,0.11404996966906063,0.1339431496553784,0.20476735769324847,0.9,10.1,11.2,17.5,null,1350,null,0.9,null,null,0,11.5,13.3,21.85,null,1,1,1,314,341,429,null,0,0,0,1]
["25014015",null,null,2,50,140,15,16.5,0,26,30,45.4,1716.8000000000002,2628.9846104428207,2815.4584574952669,3950.36,1.5,1.08,1.08,1.08,1225,2062,2208,3098,105,177,190,266,6.554654832203026E-2,0.18029092070853758,0.20688755958299987,0.39793806455132874,2.0829999999999999E-4,1.724,2,4.6182900000000003E-4,358.86695423586366,384.32138301819265,539.24,1.01,1.01,1.01,359,384,539,154,165,232,0.137621338941047,0.1573279392829452,0.30498467021762166,1.4,9.6,10.5,16.100000000000001,null,2146,null,0.8,null,null,0,10.4,12.2,21.85,null,1,1,1,359,384,539,null,0,0,0,1]
["25014016",null,null,2,50,140,16,16.5,0,26,30,45.4,1857.0800000000002,3844.4231409656436,4117.1080284867467,5776.7,1.5,1.1000000000000001,1.1000000000000001,1.1000000000000001,1325,3001,3214,4510,114,258,276,388,0.21345120139256857,1.0559926133482667,1.2053689200498885,2.3527630854060915,2.0829999999999999E-4,1.724,4,1.392796E-3,589,630,885,0.95,0.95,0.95,589,630,885,253,271,381,1.0162271216516092,1.1628994061160329,2.2700825079676186,2.8,9.6,10.5,16.100000000000001,null,2731,null,0.68,null,null,0,10.4,12.2,21.85,null,1,1,1,589,630,885,null,0,0,0,1]
["25014021",null,null,2,50,140,21,21.5,0,26,30,45.4,2872,4951.0649025572329,5302.2438770247491,7439.56,1.5,1.05,1.05,1.05,2049,3909,4186,5874,176,336,360,505,0.20229679905449591,0.7095813437342614,0.81150138458700172,1.5688563953148518,1.2760000000000001E-4,1.7219,4,5.1420100000000005E-4,642.22570316870622,687.77876463210498,965.02,0.85,0.85,0.85,642,688,965,276,296,415,0.48412380536530875,0.55460694628885931,1.0702397452319661,3.7,9.6,10.5,16.100000000000001,null,3590,null,0.8,null,null,0,10.4,12.2,21.85,null,1,1,1,642,688,965,null,0,0,0,1]
["25016010",null,null,2,50,160,10,11.5,0,26,30,45.5,{"$f":"IF($N540-($BE540*$BG540)>100,$BE540*$BG540,$N540-95)","v":1387.8},2603.9362232520607,2826.6988006529018,3605.38,1.5,1.08,1.08,1.08,{"$f":"ROUND(M540*POWER(CF_heat,Q540),0)","v":990},{"$f":"ROUND(N540*POWER(CF_heat,R540),0)","v":2042},{"$f":"ROUND(O540*POWER(CF_heat,S540),0)","v":2217},{"$f":"ROUND(P540*POWER(CF_heat,T540),0)","v":2827},85,176,191,243,5.1179158088434408E-2,0.20046748279247403,0.23384464098890503,0.3682343427384388,{"$f":"IF($G540=$CO$103,CP$103,IF($G540=$CO$104,CP$104,IF($G540=$CO$105,CP$105,IF($G540=$CO$107,CP$107,IF($G540=$CO$108,CP$108,IF($G540=$CO$109,CP$109,IF($G540=$CO$111,CP$111,IF($G540=$CO$112,CP$112,IF($G540=$CO$113,CP$113,IF($G540=$CO$115,CP$115,IF($G540=$CO$116,CP$116,IF($G540=$CO$117,CP$117,IF($G540=$CO$119,CP$119,IF($G540=$CO$120,CP$120,))))))))))))))","v":3.969E-4},{"$f":"IF($G540=$CO$103,CQ$103,IF($G540=$CO$104,CQ$104,IF($G540=$CO$105,CQ$105,IF($G540=$CO$107,CQ$107,IF($G540=$CO$108,CQ$108,IF($G540=$CO$109,CQ$109,IF($G540=$CO$111,CQ$111,IF($G540=$CO$112,CQ$112,IF($G540=$CO$113,CQ$113,IF($G540=$CO$115,CQ$115,IF($G540=$CO$116,CQ$116,IF($G540=$CO$117,CQ$117,IF($G540=$CO$119,CQ$119,IF($G540=$CO$120,CQ$120,))))))))))))))","v":1.7345999999999999},{"$f":"IF($G540=$CO$103,CR$103,IF($G540=$CO$104,CR$104,IF($G540=$CO$105,CR$105,IF($G540=$CO$107,CR$107,IF($G540=$CO$108,CR$108,IF($G540=$CO$109,CR$109,IF($G540=$CO$111,CR$111,IF($G540=$CO$112,CR$112,IF($G540=$CO$113,CR$113,IF($G540=$CO$115,CR$115,IF($G540=$CO$116,CR$116,IF($G540=$CO$117,CR$117,IF($G540=$CO$119,CR$119,IF($G540=$CO$120,CR$120,))))))))))))))","v":2},{"$f":"IF($G540=$CO$103,CS$103,IF($G540=$CO$104,CS$104,IF($G540=$CO$105,CS$105,IF($G540=$CO$107,CS$107,IF($G540=$CO$108,CS$108,IF($G540=$CO$109,CS$109,IF($G540=$CO$111,CS$111,IF($G540=$CO$112,CS$112,IF($G540=$CO$113,CS$113,IF($G540=$CO$115,CS$115,IF($G540=$CO$116,CS$116,IF($G540=$CO$117,CS$117,IF($G540=$CO$119,CS$119,IF($G540=$CO$120,CS$120,))))))))))))))","v":3.6734700000000002E-4},361.00257998610687,391.88577307200529,499.84,0.98,0.98,0.98,{"$f":"ROUND(AK540*POWER(CF_cool,AN540),0)","v":361},{"$f":"ROUND(AL540*POWER(CF_cool,AO540),0)","v":392},{"$f":"ROUND(AM540*POWER(CF_cool,AP540),0)","v":500},155,169,215,0.15784887533096326,0.18572654509721107,0.29228700277798675,{"$f":"ROUND(IF(G540=10,$CO$92*F540,IF(G540=11,$CO$93*F540,IF(G540=15,$CO$94*F540,IF(G540=16,$CO$95*F540,IF(G540=20,$CO$96*F540,IF(G540=21,$CO$97*F540,)))))),1)","v":1.1000000000000001},11,12.4,19.2,null,1542,null,{"$f":"IF(G540=10,0.9,IF(G540=11,0.68,IF(G540=15,0.8,IF(G540=16,0.68,IF(G540=20,0.8,IF(G540=21,0.8))))))","v":0.9},null,null,0,11.2,13,21.85,null,1,1,1,{"$f":"AQ540/BO540","v":361},{"$f":"AR540/BP540","v":392},{"$f":"AS540/BQ540","v":500},null,{"$f":"BR540-AQ540","v":0},{"$f":"BS540-AR540","v":0},{"$f":"BT540-AS540","v":0},1]
["25016015",null,null,2,50,160,15,16.5,0,26,30,46.4,1962.4,3021.1783832091446,3225.6120441880121,4597.96,1.5,1.08,1.08,1.08,1400,2369,2530,3606,120,204,218,310,8.8009053466510556E-2,0.24535535943304876,0.27900545112342201,0.55221870136410589,2.0829999999999999E-4,1.724,2,4.6182900000000003E-4,412.40297880742492,440.30899429620177,627.64,1.01,1.01,1.01,412,440,628,177,189,270,0.18642121393254038,0.21164255392481759,0.42236240265801678,1.6,11.5,12.8,19.600000000000001,null,2453,null,0.8,null,null,0,10,11.8,21.85,null,1,1,1,412,440,628,null,0,0,0,1]
["25016016",null,null,2,50,160,16,16.5,0,26,30,46.4,2122.96,4417.9368883555589,4716.8848144627045,6723.7,1.5,1.1000000000000001,1.1000000000000001,1.1000000000000001,1515,3449,3683,5249,130,297,317,451,0.28310429327382325,1.4218556466193635,1.6153748832768098,3.2239502067344685,2.0829999999999999E-4,1.724,4,1.392796E-3,676,722,1030,0.95,0.95,0.95,676,722,1030,291,310,443,1.3661686148172167,1.5462621883682115,3.112728234709111,3.2,11.5,12.8,19.600000000000001,null,3122,null,0.68,null,null,0,10,11.8,21.85,null,1,1,1,676,722,1030,null,0,0,0,1]
["25016021",null,null,2,50,160,21,21.5,0,26,30,46.4,3281.6000000000004,5689.6682460807178,6074.6702425752001,8659.16,1.5,1.05,1.05,1.05,2341,4492,4796,6837,201,386,412,588,0.27091173105102428,0.95789835596811579,1.0870494190212092,2.1697162791451228,1.2760000000000001E-4,1.7219,4,5.1420100000000005E-4,738.0333851508442,787.97378843505794,1123.22,0.85,0.85,0.85,738,788,1123,317,339,483,0.65390832051840242,0.74470210261054104,1.4802227109968673,4.3,11.5,12.8,19.600000000000001,null,4102,null,0.8,null,null,0,10,11.8,21.85,null,1,1,1,738,788,1123,null,0,0,0,1]
["25018010",null,null,2,50,180,10,11.5,0,26,30,46,1561.5,2970.6878039917879,3224.8253922941558,4113.18,1.5,1.08,1.08,1.08,1114,2330,2529,3226,96,200,217,277,6.8532144923707336E-2,0.27028861945847477,0.31500621168669868,0.49841362806075101,3.969E-4,1.7345999999999999,2,3.6734700000000002E-4,411.84801378696699,447.08095237792156,570.24,0.98,0.98,0.98,412,447,570,177,192,245,0.21495642722836134,0.25036580839638034,0.39566467113231368,1.2,12.2,13.7,22,null,1735,null,0.9,null,null,0,10.9,12.7,21.85,null,1,1,1,412,447,570,null,0,0,0,1]
["25018015",null,null,2,50,180,15,16.5,0,26,30,46.4,2207.2000000000003,3233.3460619053994,3452.1364439366635,4920.8599999999997,1.5,1.08,1.08,1.08,1575,2536,2707,3859,135,218,233,332,0.11430503560955189,0.28778504307982616,0.32723974604003053,0.64898864028636305,2.0829999999999999E-4,1.724,2,4.6182900000000003E-4,420.6820520547858,449.14828645115074,640.24,1.01,1.01,1.01,421,449,640,181,193,275,0.2010263623163458,0.22751208445626886,0.45076939507650016,1.8,11.5,12.8,19.600000000000001,null,2759,null,0.8,null,null,0,10,11.8,21.85,null,1,1,1,421,449,640,null,0,0,0,1]
["25018016",null,null,2,50,180,16,16.5,0,26,30,46.4,2388.1600000000003,4843.4549704976926,5171.1963699821436,7371.3,1.5,1.1000000000000001,1.1000000000000001,1.1000000000000001,1704,3781,4037,5755,147,325,347,495,0.36865385035795428,1.73113399073644,1.9675246325457276,3.9422156930022778,2.0829999999999999E-4,1.724,4,1.392796E-3,686.3088894339993,732.7492584003295,1044.5,0.95,0.95,0.95,686,733,1045,295,315,449,1.4327504054076798,1.6285969093831283,3.2569852229594378,3.6,11.5,12.8,19.600000000000001,null,3512,null,0.68,null,null,0,10,11.8,21.85,null,1,1,1,686,733,1045,null,0,0,0,1]
["25018021",null,null,2,50,180,21,21.5,0,26,30,46.4,3692,6016.7573462820046,6423.892435808023,9156.9599999999991,1.5,1.05,1.05,1.05,2634,4751,5072,7230,227,409,436,622,0.35407772840513896,1.103167036901554,1.2484144659284111,2.4851546453410029,1.2760000000000001E-4,1.7219,4,5.1420100000000005E-4,750.12346036921247,800.88196110577712,1141.6200000000001,0.85,0.85,0.85,750,801,1142,323,344,491,0.69902928526631702,0.78946623977507491,1.5712748482814811,4.8,11.5,12.8,19.600000000000001,null,4615,null,0.8,null,null,0,10,11.8,21.85,null,1,1,1,750,801,1142,null,0,0,0,1]
["25020010",null,null,2,50,200,10,11.5,0,26,30,46.5,1735.2,3259.5785648750903,3552.8677924068675,4620.9799999999996,1.5,1.08,1.08,1.08,1238,2556,2786,3624,106,220,240,312,8.7505139631258749E-2,0.34122659140984074,0.40155124196507375,0.65654717810994445,3.969E-4,1.7345999999999999,2,3.6734700000000002E-4,451.89903695786995,492.55985148767917,640.64,0.98,0.98,0.98,452,493,641,194,212,276,0.26974633951173027,0.31839322337808124,0.52169992911952934,1.3,13.4,14.8,24,null,1928,null,0.9,null,null,0,10.7,12.5,21.85,null,1,1,1,452,493,641,null,0,0,0,1]
["25020015",null,null,2,50,200,15,16.5,0,26,30,47.1,2452.8000000000002,3875.4624109054007,4083.4735576056296,5893.16,1.5,1.08,1.08,1.08,1750,3039,3202,4622,151,261,275,397,0.14645490592111068,0.41943542456469279,0.46387282230494226,0.94232779221518648,2.0829999999999999E-4,1.724,2,4.6182900000000003E-4,529.01617838795164,557.41053504066974,804.44,1.01,1.01,1.01,529,557,804,227,240,346,0.3205762003800503,0.35685612106712633,0.72249739815889857,2,13.2,14.7,23.5,null,3066,null,0.8,null,null,0,10,11.4,21.85,null,1,1,1,529,557,804,null,0,0,0,1]
["25020016",null,null,2,50,200,16,16.5,0,26,30,47.1,2653.36,5667.1755761695722,5971.3549398587584,8617.7000000000007,1.5,1.1000000000000001,1.1000000000000001,1.1000000000000001,1893,4424,4662,6728,163,380,401,579,0.46136174512658146,2.3956910473507516,2.6608247339246818,5.453670256932595,2.0829999999999999E-4,1.724,4,1.392796E-3,868,914,1320,0.95,0.95,0.95,868,914,1320,373,393,568,2.3103470177002245,2.5582125224157561,5.2529022162438315,4,13.2,14.7,23.5,null,3902,null,0.68,null,null,0,10,11.4,21.85,null,1,1,1,868,914,1320,null,0,0,0,1]
["25020020",null,null,2,50,200,20,21.5,0,26,30,47.1,3392,5214.8121821672385,5684.028740747025,7392.84,1.5,1.08,1.08,1.08,2420,4090,4458,5798,208,352,383,499,0.20519360254072652,0.56991326043648238,0.67162306767239033,1.1243831840072513,1.2760000000000001E-4,1.7219,2,3.76611E-4,644.46964929787134,702.45751547390614,913.64,{"$f":"IF($G556=10,0.98,IF($G556=11,0.95,IF($G556=15,1.01,IF($G556=16,0.95,IF($G556=20,0.95,IF($G556=21,0.85))))))","v":0.95},0.95,0.95,644,702,914,277,302,393,0.35773067054432378,0.42311312971539766,0.70617331390652549,2.7,13.2,14.7,23.5,null,4240,null,0.8,null,null,0,10,11.4,21.85,null,1,1,1,644,702,914,null,0,0,0,1]
["25020021",null,null,2,50,200,21,21.5,0,26,30,47.1,4102.4000000000005,7298.5082710627348,7690.2476078687869,11098.36,1.5,1.05,1.05,1.05,2927,5763,6072,8763,252,496,522,754,0.44668109477846946,1.6462201996699861,1.8169792507482643,3.7009529132948087,1.2760000000000001E-4,1.7219,4,5.1420100000000005E-4,946.7235228616961,997.53785795739748,1439.62,0.85,0.85,0.85,947,998,1440,407,429,619,1.123918147974541,1.2440371883056511,2.5261009474966261,5.3,13.2,14.7,23.5,null,5128,null,0.8,null,null,0,10,11.4,21.85,null,1,1,1,947,998,1440,null,0,0,0,1]
["25022011",null,null,2,50,220,11,11.5,0,26,30,46.9,1958.4,4831.2827990970827,5278.770565343093,6958.9,1.5,1.1000000000000001,1.1000000000000001,1.1000000000000001,1397,3772,4121,5433,120,324,354,467,0.21032552363222176,1.314879108402222,1.5495706507880502,2.5925816673788113,3.969E-4,1.7345999999999999,4,5.7428799999999995E-4,809.18727868766814,884.1366084769129,1165.54,0.95,0.95,0.95,809,884,1166,348,380,501,1.5011980733038943,1.7674215645183677,2.9547969820093392,2.9,13.4,14.8,24,null,2880,null,0.68,null,null,0,10.5,12.3,21.85,null,1,1,1,809,884,1166,null,0,0,0,1]
["25022015",null,null,2,50,220,15,16.5,0,26,30,47.8,2698.4,4302.5567439745028,4481.7988603493422,6540.76,1.5,1.08,1.08,1.08,1925,3374,3515,5130,166,290,302,441,0.18113658987117978,0.52824934112772992,0.57108950097253486,1.1842811694377704,2.0829999999999999E-4,1.724,2,4.6182900000000003E-4,587.31626956044784,611.78353807115786,892.84,1.01,1.01,1.01,587,612,893,252,263,384,0.40328748590288432,0.43778400702821296,0.90690223440245954,2.2000000000000002,15.5,16.8,27.5,null,3373,null,0.8,null,null,0,10,11.1,21.85,null,1,1,1,587,612,893,null,0,0,0,1]
["25022020",null,null,2,50,220,20,21.5,0,26,30,47.8,3731.2000000000003,5696.5662496175182,6224.1991397456159,8205.24,1.5,1.08,1.08,1.08,2662,4467,4881,6435,229,384,420,553,0.25305046731158987,0.68913594795268296,0.82013908311111194,1.4002126537427437,1.2760000000000001E-4,1.7219,2,3.76611E-4,704.00695650122941,769.21417236639559,1014.04,0.95,0.95,0.95,704,769,1014,303,331,436,0.43521399990720622,0.5165738484716168,0.88193136480825907,2.9,15.5,16.8,27.5,null,4664,null,0.8,null,null,0,10,11.1,21.85,null,1,1,1,704,769,1014,null,0,0,0,1]
["25022021",null,null,2,50,220,21,21.5,0,26,30,47.8,4512.8,8102.8384881891643,8440.3982243391856,12317.96,1.5,1.05,1.05,1.05,3220,6398,6664,9726,277,550,573,836,0.55179558763245706,2.062358887776655,2.231838465716764,4.6282420475748083,1.2760000000000001E-4,1.7219,4,5.1420100000000005E-4,1051.0569439418873,1094.8433905300585,1597.82,0.85,0.85,0.85,1051,1095,1598,452,471,687,1.4132675404061716,1.529835024440543,3.1674021588285153,5.9,15.5,16.8,27.5,null,5641,null,0.8,null,null,0,10,11.1,21.85,null,1,1,1,1051,1095,1598,null,0,0,0,1]
["25024011",null,null,2,50,240,11,11.5,0,26,30,47.2,2136.56,5237.9452617275747,5738.028861571599,7647.9,1.5,1.1000000000000001,1.1000000000000001,1.1000000000000001,1524,4089,4480,5971,131,352,385,514,0.26175016559845682,1.6146931478475526,1.905847517886774,3.2559623282985095,3.969E-4,1.7345999999999999,4,5.7428799999999995E-4,877,961,1281,0.95,0.95,0.95,877,961,1281,377,413,551,1.8332088548014907,2.1703781533558777,3.704430979547201,3.2,14.8,16.600000000000001,28,null,3142,null,0.68,null,null,0,10.4,12.2,21.85,null,1,1,1,877,961,1281,null,0,0,0,1]
["25024015",null,null,2,50,240,15,16.5,0,26,30,48.1,2943.2000000000003,4729.715265656896,4901.7743245246338,7188.36,1.5,1.08,1.08,1.08,2100,3709,3844,5637,181,319,331,485,0.22013960854828268,0.65146857081143239,0.69931956136513895,1.4577106558488697,2.0829999999999999E-4,1.724,2,4.6182900000000003E-4,645.62512273636446,669.11187505864359,981.24,1.01,1.01,1.01,646,669,981,278,288,422,0.50037899202077363,0.5354561461459616,1.1152542227427753,2.4,16.399999999999999,17.7,29.7,null,3679,null,0.8,null,null,0,10,10.9,21.85,null,1,1,1,646,669,981,null,0,0,0,1]
["25024020",null,null,2,50,240,20,21.5,0,26,30,48.1,4070.4,6176.0620183272586,6765.7106634844222,9017.64,1.5,1.08,1.08,1.08,2904,4844,5306,7072,250,417,456,608,0.30661216531415902,0.82504336232375919,0.98120320393227112,1.7151431662130303,1.2760000000000001E-4,1.7219,2,3.76611E-4,763.26517311676128,836.13657141043336,1114.44,0.95,0.95,0.95,763,836,1114,328,359,479,0.51827708039997999,0.61727233073709142,1.0794747424565225,3.2,16.399999999999999,17.7,29.7,null,5088,null,0.8,null,null,0,10,10.9,21.85,null,1,1,1,763,836,1114,null,0,0,0,1]
["25024021",null,null,2,50,240,21,21.5,0,26,30,48.1,4923.2000000000007,8907.2895892451361,9231.3217513746804,13537.56,1.5,1.05,1.05,1.05,3513,7033,7289,10689,302,605,627,919,0.66987332533216326,2.5400955106251395,2.7208037343149845,5.6848092494770484,1.2760000000000001E-4,1.7219,4,5.1420100000000005E-4,1155.4060454399644,1197.4377673560793,1756.02,0.85,0.85,0.85,1155,1197,1756,497,515,755,1.7405492683847181,1.8636668369026486,3.8910739231720726,6.4,16.399999999999999,17.7,29.7,null,6154,null,0.8,null,null,0,10,10.9,21.85,null,1,1,1,1155,1197,1756,null,0,0,0,1]
["25026011",null,null,2,50,260,11,11.5,0,26,30,47.8,2314.04,5669.0920000000006,6252.6749999999993,8336.9,1.5,1.1000000000000001,1.1000000000000001,1.1000000000000001,1651,4426,4882,6509,142,381,420,560,0.32028551796802029,1.9626616514787372,2.3494829093201255,3.9995616431127772,3.969E-4,1.7345999999999999,4,5.7428799999999995E-4,949.51120000000003,1047.2549999999999,1396.34,0.95,0.95,0.95,950,1047,1396,409,450,600,2.2371204011135477,2.6688522314760581,4.5447894857124886,3.5,16.2,18.600000000000001,31.4,null,3403,null,0.68,null,null,0,10.199999999999999,11.9,21.85,null,1,1,1,950,1047,1396,null,0,0,0,1]
["25026015",null,null,2,50,260,15,16.5,0,26,30,48.1,3188.8,4942.1733310961072,5121.9619484404784,7511.2599999999993,1.5,1.08,1.08,1.08,2275,3876,4017,5891,196,333,345,507,0.26361557167172889,0.72567906330489695,0.77658683374621928,1.6253475371689938,2.0829999999999999E-4,1.724,2,4.6182900000000003E-4,653.91552727192982,677.70396216321694,993.84,1.01,1.01,1.01,654,678,994,281,292,427,0.52438185580177876,0.5643390276130934,1.1687899905071639,2.6,16.399999999999999,17.7,29.7,null,3986,null,0.8,null,null,0,10,10.9,21.85,null,1,1,1,654,678,994,null,0,0,0,1]
["25026020",null,null,2,50,260,20,21.5,0,26,30,48.1,4409.6000000000004,6444.5232000000005,7107.93,9477.24,1.5,1.08,1.08,1.08,3146,5054,5574,7432,271,435,479,639,0.36604231276308857,0.91294981512938123,1.1001003363250261,1.9230584519635214,1.2760000000000001E-4,1.7219,2,3.76611E-4,768.42720000000008,847.53,1130.04,0.95,0.95,0.95,768,848,1130,330,365,486,0.53526796134941879,0.65032127694667174,1.1314386418343181,3.5,16.399999999999999,17.7,29.7,null,5512,null,0.8,null,null,0,10,10.9,21.85,null,1,1,1,768,848,1130,null,0,0,0,1]
["25026021",null,null,2,50,260,21,21.5,0,26,30,48.1,5332.8,9234.8263652613623,9570.7750567366256,14035.359999999999,1.5,1.05,1.05,1.05,3805,7291,7557,11082,327,627,650,953,0.8013548888190406,2.7863852901670048,2.9859304369033395,6.2326378089967651,1.2760000000000001E-4,1.7219,4,5.1420100000000005E-4,1167.5126679363457,1209.9849719689844,1774.42,0.85,0.85,0.85,1168,1210,1774,502,520,763,1.8190609839698662,1.9461054883013664,4.0628828592588073,6.9,16.399999999999999,17.7,29.7,null,6666,null,0.8,null,null,0,10,10.9,21.85,null,1,1,1,1168,1210,1774,null,0,0,0,1]
["25028011",null,null,2,50,280,11,11.5,0,26,30,47.8,2492.2000000000003,5976.8600000000006,6598.9760720588583,8789.5,1.5,1.1000000000000001,1.1000000000000001,1.1000000000000001,1778,4666,5152,6862,153,401,443,590,0.38628927918254297,2.2589629505887028,2.7138313013647335,4.6046594930075209,3.969E-4,1.7345999999999999,4,5.7428799999999995E-4,956,1056,1406,0.95,0.95,0.95,956,1056,1406,411,454,605,2.3637663276478489,2.839310118041396,4.8232973600811606,3.7,16.2,18.600000000000001,31.4,null,3665,null,0.68,null,null,0,10.199999999999999,11.9,21.85,null,1,1,1,956,1056,1406,null,0,0,0,1]
["25028015",null,null,2,50,280,15,16.5,0,26,30,48.9,3433.6000000000004,5583.9635634029,5708.9475468201636,8483.56,1.5,1.08,1.08,1.08,2450,4379,4477,6653,211,377,385,572,0.31171256989748714,0.94303351503609456,0.98167422248603797,2.0958794463889725,2.0829999999999999E-4,1.724,2,4.6182900000000003E-4,762.23344503523219,779.29426056038062,1158.04,1.01,1.01,1.01,762,779,1158,328,335,498,0.72271492130345638,0.75246226647382841,1.6068391234938044,2.8,19.3,20.399999999999999,34.5,null,4292,null,0.8,null,null,0,10,10.6,21.85,null,1,1,1,762,779,1158,null,0,0,0,1]
["25028020",null,null,2,50,280,20,21.5,0,26,30,48.9,4748.8,7236.8592000000008,7990.1253664397382,10642.44,1.5,1.08,1.08,1.08,3388,5675,6266,8346,291,488,539,718,0.42866097254099339,1.1617686015146995,1.4078788417424029,2.45260460232267,1.2760000000000001E-4,1.7219,2,3.76611E-4,894.36320000000012,987.455178225689,1315.24,0.95,0.95,0.95,894,987,1315,384,424,565,0.73142402444564503,0.88553710556508203,1.5421797125957473,3.7,19.3,20.399999999999999,34.5,null,5936,null,0.8,null,null,0,10,10.6,21.85,null,1,1,1,894,987,1315,null,0,0,0,1]
["25028021",null,null,2,50,280,21,21.5,0,26,30,48.1,5743.2000000000007,10516.06232539558,10751.439821034392,15976.76,1.5,1.05,1.05,1.05,4098,8303,8489,12614,352,714,730,1085,0.94667056303087049,3.6582492578050627,3.8170452588806048,8.1713252650858994,1.2760000000000001E-4,1.7219,4,5.1420100000000005E-4,1261.7808956926551,1290.0229142432502,1916.9885000000002,0.85,0.85,0.85,1262,1290,1917,543,555,824,2.1656497129108883,2.258122327655359,4.8155944562823167,7.5,19.3,20.399999999999999,34.5,null,7179,null,0.8,null,null,0,10,10.6,21.85,null,1,1,1,1262,1290,1917,null,0,0,0,1]
["2655011",null,null,2,65,50,11,11.5,0,26,30,38.799999999999997,504.56000000000006,881.02076921515595,942.75810617769378,1102.4000000000001,1.5,1.1000000000000001,1.1000000000000001,1.1000000000000001,360,688,736,861,31,59,63,74,7.5481323286702567E-3,2.6124513105548242E-2,2.9658332216627524E-2,4.0497070432560033E-2,3.969E-4,1.7345999999999999,4,5.7428799999999995E-4,{"$f":"AK491*(1-(($E583-50)*0.005))","v":136.49428448457448},{"$f":"AL491*(1-(($E583-50)*0.005))","v":146.05909150063556},170.792,0.95,0.95,0.95,136,146,171,58,63,74,2.5275151079359376E-2,2.9658332216627524E-2,4.0497070432560033E-2,0.7,3.6,4.0999999999999996,5.0999999999999996,null,742,null,0.68,null,null,0,14.2,16.2,21.85,null,1,1,1,136,146,171,null,0,0,0,1]
["2656010",null,null,2,65,60,10,11.5,0,26,30,40,605.70000000000005,841.69225687813923,901.35950941531064,1066.3800000000001,1.5,1.08,1.08,1.08,432,660,707,836,37,57,61,72,6.7909370261342522E-3,1.5637729576638788E-2,1.782898414147421E-2,2.4572994832794695E-2,3.969E-4,1.7345999999999999,2,3.6734700000000002E-4,{"$f":"AK492","v":116.68990721587436},{"$f":"AL492","v":124.96201154556491},147.84,0.98,0.98,0.98,117,125,148,50,54,64,1.214004296048507E-2,1.4086095785072505E-2,1.9563990759703984E-2,0.4,4.8,5.4,6.8,null,673,null,0.9,null,null,0,13.6,15.6,21.85,null,1,1,1,117,125,148,null,0,0,0,1]
["2656015",null,null,2,65,60,15,16.5,0,26,30,41.1,823.2,957.19258357509659,1027.5250511543745,1359.96,1.5,1.08,1.08,1.08,587,751,806,1067,50,65,69,92,1.2895819970537981E-2,2.1607295358039021E-2,2.4302699376319299E-2,4.2830982878635446E-2,2.0829999999999999E-4,1.724,2,4.6182900000000003E-4,{"$f":"AK494","v":189.925625},{"$f":"AL494","v":140.26129481477255},185.64,1.01,1.01,1.01,190,140,186,82,60,80,3.4141898797120353E-2,1.8458252538956766E-2,3.25208961878376E-2,0.6,4.8,5.5,7.2,null,1029,null,0.8,null,null,0,12.3,14.4,21.85,null,1,1,1,190,140,186,null,0,0,0,1]
["2656016",null,null,2,65,60,16,16.5,0,26,30,41.1,908.48,1399.7241764138612,1502.5729206967153,1988.7,1.5,1.1000000000000001,1.1000000000000001,1.1000000000000001,648,1093,1173,1553,56,94,101,134,4.6648812646222004E-2,0.12999495976193065,0.1498640371075696,0.26238954698403733,2.0829999999999999E-4,1.724,4,1.392796E-3,{"$f":"AK495*(1-(($E587-50)*0.005))","v":197.95000000000002},{"$f":"AL495*(1-(($E587-50)*0.005))","v":212.75},282.125,0.95,0.95,0.95,198,213,282,85,92,121,0.10651021711320637,0.12457564927087089,0.21435070156236344,1.2,4.8,5.5,7.2,null,1336,null,0.68,null,null,0,12.3,14.4,21.85,null,1,1,1,198,213,282,null,0,0,0,1]
["2656021",null,null,2,65,60,21,21.5,0,26,30,41.1,1442.4,1802.6437228662567,1935.0981352499616,2561.16,1.5,1.05,1.05,1.05,1029,1423,1528,2022,88,122,131,174,4.4108510544833106E-2,8.3927928329369905E-2,9.6565795839234567E-2,0.16901353512975539,1.2760000000000001E-4,1.7219,4,5.1420100000000005E-4,216.29211969960124,{"$f":"AL497*(1-(($E589-50)*0.005))","v":232.18480290406953},307.30350000000004,0.85,0.85,0.85,216,232,307,93,100,132,4.9176619316603713E-2,5.6728958856482277E-2,9.8024069986539314E-2,1.6,4.8,5.5,7.2,null,1803,null,0.8,null,null,0,12.3,14.4,21.85,null,1,1,1,216,232,307,null,0,0,0,1]
["2657010",null,null,2,65,70,10,11.5,0,26,30,41,706.5,1029.7403904507714,1104.2859635902939,1320.28,1.5,1.08,1.08,1.08,504,808,866,1035,{"$f":"ROUND(U590*3600/(4186*ABS($O$1-$O$2)),0)","v":43},{"$f":"ROUND(V590*3600/(4186*ABS($O$1-$O$2)),0)","v":69},{"$f":"ROUND(W590*3600/(4186*ABS($O$1-$O$2)),0)","v":74},{"$f":"ROUND(X590*3600/(4186*ABS($O$1-$O$2)),0)","v":89},9.6037146876370022E-3,2.3833508628602774E-2,2.7271158049938453E-2,3.8924960889446435E-2,3.969E-4,1.7345999999999999,2,3.6734700000000002E-4,{"$f":"AK498","v":142.7603849699376},{"$f":"AL498","v":153.09517888293954},183.04,0.98,0.98,0.98,143,153,183,{"$f":"ROUND(AQ590*3600/(4186*ABS($AM$1-$AM$2)),0)","v":61},{"$f":"ROUND(AR590*3600/(4186*ABS($AM$1-$AM$2)),0)","v":66},{"$f":"ROUND(AS590*3600/(4186*ABS($AM$1-$AM$2)),0)","v":79},1.8801217016227327E-2,2.1878764945327631E-2,3.093277823234393E-2,0.5,5.5,5.9,7.9,null,785,null,0.9,null,null,0,13.2,15.1,21.85,null,1,1,1,143,153,183,null,0,0,0,1]
["2657011",null,null,2,65,70,11,11.5,0,26,30,41,705.84,1397.1861540381678,1498.3320774196782,1791.4,1.5,1.1000000000000001,1.1000000000000001,1.1000000000000001,504,1091,1170,1399,43,94,101,120,1.6300840574074008E-2,7.2618348923691595E-2,8.3337593553421352E-2,0.11600499755813,3.969E-4,1.7345999999999999,4,5.7428799999999995E-4,{"$f":"AK499*(1-(($E591-50)*0.005))","v":216.46246155704532},{"$f":"AL499*(1-(($E591-50)*0.005))","v":232.13273962868439},277.53700000000003,0.95,0.95,0.95,216,232,278,93,100,120,7.1145182973201465E-2,8.1762719577362683E-2,0.11600499755813,0.9,5.5,5.9,7.9,null,1038,null,0.68,null,null,0,13.2,15.1,21.85,null,1,1,1,216,232,278,null,0,0,0,1]
["2657015",null,null,2,65,70,15,16.5,0,26,30,41.1,960.80000000000007,1070.8273541699666,1149.5094620994566,1521.41,1.5,1.08,1.08,1.08,686,840,901,1193,59,72,77,103,1.8319043135679232E-2,2.7077000311869458E-2,3.0892373713348693E-2,5.4716713303803698E-2,2.0829999999999999E-4,1.724,2,4.6182900000000003E-4,{"$f":"AK500","v":135.09481491470635},{"$f":"AL500","v":145.02129350758159},191.94,1.01,1.01,1.01,135,145,192,58,62,83,1.7715040719154605E-2,2.0190861450308E-2,3.5797696205080359E-2,0.7,5.0999999999999996,5.6,7.2,null,1201,null,0.8,null,null,0,12.3,14.4,21.85,null,1,1,1,135,145,192,null,0,0,0,1]
["2657020",null,null,2,65,70,20,21.5,0,26,30,41.1,1339.2,1509.840819712653,1619.1421060355642,1935.84,1.5,1.08,1.08,1.08,956,1184,1270,1518,82,102,109,131,2.7562080046514972E-2,4.2396471925119035E-2,4.8331778986334215E-2,6.9488117345007913E-2,1.2760000000000001E-4,1.7219,2,3.76611E-4,{"$f":"AK502","v":170.52628152222005},{"$f":"AL502","v":182.87112058001478},218.64000000000001,0.95,0.95,0.95,171,183,219,74,79,94,2.2511197833279682E-2,2.5608782122359248E-2,3.6084845824600094E-2,0.9,5.0999999999999996,5.6,7.2,null,1674,null,0.8,null,null,0,12.3,14.4,21.85,null,1,1,1,171,183,219,null,0,0,0,1]
["2657021",null,null,2,65,70,21,21.5,0,26,30,41.1,1683.2,1977.8291945358951,2123.1558613833213,2810.06,1.5,1.05,1.05,1.05,1201,1562,1676,2219,103,134,144,191,6.1591027996900249E-2,0.10327341364618195,0.11896980279584603,0.20738026513327959,1.2760000000000001E-4,1.7219,4,5.1420100000000005E-4,{"$f":"AK503*(1-(($E595-50)*0.005))","v":222.28178769441291},{"$f":"AL503*(1-(($E595-50)*0.005))","v":238.614578916102},315.81350000000003,0.85,0.85,0.85,222,239,316,95,103,136,5.2552324258183389E-2,6.1591027996900249E-2,0.1063250388113887,1.9,5.0999999999999996,5.6,7.2,null,2104,null,0.8,null,null,0,12.3,14.4,21.85,null,1,1,1,222,239,316,null,0,0,0,1]
["2658011",null,null,2,65,80,11,11.5,0,26,30,41.8,806.48,1647.5037394527276,1769.505282019556,2135.9,1.5,1.1000000000000001,1.1000000000000001,1.1000000000000001,575,1286,1381,1668,49,111,119,143,2.2236268501055499E-2,0.10537485365866733,0.12035350001470055,0.17100095804480808,3.969E-4,1.7345999999999999,4,5.7428799999999995E-4,{"$f":"AK505*(1-(($E597-50)*0.005))","v":255.3},{"$f":"AL505*(1-(($E597-50)*0.005))","v":273.8},331.15000000000003,0.95,0.95,0.95,255,274,331,110,118,142,0.10356985253432938,0.11842888168254465,0.1687204798043572,1.1000000000000001,6.3,6.8,9.1,null,1186,null,0.68,null,null,0,12.8,14.7,21.85,null,1,1,1,255,274,331,null,0,0,0,1]
["2658015",null,null,2,65,80,15,16.5,0,26,30,42.4,1097.6000000000001,1395.33740436932,1496.2563490716184,2007.56,1.5,1.08,1.08,1.08,783,1094,1173,1574,67,94,101,135,2.4083930290535609E-2,4.6744452652574681E-2,5.3812575245209708E-2,9.5090019266223458E-2,2.0829999999999999E-4,1.724,2,4.6182900000000003E-4,{"$f":"AK506","v":190.46915773046311},{"$f":"AL506","v":204.24499885412456},274.04000000000002,1.01,1.01,1.01,190,204,274,82,88,118,3.5768909532348576E-2,4.1076258231928696E-2,7.3013760578283488E-2,0.8,6,6.7,9,null,1372,null,0.8,null,null,0,11.8,13.7,21.85,null,1,1,1,190,204,274,null,0,0,0,1]
["2658020",null,null,2,65,80,20,21.5,0,26,30,42.4,1530.4,1942.5718983039128,2086.4239348515057,2518.44,1.5,1.08,1.08,1.08,1092,1523,1636,1975,94,131,141,170,3.6709494174204424E-2,7.0594323803498546E-2,8.1613209141998835E-2,0.11803010584799242,1.2760000000000001E-4,1.7219,2,3.76611E-4,{"$f":"AK508","v":240.07166246887351},{"$f":"AL508","v":257.84953601562182},311.24,0.95,0.95,0.95,240,258,311,103,111,134,4.3951963441231798E-2,5.0929918356249132E-2,7.381701321036345E-2,1.1000000000000001,6,6.7,9,null,1913,null,0.8,null,null,0,11.8,13.7,21.85,null,1,1,1,240,258,311,null,0,0,0,1]
["2658021",null,null,2,65,80,21,21.5,0,26,30,42.4,1923.2,2627.7848955664344,2817.8416357747774,3780.76,1.5,1.05,1.05,1.05,1372,2075,2225,2985,118,178,191,257,8.2288514855760844E-2,0.1842669292057651,0.21161521327347374,0.37914528733911407,1.2760000000000001E-4,1.7219,4,5.1420100000000005E-4,{"$f":"AK509*(1-(($E601-50)*0.005))","v":315.29755878379319},{"$f":"AL509*(1-(($E601-50)*0.005))","v":338.10171840857828},453.63850000000002,0.85,0.85,0.85,315,338,454,135,145,195,0.1071237588710041,0.12323476934005491,0.22040506229603998,2.1,6,6.7,9,null,2404,null,0.8,null,null,0,11.8,13.7,21.85,null,1,1,1,315,338,454,null,0,0,0,1]
["2659011",null,null,2,65,90,11,11.5,0,26,30,42.4,907.80000000000007,1893.6336235985709,2037.0140009310799,2480.4,1.5,1.1000000000000001,1.1000000000000001,1.1000000000000001,648,1478,1590,1936,56,127,137,166,3.0322959100417032E-2,0.1432245427635509,0.16545208362851668,0.2385477205755622,3.969E-4,1.7345999999999999,4,5.7428799999999995E-4,{"$f":"AK511*(1-(($E603-50)*0.005))","v":293.37579267203114},{"$f":"AL511*(1-(($E603-50)*0.005))","v":315.58934619649943},384.28200000000004,0.95,0.95,0.95,293,316,384,126,136,165,0.14108634794348476,0.16316026903161293,0.23581464895791238,1.2,6.7,7.4,10.3,null,1335,null,0.68,null,null,0,12.5,14.7,21.85,null,1,1,1,293,316,384,null,0,0,0,1]
["2659015",null,null,2,65,90,15,16.5,0,26,30,43.3,{"$f":"IF($N604-($BE604*$BG604)>100,$BE604*$BG604,$N604-95)","v":1235.2},1597.9167676946356,1711.9130538160239,2331.36,1.5,1.08,1.08,1.08,{"$f":"ROUND(M604*POWER(CF_heat,Q604),0)","v":881},{"$f":"ROUND(N604*POWER(CF_heat,R604),0)","v":1253},{"$f":"ROUND(O604*POWER(CF_heat,S604),0)","v":1343},{"$f":"ROUND(P604*POWER(CF_heat,T604),0)","v":1828},76,108,115,157,3.1536717320444226E-2,6.2677952603543502E-2,7.0873536439037516E-2,0.1304045922070263,{"$f":"IF($G604=$CO$103,CP$103,IF($G604=$CO$104,CP$104,IF($G604=$CO$105,CP$105,IF($G604=$CO$107,CP$107,IF($G604=$CO$108,CP$108,IF($G604=$CO$109,CP$109,IF($G604=$CO$111,CP$111,IF($G604=$CO$112,CP$112,IF($G604=$CO$113,CP$113,IF($G604=$CO$115,CP$115,IF($G604=$CO$116,CP$116,IF($G604=$CO$117,CP$117,IF($G604=$CO$119,CP$119,IF($G604=$CO$120,CP$120,))))))))))))))","v":2.0829999999999999E-4},{"$f":"IF($G604=$CO$103,CQ$103,IF($G604=$CO$104,CQ$104,IF($G604=$CO$105,CQ$105,IF($G604=$CO$107,CQ$107,IF($G604=$CO$108,CQ$108,IF($G604=$CO$109,CQ$109,IF($G604=$CO$111,CQ$111,IF($G604=$CO$112,CQ$112,IF($G604=$CO$113,CQ$113,IF($G604=$CO$115,CQ$115,IF($G604=$CO$116,CQ$116,IF($G604=$CO$117,CQ$117,IF($G604=$CO$119,CQ$119,IF($G604=$CO$120,CQ$120,))))))))))))))","v":1.724},{"$f":"IF($G604=$CO$103,CR$103,IF($G604=$CO$104,CR$104,IF($G604=$CO$105,CR$105,IF($G604=$CO$107,CR$107,IF($G604=$CO$108,CR$108,IF($G604=$CO$109,CR$109,IF($G604=$CO$111,CR$111,IF($G604=$CO$112,CR$112,IF($G604=$CO$113,CR$113,IF($G604=$CO$115,CR$115,IF($G604=$CO$116,CR$116,IF($G604=$CO$117,CR$117,IF($G604=$CO$119,CR$119,IF($G604=$CO$120,CR$120,))))))))))))))","v":2},{"$f":"IF($G604=$CO$103,CS$103,IF($G604=$CO$104,CS$104,IF($G604=$CO$105,CS$105,IF($G604=$CO$107,CS$107,IF($G604=$CO$108,CS$108,IF($G604=$CO$109,CS$109,IF($G604=$CO$111,CS$111,IF($G604=$CO$112,CS$112,IF($G604=$CO$113,CS$113,IF($G604=$CO$115,CS$115,IF($G604=$CO$116,CS$116,IF($G604=$CO$117,CS$117,IF($G604=$CO$119,CS$119,IF($G604=$CO$120,CS$120,))))))))))))))","v":4.6182900000000003E-4},{"$f":"AK512","v":218.12205414485143},{"$f":"AL512","v":233.68300487544244},318.24,1.01,1.01,1.01,{"$f":"ROUND(AK604*POWER(CF_cool,AN604),0)","v":218},{"$f":"ROUND(AL604*POWER(CF_cool,AO604),0)","v":234},{"$f":"ROUND(AM604*POWER(CF_cool,AP604),0)","v":318},94,101,137,4.7773932289979358E-2,5.4977761599022158E-2,9.9846629634346956E-2,{"$f":"ROUND(IF(G604=10,$CO$92*F604,IF(G604=11,$CO$93*F604,IF(G604=15,$CO$94*F604,IF(G604=16,$CO$95*F604,IF(G604=20,$CO$96*F604,IF(G604=21,$CO$97*F604,)))))),1)","v":0.9},7,7.7,10.7,null,1544,null,{"$f":"IF(G604=10,0.9,IF(G604=11,0.68,IF(G604=15,0.8,IF(G604=16,0.68,IF(G604=20,0.8,IF(G604=21,0.8))))))","v":0.8},null,null,0,11.3,13.2,21.85,null,1,1,1,{"$f":"AQ604/BO604","v":218},{"$f":"AR604/BP604","v":234},{"$f":"AS604/BQ604","v":318},null,{"$f":"BR604-AQ604","v":0},{"$f":"BS604-AR604","v":0},{"$f":"BT604-AS604","v":0},1]
["2659020",null,null,2,65,90,20,21.5,0,26,30,43.3,1721.6000000000001,2232.7836804230465,2401.8435041457315,2924.64,1.5,1.08,1.08,1.08,1228,1751,1884,2294,106,151,162,197,4.7277372144446758E-2,9.4834579626451532E-2,0.10891673537133954,0.16011957350838529,1.2760000000000001E-4,1.7219,2,3.76611E-4,{"$f":"AK514","v":275.93732338069162},{"$f":"AL514","v":296.83048721840407},361.44,0.95,0.95,0.95,276,297,361,119,128,155,5.9353068879593893E-2,6.85057463009488E-2,9.9843942617951306E-2,1.2,7,7.7,10.7,null,2152,null,0.8,null,null,0,11.3,13.2,21.85,null,1,1,1,276,297,361,null,0,0,0,1]
["2659021",null,null,2,65,90,21,21.5,0,26,30,43.3,2164,3009.2947651024979,3223.9795559512399,4390.5600000000004,1.5,1.05,1.05,1.05,1544,2376,2545,3467,133,204,219,298,0.10630583398884512,0.24557012647784476,0.28220360612938261,0.51636549160207501,1.2760000000000001E-4,1.7219,4,5.1420100000000005E-4,{"$f":"AK515*(1-(($E607-50)*0.005))","v":361.07342526342569},{"$f":"AL515*(1-(($E607-50)*0.005))","v":386.83260767474962},526.80600000000004,0.85,0.85,0.85,361,387,527,155,166,227,0.14341158589090264,0.16400500069628438,0.30276558287201993,2.4,7,7.7,10.7,null,2705,null,0.8,null,null,0,11.3,13.2,21.85,null,1,1,1,361,387,527,null,0,0,0,1]
["26510011",null,null,2,65,100,11,11.5,0,26,30,43,1008.44,2136.1856779144437,2301.3611872256411,2824.9,1.5,1.1000000000000001,1.1000000000000001,1.1000000000000001,720,1668,1797,2205,62,143,155,190,3.8754898442136025E-2,0.18804776535798132,0.21911871198426447,0.32261632041631727,3.969E-4,1.7345999999999999,4,5.7428799999999995E-4,{"$f":"AK517*(1-(($E609-50)*0.005))","v":331.15000000000003},{"$f":"AL517*(1-(($E609-50)*0.005))","v":356.125},437.52500000000003,0.95,0.95,0.95,331,356,438,142,153,188,0.1855610396003198,0.21378279383702437,0.31618904083700439,1.3,7.8,8.6999999999999993,12.2,null,1483,null,0.68,null,null,0,12.3,14.1,21.85,null,1,1,1,331,356,438,null,0,0,0,1]
["26510015",null,null,2,65,100,15,16.5,0,26,30,44.1,1372,1798.7737222599399,1926.0891717740149,2655.16,1.5,1.08,1.08,1.08,979,1411,1511,2082,84,121,130,179,3.9193917791393952E-2,7.9882926528895518E-2,9.1900063797744749E-2,0.17176599623849034,2.0829999999999999E-4,1.724,2,4.6182900000000003E-4,{"$f":"AK518","v":245.53983484833029},{"$f":"AL518","v":262.91890485611941},362.44,1.01,1.01,1.01,246,263,362,106,113,156,6.1693712021988735E-2,6.989545441405931E-2,0.13124694650181259,1,7,7.7,10.7,null,1715,null,0.8,null,null,0,10.9,12.8,21.85,null,1,1,1,246,263,362,null,0,0,0,1]
["26510020",null,null,2,65,100,20,21.5,0,26,30,44.1,1912.8000000000002,2518.7768428703835,2713.5353098724395,3330.84,1.5,1.08,1.08,1.08,1365,1975,2128,2612,117,170,183,225,5.831772083506824E-2,0.12149545292969745,0.14043896852494522,0.21087888899397389,1.2760000000000001E-4,1.7219,2,3.76611E-4,{"$f":"AK520","v":311.2816285378957},{"$f":"AL520","v":335.35074484391049},411.64,0.95,0.95,0.95,311,335,412,134,144,177,7.6117387440108403E-2,8.7676786087461309E-2,0.13152753973488002,1.3,7,7.7,10.7,null,2391,null,0.8,null,null,0,10.9,12.8,21.85,null,1,1,1,311,335,412,null,0,0,0,1]
["26510021",null,null,2,65,100,21,21.5,0,26,30,44.1,2404,3387.5608889256064,3627.3291443724347,5000.3599999999997,1.5,1.05,1.05,1.05,1715,2675,2864,3948,147,230,246,340,0.13198622122702164,0.31649151807140574,0.36099859926961725,0.68037875512768187,1.2760000000000001E-4,1.7219,4,5.1420100000000005E-4,{"$f":"AK521*(1-(($E613-50)*0.005))","v":406.46008747206355},{"$f":"AL521*(1-(($E613-50)*0.005))","v":435.22893599683522},599.97350000000006,0.85,0.85,0.85,406,435,600,175,187,258,0.18550612673564695,0.21116854253394793,0.39626579576401511,2.7,7,7.7,10.7,null,3005,null,0.8,null,null,0,10.9,12.8,21.85,null,1,1,1,406,435,600,null,0,0,0,1]
["26511011",null,null,2,65,110,11,11.5,0,26,30,43.5,1109.0800000000002,2396.6961264405954,2582.0149905458411,3169.4,1.5,1.1000000000000001,1.1000000000000001,1.1000000000000001,791,1871,2016,2474,68,161,173,213,4.8467704684647568E-2,0.24597270880165012,0.28182196378494073,0.41797960302434661,3.969E-4,1.7345999999999999,4,5.7428799999999995E-4,{"$f":"AK523*(1-(($E615-50)*0.005))","v":371.31397389971175},{"$f":"AL523*(1-(($E615-50)*0.005))","v":400.02494944240328},491.02700000000004,0.95,0.95,0.95,371,400,491,160,172,211,0.243090227688014,0.27874588734236166,0.41056718300834116,1.5,8.4,9.3000000000000007,14,null,1631,null,0.68,null,null,0,12,13.9,21.85,null,1,1,1,371,400,491,null,0,0,0,1]
["26511015",null,null,2,65,110,15,16.5,0,26,30,44.1,1509.6000000000001,1908.1501882577959,2043.2071973479594,2816.6099999999997,1.5,1.08,1.08,1.08,1077,1496,1602,2209,93,129,138,190,4.8806736287013146E-2,9.2300683368990388E-2,0.10527066402536114,0.19649702710776104,2.0829999999999999E-4,1.724,2,4.6182900000000003E-4,{"$f":"AK524","v":249.80785427097814},{"$f":"AL524","v":267.48901053042016},368.74,1.01,1.01,1.01,250,267,369,108,115,159,6.5293712586279876E-2,7.3788401225819936E-2,0.1387762211751877,1.1000000000000001,7.9,8.8000000000000007,12.5,null,1887,null,0.8,null,null,0,10.9,12.8,21.85,null,1,1,1,250,267,369,null,0,0,0,1]
["26511020",null,null,2,65,110,20,21.5,0,26,30,44.1,2104,2692.551301713082,2900.746468081386,3560.6400000000003,1.5,1.08,1.08,1.08,1501,2112,2275,2792,129,182,196,240,7.1717257543135168E-2,0.14088231271581872,0.16294943153117869,0.24258448149029985,1.2760000000000001E-4,1.7219,2,3.76611E-4,{"$f":"AK526","v":317.17997831584631},{"$f":"AL526","v":341.70517057946222},419.44,0.95,0.95,0.95,317,342,419,136,147,180,7.9544712053658623E-2,9.2650629466224224E-2,0.13785909087762688,1.5,7.9,8.8000000000000007,12.5,null,2630,null,0.8,null,null,0,10.9,12.8,21.85,null,1,1,1,317,342,419,null,0,0,0,1]
["26511021",null,null,2,65,110,21,21.5,0,26,30,44.1,2644.8,3556.1815292902165,3807.8845891872675,5249.2599999999993,1.5,1.05,1.05,1.05,1887,2808,3007,4145,162,241,259,356,0.16273805036035713,0.35310128138501551,0.40643245418374957,0.75693105159793073,1.2760000000000001E-4,1.7219,4,5.1420100000000005E-4,{"$f":"AK527*(1-(($E619-50)*0.005))","v":412.22530100964025},{"$f":"AL527*(1-(($E619-50)*0.005))","v":441.4022057251367},608.48350000000005,0.85,0.85,0.85,412,441,608,177,190,261,0.19338453244863477,0.22203583444111574,0.41258520497574347,2.9,7.9,8.8000000000000007,12.5,null,3306,null,0.8,null,null,0,10.9,12.8,21.85,null,1,1,1,412,441,608,null,0,0,0,1]
["26512011",null,null,2,65,120,11,11.5,0,26,30,44,1210.4000000000001,2611.8926414972211,2821.6982019103875,3513.9,1.5,1.1000000000000001,1.1000000000000001,1.1000000000000001,864,2039,2203,2743,74,175,189,236,5.9526884587369079E-2,0.30012112200532121,0.34704829521290631,0.52808528089261231,3.969E-4,1.7345999999999999,4,5.7428799999999995E-4,{"$f":"AK529*(1-(($E621-50)*0.005))","v":404.22500000000002},{"$f":"AL529*(1-(($E621-50)*0.005))","v":437.52500000000003},544.82500000000005,0.95,0.95,0.95,404,438,545,174,188,234,0.29689321527590273,0.34358909156864093,0.51964975177923689,1.6,8.9,9.9,14.8,null,1780,null,0.68,null,null,0,11.8,13.7,21.85,null,1,1,1,404,438,545,null,0,0,0,1]
["26512015",null,null,2,65,120,15,16.5,0,26,30,44.8,1646.4,2216.9073865755149,2373.9948983307781,3302.76,1.5,1.08,1.08,1.08,1175,1739,1862,2590,101,150,160,223,5.8473320660459523E-2,0.12616601065937175,0.14306010269934949,0.27327410250387973,2.0829999999999999E-4,1.724,2,4.6182900000000003E-4,{"$f":"AK530","v":302.61675876046246},{"$f":"AL530","v":324.05983479376272},450.84,1.01,1.01,1.01,303,324,451,130,139,194,9.5500985484133716E-2,0.10878402336268925,0.20824992292405745,1.2,8.6999999999999993,9.8000000000000007,14.3,null,2058,null,0.8,null,null,0,10.6,12.5,21.85,null,1,1,1,303,324,451,null,0,0,0,1]
["26512020",null,null,2,65,120,20,21.5,0,26,30,44.8,2295.2000000000003,3079.6829926739365,3327.0647594078355,4143.24,1.5,1.08,1.08,1.08,1638,2415,2609,3249,141,208,224,279,8.6635560904315206E-2,0.1855749132469651,0.2146103274757947,0.33023406948567835,1.2760000000000001E-4,1.7219,2,3.76611E-4,{"$f":"AK532","v":380.60090160569081},{"$f":"AL532","v":411.17343900116532},512.04,0.95,0.95,0.95,381,411,512,164,177,220,0.11646670942658871,0.13524222402195477,0.20715667478646135,1.6,8.6999999999999993,9.8000000000000007,14.3,null,2869,null,0.8,null,null,0,10.6,12.5,21.85,null,1,1,1,381,411,512,null,0,0,0,1]
["26512021",null,null,2,65,120,21,21.5,0,26,30,44.8,2884.8,4175.015825613802,4470.8526528786542,6219.96,1.5,1.05,1.05,1.05,2058,3296,3530,4911,177,283,304,422,0.19709921673570954,0.49159200971034805,0.56525436757201819,1.0725116519177567,1.2760000000000001E-4,1.7219,4,5.1420100000000005E-4,{"$f":"AK533*(1-(($E625-50)*0.005))","v":500.94370354312542},{"$f":"AL533*(1-(($E625-50)*0.005))","v":536.43999914643973},746.30850000000009,0.85,0.85,0.85,501,536,746,215,230,321,0.2877666589992251,0.32815493761612674,0.62857419857368524,3.2,8.6999999999999993,9.8000000000000007,14.3,null,3606,null,0.8,null,null,0,10.6,12.5,21.85,null,1,1,1,501,536,746,null,0,0,0,1]
["26514011",null,null,2,65,140,11,11.5,0,26,30,44.8,1411.68,3077.015307780141,3332.5766142436496,4202.8999999999996,1.5,1.1000000000000001,1.1000000000000001,1.1000000000000001,1007,2402,2602,3281,87,207,224,282,8.7809791766035941E-2,0.44450269226506778,0.51557472310872998,0.79522620174472214,3.969E-4,1.7345999999999999,4,5.7428799999999995E-4,{"$f":"AK535*(1-(($E627-50)*0.005))","v":476.375},{"$f":"AL535*(1-(($E627-50)*0.005))","v":516.15},651.20000000000005,0.95,0.95,0.95,476,516,651,205,222,280,0.43646931918504489,0.50695495722689443,0.78463445410904231,1.9,10.1,11.2,17.5,null,2076,null,0.68,null,null,0,11.5,13.3,21.85,null,1,1,1,476,516,651,null,0,0,0,1]
["26514015",null,null,2,65,140,15,16.5,0,26,30,45.4,1920.8000000000002,2628.9846104428207,2815.4584574952669,3950.36,1.5,1.08,1.08,1.08,1371,2062,2208,3098,118,177,190,266,8.2155338643054979E-2,0.18029092070853758,0.20688755958299987,0.39793806455132874,2.0829999999999999E-4,1.724,2,4.6182900000000003E-4,{"$f":"AK536","v":358.86695423586366},{"$f":"AL536","v":384.32138301819265},539.24,1.01,1.01,1.01,359,384,539,154,165,232,0.137621338941047,0.1573279392829452,0.30498467021762166,1.4,9.6,10.5,16.100000000000001,null,2401,null,0.8,null,null,0,10.4,12.2,21.85,null,1,1,1,359,384,539,null,0,0,0,1]
["26514016",null,null,2,65,140,16,16.5,0,26,30,45.4,2120.2400000000002,3844.4231409656436,4117.1080284867467,5776.7,1.5,1.1000000000000001,1.1000000000000001,1.1000000000000001,1513,3001,3214,4510,130,258,276,388,0.27590244990104534,1.0559926133482667,1.2053689200498885,2.3527630854060915,2.0829999999999999E-4,1.724,4,1.392796E-3,{"$f":"AK537*(1-(($E629-50)*0.005))","v":544.82500000000005},{"$f":"AL537*(1-(($E629-50)*0.005))","v":582.75},818.625,0.95,0.95,0.95,545,583,819,234,251,352,0.87197943857793048,1.000531452602585,1.9431016458059469,2.8,9.6,10.5,16.100000000000001,null,3118,null,0.68,null,null,0,10.4,12.2,21.85,null,1,1,1,545,583,819,null,0,0,0,1]
["26514020",null,null,2,65,140,20,21.5,0,26,30,45.4,2677.6000000000004,3628.1091959950468,3929.4415695377957,4955.6400000000003,1.5,1.08,1.08,1.08,1910,2845,3082,3886,164,245,265,334,0.11972414896404869,0.26237161414251958,0.30592500796073402,0.48134974943137049,1.2760000000000001E-4,1.7219,2,3.76611E-4,{"$f":"AK538","v":448.37784746172167},{"$f":"AL538","v":485.61784045001809},612.44000000000005,0.95,0.95,0.95,448,486,612,193,209,263,0.16455496588623258,0.1922740711354792,0.30142179085547277,1.9,9.6,10.5,16.100000000000001,null,3347,null,0.8,null,null,0,10.4,12.2,21.85,null,1,1,1,448,486,612,null,0,0,0,1]
["26516010",null,null,2,65,160,10,11.5,0,26,30,45.5,1614.6000000000001,2603.9362232520607,2826.6988006529018,3605.38,1.5,1.08,1.08,1.08,1152,2042,2217,2827,99,176,191,243,6.8072544125541937E-2,0.20046748279247403,0.23384464098890503,0.3682343427384388,3.969E-4,1.7345999999999999,2,3.6734700000000002E-4,{"$f":"AK540","v":361.00257998610687},{"$f":"AL540","v":391.88577307200529},499.84,0.98,0.98,0.98,361,392,500,155,169,215,0.15784887533096326,0.18572654509721107,0.29228700277798675,1.1000000000000001,11,12.4,19.2,null,1794,null,0.9,null,null,0,11.2,13,21.85,null,1,1,1,361,392,500,null,0,0,0,1]
["26516011",null,null,2,65,160,11,11.5,0,26,30,45.5,1613.64,3533.107636511756,3835.359341571188,4891.8999999999996,1.5,1.1000000000000001,1.1000000000000001,1.1000000000000001,1151,2758,2994,3819,99,237,257,328,0.12073812403228386,0.61422385368791244,0.71480772824658112,1.1292825279207326,3.969E-4,1.7345999999999999,4,5.7428799999999995E-4,{"$f":"AK541*(1-(($E633-50)*0.005))","v":547.6},{"$f":"AL541*(1-(($E633-50)*0.005))","v":593.85},757.57500000000005,0.95,0.95,0.95,548,594,758,236,255,326,0.6093833662343594,0.70442666719486835,1.1163933738472955,2.1,11,12.4,19.2,null,2373,null,0.68,null,null,0,11.2,13,21.85,null,1,1,1,548,594,758,null,0,0,0,1]
["26516016",null,null,2,65,160,16,16.5,0,26,30,46.4,2422.84,4417.9368883555589,4716.8848144627045,6723.7,1.5,1.1000000000000001,1.1000000000000001,1.1000000000000001,1729,3449,3683,5249,149,297,317,451,0.36936032293616439,1.4218556466193635,1.6153748832768098,3.2239502067344685,2.0829999999999999E-4,1.724,4,1.392796E-3,{"$f":"AK543*(1-(($E635-50)*0.005))","v":625.30000000000007},{"$f":"AL543*(1-(($E635-50)*0.005))","v":667.85},952.75,0.95,0.95,0.95,625,668,953,269,287,410,1.1713506613014071,1.3296518667136978,2.6742827452925968,3.2,11.5,12.8,19.600000000000001,null,3563,null,0.68,null,null,0,10,11.8,21.85,null,1,1,1,625,668,953,null,0,0,0,1]
["26516020",null,null,2,65,160,20,21.5,0,26,30,46.4,3060.8,4165.887726998767,4522.2727563025155,5768.04,1.5,1.08,1.08,1.08,2184,3267,3547,4524,188,281,305,389,0.16044853492548516,0.3513653688085987,0.41235697482772449,0.66342434491024516,1.2760000000000001E-4,1.7219,2,3.76611E-4,{"$f":"AK544","v":514.83890668473202},{"$f":"AL544","v":558.88255136973487},712.84,0.95,0.95,0.95,515,559,713,221,240,307,0.21989661309334549,0.25827229749987091,0.41765567382317259,2.1,11.5,12.8,19.600000000000001,null,3826,null,0.8,null,null,0,10,11.8,21.85,null,1,1,1,515,559,713,null,0,0,0,1]
["26518010",null,null,2,65,180,10,11.5,0,26,30,46,1816.2,2970.6878039917879,3224.8253922941558,4113.18,1.5,1.08,1.08,1.08,1296,2330,2529,3226,111,200,217,277,8.9835008986083778E-2,0.27028861945847477,0.31500621168669868,0.49841362806075101,3.969E-4,1.7345999999999999,2,3.6734700000000002E-4,{"$f":"AK546","v":411.84801378696699},{"$f":"AL546","v":447.08095237792156},570.24,0.98,0.98,0.98,412,447,570,177,192,245,0.21495642722836134,0.25036580839638034,0.39566467113231368,1.2,12.2,13.7,22,null,2018,null,0.9,null,null,0,10.9,12.7,21.85,null,1,1,1,412,447,570,null,0,0,0,1]
["26518011",null,null,2,65,180,11,11.5,0,26,30,46,1814.92,4030.7284303866513,4375.55079813051,5580.9,1.5,1.1000000000000001,1.1000000000000001,1.1000000000000001,1295,3147,3416,4357,111,271,294,375,0.16030166717736757,0.84114261538251256,0.97920937003276931,1.542963405794187,3.969E-4,1.7345999999999999,4,5.7428799999999995E-4,{"$f":"AK547*(1-(($E639-50)*0.005))","v":624.4704010183209},{"$f":"AL547*(1-(($E639-50)*0.005))","v":677.89284462473347},864.6345,0.95,0.95,0.95,624,678,865,268,292,372,0.82386054296562061,0.96681346624204301,1.5199529421439992,2.4,12.2,13.7,22,null,2669,null,0.68,null,null,0,10.9,12.7,21.85,null,1,1,1,624,678,865,null,0,0,0,1]
["26518016",null,null,2,65,180,16,16.5,0,26,30,46.4,2726.1200000000003,4843.4549704976926,5171.1963699821436,7371.3,1.5,1.1000000000000001,1.1000000000000001,1.1000000000000001,1945,3781,4037,5755,167,325,347,495,0.4725011587025375,1.73113399073644,1.9675246325457276,3.9422156930022778,2.0829999999999999E-4,1.724,4,1.392796E-3,{"$f":"AK549*(1-(($E641-50)*0.005))","v":634.83572272644938},{"$f":"AL549*(1-(($E641-50)*0.005))","v":677.79306402030477},966.16250000000002,0.95,0.95,0.95,635,678,966,273,292,415,1.2315554201626615,1.4044357978322337,2.7918817953891293,3.6,11.5,12.8,19.600000000000001,null,4009,null,0.68,null,null,0,10,11.8,21.85,null,1,1,1,635,678,966,null,0,0,0,1]
["26518020",null,null,2,65,180,20,21.5,0,26,30,46.4,3443.2000000000003,4497.8275192555193,4882.6094666576164,6227.64,1.5,1.08,1.08,1.08,2457,3527,3829,4884,211,303,329,420,0.20594206443308141,0.41646566084553188,0.48893351284694392,0.78724334085603187,1.2760000000000001E-4,1.7219,2,3.76611E-4,{"$f":"AK550","v":526.1057925837863},{"$f":"AL550","v":571.11330132956857},728.44,0.95,0.95,0.95,526,571,728,226,246,313,0.23536033293811029,0.27756656183252509,0.44366421223291913,2.4,11.5,12.8,19.600000000000001,null,4304,null,0.8,null,null,0,10,11.8,21.85,null,1,1,1,526,571,728,null,0,0,0,1]
["26520010",null,null,2,65,200,10,11.5,0,26,30,46.5,2017.8,3259.5785648750903,3552.8677924068675,4620.9799999999996,1.5,1.08,1.08,1.08,1440,2556,2786,3624,124,220,240,312,0.11712173122476016,0.34122659140984074,0.40155124196507375,0.65654717810994445,3.969E-4,1.7345999999999999,2,3.6734700000000002E-4,{"$f":"AK552","v":451.89903695786995},{"$f":"AL552","v":492.55985148767917},640.64,0.98,0.98,0.98,452,493,641,194,212,276,0.26974633951173027,0.31839322337808124,0.52169992911952934,1.3,13.4,14.8,24,null,2242,null,0.9,null,null,0,10.7,12.5,21.85,null,1,1,1,452,493,641,null,0,0,0,1]
["26520011",null,null,2,65,200,11,11.5,0,26,30,46.5,2016.88,4422.7050634086982,4820.649682883678,6269.9,1.5,1.1000000000000001,1.1000000000000001,1.1000000000000001,1439,3453,3764,4895,124,297,324,421,0.21007271642072028,1.0585097287299379,1.2444441055870641,2.0270127868370142,3.969E-4,1.7345999999999999,4,5.7428799999999995E-4,{"$f":"AK553*(1-(($E645-50)*0.005))","v":685.42500000000007},{"$f":"AL553*(1-(($E645-50)*0.005))","v":746.47500000000002},971.25,0.95,0.95,0.95,685,746,971,295,321,418,1.0452969961684331,1.223091481259345,2.0001552183357725,2.7,13.4,14.8,24,null,2966,null,0.68,null,null,0,10.7,12.5,21.85,null,1,1,1,685,746,971,null,0,0,0,1]
["26520016",null,null,2,65,200,16,16.5,0,26,30,47.1,3028.7200000000003,5667.1755761695722,5971.3549398587584,8617.7000000000007,1.5,1.1000000000000001,1.1000000000000001,1.1000000000000001,2161,4424,4662,6728,186,380,401,579,0.59614957121704493,2.3956910473507516,2.6608247339246818,5.453670256932595,2.0829999999999999E-4,1.724,4,1.392796E-3,{"$f":"AK555*(1-(($E647-50)*0.005))","v":802.90000000000009},{"$f":"AL555*(1-(($E647-50)*0.005))","v":845.45},1221,0.95,0.95,0.95,803,845,1221,345,363,525,1.9841650752047741,2.1910612688725521,4.5036106192409688,4,13.2,14.7,23.5,null,4454,null,0.68,null,null,0,10,11.4,21.85,null,1,1,1,803,845,1221,null,0,0,0,1]
["26520020",null,null,2,65,200,20,21.5,0,26,30,47.1,3825.6000000000004,5214.8121821672385,5684.028740747025,7392.84,1.5,1.08,1.08,1.08,2730,4090,4458,5798,235,352,383,499,0.25998367485867385,0.56991326043648238,0.67162306767239033,1.1243831840072513,1.2760000000000001E-4,1.7219,2,3.76611E-4,{"$f":"AK556","v":644.46964929787134},{"$f":"AL556","v":702.45751547390614},913.64,0.95,0.95,0.95,644,702,914,277,302,393,0.35773067054432378,0.42311312971539766,0.70617331390652549,2.7,13.2,14.7,23.5,null,4782,null,0.8,null,null,0,10,11.4,21.85,null,1,1,1,644,702,914,null,0,0,0,1]
["26522010",null,null,2,65,220,10,11.5,0,26,30,46.9,2219.4,3560.7045070849035,3890.5075371280445,5128.78,1.5,1.08,1.08,1.08,1584,2792,3051,4022,136,240,262,346,0.14690064944337636,0.42247701862510323,0.49758266516536109,0.83671193247343323,3.969E-4,1.7345999999999999,2,3.6734700000000002E-4,{"$f":"AK558","v":493.64631212835212},{"$f":"AL558","v":539.36930014536108},711.04,0.98,0.98,0.98,494,539,711,212,232,306,0.33526766264658142,0.39659808957963044,0.66495285135759441,1.5,13.4,14.8,24,null,2466,null,0.9,null,null,0,10.5,12.3,21.85,null,1,1,1,494,539,711,null,0,0,0,1]
["26522011",null,null,2,65,220,11,11.5,0,26,30,46.9,2218.84,4831.2827990970827,5278.770565343093,6958.9,1.5,1.1000000000000001,1.1000000000000001,1.1000000000000001,1583,3772,4121,5433,136,324,354,467,0.26472597900195272,1.314879108402222,1.5495706507880502,2.5925816673788113,3.969E-4,1.7345999999999999,4,5.7428799999999995E-4,{"$f":"AK559*(1-(($E651-50)*0.005))","v":748.49823278609301},{"$f":"AL559*(1-(($E651-50)*0.005))","v":817.82636284114449},1078.1245000000001,0.95,0.95,0.95,748,818,1078,322,352,464,1.2998723591132086,1.5333670254718474,2.5616863488863584,2.9,13.4,14.8,24,null,3263,null,0.68,null,null,0,10.5,12.3,21.85,null,1,1,1,748,818,1078,null,0,0,0,1]
["26522016",null,null,2,65,220,16,16.5,0,26,30,47.8,3331.32,6291.7251954043459,6553.83496101116,9564.7000000000007,1.5,1.1000000000000001,1.1000000000000001,1.1000000000000001,2377,4912,5117,7467,204,422,440,642,0.72902418860426299,2.9944257157555945,3.2482983187702561,6.7877453647142758,2.0829999999999999E-4,1.724,4,1.392796E-3,{"$f":"AK561*(1-(($E653-50)*0.005))","v":891.10627437550988},{"$f":"AL561*(1-(($E653-50)*0.005))","v":928.2292652012901},1354.6625000000001,0.95,0.95,0.95,891,928,1355,383,399,583,2.4791233352665301,2.6847693120569986,5.6233172989312203,4.4000000000000004,15.5,16.8,27.5,null,4899,null,0.68,null,null,0,10,11.1,21.85,null,1,1,1,891,928,1355,null,0,0,0,1]
["26522020",null,null,2,65,220,20,21.5,0,26,30,47.8,4208,5696.5662496175182,6224.1991397456159,8205.24,1.5,1.08,1.08,1.08,3002,4467,4881,6435,{"$f":"ROUND(U654*3600/(4186*ABS($O$1-$O$2)),0)","v":258},{"$f":"ROUND(V654*3600/(4186*ABS($O$1-$O$2)),0)","v":384},{"$f":"ROUND(W654*3600/(4186*ABS($O$1-$O$2)),0)","v":420},{"$f":"ROUND(X654*3600/(4186*ABS($O$1-$O$2)),0)","v":553},0.31873665416397329,0.68913594795268296,0.82013908311111194,1.4002126537427437,1.2760000000000001E-4,1.7219,2,3.76611E-4,{"$f":"AK562","v":704.00695650122941},{"$f":"AL562","v":769.21417236639559},1014.04,0.95,0.95,0.95,704,769,1014,{"$f":"ROUND(AQ654*3600/(4186*ABS($AM$1-$AM$2)),0)","v":303},{"$f":"ROUND(AR654*3600/(4186*ABS($AM$1-$AM$2)),0)","v":331},{"$f":"ROUND(AS654*3600/(4186*ABS($AM$1-$AM$2)),0)","v":436},0.43521399990720622,0.5165738484716168,0.88193136480825907,2.9,15.5,16.8,27.5,null,5260,null,0.8,null,null,0,10,11.1,21.85,null,1,1,1,704,769,1014,null,0,0,0,1]
["26524010",null,null,2,65,240,10,11.5,0,26,30,47.2,2421,3860.4188735925432,4228.9855673527691,5636.58,1.5,1.08,1.08,1.08,1727,3027,3317,4420,149,260,285,380,0.18317244992152643,0.51455963451703945,0.61042691940395077,1.0436441851774703,3.969E-4,1.7345999999999999,2,3.6734700000000002E-4,{"$f":"AK564","v":535.19789031294818},{"$f":"AL564","v":586.29496640731588},781.44,0.98,0.98,0.98,535,586,781,230,252,336,0.40968486620571454,0.48550351822928639,0.82954646870937465,1.6,14.8,16.600000000000001,28,null,2690,null,0.9,null,null,0,10.4,12.2,21.85,null,1,1,1,535,586,781,null,0,0,0,1]
["26524011",null,null,2,65,240,11,11.5,0,26,30,47.2,2420.1200000000003,5237.9452617275747,5738.028861571599,7647.9,1.5,1.1000000000000001,1.1000000000000001,1.1000000000000001,1727,4089,4480,5971,149,352,385,514,0.33144539850425281,1.6146931478475526,1.905847517886774,3.2559623282985095,3.969E-4,1.7345999999999999,4,5.7428799999999995E-4,{"$f":"AK565*(1-(($E657-50)*0.005))","v":811.22500000000002},{"$f":"AL565*(1-(($E657-50)*0.005))","v":888.92500000000007},1184.925,0.95,0.95,0.95,811,889,1185,349,382,510,1.5893381100358872,1.8784543295822771,3.209097991383699,3.2,14.8,16.600000000000001,28,null,3559,null,0.68,null,null,0,10.4,12.2,21.85,null,1,1,1,811,889,1185,null,0,0,0,1]
["26524016",null,null,2,65,240,16,16.5,0,26,30,48.1,3634.6000000000004,6916.3686790875245,7167.9744986485921,10511.7,1.5,1.1000000000000001,1.1000000000000001,1.1000000000000001,2593,5400,5596,8207,223,464,481,706,0.88473538367572246,3.667097444714627,3.9329940571020581,8.3052967253826289,2.0829999999999999E-4,1.724,4,1.392796E-3,{"$f":"AK567*(1-(($E659-50)*0.005))","v":979.57500000000005},{"$f":"AL567*(1-(($E659-50)*0.005))","v":1015.6500000000001},1489.25,0.95,0.95,0.95,980,1016,1489,421,437,640,3.0352278492996239,3.2635202379938697,6.8589389653075363,4.8,16.399999999999999,17.7,29.7,null,5345,null,0.68,null,null,0,10,10.9,21.85,null,1,1,1,980,1016,1489,null,0,0,0,1]
["26524020",null,null,2,65,240,20,21.5,0,26,30,48.1,4590.4000000000005,6176.0620183272586,6765.7106634844222,9017.64,1.5,1.08,1.08,1.08,3275,4844,5306,7072,282,417,456,608,0.38694555298474753,0.82504336232375919,0.98120320393227112,1.7151431662130303,1.2760000000000001E-4,1.7219,2,3.76611E-4,{"$f":"AK568","v":763.26517311676128},{"$f":"AL568","v":836.13657141043336},1114.44,0.95,0.95,0.95,763,836,1114,328,359,479,0.51827708039997999,0.61727233073709142,1.0794747424565225,3.2,16.399999999999999,17.7,29.7,null,5738,null,0.8,null,null,0,10,10.9,21.85,null,1,1,1,763,836,1114,null,0,0,0,1]
["26526010",null,null,2,65,260,10,11.5,0,26,30,47.8,2623.5,4178.1784000000007,4608.2849999999999,6144.38,1.5,1.08,1.08,1.08,1872,3277,3614,4819,161,282,311,414,0.22188148681859915,0.62619933930989857,0.75101257718335657,1.2786543856943258,3.969E-4,1.7345999999999999,2,3.6734700000000002E-4,{"$f":"AK570","v":579.25120000000004},{"$f":"AL570","v":638.88},851.84,0.98,0.98,0.98,579,639,852,249,275,366,0.4971168110898011,0.59766089099899167,1.0165350975712137,1.7,16.2,18.600000000000001,31.4,null,2915,null,0.9,null,null,0,10.199999999999999,11.9,21.85,null,1,1,1,579,639,852,null,0,0,0,1]
["26526011",null,null,2,65,260,11,11.5,0,26,30,47.8,2622.0800000000004,5669.0920000000006,6252.6749999999993,8336.9,1.5,1.1000000000000001,1.1000000000000001,1.1000000000000001,1871,4426,4882,6509,161,381,420,560,0.40301571116239832,1.9626616514787372,2.3494829093201255,3.9995616431127772,3.969E-4,1.7345999999999999,4,5.7428799999999995E-4,{"$f":"AK571*(1-(($E663-50)*0.005))","v":878.29786000000001},{"$f":"AL571*(1-(($E663-50)*0.005))","v":968.71087499999999},1291.6144999999999,0.95,0.95,0.95,878,969,1292,378,417,556,1.9342437605196754,2.3185855639535426,3.9468239703814647,3.5,16.2,18.600000000000001,31.4,null,3856,null,0.68,null,null,0,10.199999999999999,11.9,21.85,null,1,1,1,878,969,1292,null,0,0,0,1]
["26526015",null,null,2,65,260,15,16.5,0,26,30,48.1,3567.2000000000003,4942.1733310961072,5121.9619484404784,7511.2599999999993,1.5,1.08,1.08,1.08,2545,3876,4017,5891,219,333,345,507,0.32573527097323968,0.72567906330489695,0.77658683374621928,1.6253475371689938,2.0829999999999999E-4,1.724,2,4.6182900000000003E-4,{"$f":"AK572","v":653.91552727192982},{"$f":"AL572","v":677.70396216321694},993.84,1.01,1.01,1.01,654,678,994,281,292,427,0.52438185580177876,0.5643390276130934,1.1687899905071639,2.6,16.399999999999999,17.7,29.7,null,4459,null,0.8,null,null,0,10,10.9,21.85,null,1,1,1,654,678,994,null,0,0,0,1]
["26526016",null,null,2,65,260,16,16.5,0,26,30,48.1,3937.2000000000003,7342.4691534710291,7609.5768181679023,11159.300000000001,1.5,1.1000000000000001,1.1000000000000001,1.1000000000000001,2809,5732,5941,8712,242,493,511,749,1.0575309021392729,4.1978564997308982,4.5006744046263982,9.4678767911138362,2.0829999999999999E-4,1.724,4,1.392796E-3,{"$f":"AK573*(1-(($E665-50)*0.005))","v":988.70476233524153},{"$f":"AL573*(1-(($E665-50)*0.005))","v":1024.6723114828192},1502.6625000000001,0.95,0.95,0.95,989,1025,1503,425,441,646,3.1470491246627477,3.3810160108754932,7.0990709908512901,5.2,16.399999999999999,17.7,29.7,null,5790,null,0.68,null,null,0,10,10.9,21.85,null,1,1,1,989,1025,1503,null,0,0,0,1]
["26526021",null,null,2,65,260,21,21.5,0,26,30,48.1,6250.4000000000005,9234.8263652613623,9570.7750567366256,14035.359999999999,1.5,1.05,1.05,1.05,4460,7291,7557,11082,384,627,650,953,1.089254208251182,2.7863852901670048,2.9859304369033395,6.2326378089967651,1.2760000000000001E-4,1.7219,4,5.1420100000000005E-4,{"$f":"AK575*(1-(($E667-50)*0.005))","v":1079.9492178411199},{"$f":"AL575*(1-(($E667-50)*0.005))","v":1119.2360990713107},1641.3385000000001,0.85,0.85,0.85,1080,1119,1641,464,481,706,1.5644725083651521,1.6760794134881409,3.4996239591687601,6.9,16.399999999999999,17.7,29.7,null,7813,null,0.8,null,null,0,10,10.9,21.85,null,1,1,1,1080,1119,1641,null,0,0,0,1]
["26528010",null,null,2,65,280,10,11.5,0,26,30,47.8,{"$f":"IF($N668-($BE668*$BG668)>100,$BE668*$BG668,$N668-95)","v":2825.1},4331.3824000000004,4782.2249168521384,6369.68,1.5,1.08,1.08,1.08,{"$f":"ROUND(M668*POWER(CF_heat,Q668),0)","v":2016},{"$f":"ROUND(N668*POWER(CF_heat,R668),0)","v":3397},{"$f":"ROUND(O668*POWER(CF_heat,S668),0)","v":3750},{"$f":"ROUND(P668*POWER(CF_heat,T668),0)","v":4995},173,292,323,430,0.26524421970055123,0.69744802061985678,0.84077185533321985,1.4297918820056932,{"$f":"IF($G668=$CO$103,CP$103,IF($G668=$CO$104,CP$104,IF($G668=$CO$105,CP$105,IF($G668=$CO$107,CP$107,IF($G668=$CO$108,CP$108,IF($G668=$CO$109,CP$109,IF($G668=$CO$111,CP$111,IF($G668=$CO$112,CP$112,IF($G668=$CO$113,CP$113,IF($G668=$CO$115,CP$115,IF($G668=$CO$116,CP$116,IF($G668=$CO$117,CP$117,IF($G668=$CO$119,CP$119,IF($G668=$CO$120,CP$120,))))))))))))))","v":3.969E-4},{"$f":"IF($G668=$CO$103,CQ$103,IF($G668=$CO$104,CQ$104,IF($G668=$CO$105,CQ$105,IF($G668=$CO$107,CQ$107,IF($G668=$CO$108,CQ$108,IF($G668=$CO$109,CQ$109,IF($G668=$CO$111,CQ$111,IF($G668=$CO$112,CQ$112,IF($G668=$CO$113,CQ$113,IF($G668=$CO$115,CQ$115,IF($G668=$CO$116,CQ$116,IF($G668=$CO$117,CQ$117,IF($G668=$CO$119,CQ$119,IF($G668=$CO$120,CQ$120,))))))))))))))","v":1.7345999999999999},{"$f":"IF($G668=$CO$103,CR$103,IF($G668=$CO$104,CR$104,IF($G668=$CO$105,CR$105,IF($G668=$CO$107,CR$107,IF($G668=$CO$108,CR$108,IF($G668=$CO$109,CR$109,IF($G668=$CO$111,CR$111,IF($G668=$CO$112,CR$112,IF($G668=$CO$113,CR$113,IF($G668=$CO$115,CR$115,IF($G668=$CO$116,CR$116,IF($G668=$CO$117,CR$117,IF($G668=$CO$119,CR$119,IF($G668=$CO$120,CR$120,))))))))))))))","v":2},{"$f":"IF($G668=$CO$103,CS$103,IF($G668=$CO$104,CS$104,IF($G668=$CO$105,CS$105,IF($G668=$CO$107,CS$107,IF($G668=$CO$108,CS$108,IF($G668=$CO$109,CS$109,IF($G668=$CO$111,CS$111,IF($G668=$CO$112,CS$112,IF($G668=$CO$113,CS$113,IF($G668=$CO$115,CS$115,IF($G668=$CO$116,CS$116,IF($G668=$CO$117,CS$117,IF($G668=$CO$119,CS$119,IF($G668=$CO$120,CS$120,))))))))))))))","v":3.6734700000000002E-4},{"$f":"AK576","v":587.68320000000006},{"$f":"AL576","v":648.85364133524638},864.24,0.98,0.98,0.98,{"$f":"ROUND(AK668*POWER(CF_cool,AN668),0)","v":588},{"$f":"ROUND(AL668*POWER(CF_cool,AO668),0)","v":649},{"$f":"ROUND(AM668*POWER(CF_cool,AP668),0)","v":864},253,279,372,0.53495403421136267,0.64106400571541289,1.0925143603098122,{"$f":"ROUND(IF(G668=10,$CO$92*F668,IF(G668=11,$CO$93*F668,IF(G668=15,$CO$94*F668,IF(G668=16,$CO$95*F668,IF(G668=20,$CO$96*F668,IF(G668=21,$CO$97*F668,)))))),1)","v":1.9},16.2,18.600000000000001,31.4,null,3139,null,{"$f":"IF(G668=10,0.9,IF(G668=11,0.68,IF(G668=15,0.8,IF(G668=16,0.68,IF(G668=20,0.8,IF(G668=21,0.8))))))","v":0.9},null,null,0,10.199999999999999,11.9,21.85,null,1,1,1,{"$f":"AQ668/BO668","v":588},{"$f":"AR668/BP668","v":649},{"$f":"AS668/BQ668","v":864},null,{"$f":"BR668-AQ668","v":0},{"$f":"BS668-AR668","v":0},{"$f":"BT668-AS668","v":0},1]
["26528015",null,null,2,65,280,15,16.5,0,26,30,48.9,3841.6000000000004,5583.9635634029,5708.9475468201636,8483.56,1.5,1.08,1.08,1.08,2741,4379,4477,6653,236,377,385,572,0.38575811149435085,0.94303351503609456,0.98167422248603797,2.0958794463889725,2.0829999999999999E-4,1.724,2,4.6182900000000003E-4,{"$f":"AK578","v":762.23344503523219},{"$f":"AL578","v":779.29426056038062},1158.04,1.01,1.01,1.01,762,779,1158,328,335,498,0.72271492130345638,0.75246226647382841,1.6068391234938044,2.8,19.3,20.399999999999999,34.5,null,4802,null,0.8,null,null,0,10,10.6,21.85,null,1,1,1,762,779,1158,null,0,0,0,1]
["26528016",null,null,2,65,280,16,16.5,0,26,30,48.9,4240.4800000000005,8165.5551181941737,8348.321999442087,12405.7,1.5,1.1000000000000001,1.1000000000000001,1.1000000000000001,3026,6375,6518,9685,260,548,561,833,1.2386488392315116,5.2414825003503225,5.4853925820263667,11.822942017746373,2.0829999999999999E-4,1.724,4,1.392796E-3,{"$f":"AK579*(1-(($E671-50)*0.005))","v":1156.25},{"$f":"AL579*(1-(($E671-50)*0.005))","v":1182.1500000000001},1757.5,0.95,0.95,0.95,1156,1182,1758,497,508,756,4.3369571358382482,4.5249837568654003,9.7907661330203499,5.6,19.3,20.399999999999999,34.5,null,6236,null,0.68,null,null,0,10,10.6,21.85,null,1,1,1,1156,1182,1758,null,0,0,0,1]
["26528021",null,null,2,65,280,21,21.5,0,26,30,48.1,6731.2000000000007,10516.06232539558,10751.439821034392,15976.76,1.5,1.05,1.05,1.05,4803,8303,8489,12614,413,714,730,1085,1.2839201250301937,3.6582492578050627,3.8170452588806048,8.1713252650858994,1.2760000000000001E-4,1.7219,4,5.1420100000000005E-4,{"$f":"AK581*(1-(($E673-50)*0.005))","v":1167.147328515706},{"$f":"AL581*(1-(($E673-50)*0.005))","v":1193.2711956750065},1773.2143625000003,0.85,0.85,0.85,1167,1193,1773,502,513,762,1.8637816710782267,1.9426288928778552,4.144400705426194,7.5,19.3,20.399999999999999,34.5,null,8414,null,0.8,null,null,0,10,10.6,21.85,null,1,1,1,1167,1193,1773,null,0,0,0,1]
["2956010",null,null,2,95,60,10,11.5,0,26,30,40,746.69225687813923,841.69225687813923,901.35950941531064,1066.3800000000001,1.5,1.08,1.08,1.08,533,660,707,836,46,57,61,72,1.0334802157060601E-2,1.5637729576638788E-2,1.782898414147421E-2,2.4572994832794695E-2,3.969E-4,1.7345999999999999,2,3.6734700000000002E-4,{"$f":"AK492","v":116.68990721587436},{"$f":"AL492","v":124.96201154556491},147.84,0.98,0.98,0.98,117,125,148,50,54,64,1.214004296048507E-2,1.4086095785072505E-2,1.9563990759703984E-2,0.4,4.8,5.4,6.8,null,838,null,0.9,null,null,0,{"$f":"BK584","v":13.6},{"$f":"BL584","v":15.6},21.85,null,1,1,1,117,125,148,null,0,0,0,1]
["2956015",null,null,2,95,60,15,16.5,0,26,30,41.1,862.19258357509659,957.19258357509659,1027.5250511543745,1359.96,1.5,1.08,1.08,1.08,615,751,806,1067,53,65,69,92,1.4461403006385631E-2,2.1607295358039021E-2,2.4302699376319299E-2,4.2830982878635446E-2,2.0829999999999999E-4,1.724,2,4.6182900000000003E-4,{"$f":"AK494","v":189.925625},{"$f":"AL494","v":140.26129481477255},185.64,1.01,1.01,1.01,190,140,186,82,60,80,3.4141898797120353E-2,1.8458252538956766E-2,3.25208961878376E-2,0.6,4.8,5.5,7.2,null,1210,null,0.8,null,null,0,12.3,14.4,21.85,null,1,1,1,190,140,186,null,0,0,0,1]
["2956016",null,null,2,95,60,16,16.5,0,26,30,41.1,1093.44,1399.7241764138612,1502.5729206967153,1988.7,1.5,1.1000000000000001,1.1000000000000001,1.1000000000000001,780,1093,1173,1553,67,94,101,134,6.650928759934463E-2,0.12999495976193065,0.1498640371075696,0.26238954698403733,2.0829999999999999E-4,1.724,4,1.392796E-3,{"$f":"AK495*(1-(($E677-50)*0.005))","v":165.85},{"$f":"AL495*(1-(($E677-50)*0.005))","v":178.25},236.375,0.95,0.95,0.95,166,178,236,71,77,101,7.4594376889818667E-2,8.7583862537394974E-2,0.1498640371075696,1.2,4.8,5.5,7.2,null,1608,null,0.68,null,null,0,12.3,14.4,21.85,null,1,1,1,166,178,236,null,0,0,0,1]
["2956021",null,null,2,95,60,21,21.5,0,26,30,41.1,1707.6437228662567,1802.6437228662567,1935.0981352499616,2561.16,1.5,1.05,1.05,1.05,1218,1423,1528,2022,105,122,131,174,6.2449516280666917E-2,8.3927928329369905E-2,9.6565795839234567E-2,0.16901353512975539,1.2760000000000001E-4,1.7219,4,5.1420100000000005E-4,{"$f":"AK497*(1-(($E679-50)*0.005))","v":181.21772191047671},{"$f":"AL497*(1-(($E679-50)*0.005))","v":194.53321324395014},257.47050000000002,0.85,0.85,0.85,181,195,257,78,84,111,3.4789728424513867E-2,4.0250111924183894E-2,6.9672395172375626E-2,1.6,4.8,5.5,7.2,null,2290,null,0.8,null,null,0,12.3,14.4,21.85,null,1,1,1,181,195,257,null,0,0,0,1]
["2957010",null,null,2,95,70,10,11.5,0,26,30,41,879.30000000000007,1029.7403904507714,1104.2859635902939,1320.28,1.5,1.08,1.08,1.08,627,808,866,1035,54,69,74,89,1.4873046231448056E-2,2.3833508628602774E-2,2.7271158049938453E-2,3.8924960889446435E-2,3.969E-4,1.7345999999999999,2,3.6734700000000002E-4,{"$f":"AK498","v":142.7603849699376},{"$f":"AL498","v":153.09517888293954},183.04,0.98,0.98,0.98,143,153,183,61,66,79,1.8801217016227327E-2,2.1878764945327631E-2,3.093277823234393E-2,0.5,5.5,5.9,7.9,null,977,null,0.9,null,null,0,13.2,15.1,21.85,null,1,1,1,143,153,183,null,0,0,0,1]
["2957015",null,null,2,95,70,15,16.5,0,26,30,41.1,975.82735416996661,1070.8273541699666,1149.5094620994566,1521.41,1.5,1.08,1.08,1.08,696,840,901,1193,60,72,77,103,1.8933016885219214E-2,2.7077000311869458E-2,3.0892373713348693E-2,5.4716713303803698E-2,2.0829999999999999E-4,1.724,2,4.6182900000000003E-4,{"$f":"AK500","v":135.09481491470635},{"$f":"AL500","v":145.02129350758159},191.94,1.01,1.01,1.01,135,145,192,58,62,83,1.7715040719154605E-2,2.0190861450308E-2,3.5797696205080359E-2,0.7,5.0999999999999996,5.6,7.2,null,1411,null,0.8,null,null,0,12.3,14.4,21.85,null,1,1,1,135,145,192,null,0,0,0,1]
["2957016",null,null,2,95,70,16,16.5,0,26,30,41.1,1275.68,1627.62717250317,1747.2217424001376,2312.5,1.5,1.1000000000000001,1.1000000000000001,1.1000000000000001,910,1271,1364,1805,78,109,117,155,9.1341867693011378E-2,0.17694509326691635,0.20354226765780917,0.35504012904622118,2.0829999999999999E-4,1.724,4,1.392796E-3,{"$f":"AK501*(1-(($E683-50)*0.005))","v":170.18821635081792},{"$f":"AL501*(1-(($E683-50)*0.005))","v":182.69328316209871},241.8,0.95,0.95,0.95,170,183,242,73,79,104,8.0140844201789879E-2,9.3669101170786917E-2,0.16125940069017777,1.4,5.0999999999999996,5.6,7.2,null,1876,null,0.68,null,null,0,12.3,14.4,21.85,null,1,1,1,170,183,242,null,0,0,0,1]
["2957021",null,null,2,95,70,21,21.5,0,26,30,41.1,1882.8291945358951,1977.8291945358951,2123.1558613833213,2810.06,1.5,1.05,1.05,1.05,1343,1562,1676,2219,115,134,144,191,7.6472423673578288E-2,0.10327341364618195,0.11896980279584603,0.20738026513327959,1.2760000000000001E-4,1.7219,4,5.1420100000000005E-4,{"$f":"AK503*(1-(($E685-50)*0.005))","v":186.23609239261623},{"$f":"AL503*(1-(($E685-50)*0.005))","v":199.92032287565303},264.60050000000001,0.85,0.85,0.85,186,200,265,80,86,114,3.751258176855251E-2,4.3229400080322014E-2,7.5171740024191261E-2,1.9,5.0999999999999996,5.6,7.2,null,2671,null,0.8,null,null,0,12.3,14.4,21.85,null,1,1,1,186,200,265,null,0,0,0,1]
["2958010",null,null,2,95,80,10,11.5,0,26,30,41.8,1005.3000000000001,1214.2269940407766,1304.1433704057049,1574.18,1.5,1.08,1.08,1.08,717,952,1023,1235,62,82,88,106,2.039870131385773E-2,3.4861135731848764E-2,3.9921570095941127E-2,5.7081303711220763E-2,3.969E-4,1.7345999999999999,2,3.6734700000000002E-4,{"$f":"AK504","v":168.33710197020613},{"$f":"AL504","v":180.80286190736828},218.24,0.98,0.98,0.98,168,181,218,72,78,94,2.7165359623318678E-2,3.167181300086596E-2,4.5312552969066985E-2,0.5,6.3,6.8,9.1,null,1117,null,0.9,null,null,0,12.8,14.7,21.85,null,1,1,1,168,181,218,null,0,0,0,1]
["2958015",null,null,2,95,80,15,16.5,0,26,30,42.4,1290.4000000000001,1395.33740436932,1496.2563490716184,2007.56,1.5,1.08,1.08,1.08,921,1094,1173,1574,79,94,101,135,3.3250765189717466E-2,4.6744452652574681E-2,5.3812575245209708E-2,9.5090019266223458E-2,2.0829999999999999E-4,1.724,2,4.6182900000000003E-4,{"$f":"AK506","v":190.46915773046311},{"$f":"AL506","v":204.24499885412456},274.04000000000002,1.01,1.01,1.01,190,204,274,82,88,118,3.5768909532348576E-2,4.1076258231928696E-2,7.3013760578283488E-2,0.8,6,6.7,9,null,1613,null,0.8,null,null,0,11.8,13.7,21.85,null,1,1,1,190,204,274,null,0,0,0,1]
["2958016",null,null,2,95,80,16,16.5,0,26,30,42.4,1457.92,2040.4331716148024,2188.0092071816284,2935.7,1.5,1.1000000000000001,1.1000000000000001,1.1000000000000001,1040,1593,1708,2292,89,137,147,197,0.1204090451473749,0.28204303816785287,0.32414663509783698,0.57808545963619196,2.0829999999999999E-4,1.724,4,1.392796E-3,{"$f":"AK507*(1-(($E689-50)*0.005))","v":241.8},{"$f":"AL507*(1-(($E689-50)*0.005))","v":259.625},348.75,0.95,0.95,0.95,242,260,349,104,112,150,0.16371038659618098,0.18948776812934515,0.33734307444043155,1.6,6,6.7,9,null,2144,null,0.68,null,null,0,11.8,13.7,21.85,null,1,1,1,242,260,349,null,0,0,0,1]
["2958021",null,null,2,95,80,21,21.5,0,26,30,42.4,2442.4,2627.7848955664344,2817.8416357747774,3780.76,1.5,1.05,1.05,1.05,1743,2075,2225,2985,150,178,191,257,0.13170666381909327,0.1842669292057651,0.21161521327347374,0.37914528733911407,1.2760000000000001E-4,1.7219,4,5.1420100000000005E-4,{"$f":"AK509*(1-(($E691-50)*0.005))","v":264.16822492696184},{"$f":"AL509*(1-(($E691-50)*0.005))","v":283.2744127207007},380.07550000000003,0.85,0.85,0.85,264,283,380,114,122,163,7.6913230906096156E-2,8.7842369130321604E-2,0.15503064045191489,2.1,6,6.7,9,null,3053,null,0.8,null,null,0,11.8,13.7,21.85,null,1,1,1,264,283,380,null,0,0,0,1]
["2959010",null,null,2,95,90,10,11.5,0,26,30,42.4,1130.4000000000001,1395.6272192501513,1501.3000140389001,1828.08,1.5,1.08,1.08,1.08,807,1095,1177,1434,69,94,101,123,2.6241388402704489E-2,4.7370929137888165E-2,5.4349648935862721E-2,7.9273358405672414E-2,3.969E-4,1.7345999999999999,2,3.6734700000000002E-4,{"$f":"AK510","v":193.48593193227777},{"$f":"AL510","v":208.13611852764589},253.44,0.98,0.98,0.98,193,208,253,83,89,109,3.7340239212640722E-2,4.2669333600542279E-2,6.2889336846315577E-2,0.6,6.7,7.4,10.3,null,1256,null,0.9,null,null,0,12.5,14.7,21.85,null,1,1,1,193,208,253,null,0,0,0,1]
["2959015",null,null,2,95,90,15,16.5,0,26,30,43.3,1451.2,1597.9167676946356,1711.9130538160239,2331.36,1.5,1.08,1.08,1.08,1035,1253,1343,1828,89,108,115,157,4.2932817315634933E-2,6.2677952603543502E-2,7.0873536439037516E-2,0.1304045922070263,2.0829999999999999E-4,1.724,2,4.6182900000000003E-4,{"$f":"AK512","v":218.12205414485143},{"$f":"AL512","v":233.68300487544244},318.24,1.01,1.01,1.01,218,234,318,94,101,137,4.7773932289979358E-2,5.4977761599022158E-2,9.9846629634346956E-2,0.9,7,7.7,10.7,null,1814,null,0.8,null,null,0,11.3,13.2,21.85,null,1,1,1,218,234,318,null,0,0,0,1]
["2959016",null,null,2,95,90,16,16.5,0,26,30,43.3,1640.16,2336.669516687492,2503.3688418217644,3409.2,1.5,1.1000000000000001,1.1000000000000001,1.1000000000000001,1170,1824,1954,2662,101,157,168,229,0.15685515523044433,0.37413425352165253,0.42759818960823864,0.7880408313931474,2.0829999999999999E-4,1.724,4,1.392796E-3,{"$f":"AK513*(1-(($E695-50)*0.005))","v":277.27902527746244},{"$f":"AL513*(1-(($E695-50)*0.005))","v":297.06026779273577},404.55,0.95,0.95,0.95,277,297,405,119,128,174,0.21666354439365651,0.25013674069294162,0.45824838024611242,1.8,7,7.7,10.7,null,2412,null,0.68,null,null,0,11.3,13.2,21.85,null,1,1,1,277,297,405,null,0,0,0,1]
["2959021",null,null,2,95,90,21,21.5,0,26,30,43.3,2747.2000000000003,3009.2947651024979,3223.9795559512399,4390.5600000000004,1.5,1.05,1.05,1.05,1960,2376,2545,3467,169,204,219,298,0.16985696115345353,0.24557012647784476,0.28220360612938261,0.51636549160207501,1.2760000000000001E-4,1.7219,4,5.1420100000000005E-4,{"$f":"AK515*(1-(($E697-50)*0.005))","v":302.52097792341073},{"$f":"AL515*(1-(($E697-50)*0.005))","v":324.10299561938484},441.37799999999999,0.85,0.85,0.85,303,324,441,130,139,190,0.10166856840266857,0.11588498714575281,0.21364215145761875,2.4,7,7.7,10.7,null,3434,null,0.8,null,null,0,11.3,13.2,21.85,null,1,1,1,303,324,441,null,0,0,0,1]
["29510010",null,null,2,95,100,10,11.5,0,26,30,43,1256.4000000000001,1574.3905475253332,1696.1265760133244,2081.98,1.5,1.08,1.08,1.08,896,1235,1330,1633,77,106,114,140,3.3810134439080694E-2,6.2151943031227098E-2,7.1407310896984919E-2,0.10572290690654358,3.969E-4,1.7345999999999999,2,3.6734700000000002E-4,{"$f":"AK516","v":218.26918973175157},{"$f":"AL516","v":235.14633901405676},288.64,0.98,0.98,0.98,218,235,289,94,101,124,4.9429305306709352E-2,5.6681136080738742E-2,8.3841493078660942E-2,0.7,7.8,8.6999999999999993,12.2,null,1396,null,0.9,null,null,0,12.3,14.1,21.85,null,1,1,1,218,235,289,null,0,0,0,1]
["29510015",null,null,2,95,100,15,16.5,0,26,30,44.1,1612.8000000000002,1798.7737222599399,1926.0891717740149,2655.16,1.5,1.08,1.08,1.08,1151,1411,1511,2082,99,121,130,179,5.3994525177584914E-2,7.9882926528895518E-2,9.1900063797744749E-2,0.17176599623849034,2.0829999999999999E-4,1.724,2,4.6182900000000003E-4,{"$f":"AK518","v":245.53983484833029},{"$f":"AL518","v":262.91890485611941},362.44,1.01,1.01,1.01,246,263,362,106,113,156,6.1693712021988735E-2,6.989545441405931E-2,0.13124694650181259,1,7,7.7,10.7,null,2016,null,0.8,null,null,0,10.9,12.8,21.85,null,1,1,1,246,263,362,null,0,0,0,1]
["29510016",null,null,2,95,100,16,16.5,0,26,30,44.1,1822.4,2630.3871448118639,2816.5633812075234,3882.7,1.5,1.1000000000000001,1.1000000000000001,1.1000000000000001,1300,2054,2199,3031,112,177,189,261,0.19505779388975528,0.4800973876606639,0.5463285500064492,1.0323140112813236,2.0829999999999999E-4,1.724,4,1.392796E-3,{"$f":"AK519*(1-(($E701-50)*0.005))","v":312.32499999999999},{"$f":"AL519*(1-(($E701-50)*0.005))","v":334.02500000000003},461.125,0.95,0.95,0.95,312,334,461,134,144,198,0.27756578050968417,0.31980163896983926,0.59877598380752439,2,7,7.7,10.7,null,2680,null,0.68,null,null,0,10.9,12.8,21.85,null,1,1,1,312,334,461,null,0,0,0,1]
["29510020",null,null,2,95,100,20,21.5,0,26,30,44.1,2275.2000000000003,2518.7768428703835,2713.5353098724395,3330.84,1.5,1.08,1.08,1.08,1623,1975,2128,2612,140,170,183,225,8.2956356727889521E-2,0.12149545292969745,0.14043896852494522,0.21087888899397389,1.2760000000000001E-4,1.7219,2,3.76611E-4,{"$f":"AK520","v":311.2816285378957},{"$f":"AL520","v":335.35074484391049},411.64,0.95,0.95,0.95,311,335,412,134,144,177,7.6117387440108403E-2,8.7676786087461309E-2,0.13152753973488002,1.3,7,7.7,10.7,null,2844,null,0.8,null,null,0,10.9,12.8,21.85,null,1,1,1,311,335,412,null,0,0,0,1]
["29510021",null,null,2,95,100,21,21.5,0,26,30,44.1,3052.8,3387.5608889256064,3627.3291443724347,5000.3599999999997,1.5,1.05,1.05,1.05,2178,2675,2864,3948,187,230,246,340,0.21116854253394793,0.31649151807140574,0.36099859926961725,0.68037875512768187,1.2760000000000001E-4,1.7219,4,5.1420100000000005E-4,{"$f":"AK521*(1-(($E703-50)*0.005))","v":340.54764085497214},{"$f":"AL521*(1-(($E703-50)*0.005))","v":364.65127070005116},502.68049999999999,0.85,0.85,0.85,341,365,503,147,157,216,0.13198622122702164,0.15007654668733886,0.27991043654837722,2.7,7,7.7,10.7,null,3816,null,0.8,null,null,0,10.9,12.8,21.85,null,1,1,1,341,365,503,null,0,0,0,1]
["29511011",null,null,2,95,110,11,11.5,0,26,30,43.5,1315.1200000000001,2396.6961264405954,2582.0149905458411,3169.4,1.5,1.1000000000000001,1.1000000000000001,1.1000000000000001,938,1871,2016,2474,81,161,173,213,6.7326126144190229E-2,0.24597270880165012,0.28182196378494073,0.41797960302434661,3.969E-4,1.7345999999999999,4,5.7428799999999995E-4,{"$f":"AK523*(1-(($E705-50)*0.005))","v":311.10089705110983},{"$f":"AL523*(1-(($E705-50)*0.005))","v":335.15603872201353},411.40100000000001,0.95,0.95,0.95,311,335,411,134,144,177,0.17385168491035621,0.19917735207332266,0.29428702881790797,1.5,8.4,9.3000000000000007,14,null,1934,null,0.68,null,null,0,12,13.9,21.85,null,1,1,1,311,335,411,null,0,0,0,1]
["29511015",null,null,2,95,110,15,16.5,0,26,30,44.1,1774.4,1908.1501882577959,2043.2071973479594,2816.6099999999997,1.5,1.08,1.08,1.08,1266,1496,1602,2209,109,129,138,190,6.6476096803458326E-2,9.2300683368990388E-2,0.10527066402536114,0.19649702710776104,2.0829999999999999E-4,1.724,2,4.6182900000000003E-4,{"$f":"AK524","v":249.80785427097814},{"$f":"AL524","v":267.48901053042016},368.74,1.01,1.01,1.01,250,267,369,108,115,159,6.5293712586279876E-2,7.3788401225819936E-2,0.1387762211751877,1.1000000000000001,7.9,8.8000000000000007,12.5,null,2218,null,0.8,null,null,0,10.9,12.8,21.85,null,1,1,1,250,267,369,null,0,0,0,1]
["29511020",null,null,2,95,110,20,21.5,0,26,30,44.1,2502.4,2692.551301713082,2900.746468081386,3560.6400000000003,1.5,1.08,1.08,1.08,1785,2112,2275,2792,154,182,196,240,0.10150265880817261,0.14088231271581872,0.16294943153117869,0.24258448149029985,1.2760000000000001E-4,1.7219,2,3.76611E-4,{"$f":"AK526","v":317.17997831584631},{"$f":"AL526","v":341.70517057946222},419.44,0.95,0.95,0.95,317,342,419,136,147,180,7.9544712053658623E-2,9.2650629466224224E-2,0.13785909087762688,1.5,7.9,8.8000000000000007,12.5,null,3128,null,0.8,null,null,0,10.9,12.8,21.85,null,1,1,1,317,342,419,null,0,0,0,1]
["29511021",null,null,2,95,110,21,21.5,0,26,30,44.1,3356.8,3556.1815292902165,3807.8845891872675,5249.2599999999993,1.5,1.05,1.05,1.05,2395,2808,3007,4145,206,241,259,356,0.2599572507749241,0.35310128138501551,0.40643245418374957,0.75693105159793073,1.2760000000000001E-4,1.7219,4,5.1420100000000005E-4,{"$f":"AK527*(1-(($E709-50)*0.005))","v":345.37795489996881},{"$f":"AL527*(1-(($E709-50)*0.005))","v":369.823469661601},509.81050000000005,0.85,0.85,0.85,345,370,510,148,159,219,0.13647363506510682,0.15691960150758269,0.29292317844461613,2.9,7.9,8.8000000000000007,12.5,null,4196,null,0.8,null,null,0,10.9,12.8,21.85,null,1,1,1,345,370,510,null,0,0,0,1]
["29512011",null,null,2,95,120,11,11.5,0,26,30,44,1434.8000000000002,2611.8926414972211,2821.6982019103875,3513.9,1.5,1.1000000000000001,1.1000000000000001,1.1000000000000001,1024,2039,2203,2743,88,175,189,236,8.2356523498268983E-2,0.30012112200532121,0.34704829521290631,0.52808528089261231,3.969E-4,1.7345999999999999,4,5.7428799999999995E-4,{"$f":"AK529*(1-(($E711-50)*0.005))","v":338.67500000000001},{"$f":"AL529*(1-(($E711-50)*0.005))","v":366.57499999999999},456.47500000000002,0.95,0.95,0.95,339,367,456,146,158,196,0.21327463910111719,0.24750728668013899,0.37172332179516204,1.6,8.9,9.9,14.8,null,2110,null,0.68,null,null,0,11.8,13.7,21.85,null,1,1,1,339,367,456,null,0,0,0,1]
["29512015",null,null,2,95,120,15,16.5,0,26,30,44.8,1935.2,2216.9073865755149,2373.9948983307781,3302.76,1.5,1.08,1.08,1.08,1381,1739,1862,2590,119,150,160,223,8.0416576171655374E-2,0.12616601065937175,0.14306010269934949,0.27327410250387973,2.0829999999999999E-4,1.724,2,4.6182900000000003E-4,{"$f":"AK530","v":302.61675876046246},{"$f":"AL530","v":324.05983479376272},450.84,1.01,1.01,1.01,303,324,451,130,139,194,9.5500985484133716E-2,0.10878402336268925,0.20824992292405745,1.2,8.6999999999999993,9.8000000000000007,14.3,null,2419,null,0.8,null,null,0,10.6,12.5,21.85,null,1,1,1,303,324,451,null,0,0,0,1]
["29512020",null,null,2,95,120,20,21.5,0,26,30,44.8,2730.4,3079.6829926739365,3327.0647594078355,4143.24,1.5,1.08,1.08,1.08,1948,2415,2609,3249,168,208,224,279,0.12209674832801544,0.1855749132469651,0.2146103274757947,0.33023406948567835,1.2760000000000001E-4,1.7219,2,3.76611E-4,{"$f":"AK532","v":380.60090160569081},{"$f":"AL532","v":411.17343900116532},512.04,0.95,0.95,0.95,381,411,512,164,177,220,0.11646670942658871,0.13524222402195477,0.20715667478646135,1.6,8.6999999999999993,9.8000000000000007,14.3,null,3413,null,0.8,null,null,0,10.6,12.5,21.85,null,1,1,1,381,411,512,null,0,0,0,{"$f":"IF(SUM(BV714:BX714)=0,1,0)","v":1}]
["29512021",null,null,2,95,120,21,21.5,0,26,30,44.8,3663.2000000000003,4175.015825613802,4470.8526528786542,6219.96,1.5,1.05,1.05,1.05,2614,3296,3530,4911,225,283,304,422,0.31440374446527214,0.49159200971034805,0.56525436757201819,1.0725116519177567,1.2760000000000001E-4,1.7219,4,5.1420100000000005E-4,{"$f":"AK533*(1-(($E715-50)*0.005))","v":419.709589455051},{"$f":"AL533*(1-(($E715-50)*0.005))","v":449.44972901458465},625.28550000000007,0.85,0.85,0.85,420,449,625,181,193,269,0.2058541758789294,0.23323446987220386,0.44528690328701026,3.2,8.6999999999999993,9.8000000000000007,14.3,null,4579,null,0.8,null,null,0,10.6,12.5,21.85,null,1,1,1,420,449,625,null,0,0,0,1]
["29514011",null,null,2,95,140,11,11.5,0,26,30,44.8,1673.48,3077.015307780141,3332.5766142436496,4202.8999999999996,1.5,1.1000000000000001,1.1000000000000001,1.1000000000000001,1194,2402,2602,3281,103,207,224,282,0.12030094078787502,0.44450269226506778,0.51557472310872998,0.79522620174472214,3.969E-4,1.7345999999999999,4,5.7428799999999995E-4,{"$f":"AK535*(1-(($E717-50)*0.005))","v":399.125},{"$f":"AL535*(1-(($E717-50)*0.005))","v":432.45},545.6,0.95,0.95,0.95,399,432,546,172,186,235,0.31396967583423258,0.36361651706757825,0.56421016775479216,1.9,10.1,11.2,17.5,null,2461,null,0.68,null,null,0,11.5,13.3,21.85,null,1,1,1,399,432,546,null,0,0,0,1]
["29514015",null,null,2,95,140,15,16.5,0,26,30,45.4,2257.6,2628.9846104428207,2815.4584574952669,3950.36,1.5,1.08,1.08,1.08,1611,2062,2208,3098,{"$f":"ROUND(U718*3600/(4186*ABS($O$1-$O$2)),0)","v":139},{"$f":"ROUND(V718*3600/(4186*ABS($O$1-$O$2)),0)","v":177},{"$f":"ROUND(W718*3600/(4186*ABS($O$1-$O$2)),0)","v":190},{"$f":"ROUND(X718*3600/(4186*ABS($O$1-$O$2)),0)","v":266},0.11282543281240312,0.18029092070853758,0.20688755958299987,0.39793806455132874,2.0829999999999999E-4,1.724,2,4.6182900000000003E-4,{"$f":"AK536","v":358.86695423586366},{"$f":"AL536","v":384.32138301819265},539.24,1.01,1.01,1.01,359,384,539,{"$f":"ROUND(AQ718*3600/(4186*ABS($AM$1-$AM$2)),0)","v":154},{"$f":"ROUND(AR718*3600/(4186*ABS($AM$1-$AM$2)),0)","v":165},{"$f":"ROUND(AS718*3600/(4186*ABS($AM$1-$AM$2)),0)","v":232},0.137621338941047,0.1573279392829452,0.30498467021762166,1.4,9.6,10.5,16.100000000000001,null,2822,null,0.8,null,null,0,10.4,12.2,21.85,null,1,1,1,359,384,539,null,0,0,0,1]
["29514020",null,null,2,95,140,20,21.5,0,26,30,45.4,3185.6000000000004,3628.1091959950468,3929.4415695377957,4955.6400000000003,1.5,1.08,1.08,1.08,2273,2845,3082,3886,195,245,265,334,0.16790396836459318,0.26237161414251958,0.30592500796073402,0.48134974943137049,1.2760000000000001E-4,1.7219,2,3.76611E-4,{"$f":"AK538","v":448.37784746172167},{"$f":"AL538","v":485.61784045001809},612.44000000000005,0.95,0.95,0.95,448,486,612,193,209,263,0.16455496588623258,0.1922740711354792,0.30142179085547277,1.9,9.6,10.5,16.100000000000001,null,3982,null,0.8,null,null,0,10.4,12.2,21.85,null,1,1,1,448,486,612,null,0,0,0,1]
["29514021",null,null,2,95,140,21,21.5,0,26,30,45.4,4273.6000000000004,4951.0649025572329,5302.2438770247491,7439.56,1.5,1.05,1.05,1.05,3049,3909,4186,5874,262,336,360,505,0.43757289193642696,0.7095813437342614,0.81150138458700172,1.5688563953148518,1.2760000000000001E-4,1.7219,4,5.1420100000000005E-4,{"$f":"AK539*(1-(($E721-50)*0.005))","v":497.72491995574734},{"$f":"AL539*(1-(($E721-50)*0.005))","v":533.02854258988134},747.89049999999997,0.85,0.85,0.85,498,533,748,214,229,322,0.29546809618167652,0.33695787930912308,0.65321975396990584,3.7,9.6,10.5,16.100000000000001,null,5342,null,0.8,null,null,0,10.4,12.2,21.85,null,1,1,1,498,533,748,null,0,0,0,1]
["3206010",null,null,3,20,60,10,11.5,0,26,30,40,353.7,841.69225687813923,901.35950941531064,1066.3800000000001,1.5,1.08,1.08,1.08,252,660,707,836,22,57,61,72,2.4983073391042195E-3,1.5637729576638788E-2,1.782898414147421E-2,2.4572994832794695E-2,3.969E-4,1.7345999999999999,2,3.6734700000000002E-4,116.68990721587436,124.96201154556491,147.84,0.98,0.98,0.98,117,125,148,50,54,64,1.214004296048507E-2,1.4086095785072505E-2,1.9563990759703984E-2,0.4,4.8,5.4,6.8,null,393,null,0.9,null,null,0,13.6,15.6,21.85,null,1,1,1,117,125,148,null,0,0,0,1]
["3206015",null,null,3,20,60,15,16.5,0,26,30,41.1,523.20000000000005,957.19258357509659,1027.5250511543745,1359.96,1.5,1.08,1.08,1.08,373,751,806,1067,32,65,69,92,5.3670145335562927E-3,2.1607295358039021E-2,2.4302699376319299E-2,4.2830982878635446E-2,2.0829999999999999E-4,1.724,2,4.6182900000000003E-4,189.925625,140.26129481477255,185.64,1.01,1.01,1.01,190,140,186,82,60,80,3.4141898797120353E-2,1.8458252538956766E-2,3.25208961878376E-2,0.6,4.8,5.5,7.2,null,654,null,0.8,null,null,0,12.3,14.4,21.85,null,1,1,1,190,140,186,null,0,0,0,1]
["3207010",null,null,3,20,70,10,11.5,0,26,30,41,413.1,1029.7403904507714,1104.2859635902939,1320.28,1.5,1.08,1.08,1.08,295,808,866,1035,25,69,74,89,3.4004793885214104E-3,2.3833508628602774E-2,2.7271158049938453E-2,3.8924960889446435E-2,3.969E-4,1.7345999999999999,2,3.6734700000000002E-4,142.7603849699376,153.09517888293954,183.04,0.98,0.98,0.98,143,153,183,61,66,79,1.8801217016227327E-2,2.1878764945327631E-2,3.093277823234393E-2,0.5,5.5,5.9,7.9,null,459,null,0.9,null,null,0,13.2,15.1,21.85,null,1,1,1,143,153,183,null,0,0,0,1]
["3207015",null,null,3,20,70,15,16.5,0,26,30,41.1,610.4,1070.8273541699666,1149.5094620994566,1521.41,1.5,1.08,1.08,1.08,436,840,901,1193,37,72,77,103,7.343086599120828E-3,2.7077000311869458E-2,3.0892373713348693E-2,5.4716713303803698E-2,2.0829999999999999E-4,1.724,2,4.6182900000000003E-4,135.09481491470635,145.02129350758159,191.94,1.01,1.01,1.01,135,145,192,58,62,83,1.7715040719154605E-2,2.0190861450308E-2,3.5797696205080359E-2,0.7,5.0999999999999996,5.6,7.2,null,763,null,0.8,null,null,0,12.3,14.4,21.85,null,1,1,1,135,145,192,null,0,0,0,1]
["3208010",null,null,3,20,80,10,11.5,0,26,30,41.8,471.6,1214.2269940407766,1304.1433704057049,1574.18,1.5,1.08,1.08,1.08,336,952,1023,1235,29,82,88,106,4.783568421903482E-3,3.4861135731848764E-2,3.9921570095941127E-2,5.7081303711220763E-2,3.969E-4,1.7345999999999999,2,3.6734700000000002E-4,168.33710197020613,180.80286190736828,218.24,0.98,0.98,0.98,168,181,218,72,78,94,2.7165359623318678E-2,3.167181300086596E-2,4.5312552969066985E-2,0.5,6.3,6.8,9.1,null,524,null,0.9,null,null,0,12.8,14.7,21.85,null,1,1,1,168,181,218,null,0,0,0,1]
["3208015",null,null,3,20,80,15,16.5,0,26,30,42.4,697.6,1395.33740436932,1496.2563490716184,2007.56,1.5,1.08,1.08,1.08,498,1094,1173,1574,43,94,101,135,1.0122107583047848E-2,4.6744452652574681E-2,5.3812575245209708E-2,9.5090019266223458E-2,2.0829999999999999E-4,1.724,2,4.6182900000000003E-4,190.46915773046311,204.24499885412456,274.04000000000002,1.01,1.01,1.01,190,204,274,82,88,118,3.5768909532348576E-2,4.1076258231928696E-2,7.3013760578283488E-2,0.8,6,6.7,9,null,872,null,0.8,null,null,0,11.8,13.7,21.85,null,1,1,1,190,204,274,null,0,0,0,1]
["3209010",null,null,3,20,90,10,11.5,0,26,30,42.4,{"$f":"IF($N732-($BE732*$BG732)>100,$BE732*$BG732,$N732-95)","v":531},1395.6272192501513,1501.3000140389001,1828.08,1.5,1.08,1.08,1.08,{"$f":"ROUND(M732*POWER(CF_heat,Q732),0)","v":379},{"$f":"ROUND(N732*POWER(CF_heat,R732),0)","v":1095},{"$f":"ROUND(O732*POWER(CF_heat,S732),0)","v":1177},{"$f":"ROUND(P732*POWER(CF_heat,T732),0)","v":1434},33,94,101,123,6.4524563000196581E-3,4.7370929137888165E-2,5.4349648935862721E-2,7.9273358405672414E-2,{"$f":"IF($G732=$CO$103,CP$103,IF($G732=$CO$104,CP$104,IF($G732=$CO$105,CP$105,IF($G732=$CO$107,CP$107,IF($G732=$CO$108,CP$108,IF($G732=$CO$109,CP$109,IF($G732=$CO$111,CP$111,IF($G732=$CO$112,CP$112,IF($G732=$CO$113,CP$113,IF($G732=$CO$115,CP$115,IF($G732=$CO$116,CP$116,IF($G732=$CO$117,CP$117,IF($G732=$CO$119,CP$119,IF($G732=$CO$120,CP$120,))))))))))))))","v":3.969E-4},{"$f":"IF($G732=$CO$103,CQ$103,IF($G732=$CO$104,CQ$104,IF($G732=$CO$105,CQ$105,IF($G732=$CO$107,CQ$107,IF($G732=$CO$108,CQ$108,IF($G732=$CO$109,CQ$109,IF($G732=$CO$111,CQ$111,IF($G732=$CO$112,CQ$112,IF($G732=$CO$113,CQ$113,IF($G732=$CO$115,CQ$115,IF($G732=$CO$116,CQ$116,IF($G732=$CO$117,CQ$117,IF($G732=$CO$119,CQ$119,IF($G732=$CO$120,CQ$120,))))))))))))))","v":1.7345999999999999},{"$f":"IF($G732=$CO$103,CR$103,IF($G732=$CO$104,CR$104,IF($G732=$CO$105,CR$105,IF($G732=$CO$107,CR$107,IF($G732=$CO$108,CR$108,IF($G732=$CO$109,CR$109,IF($G732=$CO$111,CR$111,IF($G732=$CO$112,CR$112,IF($G732=$CO$113,CR$113,IF($G732=$CO$115,CR$115,IF($G732=$CO$116,CR$116,IF($G732=$CO$117,CR$117,IF($G732=$CO$119,CR$119,IF($G732=$CO$120,CR$120,))))))))))))))","v":2},{"$f":"IF($G732=$CO$103,CS$103,IF($G732=$CO$104,CS$104,IF($G732=$CO$105,CS$105,IF($G732=$CO$107,CS$107,IF($G732=$CO$108,CS$108,IF($G732=$CO$109,CS$109,IF($G732=$CO$111,CS$111,IF($G732=$CO$112,CS$112,IF($G732=$CO$113,CS$113,IF($G732=$CO$115,CS$115,IF($G732=$CO$116,CS$116,IF($G732=$CO$117,CS$117,IF($G732=$CO$119,CS$119,IF($G732=$CO$120,CS$120,))))))))))))))","v":3.6734700000000002E-4},193.48593193227777,208.13611852764589,253.44,0.98,0.98,0.98,{"$f":"ROUND(AK732*POWER(CF_cool,AN732),0)","v":193},{"$f":"ROUND(AL732*POWER(CF_cool,AO732),0)","v":208},{"$f":"ROUND(AM732*POWER(CF_cool,AP732),0)","v":253},83,89,109,3.7340239212640722E-2,4.2669333600542279E-2,6.2889336846315577E-2,{"$f":"ROUND(IF(G732=10,$CO$92*F732,IF(G732=11,$CO$93*F732,IF(G732=15,$CO$94*F732,IF(G732=16,$CO$95*F732,IF(G732=20,$CO$96*F732,IF(G732=21,$CO$97*F732,)))))),1)","v":0.6},6.7,7.4,10.3,null,590,null,{"$f":"IF(G732=10,0.9,IF(G732=11,0.68,IF(G732=15,0.8,IF(G732=16,0.68,IF(G732=20,0.8,IF(G732=21,0.8))))))","v":0.9},null,null,0,12.5,14.7,21.85,null,1,1,1,{"$f":"AQ732/BO732","v":193},{"$f":"AR732/BP732","v":208},{"$f":"AS732/BQ732","v":253},null,{"$f":"BR732-AQ732","v":0},{"$f":"BS732-AR732","v":0},{"$f":"BT732-AS732","v":0},1]
[{"$f":"CONCATENATE(D733,E733,F733,G733)","v":"3209015"},null,null,3,20,90,15,16.5,0,26,30,43.3,784.80000000000007,1597.9167676946356,1711.9130538160239,2331.36,1.5,{"$f":"IF($G733=10,1.08,IF($G733=11,1.1,IF($G733=15,1.08,IF($G733=16,1.1,IF($G733=20,1.08,IF($G733=21,1.05))))))","v":1.08},1.08,1.08,560,1253,1343,1828,48,108,115,157,{"$f":"(($AG733*(Y733^$AH733)*((($F733-14.4)*$AI733)/100))+($AJ733*(Y733^2)))*0.0098","v":1.287074939990435E-2},{"$f":"(($AG733*(Z733^$AH733)*((($F733-14.4)*$AI733)/100))+($AJ733*(Z733^2)))*0.0098","v":6.2677952603543502E-2},{"$f":"(($AG733*(AA733^$AH733)*((($F733-14.4)*$AI733)/100))+($AJ733*(AA733^2)))*0.0098","v":7.0873536439037516E-2},{"$f":"(($AG733*(AB733^$AH733)*((($F733-14.4)*$AI733)/100))+($AJ733*(AB733^2)))*0.0098","v":0.1304045922070263},2.0829999999999999E-4,1.724,2,4.6182900000000003E-4,218.12205414485143,233.68300487544244,318.24,1.01,1.01,1.01,218,234,318,94,101,137,{"$f":"(($AG733*(AT733^$AH733)*((($F733-14.4)*$AI733)/100))+($AJ733*(AT733^2)))*0.0098","v":4.7773932289979358E-2},{"$f":"(($AG733*(AU733^$AH733)*((($F733-14.4)*$AI733)/100))+($AJ733*(AU733^2)))*0.0098","v":5.4977761599022158E-2},{"$f":"(($AG733*(AV733^$AH733)*((($F733-14.4)*$AI733)/100))+($AJ733*(AV733^2)))*0.0098","v":9.9846629634346956E-2},0.9,7,7.7,10.7,null,981,null,0.8,null,null,0,11.3,13.2,21.85,null,{"$f":"IF(1/(1+((2258*((0.622/((101325/(1*611*EXP(17.27*((($AM$1+$AM$2)/2)/((($AM$1+$AM$2)/2)+237.3))))))-1)*1000-(0.622/((101325/($AQ$1*611*EXP(17.27*($AM$3/($AM$3+237.3))))))-1)*1000))/(1005*((($AM$1+$AM$2)/2)-$AM$3))))>1,1,1/(1+((2258*((0.622/((101325/(1*611*EXP(17.27*((($AM$1+$AM$2)/2)/((($AM$1+$AM$2)/2)+237.3))))))-1)*1000-(0.622/((101325/($AQ$1*611*EXP(17.27*($AM$3/($AM$3+237.3))))))-1)*1000))/(1005*((($AM$1+$AM$2)/2)-$AM$3)))))","v":1},1,1,218,234,318,null,0,0,0,1]
["32010010",null,null,3,20,100,10,11.5,0,26,30,43,589.5,1574.3905475253332,1696.1265760133244,2081.98,1.5,1.08,1.08,1.08,421,1235,1330,1633,36,106,114,140,7.9996595616665441E-3,6.2151943031227098E-2,7.1407310896984919E-2,0.10572290690654358,3.969E-4,1.7345999999999999,2,3.6734700000000002E-4,218.26918973175157,235.14633901405676,288.64,0.98,0.98,0.98,218,235,289,94,101,124,4.9429305306709352E-2,5.6681136080738742E-2,8.3841493078660942E-2,0.7,7.8,8.6999999999999993,12.2,null,655,null,0.9,null,null,0,12.3,14.1,21.85,null,1,1,1,218,235,289,null,0,0,0,1]
["32010015",null,null,3,20,100,15,16.5,0,26,30,44.1,872,1798.7737222599399,1926.0891717740149,2655.16,1.5,1.08,1.08,1.08,622,1411,1511,2082,53,121,130,179,1.5994808206899341E-2,7.9882926528895518E-2,9.1900063797744749E-2,0.17176599623849034,2.0829999999999999E-4,1.724,2,4.6182900000000003E-4,245.53983484833029,262.91890485611941,362.44,1.01,1.01,1.01,246,263,362,106,113,156,6.1693712021988735E-2,6.989545441405931E-2,0.13124694650181259,1,7,7.7,10.7,null,1090,null,0.8,null,null,0,10.9,12.8,21.85,null,1,1,1,246,263,362,null,0,0,0,{"$f":"IF(SUM(BV736:BX736)=0,1,0)","v":1}]
["32010020",null,null,3,20,100,20,21.5,0,26,30,44.1,1225.6000000000001,2518.7768428703835,2713.5353098724395,3330.84,1.5,1.08,1.08,1.08,874,1975,2128,2612,75,170,183,225,2.438518467794264E-2,0.12149545292969745,0.14043896852494522,0.21087888899397389,1.2760000000000001E-4,1.7219,2,3.76611E-4,311.2816285378957,335.35074484391049,411.64,0.95,0.95,0.95,311,335,412,134,144,177,7.6117387440108403E-2,8.7676786087461309E-2,0.13152753973488002,1.3,7,7.7,10.7,null,1532,null,0.8,null,null,0,10.9,12.8,21.85,null,1,1,1,311,335,412,null,0,0,0,1]
["32011010",null,null,3,20,110,10,11.5,0,26,30,43.5,648.9,1766.3893947845202,1902.9712804051933,2335.88,1.5,1.08,1.08,1.08,463,1385,1492,1832,40,119,128,158,1.0230215054038271E-2,8.0603275811184871E-2,9.2599605028954202E-2,0.13830835282173867,3.969E-4,1.7345999999999999,2,3.6734700000000002E-4,244.88738360147738,263.82272182064906,323.83999999999997,0.98,0.98,0.98,245,264,324,105,114,139,6.3532409410345894E-2,7.4283678081492499E-2,0.10834103483995079,0.7,8.4,9.3000000000000007,14,null,721,null,0.9,null,null,0,12,13.9,21.85,null,1,1,1,245,264,324,null,0,0,0,1]
["32011020",null,null,3,20,110,20,21.5,0,26,30,44.1,1348,2692.551301713082,2900.746468081386,3560.6400000000003,1.5,1.08,1.08,1.08,962,2112,2275,2792,83,182,196,240,3.024559484806788E-2,0.14088231271581872,0.16294943153117869,0.24258448149029985,1.2760000000000001E-4,1.7219,2,3.76611E-4,317.17997831584631,341.70517057946222,419.44,0.95,0.95,0.95,317,342,419,136,147,180,7.9544712053658623E-2,9.2650629466224224E-2,0.13785909087762688,1.5,7.9,8.8000000000000007,12.5,null,1685,null,0.8,null,null,0,10.9,12.8,21.85,null,1,1,1,317,342,419,null,0,0,0,1]
["32012010",null,null,3,20,120,10,11.5,0,26,30,44,707.4,1924.9914127028867,2079.6202422788024,2589.7800000000002,1.5,1.08,1.08,1.08,505,1510,1631,2031,43,130,140,175,1.2254176538569557E-2,9.8985854052659E-2,0.11393853661367993,0.17413148637766063,3.969E-4,1.7345999999999999,2,3.6734700000000002E-4,266.87553260000635,288.31284965818764,359.04,0.98,0.98,0.98,267,288,359,115,124,154,7.844810437960871E-2,9.0497540707880797E-2,0.13655457969155813,0.8,8.9,9.9,14.8,null,786,null,0.9,null,null,0,11.8,13.7,21.85,null,1,1,1,267,288,359,null,0,0,0,1]
["32012020",null,null,3,20,120,20,21.5,0,26,30,44.8,1470.4,3079.6829926739365,3327.0647594078355,4143.24,1.5,1.08,1.08,1.08,1049,2415,2609,3249,90,208,224,279,3.6015795758462026E-2,0.1855749132469651,0.2146103274757947,0.33023406948567835,1.2760000000000001E-4,1.7219,2,3.76611E-4,380.60090160569081,411.17343900116532,512.04,0.95,0.95,0.95,381,411,512,164,177,220,0.11646670942658871,0.13524222402195477,0.20715667478646135,1.6,8.6999999999999993,9.8000000000000007,14.3,null,1838,null,0.8,null,null,0,10.6,12.5,21.85,null,1,1,1,381,411,512,null,0,0,0,1]
["32014010",null,null,3,20,140,10,11.5,0,26,30,44.8,825.30000000000007,2267.7915432376717,2456.1428225151312,3097.58,1.5,1.08,1.08,1.08,589,1778,1926,2429,51,153,166,209,1.8314735117158355E-2,0.14445801004372538,0.16853243053054429,0.26063544201388444,3.969E-4,1.7345999999999999,2,3.6734700000000002E-4,314.40040300104783,340.51290804463417,429.44,0.98,0.98,0.98,314,341,429,135,147,184,0.11404996966906063,0.1339431496553784,0.20476735769324847,0.9,10.1,11.2,17.5,null,917,null,0.9,null,null,0,11.5,13.3,21.85,null,1,1,1,314,341,429,null,0,0,0,1]
["32014020",null,null,3,20,140,20,21.5,0,26,30,45.4,1716,3628.1091959950468,3929.4415695377957,4955.6400000000003,1.5,1.08,1.08,1.08,1224,2845,3082,3886,105,245,265,334,5.0183471196751789E-2,0.26237161414251958,0.30592500796073402,0.48134974943137049,1.2760000000000001E-4,1.7219,2,3.76611E-4,448.37784746172167,485.61784045001809,612.44000000000005,0.95,0.95,0.95,448,486,612,193,209,263,0.16455496588623258,0.1922740711354792,0.30142179085547277,1.9,9.6,10.5,16.100000000000001,null,2145,null,0.8,null,null,0,10.4,12.2,21.85,null,1,1,1,448,486,612,null,0,0,0,1]
["32016010",null,null,3,20,160,10,11.5,0,26,30,45.5,943.2,2603.9362232520607,2826.6988006529018,3605.38,1.5,1.08,1.08,1.08,673,2042,2217,2827,58,176,191,243,2.5080424918267483E-2,0.20046748279247403,0.23384464098890503,0.3682343427384388,3.969E-4,1.7345999999999999,2,3.6734700000000002E-4,361.00257998610687,391.88577307200529,499.84,0.98,0.98,0.98,361,392,500,155,169,215,0.15784887533096326,0.18572654509721107,0.29228700277798675,1.1000000000000001,11,12.4,19.2,null,1048,null,0.9,null,null,0,11.2,13,21.85,null,1,1,1,361,392,500,null,0,0,0,1]
["32016020",null,null,3,20,160,20,21.5,0,26,30,46.4,1960.8000000000002,4165.887726998767,4522.2727563025155,5768.04,1.5,1.08,1.08,1.08,1399,3267,3547,4524,120,281,305,389,6.6996085803035788E-2,0.3513653688085987,0.41235697482772449,0.66342434491024516,1.2760000000000001E-4,1.7219,2,3.76611E-4,514.83890668473202,558.88255136973487,712.84,0.95,0.95,0.95,515,559,713,221,240,307,0.21989661309334549,0.25827229749987091,0.41765567382317259,2.1,11.5,12.8,19.600000000000001,null,2451,null,0.8,null,null,0,10,11.8,21.85,null,1,1,1,515,559,713,null,0,0,0,1]
["32018010",null,null,3,20,180,10,11.5,0,26,30,46,1061.1000000000001,2970.6878039917879,3224.8253922941558,4113.18,1.5,1.08,1.08,1.08,757,2330,2529,3226,65,200,217,277,3.3185338289172896E-2,0.27028861945847477,0.31500621168669868,0.49841362806075101,3.969E-4,1.7345999999999999,2,3.6734700000000002E-4,411.84801378696699,447.08095237792156,570.24,0.98,0.98,0.98,412,447,570,177,192,245,0.21495642722836134,0.25036580839638034,0.39566467113231368,1.2,12.2,13.7,22,null,1179,null,0.9,null,null,0,10.9,12.7,21.85,null,1,1,1,412,447,570,null,0,0,0,1]
["32018020",null,null,3,20,180,20,21.5,0,26,30,46.4,2206.4,4497.8275192555193,4882.6094666576164,6227.64,1.5,1.08,1.08,1.08,1574,3527,3829,4884,135,303,329,420,8.6557120326114942E-2,0.41646566084553188,0.48893351284694392,0.78724334085603187,1.2760000000000001E-4,1.7219,2,3.76611E-4,526.1057925837863,571.11330132956857,728.44,0.95,0.95,0.95,526,571,728,226,246,313,0.23536033293811029,0.27756656183252509,0.44366421223291913,2.4,11.5,12.8,19.600000000000001,null,2758,null,0.8,null,null,0,10,11.8,21.85,null,1,1,1,526,571,728,null,0,0,0,1]
["32020010",null,null,3,20,200,10,11.5,0,26,30,46.5,1179,3259.5785648750903,3552.8677924068675,4620.9799999999996,1.5,1.08,1.08,1.08,841,2556,2786,3624,72,220,240,312,4.2719548366462599E-2,0.34122659140984074,0.40155124196507375,0.65654717810994445,3.969E-4,1.7345999999999999,2,3.6734700000000002E-4,451.89903695786995,492.55985148767917,640.64,0.98,0.98,0.98,452,493,641,194,212,276,0.26974633951173027,0.31839322337808124,0.52169992911952934,1.3,13.4,14.8,24,null,1310,null,0.9,null,null,0,10.7,12.5,21.85,null,1,1,1,452,493,641,null,0,0,0,1]
["32020020",null,null,3,20,200,20,21.5,0,26,30,47.1,2451.2000000000003,5214.8121821672385,5684.028740747025,7392.84,1.5,1.08,1.08,1.08,1749,4090,4458,5798,150,352,383,499,0.10896638190261972,0.56991326043648238,0.67162306767239033,1.1243831840072513,1.2760000000000001E-4,1.7219,2,3.76611E-4,644.46964929787134,702.45751547390614,913.64,0.95,0.95,0.95,644,702,914,277,302,393,0.35773067054432378,0.42311312971539766,0.70617331390652549,2.7,13.2,14.7,23.5,null,3064,null,0.8,null,null,0,10,11.4,21.85,null,1,1,1,644,702,914,null,0,0,0,1]
["32022010",null,null,3,20,220,10,11.5,0,26,30,46.9,1296.9000000000001,3560.7045070849035,3890.5075371280445,5128.78,1.5,1.08,1.08,1.08,925,2792,3051,4022,80,240,262,346,5.5033387351635425E-2,0.42247701862510323,0.49758266516536109,0.83671193247343323,3.969E-4,1.7345999999999999,2,3.6734700000000002E-4,493.64631212835212,539.36930014536108,711.04,0.98,0.98,0.98,494,539,711,212,232,306,0.33526766264658142,0.39659808957963044,0.66495285135759441,1.5,13.4,14.8,24,null,1441,null,0.9,null,null,0,10.5,12.3,21.85,null,1,1,1,494,539,711,null,0,0,0,1]
["32022020",null,null,3,20,220,20,21.5,0,26,30,47.8,2696,5696.5662496175182,6224.1991397456159,8205.24,1.5,1.08,1.08,1.08,1924,4467,4881,6435,165,384,420,553,0.1343205372829388,0.68913594795268296,0.82013908311111194,1.4002126537427437,1.2760000000000001E-4,1.7219,2,3.76611E-4,704.00695650122941,769.21417236639559,1014.04,0.95,0.95,0.95,704,769,1014,303,331,436,0.43521399990720622,0.5165738484716168,0.88193136480825907,2.9,15.5,16.8,27.5,null,3370,null,0.8,null,null,0,10,11.1,21.85,null,1,1,1,704,769,1014,null,0,0,0,1]
["32024010",null,null,3,20,240,10,11.5,0,26,30,47.2,1414.8,3860.4188735925432,4228.9855673527691,5636.58,1.5,1.08,1.08,1.08,1009,3027,3317,4420,87,260,285,380,6.7852174739371135E-2,0.51455963451703945,0.61042691940395077,1.0436441851774703,3.969E-4,1.7345999999999999,2,3.6734700000000002E-4,535.19789031294818,586.29496640731588,781.44,0.98,0.98,0.98,535,586,781,230,252,336,0.40968486620571454,0.48550351822928639,0.82954646870937465,1.6,14.8,16.600000000000001,28,null,1572,null,0.9,null,null,0,10.4,12.2,21.85,null,1,1,1,535,586,781,null,0,0,0,1]
["32024020",null,null,3,20,240,20,21.5,0,26,30,48.1,2941.6000000000004,6176.0620183272586,6765.7106634844222,9017.64,1.5,1.08,1.08,1.08,2099,4844,5306,7072,181,417,456,608,0.16445932868109728,0.82504336232375919,0.98120320393227112,1.7151431662130303,1.2760000000000001E-4,1.7219,2,3.76611E-4,763.26517311676128,836.13657141043336,1114.44,0.95,0.95,0.95,763,836,1114,328,359,479,0.51827708039997999,0.61727233073709142,1.0794747424565225,3.2,16.399999999999999,17.7,29.7,null,3677,null,0.8,null,null,0,10,10.9,21.85,null,1,1,1,763,836,1114,null,0,0,0,1]
["32026010",null,null,3,20,260,10,11.5,0,26,30,47.8,1532.7,4178.1784000000007,4608.2849999999999,6144.38,1.5,1.08,1.08,1.08,1094,3277,3614,4819,94,282,311,414,8.2363324007848335E-2,0.62619933930989857,0.75101257718335657,1.2786543856943258,3.969E-4,1.7345999999999999,2,3.6734700000000002E-4,579.25120000000004,638.88,851.84,0.98,0.98,0.98,579,639,852,249,275,366,0.4971168110898011,0.59766089099899167,1.0165350975712137,1.7,16.2,18.600000000000001,31.4,null,1703,null,0.9,null,null,0,10.199999999999999,11.9,21.85,null,1,1,1,579,639,852,null,0,0,0,1]
["32026020",null,null,3,20,260,20,21.5,0,26,30,48.1,3186.4,6444.5232000000005,7107.93,9477.24,1.5,1.08,1.08,1.08,2274,5054,5574,7432,196,435,479,639,0.19615674440729586,0.91294981512938123,1.1001003363250261,1.9230584519635214,1.2760000000000001E-4,1.7219,2,3.76611E-4,768.42720000000008,847.53,1130.04,0.95,0.95,0.95,768,848,1130,330,365,486,0.53526796134941879,0.65032127694667174,1.1314386418343181,3.5,16.399999999999999,17.7,29.7,null,3983,null,0.8,null,null,0,10,10.9,21.85,null,1,1,1,768,848,1130,null,0,0,0,1]
["32028010",null,null,3,20,280,10,11.5,0,26,30,47.8,1650.6000000000001,4331.3824000000004,4782.2249168521384,6369.68,1.5,1.08,1.08,1.08,1178,3397,3750,4995,101,292,323,430,9.8647904688507135E-2,0.69744802061985678,0.84077185533321985,1.4297918820056932,3.969E-4,1.7345999999999999,2,3.6734700000000002E-4,587.68320000000006,648.85364133524638,864.24,0.98,0.98,0.98,588,649,864,253,279,372,0.53495403421136267,0.64106400571541289,1.0925143603098122,1.9,16.2,18.600000000000001,31.4,null,1834,null,0.9,null,null,0,10.199999999999999,11.9,21.85,null,1,1,1,588,649,864,null,0,0,0,1]
["32028020",null,null,3,20,280,20,21.5,0,26,30,48.9,3432,7236.8592000000008,7990.1253664397382,10642.44,1.5,1.08,1.08,1.08,2449,5675,6266,8346,211,488,539,718,0.23107763254255087,1.1617686015146995,1.4078788417424029,2.45260460232267,1.2760000000000001E-4,1.7219,2,3.76611E-4,894.36320000000012,987.455178225689,1315.24,0.95,0.95,0.95,894,987,1315,384,424,565,0.73142402444564503,0.88553710556508203,1.5421797125957473,3.7,19.3,20.399999999999999,34.5,null,4290,null,0.8,null,null,0,10,10.6,21.85,null,1,1,1,894,987,1315,null,0,0,0,1]
["3305010",null,null,3,30,50,10,11.5,0,26,30,38.799999999999997,371.7,649,695,812,1.5,1.08,1.08,1.08,265,509,545,637,23,44,47,55,2.5418417267226079E-3,8.9335048277857931E-3,1.0154354668942562E-2,1.3782148323783661E-2,3.969E-4,1.7345999999999999,2,3.6734700000000002E-4,90.020119234756137,96.328259324977694,112.64,0.98,0.98,0.98,90,{"$f":"ROUND(AL768*POWER(CF_cool,AO768),0)","v":96},{"$f":"ROUND(AM768*POWER(CF_cool,AP768),0)","v":113},39,41,49,7.0687185128054265E-3,7.7890899379448103E-3,1.1010617958771767E-2,0.3,3.6,4.0999999999999996,5.0999999999999996,null,413,null,0.9,null,null,0,14.2,16.2,21.85,null,1,1,1,90,96,113,null,0,0,0,{"$f":"IF(SUM(BV768:BX768)=0,1,0)","v":1}]
["3306010",null,null,3,30,60,10,11.5,0,26,30,40,446.40000000000003,841.69225687813923,901.35950941531064,1066.3800000000001,1.5,1.08,1.08,1.08,319,660,707,836,27,57,61,72,3.7027153174589689E-3,1.5637729576638788E-2,1.782898414147421E-2,2.4572994832794695E-2,3.969E-4,1.7345999999999999,2,3.6734700000000002E-4,116.68990721587436,124.96201154556491,147.84,0.98,0.98,0.98,117,125,148,50,54,64,1.214004296048507E-2,1.4086095785072505E-2,1.9563990759703984E-2,0.4,4.8,5.4,6.8,null,496,null,0.9,null,null,0,13.6,15.6,21.85,null,1,1,1,117,125,148,null,0,0,0,1]
["3306011",null,null,3,30,60,11,11.5,0,26,30,40,457.64000000000004,1142.0361657917249,1222.9946868592929,1446.9,1.5,1.1000000000000001,1.1000000000000001,1.1000000000000001,327,892,955,1130,28,77,82,97,6.7094295113175398E-3,4.6649790795689712E-2,5.2655498392101936E-2,7.2777833153007732E-2,3.969E-4,1.7345999999999999,4,5.7428799999999995E-4,191,205,242,0.95,0.95,0.95,191,205,242,82,88,104,5.2655498392101936E-2,6.0326342797888885E-2,8.3243311217863464E-2,0.8,4.8,5.4,6.8,null,673,null,0.68,null,null,0,13.6,15.6,21.85,null,1,1,1,191,205,242,null,0,0,0,1]
["3306016",null,null,3,30,60,16,16.5,0,26,30,41.1,603.84,1399.7241764138612,1502.5729206967153,1988.7,1.5,1.1000000000000001,1.1000000000000001,1.1000000000000001,431,1093,1173,1553,37,94,101,134,2.0567597840560781E-2,0.12999495976193065,0.1498640371075696,0.26238954698403733,2.0829999999999999E-4,1.724,4,1.392796E-3,214,230,305,0.95,0.95,0.95,214,230,305,92,99,131,0.12457564927087089,0.14404410806926615,0.25087593311274681,1.2,4.8,5.5,7.2,null,888,null,0.68,null,null,0,12.3,14.4,21.85,null,1,1,1,214,230,305,null,0,0,0,1]
["3306020",null,null,3,30,60,20,21.5,0,26,30,41.1,915.2,1346.575008837732,1442.0332127786496,1706.04,1.5,1.08,1.08,1.08,653,1056,1131,1338,56,91,97,115,1.2741863401062405E-2,3.3257087321880145E-2,3.773334830335235E-2,5.2841431064416994E-2,1.2760000000000001E-4,1.7219,2,3.76611E-4,166.41571994991173,178.21286873827722,210.84,0.95,0.95,0.95,166,178,211,71,77,91,2.0362186770824586E-2,2.3902999958867951E-2,3.3257087321880145E-2,0.8,4.8,5.5,7.2,null,1144,null,0.8,null,null,0,12.3,14.4,21.85,null,1,1,1,166,178,211,null,0,0,0,1]
["3306021",null,null,3,30,60,21,21.5,0,26,30,41.1,935.2,1802.6437228662567,1935.0981352499616,2561.16,1.5,1.05,1.05,1.05,667,1423,1528,2022,57,122,131,174,1.8779630761648076E-2,8.3927928329369905E-2,9.6565795839234567E-2,0.16901353512975539,1.2760000000000001E-4,1.7219,4,5.1420100000000005E-4,233.82931859416351,251.01059773412922,332.22,0.85,0.85,0.85,234,251,332,101,108,143,5.7851346790324013E-2,6.601213332318584E-2,0.1147780548995266,1.6,4.8,5.5,7.2,null,1169,null,0.8,null,null,0,12.3,14.4,21.85,null,1,1,1,234,251,332,null,0,0,0,1]
["3307010",null,null,3,30,70,10,11.5,0,26,30,41,520.20000000000005,1029.7403904507714,1104.2859635902939,1320.28,1.5,1.08,1.08,1.08,371,808,866,1035,32,69,74,89,5.4518087118177174E-3,2.3833508628602774E-2,2.7271158049938453E-2,3.8924960889446435E-2,3.969E-4,1.7345999999999999,2,3.6734700000000002E-4,142.7603849699376,153.09517888293954,183.04,0.98,0.98,0.98,143,153,183,61,66,79,1.8801217016227327E-2,2.1878764945327631E-2,3.093277823234393E-2,0.5,5.5,5.9,7.9,null,578,null,0.9,null,null,0,13.2,15.1,21.85,null,1,1,1,143,153,183,null,0,0,0,1]
["3307015",null,null,3,30,70,15,16.5,0,26,30,41.1,760.80000000000007,1070.8273541699666,1149.5094620994566,1521.41,1.5,1.08,1.08,1.08,543,840,901,1193,47,72,77,103,1.1730440483669974E-2,2.7077000311869458E-2,3.0892373713348693E-2,5.4716713303803698E-2,2.0829999999999999E-4,1.724,2,4.6182900000000003E-4,135.09481491470635,145.02129350758159,191.94,1.01,1.01,1.01,135,145,192,58,62,83,1.7715040719154605E-2,2.0190861450308E-2,3.5797696205080359E-2,0.7,5.0999999999999996,5.6,7.2,null,951,null,0.8,null,null,0,12.3,14.4,21.85,null,1,1,1,135,145,192,null,0,0,0,1]
["3307016",null,null,3,30,70,16,16.5,0,26,30,41.1,704.48,1627.62717250317,1747.2217424001376,2312.5,1.5,1.1000000000000001,1.1000000000000001,1.1000000000000001,503,1271,1364,1805,43,109,117,155,2.8210432926485982E-2,0.17694509326691635,0.20354226765780917,0.35504012904622118,2.0829999999999999E-4,1.724,4,1.392796E-3,219.59769851718443,235.73326859625641,312,0.95,0.95,0.95,220,236,312,95,101,134,0.1348444213322838,0.1521944098151945,0.26618360536544905,1.4,5.0999999999999996,5.6,7.2,null,1036,null,0.68,null,null,0,12.3,14.4,21.85,null,1,1,1,220,236,312,null,0,0,0,1]
["3307021",null,null,3,30,70,21,21.5,0,26,30,41.1,1091.2,1977.8291945358951,2123.1558613833213,2810.06,1.5,1.05,1.05,1.05,779,1562,1676,2219,67,134,144,191,2.6498136183711794E-2,0.10327341364618195,0.11896980279584603,0.20738026513327959,1.2760000000000001E-4,1.7219,4,5.1420100000000005E-4,240.30463534531125,257.96170693632649,341.42,0.85,0.85,0.85,240,258,341,103,111,147,6.1591027996900249E-2,7.1335725011536941E-2,0.12389224890734116,1.9,5.0999999999999996,5.6,7.2,null,1364,null,0.8,null,null,0,12.3,14.4,21.85,null,1,1,1,240,258,341,null,0,0,0,1]
["3308010",null,null,3,30,80,10,11.5,0,26,30,41.8,594.9,1214.2269940407766,1304.1433704057049,1574.18,1.5,1.08,1.08,1.08,424,952,1023,1235,{"$f":"ROUND(U782*3600/(4186*ABS($O$1-$O$2)),0)","v":36},{"$f":"ROUND(V782*3600/(4186*ABS($O$1-$O$2)),0)","v":82},{"$f":"ROUND(W782*3600/(4186*ABS($O$1-$O$2)),0)","v":88},{"$f":"ROUND(X782*3600/(4186*ABS($O$1-$O$2)),0)","v":106},7.2206738644547339E-3,3.4861135731848764E-2,3.9921570095941127E-2,5.7081303711220763E-2,3.969E-4,1.7345999999999999,2,3.6734700000000002E-4,168.33710197020613,180.80286190736828,218.24,0.98,0.98,0.98,168,181,218,{"$f":"ROUND(AQ782*3600/(4186*ABS($AM$1-$AM$2)),0)","v":72},{"$f":"ROUND(AR782*3600/(4186*ABS($AM$1-$AM$2)),0)","v":78},{"$f":"ROUND(AS782*3600/(4186*ABS($AM$1-$AM$2)),0)","v":94},2.7165359623318678E-2,3.167181300086596E-2,4.5312552969066985E-2,0.5,6.3,6.8,9.1,null,661,null,0.9,null,null,0,12.8,14.7,21.85,null,1,1,1,168,181,218,null,0,0,0,1]
["3308015",null,null,3,30,80,15,16.5,0,26,30,42.4,869.6,1395.33740436932,1496.2563490716184,2007.56,1.5,1.08,1.08,1.08,620,1094,1173,1574,53,94,101,135,1.5228105606642485E-2,4.6744452652574681E-2,5.3812575245209708E-2,9.5090019266223458E-2,2.0829999999999999E-4,1.724,2,4.6182900000000003E-4,190.46915773046311,204.24499885412456,274.04000000000002,1.01,1.01,1.01,190,204,274,82,88,118,3.5768909532348576E-2,4.1076258231928696E-2,7.3013760578283488E-2,0.8,6,6.7,9,null,1087,null,0.8,null,null,0,11.8,13.7,21.85,null,1,1,1,190,204,274,null,0,0,0,1]
["3308016",null,null,3,30,80,16,16.5,0,26,30,42.4,805.12,2040.4331716148024,2188.0092071816284,2935.7,1.5,1.1000000000000001,1.1000000000000001,1.1000000000000001,574,1593,1708,2292,49,137,147,197,3.7165373320099282E-2,0.28204303816785287,0.32414663509783698,0.57808545963619196,2.0829999999999999E-4,1.724,4,1.392796E-3,312,335,450,0.95,0.95,0.95,312,335,450,134,144,194,0.26997766374686077,0.31121106327333475,0.56081193423750164,1.6,6,6.7,9,null,1184,null,0.68,null,null,0,11.8,13.7,21.85,null,1,1,1,312,335,450,null,0,0,0,1]
["3308021",null,null,3,30,80,21,21.5,0,26,30,42.4,1246.4000000000001,2627.7848955664344,2817.8416357747774,3780.76,1.5,1.05,1.05,1.05,889,2075,2225,2985,76,178,191,257,3.4789713893243944E-2,0.1842669292057651,0.21161521327347374,0.37914528733911407,1.2760000000000001E-4,1.7219,4,5.1420100000000005E-4,340.86222571220884,365.51537125251701,490.42,0.85,0.85,0.85,341,366,490,147,157,211,0.12659023968056798,0.14403307699408213,0.25732674402542394,2.1,6,6.7,9,null,1558,null,0.8,null,null,0,11.8,13.7,21.85,null,1,1,1,341,366,490,null,0,0,0,1]
["3309010",null,null,3,30,90,10,11.5,0,26,30,42.4,668.7,1395.6272192501513,1501.3000140389001,1828.08,1.5,1.08,1.08,1.08,477,1095,1177,1434,41,94,101,123,9.7413246900176307E-3,4.7370929137888165E-2,5.4349648935862721E-2,7.9273358405672414E-2,3.969E-4,1.7345999999999999,2,3.6734700000000002E-4,193.48593193227777,208.13611852764589,253.44,0.98,0.98,0.98,193,208,253,83,89,109,3.7340239212640722E-2,4.2669333600542279E-2,6.2889336846315577E-2,0.6,6.7,7.4,10.3,null,743,null,0.9,null,null,0,12.5,14.7,21.85,null,1,1,1,193,208,253,null,0,0,0,1]
["3309015",null,null,3,30,90,15,16.5,0,26,30,43.3,978.40000000000009,1597.9167676946356,1711.9130538160239,2331.36,1.5,1.08,1.08,1.08,698,1253,1343,1828,60,108,115,157,1.9882545577744107E-2,6.2677952603543502E-2,7.0873536439037516E-2,0.1304045922070263,2.0829999999999999E-4,1.724,2,4.6182900000000003E-4,218.12205414485143,233.68300487544244,318.24,1.01,1.01,1.01,218,234,318,94,101,137,4.7773932289979358E-2,5.4977761599022158E-2,9.9846629634346956E-2,0.9,7,7.7,10.7,null,1223,null,0.8,null,null,0,11.3,13.2,21.85,null,1,1,1,218,234,318,null,0,0,0,1]
["3309016",null,null,3,30,90,16,16.5,0,26,30,43.3,905.7600000000001,2336.669516687492,2503.3688418217644,3409.2,1.5,1.1000000000000001,1.1000000000000001,1.1000000000000001,646,1824,1954,2662,56,157,168,229,4.9177951947157544E-2,0.37413425352165253,0.42759818960823864,0.7880408313931474,2.0829999999999999E-4,1.724,4,1.392796E-3,357.77938745479025,383.30357134546551,522,0.95,0.95,0.95,358,383,522,154,165,224,0.36016635113087053,0.41266687566708049,0.75442675175462648,1.8,7,7.7,10.7,null,1332,null,0.68,null,null,0,11.3,13.2,21.85,null,1,1,1,358,383,522,null,0,0,0,1]
["3309021",null,null,3,30,90,21,21.5,0,26,30,43.3,1402.4,3009.2947651024979,3223.9795559512399,4390.5600000000004,1.5,1.05,1.05,1.05,1001,2376,2545,3467,86,204,219,298,4.5373177144898288E-2,0.24557012647784476,0.28220360612938261,0.51636549160207501,1.2760000000000001E-4,1.7219,4,5.1420100000000005E-4,390.34964893343317,418.19741370243202,569.52,0.85,0.85,0.85,390,418,570,168,180,245,0.16789509816318576,0.19217671661448937,0.35163070513405226,2.4,7,7.7,10.7,null,1753,null,0.8,null,null,0,11.3,13.2,21.85,null,1,1,1,390,418,570,null,0,0,0,1]
["33010010",null,null,3,30,100,10,11.5,0,26,30,43,743.4,1574.3905475253332,1696.1265760133244,2081.98,1.5,1.08,1.08,1.08,530,1235,1330,1633,46,106,114,140,1.2718311707464635E-2,6.2151943031227098E-2,7.1407310896984919E-2,0.10572290690654358,3.969E-4,1.7345999999999999,2,3.6734700000000002E-4,218.26918973175157,235.14633901405676,288.64,0.98,0.98,0.98,218,235,289,94,101,124,4.9429305306709352E-2,5.6681136080738742E-2,8.3841493078660942E-2,0.7,7.8,8.6999999999999993,12.2,null,826,null,0.9,null,null,0,12.3,14.1,21.85,null,1,1,1,218,235,289,null,0,0,0,1]
["33010015",null,null,3,30,100,15,16.5,0,26,30,44.1,{"$f":"IF($N796-($BE796*$BG796)>100,$BE796*$BG796,$N796-95)","v":1087.2},1798.7737222599399,1926.0891717740149,2655.16,1.5,1.08,1.08,1.08,{"$f":"ROUND(M796*POWER(CF_heat,Q796),0)","v":776},{"$f":"ROUND(N796*POWER(CF_heat,R796),0)","v":1411},{"$f":"ROUND(O796*POWER(CF_heat,S796),0)","v":1511},{"$f":"ROUND(P796*POWER(CF_heat,T796),0)","v":2082},67,121,130,179,2.5232423143198904E-2,7.9882926528895518E-2,9.1900063797744749E-2,0.17176599623849034,{"$f":"IF($G796=$CO$103,CP$103,IF($G796=$CO$104,CP$104,IF($G796=$CO$105,CP$105,IF($G796=$CO$107,CP$107,IF($G796=$CO$108,CP$108,IF($G796=$CO$109,CP$109,IF($G796=$CO$111,CP$111,IF($G796=$CO$112,CP$112,IF($G796=$CO$113,CP$113,IF($G796=$CO$115,CP$115,IF($G796=$CO$116,CP$116,IF($G796=$CO$117,CP$117,IF($G796=$CO$119,CP$119,IF($G796=$CO$120,CP$120,))))))))))))))","v":2.0829999999999999E-4},{"$f":"IF($G796=$CO$103,CQ$103,IF($G796=$CO$104,CQ$104,IF($G796=$CO$105,CQ$105,IF($G796=$CO$107,CQ$107,IF($G796=$CO$108,CQ$108,IF($G796=$CO$109,CQ$109,IF($G796=$CO$111,CQ$111,IF($G796=$CO$112,CQ$112,IF($G796=$CO$113,CQ$113,IF($G796=$CO$115,CQ$115,IF($G796=$CO$116,CQ$116,IF($G796=$CO$117,CQ$117,IF($G796=$CO$119,CQ$119,IF($G796=$CO$120,CQ$120,))))))))))))))","v":1.724},{"$f":"IF($G796=$CO$103,CR$103,IF($G796=$CO$104,CR$104,IF($G796=$CO$105,CR$105,IF($G796=$CO$107,CR$107,IF($G796=$CO$108,CR$108,IF($G796=$CO$109,CR$109,IF($G796=$CO$111,CR$111,IF($G796=$CO$112,CR$112,IF($G796=$CO$113,CR$113,IF($G796=$CO$115,CR$115,IF($G796=$CO$116,CR$116,IF($G796=$CO$117,CR$117,IF($G796=$CO$119,CR$119,IF($G796=$CO$120,CR$120,))))))))))))))","v":2},{"$f":"IF($G796=$CO$103,CS$103,IF($G796=$CO$104,CS$104,IF($G796=$CO$105,CS$105,IF($G796=$CO$107,CS$107,IF($G796=$CO$108,CS$108,IF($G796=$CO$109,CS$109,IF($G796=$CO$111,CS$111,IF($G796=$CO$112,CS$112,IF($G796=$CO$113,CS$113,IF($G796=$CO$115,CS$115,IF($G796=$CO$116,CS$116,IF($G796=$CO$117,CS$117,IF($G796=$CO$119,CS$119,IF($G796=$CO$120,CS$120,))))))))))))))","v":4.6182900000000003E-4},245.53983484833029,262.91890485611941,362.44,1.01,1.01,1.01,246,263,362,106,113,156,6.1693712021988735E-2,6.989545441405931E-2,0.13124694650181259,{"$f":"ROUND(IF(G796=10,$CO$92*F796,IF(G796=11,$CO$93*F796,IF(G796=15,$CO$94*F796,IF(G796=16,$CO$95*F796,IF(G796=20,$CO$96*F796,IF(G796=21,$CO$97*F796,)))))),1)","v":1},7,7.7,10.7,null,1359,null,{"$f":"IF(G796=10,0.9,IF(G796=11,0.68,IF(G796=15,0.8,IF(G796=16,0.68,IF(G796=20,0.8,IF(G796=21,0.8))))))","v":0.8},null,null,0,10.9,12.8,21.85,null,1,1,1,{"$f":"AQ796/BO796","v":246},{"$f":"AR796/BP796","v":263},{"$f":"AS796/BQ796","v":362},null,{"$f":"BR796-AQ796","v":0},{"$f":"BS796-AR796","v":0},{"$f":"BT796-AS796","v":0},1]
[{"$f":"CONCATENATE(D797,E797,F797,G797)","v":"33010016"},null,null,3,30,100,16,16.5,0,26,30,44.1,1006.4000000000001,2630.3871448118639,2816.5633812075234,3882.7,1.5,{"$f":"IF($G797=10,1.08,IF($G797=11,1.1,IF($G797=15,1.08,IF($G797=16,1.1,IF($G797=20,1.08,IF($G797=21,1.05))))))","v":1.1000000000000001},1.1000000000000001,1.1000000000000001,718,2054,2199,3031,62,177,189,261,{"$f":"(($AG797*(Y797^$AH797)*((($F797-14.4)*$AI797)/100))+($AJ797*(Y797^2)))*0.0098","v":6.1068968454462046E-2},{"$f":"(($AG797*(Z797^$AH797)*((($F797-14.4)*$AI797)/100))+($AJ797*(Z797^2)))*0.0098","v":0.4800973876606639},{"$f":"(($AG797*(AA797^$AH797)*((($F797-14.4)*$AI797)/100))+($AJ797*(AA797^2)))*0.0098","v":0.5463285500064492},{"$f":"(($AG797*(AB797^$AH797)*((($F797-14.4)*$AI797)/100))+($AJ797*(AB797^2)))*0.0098","v":1.0323140112813236},2.0829999999999999E-4,1.724,4,1.392796E-3,403,431,595,0.95,0.95,0.95,403,431,595,173,185,256,{"$f":"(($AG797*(AT797^$AH797)*((($F797-14.4)*$AI797)/100))+($AJ797*(AT797^2)))*0.0098","v":0.45896052508691165},{"$f":"(($AG797*(AU797^$AH797)*((($F797-14.4)*$AI797)/100))+($AJ797*(AU797^2)))*0.0098","v":0.52378160296818432},{"$f":"(($AG797*(AV797^$AH797)*((($F797-14.4)*$AI797)/100))+($AJ797*(AV797^2)))*0.0098","v":0.99366847477469411},2,7,7.7,10.7,null,1480,null,0.68,null,null,0,10.9,12.8,21.85,null,{"$f":"IF(1/(1+((2258*((0.622/((101325/(1*611*EXP(17.27*((($AM$1+$AM$2)/2)/((($AM$1+$AM$2)/2)+237.3))))))-1)*1000-(0.622/((101325/($AQ$1*611*EXP(17.27*($AM$3/($AM$3+237.3))))))-1)*1000))/(1005*((($AM$1+$AM$2)/2)-$AM$3))))>1,1,1/(1+((2258*((0.622/((101325/(1*611*EXP(17.27*((($AM$1+$AM$2)/2)/((($AM$1+$AM$2)/2)+237.3))))))-1)*1000-(0.622/((101325/($AQ$1*611*EXP(17.27*($AM$3/($AM$3+237.3))))))-1)*1000))/(1005*((($AM$1+$AM$2)/2)-$AM$3)))))","v":1},1,1,403,431,595,null,0,0,0,1]
["33010021",null,null,3,30,100,21,21.5,0,26,30,44.1,1558.4,3387.5608889256064,3627.3291443724347,5000.3599999999997,1.5,1.05,1.05,1.05,1112,2675,2864,3948,96,230,246,340,5.7529758026403005E-2,0.31649151807140574,0.36099859926961725,0.68037875512768187,1.2760000000000001E-4,1.7219,4,5.1420100000000005E-4,439.41631078060919,470.51776864522725,648.62,0.85,0.85,0.85,439,471,649,189,203,279,0.21560419169801393,0.24792046126884393,0.46186798350799674,2.7,7,7.7,10.7,null,1948,null,0.8,null,null,0,10.9,12.8,21.85,null,1,1,1,439,471,649,null,0,0,0,1]
["33011010",null,null,3,30,110,10,11.5,0,26,30,43.5,818.1,1766.3893947845202,1902.9712804051933,2335.88,1.5,1.08,1.08,1.08,584,1385,1492,1832,50,119,128,158,1.5583070877683611E-2,8.0603275811184871E-2,9.2599605028954202E-2,0.13830835282173867,3.969E-4,1.7345999999999999,2,3.6734700000000002E-4,244.88738360147738,263.82272182064906,323.83999999999997,0.98,0.98,0.98,245,264,324,105,114,139,6.3532409410345894E-2,7.4283678081492499E-2,0.10834103483995079,0.7,8.4,9.3000000000000007,14,null,909,null,0.9,null,null,0,12,13.9,21.85,null,1,1,1,245,264,324,null,0,0,0,1]
["33011015",null,null,3,30,110,15,16.5,0,26,30,44.1,1196,1908.1501882577959,2043.2071973479594,2816.6099999999997,1.5,1.08,1.08,1.08,853,1496,1602,2209,73,129,138,190,3.048326075936468E-2,9.2300683368990388E-2,0.10527066402536114,0.19649702710776104,2.0829999999999999E-4,1.724,2,4.6182900000000003E-4,249.80785427097814,267.48901053042016,368.74,1.01,1.01,1.01,250,267,369,108,115,159,6.5293712586279876E-2,7.3788401225819936E-2,0.1387762211751877,1.1000000000000001,7.9,8.8000000000000007,12.5,null,1495,null,0.8,null,null,0,10.9,12.8,21.85,null,1,1,1,250,267,369,null,0,0,0,1]
["33011016",null,null,3,30,110,16,16.5,0,26,30,44.1,1107.0400000000002,2849.7497938679544,3051.4523045945984,4206.5,1.5,1.1000000000000001,1.1000000000000001,1.1000000000000001,790,2225,2382,3284,68,191,205,282,7.4378464976376485E-2,0.56476814232501726,0.64910736540223946,1.2162714994016472,2.0829999999999999E-4,1.724,4,1.392796E-3,407.83296705301524,436.69898665540194,602,0.95,0.95,0.95,408,437,602,175,188,259,0.47548152700019564,0.54744957167687558,1.0285851673079258,2.2000000000000002,7.9,8.8000000000000007,12.5,null,1628,null,0.68,null,null,0,10.9,12.8,21.85,null,1,1,1,408,437,602,null,0,0,0,1]
["33011021",null,null,3,30,110,21,21.5,0,26,30,44.1,1714.4,3556.1815292902165,3807.8845891872675,5249.2599999999993,1.5,1.05,1.05,1.05,1223,2808,3007,4145,105,241,259,356,7.0007267635564835E-2,0.35310128138501551,0.40643245418374957,0.75693105159793073,1.2760000000000001E-4,1.7219,4,5.1420100000000005E-4,445.64897406447591,477.19157375690452,657.82,0.85,0.85,0.85,446,477,658,192,205,283,0.22661573879571267,0.25750136415425773,0.48325773512719011,2.9,7.9,8.8000000000000007,12.5,null,2143,null,0.8,null,null,0,10.9,12.8,21.85,null,1,1,1,446,477,658,null,0,0,0,1]
["33012010",null,null,3,30,120,10,11.5,0,26,30,44,891.9,1924.9914127028867,2079.6202422788024,2589.7800000000002,1.5,1.08,1.08,1.08,636,1510,1631,2031,55,130,140,175,1.946895325678524E-2,9.8985854052659E-2,0.11393853661367993,0.17413148637766063,3.969E-4,1.7345999999999999,2,3.6734700000000002E-4,266.87553260000635,288.31284965818764,359.04,0.98,0.98,0.98,267,288,359,115,124,154,7.844810437960871E-2,9.0497540707880797E-2,0.13655457969155813,0.8,8.9,9.9,14.8,null,991,null,0.9,null,null,0,11.8,13.7,21.85,null,1,1,1,267,288,359,null,0,0,0,1]
["33012015",null,null,3,30,120,15,16.5,0,26,30,44.8,1304.8000000000002,2216.9073865755149,2373.9948983307781,3302.76,1.5,1.08,1.08,1.08,931,1739,1862,2590,80,150,160,223,3.7198503171834436E-2,0.12616601065937175,0.14306010269934949,0.27327410250387973,2.0829999999999999E-4,1.724,2,4.6182900000000003E-4,302.61675876046246,324.05983479376272,450.84,1.01,1.01,1.01,303,324,451,130,139,194,9.5500985484133716E-2,0.10878402336268925,0.20824992292405745,1.2,8.6999999999999993,9.8000000000000007,14.3,null,1631,null,0.8,null,null,0,10.6,12.5,21.85,null,1,1,1,303,324,451,null,0,0,0,1]
["33012016",null,null,3,30,120,16,16.5,0,26,30,44.8,1207.68,3241.8333772189817,3471.5459677567114,4829.7,1.5,1.1000000000000001,1.1000000000000001,1.1000000000000001,862,2531,2710,3771,74,218,233,324,8.9138557660284612E-2,0.74138661467882749,0.84499496566697219,1.6164367454023814,2.0829999999999999E-4,1.724,4,1.392796E-3,496,532,740,0.95,0.95,0.95,496,532,740,213,229,318,0.70833668732811383,0.81671249966312653,1.5580377368272431,2.4,8.6999999999999993,9.8000000000000007,14.3,null,1776,null,0.68,null,null,0,10.6,12.5,21.85,null,1,1,1,496,532,740,null,0,0,0,1]
["33012020",null,null,3,30,120,20,21.5,0,26,30,44.8,1829.6000000000001,3079.6829926739365,3327.0647594078355,4143.24,1.5,1.08,1.08,1.08,1305,2415,2609,3249,112,208,224,279,5.521630404580833E-2,0.1855749132469651,0.2146103274757947,0.33023406948567835,1.2760000000000001E-4,1.7219,2,3.76611E-4,380.60090160569081,411.17343900116532,512.04,0.95,0.95,0.95,381,411,512,164,177,220,0.11646670942658871,0.13524222402195477,0.20715667478646135,1.6,8.6999999999999993,9.8000000000000007,14.3,null,2287,null,0.8,null,null,0,10.6,12.5,21.85,null,1,1,1,381,411,512,null,0,0,0,1]
["33012021",null,null,3,30,120,21,21.5,0,26,30,44.8,1870.4,4175.015825613802,4470.8526528786542,6219.96,1.5,1.05,1.05,1.05,1335,3296,3530,4911,115,283,304,422,8.5311814922299778E-2,0.49159200971034805,0.56525436757201819,1.0725116519177567,1.2760000000000001E-4,1.7219,4,5.1420100000000005E-4,541.56076058716258,579.9351342123673,806.82,0.85,0.85,0.85,542,580,807,233,249,347,0.33654397258851859,0.38303545484733642,0.73178556707416287,3.2,8.6999999999999993,9.8000000000000007,14.3,null,2338,null,0.8,null,null,0,10.6,12.5,21.85,null,1,1,1,542,580,807,null,0,0,0,1]
["33014011",null,null,3,30,140,11,11.5,0,26,30,44.8,1066.92,3077.015307780141,3332.5766142436496,4202.8999999999996,1.5,1.1000000000000001,1.1000000000000001,1.1000000000000001,761,2402,2602,3281,65,207,224,282,5.1045329069035215E-2,0.44450269226506778,0.51557472310872998,0.79522620174472214,3.969E-4,1.7345999999999999,4,5.7428799999999995E-4,515,558,704,0.95,0.95,0.95,515,558,704,221,240,303,0.5026708586376617,0.58700184508997044,0.91049538023254029,1.9,10.1,11.2,17.5,null,1569,null,0.68,null,null,0,11.5,13.3,21.85,null,1,1,1,515,558,704,null,0,0,0,1]
["33014015",null,null,3,30,140,15,16.5,0,26,30,45.4,1522.4,2628.9846104428207,2815.4584574952669,3950.36,1.5,1.08,1.08,1.08,1086,2062,2208,3098,93,177,190,266,5.1838750266473332E-2,0.18029092070853758,0.20688755958299987,0.39793806455132874,2.0829999999999999E-4,1.724,2,4.6182900000000003E-4,358.86695423586366,384.32138301819265,539.24,1.01,1.01,1.01,359,384,539,154,165,232,0.137621338941047,0.1573279392829452,0.30498467021762166,1.4,9.6,10.5,16.100000000000001,null,1903,null,0.8,null,null,0,10.4,12.2,21.85,null,1,1,1,359,384,539,null,0,0,0,1]
["33014020",null,null,3,30,140,20,21.5,0,26,30,45.4,2134.4,3628.1091959950468,3929.4415695377957,4955.6400000000003,1.5,1.08,1.08,1.08,1523,2845,3082,3886,131,245,265,334,7.7231562554442329E-2,0.26237161414251958,0.30592500796073402,0.48134974943137049,1.2760000000000001E-4,1.7219,2,3.76611E-4,448.37784746172167,485.61784045001809,612.44000000000005,0.95,0.95,0.95,448,486,612,193,209,263,0.16455496588623258,0.1922740711354792,0.30142179085547277,1.9,9.6,10.5,16.100000000000001,null,2668,null,0.8,null,null,0,10.4,12.2,21.85,null,1,1,1,448,486,612,null,0,0,0,1]
["33014021",null,null,3,30,140,21,21.5,0,26,30,45.4,2181.6,4951.0649025572329,5302.2438770247491,7439.56,1.5,1.05,1.05,1.05,1557,3909,4186,5874,134,336,360,505,0.11937603325439661,0.7095813437342614,0.81150138458700172,1.5688563953148518,1.2760000000000001E-4,1.7219,4,5.1420100000000005E-4,642.22570316870622,687.77876463210498,965.02,0.85,0.85,0.85,642,688,965,276,296,415,0.48412380536530875,0.55460694628885931,1.0702397452319661,3.7,9.6,10.5,16.100000000000001,null,2727,null,0.8,null,null,0,10.4,12.2,21.85,null,1,1,1,642,688,965,null,0,0,0,1]
["33016011",null,null,3,30,160,11,11.5,0,26,30,45.5,1219.92,3533.107636511756,3835.359341571188,4891.8999999999996,1.5,1.1000000000000001,1.1000000000000001,1.1000000000000001,870,2758,2994,3819,75,237,257,328,7.2172063016508484E-2,0.61422385368791244,0.71480772824658112,1.1292825279207326,3.969E-4,1.7345999999999999,4,5.7428799999999995E-4,592,642,819,0.95,0.95,0.95,592,642,819,255,276,352,0.70442666719486835,0.81698629969873737,1.2893886583447325,2.1,11,12.4,19.2,null,1794,null,0.68,null,null,0,11.2,13,21.85,null,1,1,1,592,642,819,null,0,0,0,1]
["33016015",null,null,3,30,160,15,16.5,0,26,30,46.4,1739.2,3021.1783832091446,3225.6120441880121,4597.96,1.5,1.08,1.08,1.08,1241,2369,2530,3606,107,204,218,310,7.0557080164930369E-2,0.24535535943304876,0.27900545112342201,0.55221870136410589,2.0829999999999999E-4,1.724,2,4.6182900000000003E-4,412.40297880742492,440.30899429620177,627.64,1.01,1.01,1.01,412,440,628,177,189,270,0.18642121393254038,0.21164255392481759,0.42236240265801678,1.6,11.5,12.8,19.600000000000001,null,2174,null,0.8,null,null,0,10,11.8,21.85,null,1,1,1,412,440,628,null,0,0,0,1]
["33016020",null,null,3,30,160,20,21.5,0,26,30,46.4,2440,4165.887726998767,4522.2727563025155,5768.04,1.5,1.08,1.08,1.08,1741,3267,3547,4524,150,281,305,389,0.10337938698826203,0.3513653688085987,0.41235697482772449,0.66342434491024516,1.2760000000000001E-4,1.7219,2,3.76611E-4,514.83890668473202,558.88255136973487,712.84,0.95,0.95,0.95,515,559,713,221,240,307,0.21989661309334549,0.25827229749987091,0.41765567382317259,2.1,11.5,12.8,19.600000000000001,null,3050,null,0.8,null,null,0,10,11.8,21.85,null,1,1,1,515,559,713,null,0,0,0,1]
["33016021",null,null,3,30,160,21,21.5,0,26,30,46.4,2493.6000000000004,5689.6682460807178,6074.6702425752001,8659.16,1.5,1.05,1.05,1.05,1779,4492,4796,6837,153,386,412,588,0.16004604980330817,0.95789835596811579,1.0870494190212092,2.1697162791451228,1.2760000000000001E-4,1.7219,4,5.1420100000000005E-4,738.0333851508442,787.97378843505794,1123.22,0.85,0.85,0.85,738,788,1123,317,339,483,0.65390832051840242,0.74470210261054104,1.4802227109968673,4.3,11.5,12.8,19.600000000000001,null,3117,null,0.8,null,null,0,10,11.8,21.85,null,1,1,1,738,788,1123,null,0,0,0,1]
["33018011",null,null,3,30,180,11,11.5,0,26,30,46,1372.24,4030.7284303866513,4375.55079813051,5580.9,1.5,1.1000000000000001,1.1000000000000001,1.1000000000000001,979,3147,3416,4357,84,271,294,375,9.580092671395736E-2,0.84114261538251256,0.97920937003276931,1.542963405794187,3.969E-4,1.7345999999999999,4,5.7428799999999995E-4,675.10313623602258,732.85712932403612,934.74,0.95,0.95,0.95,675,733,935,290,315,402,0.95449169552535984,1.1138291531732329,1.7573589514811909,2.4,12.2,13.7,22,null,2018,null,0.68,null,null,0,10.9,12.7,21.85,null,1,1,1,675,733,935,null,0,0,0,1]
["33018015",null,null,3,30,180,15,16.5,0,26,30,46.4,1956.8000000000002,3233.3460619053994,3452.1364439366635,4920.8599999999997,1.5,1.08,1.08,1.08,1396,2536,2707,3859,120,218,233,332,9.1145831623998294E-2,0.28778504307982616,0.32723974604003053,0.64898864028636305,2.0829999999999999E-4,1.724,2,4.6182900000000003E-4,420.6820520547858,449.14828645115074,640.24,1.01,1.01,1.01,421,449,640,181,193,275,0.2010263623163458,0.22751208445626886,0.45076939507650016,1.8,11.5,12.8,19.600000000000001,null,2446,null,0.8,null,null,0,10,11.8,21.85,null,1,1,1,421,449,640,null,0,0,0,1]
["33018020",null,null,3,30,180,20,21.5,0,26,30,46.4,2744.8,4497.8275192555193,4882.6094666576164,6227.64,1.5,1.08,1.08,1.08,1958,3527,3829,4884,168,303,329,420,0.1322830855216606,0.41646566084553188,0.48893351284694392,0.78724334085603187,1.2760000000000001E-4,1.7219,2,3.76611E-4,526.1057925837863,571.11330132956857,728.44,0.95,0.95,0.95,526,571,728,226,246,313,0.23536033293811029,0.27756656183252509,0.44366421223291913,2.4,11.5,12.8,19.600000000000001,null,3431,null,0.8,null,null,0,10,11.8,21.85,null,1,1,1,526,571,728,null,0,0,0,1]
["33018021",null,null,3,30,180,21,21.5,0,26,30,46.4,2804.8,6016.7573462820046,6423.892435808023,9156.9599999999991,1.5,1.05,1.05,1.05,2001,4751,5072,7230,172,409,436,622,0.20763238655565305,1.103167036901554,1.2484144659284111,2.4851546453410029,1.2760000000000001E-4,1.7219,4,5.1420100000000005E-4,750.12346036921247,800.88196110577712,1141.6200000000001,0.85,0.85,0.85,750,801,1142,323,344,491,0.69902928526631702,0.78946623977507491,1.5712748482814811,4.8,11.5,12.8,19.600000000000001,null,3506,null,0.8,null,null,0,10,11.8,21.85,null,1,1,1,750,801,1142,null,0,0,0,1]
["33020011",null,null,3,30,200,11,11.5,0,26,30,46.5,1524.5600000000002,4422.7050634086982,4820.649682883678,6269.9,1.5,1.1000000000000001,1.1000000000000001,1.1000000000000001,1088,3453,3764,4895,94,297,324,421,0.12613612931304241,1.0585097287299379,1.2444441055870641,2.0270127868370142,3.969E-4,1.7345999999999999,4,5.7428799999999995E-4,741,807,1050,0.95,0.95,0.95,741,807,1050,319,347,452,1.2089524361917552,1.4138727396795772,2.3143510148052444,2.7,13.4,14.8,24,null,2242,null,0.68,null,null,0,10.7,12.5,21.85,null,1,1,1,741,807,1050,null,0,0,0,1]
["33020015",null,null,3,30,200,15,16.5,0,26,30,47.1,2174.4,3875.4624109054007,4083.4735576056296,5893.16,1.5,1.08,1.08,1.08,1551,3039,3202,4622,133,261,275,397,0.11481617387831441,0.41943542456469279,0.46387282230494226,0.94232779221518648,2.0829999999999999E-4,1.724,2,4.6182900000000003E-4,529.01617838795164,557.41053504066974,804.44,1.01,1.01,1.01,529,{"$f":"ROUND(AL832*POWER(CF_cool,AO832),0)","v":557},{"$f":"ROUND(AM832*POWER(CF_cool,AP832),0)","v":804},227,240,346,0.3205762003800503,0.35685612106712633,0.72249739815889857,2,13.2,14.7,23.5,null,2718,null,0.8,null,null,0,10,11.4,21.85,null,1,1,1,529,557,804,null,0,0,0,{"$f":"IF(SUM(BV832:BX832)=0,1,0)","v":1}]
["33020020",null,null,3,30,200,20,21.5,0,26,30,47.1,3049.6000000000004,5214.8121821672385,5684.028740747025,7392.84,1.5,1.08,1.08,1.08,2176,4090,4458,5798,187,352,383,499,0.16695701278884262,0.56991326043648238,0.67162306767239033,1.1243831840072513,1.2760000000000001E-4,1.7219,2,3.76611E-4,644.46964929787134,702.45751547390614,913.64,0.95,0.95,0.95,644,702,914,277,302,393,0.35773067054432378,0.42311312971539766,0.70617331390652549,2.7,13.2,14.7,23.5,null,3812,null,0.8,null,null,0,10,11.4,21.85,null,1,1,1,644,702,914,null,0,0,0,1]
["33020021",null,null,3,30,200,21,21.5,0,26,30,47.1,3116.8,7298.5082710627348,7690.2476078687869,11098.36,1.5,1.05,1.05,1.05,2224,5763,6072,8763,191,496,522,754,0.26243459095580368,1.6462201996699861,1.8169792507482643,3.7009529132948087,1.2760000000000001E-4,1.7219,4,5.1420100000000005E-4,946.7235228616961,997.53785795739748,1439.62,0.85,0.85,0.85,947,998,1440,407,429,619,1.123918147974541,1.2440371883056511,2.5261009474966261,5.3,13.2,14.7,23.5,null,3896,null,0.8,null,null,0,10,11.4,21.85,null,1,1,1,947,998,1440,null,0,0,0,1]
["33022011",null,null,3,30,220,11,11.5,0,26,30,46.9,1676.88,4831.2827990970827,5278.770565343093,6958.9,1.5,1.1000000000000001,1.1000000000000001,1.1000000000000001,1196,3772,4121,5433,103,324,354,467,0.15889536826957884,1.314879108402222,1.5495706507880502,2.5925816673788113,3.969E-4,1.7345999999999999,4,5.7428799999999995E-4,809.18727868766814,884.1366084769129,1165.54,0.95,0.95,0.95,809,884,1166,348,380,501,1.5011980733038943,1.7674215645183677,2.9547969820093392,2.9,13.4,14.8,24,null,2466,null,0.68,null,null,0,10.5,12.3,21.85,null,1,1,1,809,884,1166,null,0,0,0,1]
["33022015",null,null,3,30,220,15,16.5,0,26,30,47.8,2392,4302.5567439745028,4481.7988603493422,6540.76,1.5,1.08,1.08,1.08,1707,3374,3515,5130,147,290,302,441,0.14355411332520066,0.52824934112772992,0.57108950097253486,1.1842811694377704,2.0829999999999999E-4,1.724,2,4.6182900000000003E-4,587.31626956044784,611.78353807115786,892.84,1.01,1.01,1.01,587,612,893,252,263,384,0.40328748590288432,0.43778400702821296,0.90690223440245954,2.2000000000000002,15.5,16.8,27.5,null,2990,null,0.8,null,null,0,10,11.1,21.85,null,1,1,1,587,612,893,null,0,0,0,1]
["33022020",null,null,3,30,220,20,21.5,0,26,30,47.8,3354.4,5696.5662496175182,6224.1991397456159,8205.24,1.5,1.08,1.08,1.08,2393,4467,4881,6435,206,384,420,553,0.20621041155580372,0.68913594795268296,0.82013908311111194,1.4002126537427437,1.2760000000000001E-4,1.7219,2,3.76611E-4,704.00695650122941,769.21417236639559,1014.04,0.95,0.95,0.95,704,769,1014,303,331,436,0.43521399990720622,0.5165738484716168,0.88193136480825907,2.9,15.5,16.8,27.5,null,4193,null,0.8,null,null,0,10,11.1,21.85,null,1,1,1,704,769,1014,null,0,0,0,1]
["33022021",null,null,3,30,220,21,21.5,0,26,30,47.8,3428.8,8102.8384881891643,8440.3982243391856,12317.96,1.5,1.05,1.05,1.05,2446,6398,6664,9726,210,550,573,836,0.32474282234661939,2.062358887776655,2.231838465716764,4.6282420475748083,1.2760000000000001E-4,1.7219,4,5.1420100000000005E-4,1051.0569439418873,1094.8433905300585,1597.82,0.85,0.85,0.85,1051,1095,1598,452,471,687,1.4132675404061716,1.529835024440543,3.1674021588285153,5.9,15.5,16.8,27.5,null,4286,null,0.8,null,null,0,10,11.1,21.85,null,1,1,1,1051,1095,1598,null,0,0,0,1]
["33024011",null,null,3,30,240,11,11.5,0,26,30,47.2,1829.2,5237.9452617275747,5738.028861571599,7647.9,1.5,1.1000000000000001,1.1000000000000001,1.1000000000000001,1305,4089,4480,5971,112,352,385,514,0.19645562818249471,1.6146931478475526,1.905847517886774,3.2559623282985095,3.969E-4,1.7345999999999999,4,5.7428799999999995E-4,877,961,1281,0.95,0.95,0.95,877,961,1281,377,413,551,1.8332088548014907,2.1703781533558777,3.704430979547201,3.2,14.8,16.600000000000001,28,null,2690,null,0.68,null,null,0,10.4,12.2,21.85,null,1,1,1,877,961,1281,null,0,0,0,1]
["33024015",null,null,3,30,240,15,16.5,0,26,30,48.1,2609.6000000000004,4729.715265656896,4901.7743245246338,7188.36,1.5,1.08,1.08,1.08,1862,3709,3844,5637,160,319,331,485,0.17396515176679206,0.65146857081143239,0.69931956136513895,1.4577106558488697,2.0829999999999999E-4,1.724,2,4.6182900000000003E-4,645.62512273636446,669.11187505864359,981.24,1.01,1.01,1.01,646,669,981,278,288,422,0.50037899202077363,0.5354561461459616,1.1152542227427753,2.4,16.399999999999999,17.7,29.7,null,3262,null,0.8,null,null,0,10,10.9,21.85,null,1,1,1,646,669,981,null,0,0,0,1]
["33024020",null,null,3,30,240,20,21.5,0,26,30,48.1,3659.2000000000003,6176.0620183272586,6765.7106634844222,9017.64,1.5,1.08,1.08,1.08,2611,4844,5306,7072,{"$f":"ROUND(U846*3600/(4186*ABS($O$1-$O$2)),0)","v":225},{"$f":"ROUND(V846*3600/(4186*ABS($O$1-$O$2)),0)","v":417},{"$f":"ROUND(W846*3600/(4186*ABS($O$1-$O$2)),0)","v":456},{"$f":"ROUND(X846*3600/(4186*ABS($O$1-$O$2)),0)","v":608},0.25018479935210886,0.82504336232375919,0.98120320393227112,1.7151431662130303,1.2760000000000001E-4,1.7219,2,3.76611E-4,763.26517311676128,836.13657141043336,1114.44,0.95,0.95,0.95,763,836,1114,{"$f":"ROUND(AQ846*3600/(4186*ABS($AM$1-$AM$2)),0)","v":328},{"$f":"ROUND(AR846*3600/(4186*ABS($AM$1-$AM$2)),0)","v":359},{"$f":"ROUND(AS846*3600/(4186*ABS($AM$1-$AM$2)),0)","v":479},0.51827708039997999,0.61727233073709142,1.0794747424565225,3.2,16.399999999999999,17.7,29.7,null,4574,null,0.8,null,null,0,10,10.9,21.85,null,1,1,1,763,836,1114,null,0,0,0,1]
["33024021",null,null,3,30,240,21,21.5,0,26,30,48.1,3740,8907.2895892451361,9231.3217513746804,13537.56,1.5,1.05,1.05,1.05,2669,7033,7289,10689,230,605,627,919,0.39813545488445251,2.5400955106251395,2.7208037343149845,5.6848092494770484,1.2760000000000001E-4,1.7219,4,5.1420100000000005E-4,1155.4060454399644,1197.4377673560793,1756.02,0.85,0.85,0.85,1155,1197,1756,497,515,755,1.7405492683847181,1.8636668369026486,3.8910739231720726,6.4,16.399999999999999,17.7,29.7,null,4675,null,0.8,null,null,0,10,10.9,21.85,null,1,1,1,1155,1197,1756,null,0,0,0,1]
["33026010",null,null,3,30,260,10,11.5,0,26,30,47.8,1933.2,4178.1784000000007,4608.2849999999999,6144.38,1.5,1.08,1.08,1.08,1379,3277,3614,4819,119,282,311,414,0.12708392536335777,0.62619933930989857,0.75101257718335657,1.2786543856943258,3.969E-4,1.7345999999999999,2,3.6734700000000002E-4,579.25120000000004,638.88,851.84,0.98,0.98,0.98,579,639,852,249,275,366,0.4971168110898011,0.59766089099899167,1.0165350975712137,1.7,16.2,18.600000000000001,31.4,null,2148,null,0.9,null,null,0,10.199999999999999,11.9,21.85,null,1,1,1,579,639,852,null,0,0,0,1]
["33026011",null,null,3,30,260,11,11.5,0,26,30,47.8,1982.2,5669.0920000000006,6252.6749999999993,8336.9,1.5,1.1000000000000001,1.1000000000000001,1.1000000000000001,1414,4426,4882,6509,122,381,420,560,0.24269360904948648,1.9626616514787372,2.3494829093201255,3.9995616431127772,3.969E-4,1.7345999999999999,4,5.7428799999999995E-4,949.51120000000003,1047.2549999999999,1396.34,0.95,0.95,0.95,950,1047,1396,409,450,600,2.2371204011135477,2.6688522314760581,4.5447894857124886,3.5,16.2,18.600000000000001,31.4,null,2915,null,0.68,null,null,0,10.199999999999999,11.9,21.85,null,1,1,1,950,1047,1396,null,0,0,0,1]
["33026016",null,null,3,30,260,16,16.5,0,26,30,48.1,2616.6400000000003,7342.4691534710291,7609.5768181679023,11159.300000000001,1.5,1.1000000000000001,1.1000000000000001,1.1000000000000001,1867,5732,5941,8712,161,493,511,749,0.48167695566171465,4.1978564997308982,4.5006744046263982,9.4678767911138362,2.0829999999999999E-4,1.724,4,1.392796E-3,1068.8700133353962,1107.7538502516963,1624.5,0.95,0.95,0.95,1069,1108,1625,460,476,699,3.66947790801381,3.9213280612116019,8.2763568685468254,5.2,16.399999999999999,17.7,29.7,null,3848,null,0.68,null,null,0,10,10.9,21.85,null,1,1,1,1069,1108,1625,null,0,0,0,1]
["33026020",null,null,3,30,260,20,21.5,0,26,30,48.1,3964.8,6444.5232000000005,7107.93,9477.24,1.5,1.08,1.08,1.08,2829,5054,5574,7432,243,435,479,639,0.29666194476438418,0.91294981512938123,1.1001003363250261,1.9230584519635214,1.2760000000000001E-4,1.7219,2,3.76611E-4,768.42720000000008,847.53,1130.04,0.95,0.95,0.95,768,848,1130,330,365,486,0.53526796134941879,0.65032127694667174,1.1314386418343181,3.5,16.399999999999999,17.7,29.7,null,4956,null,0.8,null,null,0,10,10.9,21.85,null,1,1,1,768,848,1130,null,0,0,0,1]
["33028010",null,null,3,30,280,10,11.5,0,26,30,47.8,2081.7000000000003,4331.3824000000004,4782.2249168521384,6369.68,1.5,1.08,1.08,1.08,1485,3397,3750,4995,128,292,323,430,0.15237913623977239,0.69744802061985678,0.84077185533321985,1.4297918820056932,3.969E-4,1.7345999999999999,2,3.6734700000000002E-4,587.68320000000006,648.85364133524638,864.24,0.98,0.98,0.98,588,649,864,253,279,372,0.53495403421136267,0.64106400571541289,1.0925143603098122,1.9,16.2,18.600000000000001,31.4,null,2313,null,0.9,null,null,0,10.199999999999999,11.9,21.85,null,1,1,1,588,649,864,null,0,0,0,1]
["33028011",null,null,3,30,280,11,11.5,0,26,30,47.8,2134.52,5976.8600000000006,6598.9760720588583,8789.5,1.5,1.1000000000000001,1.1000000000000001,1.1000000000000001,1523,4666,5152,6862,131,401,443,590,0.2910352140367648,2.2589629505887028,2.7138313013647335,4.6046594930075209,3.969E-4,1.7345999999999999,4,5.7428799999999995E-4,956,1056,1406,0.95,0.95,0.95,956,1056,1406,411,454,605,2.3637663276478489,2.839310118041396,4.8232973600811606,3.7,16.2,18.600000000000001,31.4,null,3139,null,0.68,null,null,0,10.199999999999999,11.9,21.85,null,1,1,1,956,1056,1406,null,0,0,0,1]
["33028016",null,null,3,30,280,16,16.5,0,26,30,48.9,2817.92,8165.5551181941737,8348.321999442087,12405.7,1.5,1.1000000000000001,1.1000000000000001,1.1000000000000001,2011,6375,6518,9685,173,548,561,833,0.56504194492181925,5.2414825003503225,5.4853925820263667,11.822942017746373,2.0829999999999999E-4,1.724,4,1.392796E-3,1250,1278,1900,0.95,0.95,0.95,1250,1278,1900,538,550,817,5.0575445569651576,5.2786547361922693,11.385263573722288,5.6,19.3,20.399999999999999,34.5,null,4144,null,0.68,null,null,0,10,10.6,21.85,null,1,1,1,1250,1278,1900,null,0,0,0,1]
["33028020",null,null,3,30,280,20,21.5,0,26,30,48.9,4269.6000000000004,7236.8592000000008,7990.1253664397382,10642.44,1.5,1.08,1.08,1.08,3046,5675,6266,8346,262,488,539,718,0.35026918902184767,1.1617686015146995,1.4078788417424029,2.45260460232267,1.2760000000000001E-4,1.7219,2,3.76611E-4,894.36320000000012,987.455178225689,1315.24,0.95,0.95,0.95,894,987,1315,384,424,565,0.73142402444564503,0.88553710556508203,1.5421797125957473,3.7,19.3,20.399999999999999,34.5,null,5337,null,0.8,null,null,0,10,10.6,21.85,null,1,1,1,894,987,1315,null,0,0,0,1]
["33030010",null,null,3,30,300,10,11.5,0,26,30,47.8,{"$f":"IF($N860-($BE860*$BG860)>100,$BE860*$BG860,$N860-95)","v":2230.2000000000003},4485,4951,6595,1.5,1.08,1.08,1.08,{"$f":"ROUND(M860*POWER(CF_heat,Q860),0)","v":1591},{"$f":"ROUND(N860*POWER(CF_heat,R860),0)","v":3517},{"$f":"ROUND(O860*POWER(CF_heat,S860),0)","v":3883},{"$f":"ROUND(P860*POWER(CF_heat,T860),0)","v":5172},137,302,334,445,0.18056123686690931,0.77349371966225222,0.93173607735144592,1.5849386369150411,{"$f":"IF($G860=$CO$103,CP$103,IF($G860=$CO$104,CP$104,IF($G860=$CO$105,CP$105,IF($G860=$CO$107,CP$107,IF($G860=$CO$108,CP$108,IF($G860=$CO$109,CP$109,IF($G860=$CO$111,CP$111,IF($G860=$CO$112,CP$112,IF($G860=$CO$113,CP$113,IF($G860=$CO$115,CP$115,IF($G860=$CO$116,CP$116,IF($G860=$CO$117,CP$117,IF($G860=$CO$119,CP$119,IF($G860=$CO$120,CP$120,))))))))))))))","v":3.969E-4},{"$f":"IF($G860=$CO$103,CQ$103,IF($G860=$CO$104,CQ$104,IF($G860=$CO$105,CQ$105,IF($G860=$CO$107,CQ$107,IF($G860=$CO$108,CQ$108,IF($G860=$CO$109,CQ$109,IF($G860=$CO$111,CQ$111,IF($G860=$CO$112,CQ$112,IF($G860=$CO$113,CQ$113,IF($G860=$CO$115,CQ$115,IF($G860=$CO$116,CQ$116,IF($G860=$CO$117,CQ$117,IF($G860=$CO$119,CQ$119,IF($G860=$CO$120,CQ$120,))))))))))))))","v":1.7345999999999999},{"$f":"IF($G860=$CO$103,CR$103,IF($G860=$CO$104,CR$104,IF($G860=$CO$105,CR$105,IF($G860=$CO$107,CR$107,IF($G860=$CO$108,CR$108,IF($G860=$CO$109,CR$109,IF($G860=$CO$111,CR$111,IF($G860=$CO$112,CR$112,IF($G860=$CO$113,CR$113,IF($G860=$CO$115,CR$115,IF($G860=$CO$116,CR$116,IF($G860=$CO$117,CR$117,IF($G860=$CO$119,CR$119,IF($G860=$CO$120,CR$120,))))))))))))))","v":2},{"$f":"IF($G860=$CO$103,CS$103,IF($G860=$CO$104,CS$104,IF($G860=$CO$105,CS$105,IF($G860=$CO$107,CS$107,IF($G860=$CO$108,CS$108,IF($G860=$CO$109,CS$109,IF($G860=$CO$111,CS$111,IF($G860=$CO$112,CS$112,IF($G860=$CO$113,CS$113,IF($G860=$CO$115,CS$115,IF($G860=$CO$116,CS$116,IF($G860=$CO$117,CS$117,IF($G860=$CO$119,CS$119,IF($G860=$CO$120,CS$120,))))))))))))))","v":3.6734700000000002E-4},595,658,877,0.98,0.98,0.98,{"$f":"ROUND(AK860*POWER(CF_cool,AN860),0)","v":595},658,877,256,283,377,0.57014654745249982,0.68602826252827387,1.1657237163109904,{"$f":"ROUND(IF(G860=10,$CO$92*F860,IF(G860=11,$CO$93*F860,IF(G860=15,$CO$94*F860,IF(G860=16,$CO$95*F860,IF(G860=20,$CO$96*F860,IF(G860=21,$CO$97*F860,)))))),1)","v":2},16.2,18.600000000000001,31.4,null,2478,null,{"$f":"IF(G860=10,0.9,IF(G860=11,0.68,IF(G860=15,0.8,IF(G860=16,0.68,IF(G860=20,0.8,IF(G860=21,0.8))))))","v":0.9},null,null,0,10.199999999999999,11.9,21.85,null,1,1,1,{"$f":"AQ860/BO860","v":595},{"$f":"AR860/BP860","v":658},{"$f":"AS860/BQ860","v":877},null,{"$f":"BR860-AQ860","v":0},{"$f":"BS860-AR860","v":0},{"$f":"BT860-AS860","v":0},1]
[{"$f":"CONCATENATE(D861,E861,F861,G861)","v":"33030011"},null,null,3,30,300,11,11.5,0,26,30,47.8,2286.84,6285,6939,9242,1.5,{"$f":"IF($G861=10,1.08,IF($G861=11,1.1,IF($G861=15,1.08,IF($G861=16,1.1,IF($G861=20,1.08,IF($G861=21,1.05))))))","v":1.1000000000000001},1.1000000000000001,1.1000000000000001,1632,4907,5417,7215,140,422,466,620,{"$f":"(($AG861*(Y861^$AH861)*((($F861-14.4)*$AI861)/100))+($AJ861*(Y861^2)))*0.0098","v":0.3449476234758142},{"$f":"(($AG861*(Z861^$AH861)*((($F861-14.4)*$AI861)/100))+($AJ861*(Z861^2)))*0.0098","v":2.5929756315684109},{"$f":"(($AG861*(AA861^$AH861)*((($F861-14.4)*$AI861)/100))+($AJ861*(AA861^2)))*0.0098","v":3.1114877859888272},{"$f":"(($AG861*(AB861^$AH861)*((($F861-14.4)*$AI861)/100))+($AJ861*(AB861^2)))*0.0098","v":5.2637423167962414},3.969E-4,1.7345999999999999,4,5.7428799999999995E-4,963,1063,1416,0.95,0.95,0.95,963,1063,1416,414,457,609,{"$f":"(($AG861*(AT861^$AH861)*((($F861-14.4)*$AI861)/100))+($AJ861*(AT861^2)))*0.0098","v":2.5033921219274102},{"$f":"(($AG861*(AU861^$AH861)*((($F861-14.4)*$AI861)/100))+($AJ861*(AU861^2)))*0.0098","v":3.0018914286103233},{"$f":"(($AG861*(AV861^$AH861)*((($F861-14.4)*$AI861)/100))+($AJ861*(AV861^2)))*0.0098","v":5.092866662726184},4,16.2,18.600000000000001,31.4,null,3363,null,0.68,null,null,0,10.199999999999999,11.9,21.85,null,{"$f":"IF(1/(1+((2258*((0.622/((101325/(1*611*EXP(17.27*((($AM$1+$AM$2)/2)/((($AM$1+$AM$2)/2)+237.3))))))-1)*1000-(0.622/((101325/($AQ$1*611*EXP(17.27*($AM$3/($AM$3+237.3))))))-1)*1000))/(1005*((($AM$1+$AM$2)/2)-$AM$3))))>1,1,1/(1+((2258*((0.622/((101325/(1*611*EXP(17.27*((($AM$1+$AM$2)/2)/((($AM$1+$AM$2)/2)+237.3))))))-1)*1000-(0.622/((101325/($AQ$1*611*EXP(17.27*($AM$3/($AM$3+237.3))))))-1)*1000))/(1005*((($AM$1+$AM$2)/2)-$AM$3)))))","v":1},1,1,963,1063,1416,null,0,0,0,1]
["33030016",null,null,3,30,300,16,16.5,0,26,30,48.9,3019.2000000000003,8592,8784,13053,1.5,1.1000000000000001,1.1000000000000001,1.1000000000000001,2154,6708,6858,10191,185,577,590,876,0.65609669780039059,5.8870483048918967,6.1467040133841699,13.232326467562144,2.0829999999999999E-4,1.724,4,1.392796E-3,1260,1288,1915,0.95,0.95,0.95,1260,1288,1915,542,554,823,5.2151501028652509,5.4410466690980455,11.721888897057807,6,19.3,20.399999999999999,34.5,null,4440,null,0.68,null,null,0,10,10.6,21.85,null,1,1,1,1260,1288,1915,null,0,0,0,1]
["33030020",null,null,3,30,300,20,21.5,0,26,30,48.9,4574.4000000000005,7549,8335,11102,1.5,1.08,1.08,1.08,3264,5920,6537,8707,281,509,562,749,0.40899717009013592,1.2832239462300581,1.5535382796513144,2.7065035395986743,1.2760000000000001E-4,1.7219,2,3.76611E-4,905,999,1331,0.95,0.95,0.95,905,999,1331,389,430,572,0.76431919512798108,0.92701417801356134,1.6073504963383516,4,19.3,20.399999999999999,34.5,null,5718,null,0.8,null,null,0,10,10.6,21.85,null,1,1,1,905,999,1331,null,0,0,0,1]
["3405010",null,null,3,40,50,10,11.5,0,26,30,38.799999999999997,433.8,649,695,812,1.5,1.08,1.08,1.08,310,509,545,637,27,44,47,55,3.4662427560425285E-3,8.9335048277857931E-3,1.0154354668942562E-2,1.3782148323783661E-2,3.969E-4,1.7345999999999999,2,3.6734700000000002E-4,90.020119234756137,96.328259324977694,112.64,0.98,0.98,0.98,90,96,113,39,41,49,7.0687185128054265E-3,7.7890899379448103E-3,1.1010617958771767E-2,0.3,3.6,4.0999999999999996,5.0999999999999996,null,482,null,0.9,null,null,0,14.2,16.2,21.85,null,1,1,1,90,96,113,null,0,0,0,{"$f":"IF(SUM(BV866:BX866)=0,1,0)","v":1}]
["3405011",null,null,3,40,50,11,11.5,0,26,30,38.799999999999997,429.76000000000005,881.02076921515595,942.75810617769378,1102.4000000000001,1.5,1.1000000000000001,1.1000000000000001,1.1000000000000001,307,688,736,861,26,59,63,74,5.3815367514031672E-3,2.6124513105548242E-2,2.9658332216627524E-2,4.0497070432560033E-2,3.969E-4,1.7345999999999999,4,5.7428799999999995E-4,147.56138863197239,157.90172054122763,184.64,0.95,0.95,0.95,148,158,185,64,68,80,3.0575828151930776E-2,3.4381682232525662E-2,4.7098764109165574E-2,0.7,3.6,4.0999999999999996,5.0999999999999996,null,632,null,0.68,null,null,0,14.2,16.2,21.85,null,1,1,1,148,158,185,null,0,0,0,1]
["3406011",null,null,3,40,60,11,11.5,0,26,30,40,515.44000000000005,1142.0361657917249,1222.9946868592929,1446.9,1.5,1.1000000000000001,1.1000000000000001,1.1000000000000001,368,892,955,1130,32,77,82,97,8.6588722484722269E-3,4.6649790795689712E-2,5.2655498392101936E-2,7.2777833153007732E-2,3.969E-4,1.7345999999999999,4,5.7428799999999995E-4,191,205,242,0.95,0.95,0.95,191,205,242,82,88,104,5.2655498392101936E-2,6.0326342797888885E-2,8.3243311217863464E-2,0.8,4.8,5.4,6.8,null,758,null,0.68,null,null,0,13.6,15.6,21.85,null,1,1,1,191,205,242,null,0,0,0,1]
["3406015",null,null,3,40,60,15,16.5,0,26,30,41.1,752.80000000000007,957.19258357509659,1027.5250511543745,1359.96,1.5,1.08,1.08,1.08,537,751,806,1067,46,65,69,92,1.0946174769677753E-2,2.1607295358039021E-2,2.4302699376319299E-2,4.2830982878635446E-2,2.0829999999999999E-4,1.724,2,4.6182900000000003E-4,189.925625,140.26129481477255,185.64,1.01,1.01,1.01,190,140,186,82,60,80,3.4141898797120353E-2,1.8458252538956766E-2,3.25208961878376E-2,0.6,4.8,5.5,7.2,null,941,null,0.8,null,null,0,12.3,14.4,21.85,null,1,1,1,190,140,186,null,0,0,0,1]
["3406020",null,null,3,40,60,20,21.5,0,26,30,41.1,1054.4000000000001,1346.575008837732,1442.0332127786496,1706.04,1.5,1.08,1.08,1.08,752,1056,1131,1338,65,91,97,115,1.7102710000207057E-2,3.3257087321880145E-2,3.773334830335235E-2,5.2841431064416994E-2,1.2760000000000001E-4,1.7219,2,3.76611E-4,166.41571994991173,178.21286873827722,210.84,0.95,0.95,0.95,166,178,211,71,77,91,2.0362186770824586E-2,2.3902999958867951E-2,3.3257087321880145E-2,0.8,4.8,5.5,7.2,null,1318,null,0.8,null,null,0,12.3,14.4,21.85,null,1,1,1,166,178,211,null,0,0,0,1]
["3406021",null,null,3,40,60,21,21.5,0,26,30,41.1,1091.2,1802.6437228662567,1935.0981352499616,2561.16,1.5,1.05,1.05,1.05,779,1423,1528,2022,67,122,131,174,2.5800779537756436E-2,8.3927928329369905E-2,9.6565795839234567E-2,0.16901353512975539,1.2760000000000001E-4,1.7219,4,5.1420100000000005E-4,233.82931859416351,251.01059773412922,332.22,0.85,0.85,0.85,234,251,332,101,108,143,5.7851346790324013E-2,6.601213332318584E-2,0.1147780548995266,1.6,4.8,5.5,7.2,null,1364,null,0.8,null,null,0,12.3,14.4,21.85,null,1,1,1,234,251,332,null,0,0,0,1]
["3407011",null,null,3,40,70,11,11.5,0,26,30,41,601.80000000000007,1397.1861540381678,1498.3320774196782,1791.4,1.5,1.1000000000000001,1.1000000000000001,1.1000000000000001,429,1091,1170,1399,37,94,101,120,1.2246736919250191E-2,7.2618348923691595E-2,8.3337593553421352E-2,0.11600499755813,3.969E-4,1.7345999999999999,4,5.7428799999999995E-4,234.01347195356249,250.95431311209123,300.04000000000002,0.95,0.95,0.95,234,251,300,101,108,129,8.3337593553421352E-2,9.4767092758545599E-2,0.13329019125147809,0.9,5.5,5.9,7.9,null,885,null,0.68,null,null,0,13.2,15.1,21.85,null,1,1,1,234,251,300,null,0,0,0,1]
["3407015",null,null,3,40,70,15,16.5,0,26,30,41.1,878.40000000000009,1070.8273541699666,1149.5094620994566,1521.41,1.5,1.08,1.08,1.08,627,840,901,1193,54,72,77,103,1.5398832832305937E-2,2.7077000311869458E-2,3.0892373713348693E-2,5.4716713303803698E-2,2.0829999999999999E-4,1.724,2,4.6182900000000003E-4,135.09481491470635,145.02129350758159,191.94,{"$f":"IF($G876=10,0.98,IF($G876=11,0.95,IF($G876=15,1.01,IF($G876=16,0.95,IF($G876=20,0.95,IF($G876=21,0.85))))))","v":1.01},1.01,1.01,135,145,192,58,62,83,1.7715040719154605E-2,2.0190861450308E-2,3.5797696205080359E-2,0.7,5.0999999999999996,5.6,7.2,null,1098,null,0.8,null,null,0,12.3,14.4,21.85,null,1,1,1,135,145,192,null,0,0,0,1]
["3407020",null,null,3,40,70,20,21.5,0,26,30,41.1,1229.6000000000001,1509.840819712653,1619.1421060355642,1935.84,1.5,1.08,1.08,1.08,877,1184,1270,1518,75,102,109,131,2.3114914828780496E-2,4.2396471925119035E-2,4.8331778986334215E-2,6.9488117345007913E-2,1.2760000000000001E-4,1.7219,2,3.76611E-4,170.52628152222005,182.87112058001478,218.64000000000001,0.95,0.95,0.95,171,183,219,74,79,94,2.2511197833279682E-2,2.5608782122359248E-2,3.6084845824600094E-2,0.9,5.0999999999999996,5.6,7.2,null,1537,null,0.8,null,null,0,12.3,14.4,21.85,null,1,1,1,171,183,219,null,0,0,0,1]
["3407021",null,null,3,40,70,21,21.5,0,26,30,41.1,1273.6000000000001,1977.8291945358951,2123.1558613833213,2810.06,1.5,1.05,1.05,1.05,909,1562,1676,2219,78,134,144,191,3.5695741442345857E-2,0.10327341364618195,0.11896980279584603,0.20738026513327959,1.2760000000000001E-4,1.7219,4,5.1420100000000005E-4,240.30463534531125,257.96170693632649,341.42,0.85,0.85,0.85,240,258,341,103,111,147,6.1591027996900249E-2,7.1335725011536941E-2,0.12389224890734116,1.9,5.0999999999999996,5.6,7.2,null,1592,null,0.8,null,null,0,12.3,14.4,21.85,null,1,1,1,240,258,341,null,0,0,0,1]
["3408011",null,null,3,40,80,11,11.5,0,26,30,41.8,687.48,1647.5037394527276,1769.505282019556,2135.9,1.5,1.1000000000000001,1.1000000000000001,1.1000000000000001,491,1286,1381,1668,42,111,119,143,1.6604490952430568E-2,0.10537485365866733,0.12035350001470055,0.17100095804480808,3.969E-4,1.7345999999999999,4,5.7428799999999995E-4,276,296,358,0.95,0.95,0.95,276,296,358,119,127,154,0.12035350001470055,0.13628668965853094,0.19705768178204491,1.1000000000000001,6.3,6.8,9.1,null,1011,null,0.68,null,null,0,12.8,14.7,21.85,null,1,1,1,276,296,358,null,0,0,0,1]
["3408015",null,null,3,40,80,15,16.5,0,26,30,42.4,1003.2,1395.33740436932,1496.2563490716184,2007.56,1.5,1.08,1.08,1.08,716,1094,1173,1574,62,94,101,135,2.0693237138349006E-2,4.6744452652574681E-2,5.3812575245209708E-2,9.5090019266223458E-2,2.0829999999999999E-4,1.724,2,4.6182900000000003E-4,190.46915773046311,204.24499885412456,274.04000000000002,1.01,1.01,1.01,190,204,274,82,88,118,3.5768909532348576E-2,4.1076258231928696E-2,7.3013760578283488E-2,0.8,6,6.7,9,null,1254,null,0.8,null,null,0,11.8,13.7,21.85,null,1,1,1,190,204,274,null,0,0,0,1]
["3408016",null,null,3,40,80,16,16.5,0,26,30,42.4,924.80000000000007,2040.4331716148024,2188.0092071816284,2935.7,1.5,1.1000000000000001,1.1000000000000001,1.1000000000000001,660,1593,1708,2292,57,137,147,197,5.0048643435210441E-2,0.28204303816785287,0.32414663509783698,0.57808545963619196,2.0829999999999999E-4,1.724,4,1.392796E-3,312,335,450,0.95,0.95,0.95,312,335,450,134,144,194,0.26997766374686077,0.31121106327333475,0.56081193423750164,1.6,6,6.7,9,null,1360,null,0.68,null,null,0,11.8,13.7,21.85,null,1,1,1,312,335,450,null,0,0,0,1]
["3408020",null,null,3,40,80,20,21.5,0,26,30,42.4,1405.6000000000001,1942.5718983039128,2086.4239348515057,2518.44,1.5,1.08,1.08,1.08,1003,1523,1636,1975,86,131,141,170,3.0812860954705073E-2,7.0594323803498546E-2,8.1613209141998835E-2,0.11803010584799242,1.2760000000000001E-4,1.7219,2,3.76611E-4,240.07166246887351,257.84953601562182,311.24,0.95,0.95,0.95,240,258,311,103,111,134,4.3951963441231798E-2,5.0929918356249132E-2,7.381701321036345E-2,1.1000000000000001,6,6.7,9,null,1757,null,0.8,null,null,0,11.8,13.7,21.85,null,1,1,1,240,258,311,null,0,0,0,1]
["3409010",null,null,3,40,90,10,11.5,0,26,30,42.4,780.30000000000007,1395.6272192501513,1501.3000140389001,1828.08,1.5,1.08,1.08,1.08,557,1095,1177,1434,48,94,101,123,1.3144382146513884E-2,4.7370929137888165E-2,5.4349648935862721E-2,7.9273358405672414E-2,3.969E-4,1.7345999999999999,2,3.6734700000000002E-4,193.48593193227777,208.13611852764589,253.44,0.98,0.98,0.98,193,208,253,83,89,109,3.7340239212640722E-2,4.2669333600542279E-2,6.2889336846315577E-2,0.6,6.7,7.4,10.3,null,867,null,0.9,null,null,0,12.5,14.7,21.85,null,1,1,1,193,208,253,null,0,0,0,1]
["3409011",null,null,3,40,90,11,11.5,0,26,30,42.4,773.84,1893.6336235985709,2037.0140009310799,2480.4,1.5,1.1000000000000001,1.1000000000000001,1.1000000000000001,552,1478,1590,1936,47,127,137,166,2.178441792945492E-2,0.1432245427635509,0.16545208362851668,0.2385477205755622,3.969E-4,1.7345999999999999,4,5.7428799999999995E-4,317.16301910489852,341.17767156378318,415.44,0.95,0.95,0.95,317,341,415,136,147,178,0.16316026903161293,0.18921140887221088,0.27252186122633548,1.2,6.7,7.4,10.3,null,1138,null,0.68,null,null,0,12.5,14.7,21.85,null,1,1,1,317,341,415,null,0,0,0,1]
["3409016",null,null,3,40,90,16,16.5,0,26,30,43.3,1040.4000000000001,2336.669516687492,2503.3688418217644,3409.2,1.5,1.1000000000000001,1.1000000000000001,1.1000000000000001,742,1824,1954,2662,64,157,168,229,6.393121568126385E-2,0.37413425352165253,0.42759818960823864,0.7880408313931474,2.0829999999999999E-4,1.724,4,1.392796E-3,357.77938745479025,383.30357134546551,522,0.95,0.95,0.95,358,383,522,154,165,224,0.36016635113087053,0.41266687566708049,0.75442675175462648,1.8,7,7.7,10.7,null,1530,null,0.68,null,null,0,11.3,13.2,21.85,null,1,1,1,358,383,522,null,0,0,0,1]
["3409020",null,null,3,40,90,20,21.5,0,26,30,43.3,1580.8000000000002,2232.7836804230465,2401.8435041457315,2924.64,1.5,1.08,1.08,1.08,1128,1751,1884,2294,97,151,162,197,3.9711457443584154E-2,9.4834579626451532E-2,0.10891673537133954,0.16011957350838529,1.2760000000000001E-4,1.7219,2,3.76611E-4,275.93732338069162,296.83048721840407,361.44,0.95,0.95,0.95,276,297,361,119,128,155,5.9353068879593893E-2,6.85057463009488E-2,9.9843942617951306E-2,1.2,7,7.7,10.7,null,1976,null,0.8,null,null,0,11.3,13.2,21.85,null,1,1,1,276,297,361,null,0,0,0,1]
["34010010",null,null,3,40,100,10,11.5,0,26,30,43,866.7,1574.3905475253332,1696.1265760133244,2081.98,1.5,1.08,1.08,1.08,618,1235,1330,1633,53,106,114,140,1.6633786957834285E-2,6.2151943031227098E-2,7.1407310896984919E-2,0.10572290690654358,3.969E-4,1.7345999999999999,2,3.6734700000000002E-4,218.26918973175157,235.14633901405676,288.64,0.98,0.98,0.98,218,235,289,94,101,124,4.9429305306709352E-2,5.6681136080738742E-2,8.3841493078660942E-2,0.7,7.8,8.6999999999999993,12.2,null,963,null,0.9,null,null,0,12.3,14.1,21.85,null,1,1,1,218,235,289,null,0,0,0,1]
["34010011",null,null,3,40,100,11,11.5,0,26,30,43,859.5200000000001,2136.1856779144437,2301.3611872256411,2824.9,1.5,1.1000000000000001,1.1000000000000001,1.1000000000000001,613,1668,1797,2205,53,143,155,190,2.8851885466468566E-2,0.18804776535798132,0.21911871198426447,0.32261632041631727,3.969E-4,1.7345999999999999,4,5.7428799999999995E-4,358,385,473,0.95,0.95,0.95,358,385,473,154,166,203,0.21644289597218058,0.2495876591101075,0.36590011099410291,1.3,7.8,8.6999999999999993,12.2,null,1264,null,0.68,null,null,0,12.3,14.1,21.85,null,1,1,1,358,385,473,null,0,0,0,1]
["34010016",null,null,3,40,100,16,16.5,0,26,30,44.1,1156,2630.3871448118639,2816.5633812075234,3882.7,1.5,1.1000000000000001,1.1000000000000001,1.1000000000000001,825,2054,2199,3031,71,177,189,261,7.9671348343343801E-2,0.4800973876606639,0.5463285500064492,1.0323140112813236,2.0829999999999999E-4,1.724,4,1.392796E-3,403,431,595,0.95,0.95,0.95,403,431,595,173,185,256,0.45896052508691165,0.52378160296818432,0.99366847477469411,2,7,7.7,10.7,null,1700,null,0.68,null,null,0,10.9,12.8,21.85,null,1,1,1,403,431,595,null,0,0,0,1]
["34010020",null,null,3,40,100,20,21.5,0,26,30,44.1,1756.8000000000002,2518.7768428703835,2713.5353098724395,3330.84,1.5,1.08,1.08,1.08,1253,1975,2128,2612,108,170,183,225,4.9840335522274432E-2,0.12149545292969745,0.14043896852494522,0.21087888899397389,1.2760000000000001E-4,1.7219,2,3.76611E-4,311.2816285378957,335.35074484391049,411.64,0.95,0.95,0.95,311,{"$f":"ROUND(AL896*POWER(CF_cool,AO896),0)","v":335},{"$f":"ROUND(AM896*POWER(CF_cool,AP896),0)","v":412},134,144,177,7.6117387440108403E-2,8.7676786087461309E-2,0.13152753973488002,1.3,7,7.7,10.7,null,2196,null,0.8,null,null,0,10.9,12.8,21.85,null,1,1,1,311,335,412,null,0,0,0,1]
["34011010",null,null,3,40,110,10,11.5,0,26,30,43.5,953.1,1766.3893947845202,1902.9712804051933,2335.88,1.5,1.08,1.08,1.08,680,1385,1492,1832,58,119,128,158,2.0626433537818484E-2,8.0603275811184871E-2,9.2599605028954202E-2,0.13830835282173867,3.969E-4,1.7345999999999999,2,3.6734700000000002E-4,244.88738360147738,263.82272182064906,323.83999999999997,0.98,0.98,0.98,245,264,324,105,114,139,6.3532409410345894E-2,7.4283678081492499E-2,0.10834103483995079,0.7,8.4,9.3000000000000007,14,null,1059,null,0.9,null,null,0,12,13.9,21.85,null,1,1,1,245,264,324,null,0,0,0,1]
["34011011",null,null,3,40,110,11,11.5,0,26,30,43.5,945.2,2396.6961264405954,2582.0149905458411,3169.4,1.5,1.1000000000000001,1.1000000000000001,1.1000000000000001,674,1871,2016,2474,58,161,173,213,3.5964730392436965E-2,0.24597270880165012,0.28182196378494073,0.41797960302434661,3.969E-4,1.7345999999999999,4,5.7428799999999995E-4,401.42051232401269,432.4594048025981,530.84,0.95,0.95,0.95,401,432,531,172,186,228,0.27874588734236166,0.32327190223067265,0.47558723983145007,1.5,8.4,9.3000000000000007,14,null,1390,null,0.68,null,null,0,12,13.9,21.85,null,1,1,1,401,432,531,null,0,0,0,1]
["34011016",null,null,3,40,110,16,16.5,0,26,30,44.1,1271.6000000000001,2849.7497938679544,3051.4523045945984,4206.5,1.5,1.1000000000000001,1.1000000000000001,1.1000000000000001,907,2225,2382,3284,78,191,205,282,9.7312308862659874E-2,0.56476814232501726,0.64910736540223946,1.2162714994016472,2.0829999999999999E-4,1.724,4,1.392796E-3,407.83296705301524,436.69898665540194,602,0.95,0.95,0.95,408,437,602,175,188,259,0.47548152700019564,0.54744957167687558,1.0285851673079258,2.2000000000000002,7.9,8.8000000000000007,12.5,null,1870,null,0.68,null,null,0,10.9,12.8,21.85,null,1,1,1,408,437,602,null,0,0,0,1]
["34011020",null,null,3,40,110,20,21.5,0,26,30,44.1,1932.8000000000002,2692.551301713082,2900.746468081386,3560.6400000000003,1.5,1.08,1.08,1.08,1379,2112,2275,2792,119,182,196,240,6.1228154288004974E-2,0.14088231271581872,0.16294943153117869,0.24258448149029985,1.2760000000000001E-4,1.7219,2,3.76611E-4,317.17997831584631,341.70517057946222,419.44,0.95,0.95,0.95,317,342,419,136,147,180,7.9544712053658623E-2,9.2650629466224224E-2,0.13785909087762688,1.5,7.9,8.8000000000000007,12.5,null,2416,null,0.8,null,null,0,10.9,12.8,21.85,null,1,1,1,317,342,419,null,0,0,0,1]
["34012010",null,null,3,40,120,10,11.5,0,26,30,44,1040.4000000000001,1924.9914127028867,2079.6202422788024,2589.7800000000002,1.5,1.08,1.08,1.08,742,1510,1631,2031,64,130,140,175,2.5903975367735539E-2,9.8985854052659E-2,0.11393853661367993,0.17413148637766063,3.969E-4,1.7345999999999999,2,3.6734700000000002E-4,266.87553260000635,288.31284965818764,359.04,0.98,0.98,0.98,267,288,359,115,124,154,7.844810437960871E-2,9.0497540707880797E-2,0.13655457969155813,0.8,8.9,9.9,14.8,null,1156,null,0.9,null,null,0,11.8,13.7,21.85,null,1,1,1,267,288,359,null,0,0,0,1]
["34012011",null,null,3,40,120,11,11.5,0,26,30,44,1031.5600000000002,2611.8926414972211,2821.6982019103875,3513.9,1.5,1.1000000000000001,1.1000000000000001,1.1000000000000001,736,2039,2203,2743,63,175,189,236,4.4052989288872656E-2,0.30012112200532121,0.34704829521290631,0.52808528089261231,3.969E-4,1.7345999999999999,4,5.7428799999999995E-4,437,473,589,0.95,0.95,0.95,437,473,589,188,203,253,0.34358909156864093,0.39720266611384658,0.60239378849067871,1.6,8.9,9.9,14.8,null,1517,null,0.68,null,null,0,11.8,13.7,21.85,null,1,1,1,437,473,589,null,0,0,0,1]
["34012016",null,null,3,40,120,16,16.5,0,26,30,44.8,1387.2,3241.8333772189817,3471.5459677567114,4829.7,1.5,1.1000000000000001,1.1000000000000001,1.1000000000000001,990,2531,2710,3771,85,218,233,324,0.11689613334110947,0.74138661467882749,0.84499496566697219,1.6164367454023814,2.0829999999999999E-4,1.724,4,1.392796E-3,496,532,740,0.95,0.95,0.95,496,532,740,213,229,318,0.70833668732811383,0.81671249966312653,1.5580377368272431,2.4,8.6999999999999993,9.8000000000000007,14.3,null,2040,null,0.68,null,null,0,10.6,12.5,21.85,null,1,1,1,496,532,740,null,0,0,0,1]
["34012020",null,null,3,40,120,20,21.5,0,26,30,44.8,2108,3079.6829926739365,3327.0647594078355,4143.24,1.5,1.08,1.08,1.08,1504,2415,2609,3249,129,208,224,279,7.2794543920053065E-2,0.1855749132469651,0.2146103274757947,0.33023406948567835,1.2760000000000001E-4,1.7219,2,3.76611E-4,380.60090160569081,411.17343900116532,512.04,0.95,0.95,0.95,381,411,512,164,177,220,0.11646670942658871,0.13524222402195477,0.20715667478646135,1.6,8.6999999999999993,9.8000000000000007,14.3,null,2635,null,0.8,null,null,0,10.6,12.5,21.85,null,1,1,1,381,411,512,null,0,0,0,1]
["34014010",null,null,3,40,140,10,11.5,0,26,30,44.8,1213.2,2267.7915432376717,2456.1428225151312,3097.58,1.5,1.08,1.08,1.08,866,1778,1926,2429,{"$f":"ROUND(U910*3600/(4186*ABS($O$1-$O$2)),0)","v":74},{"$f":"ROUND(V910*3600/(4186*ABS($O$1-$O$2)),0)","v":153},{"$f":"ROUND(W910*3600/(4186*ABS($O$1-$O$2)),0)","v":166},{"$f":"ROUND(X910*3600/(4186*ABS($O$1-$O$2)),0)","v":209},3.6786065127342983E-2,0.14445801004372538,0.16853243053054429,0.26063544201388444,3.969E-4,1.7345999999999999,2,3.6734700000000002E-4,314.40040300104783,340.51290804463417,429.44,0.98,0.98,0.98,314,341,429,{"$f":"ROUND(AQ910*3600/(4186*ABS($AM$1-$AM$2)),0)","v":135},{"$f":"ROUND(AR910*3600/(4186*ABS($AM$1-$AM$2)),0)","v":147},{"$f":"ROUND(AS910*3600/(4186*ABS($AM$1-$AM$2)),0)","v":184},0.11404996966906063,0.1339431496553784,0.20476735769324847,0.9,10.1,11.2,17.5,null,1348,null,0.9,null,null,0,11.5,13.3,21.85,null,1,1,1,314,341,429,null,0,0,0,1]
["34014011",null,null,3,40,140,11,11.5,0,26,30,44.8,1203.6000000000001,3077.015307780141,3332.5766142436496,4202.8999999999996,1.5,1.1000000000000001,1.1000000000000001,1.1000000000000001,859,2402,2602,3281,74,207,224,282,6.4963974345885953E-2,0.44450269226506778,0.51557472310872998,0.79522620174472214,3.969E-4,1.7345999999999999,4,5.7428799999999995E-4,515,558,704,0.95,0.95,0.95,515,558,704,221,240,303,0.5026708586376617,0.58700184508997044,0.91049538023254029,1.9,10.1,11.2,17.5,null,1770,null,0.68,null,null,0,11.5,13.3,21.85,null,1,1,1,515,558,704,null,0,0,0,1]
["34014016",null,null,3,40,140,16,16.5,0,26,30,45.4,1618.4,3844.4231409656436,4117.1080284867467,5776.7,1.5,1.1000000000000001,1.1000000000000001,1.1000000000000001,1155,3001,3214,4510,99,258,276,388,0.16205521478587348,1.0559926133482667,1.2053689200498885,2.3527630854060915,2.0829999999999999E-4,1.724,4,1.392796E-3,589,630,885,0.95,0.95,0.95,589,630,885,253,271,381,1.0162271216516092,1.1628994061160329,2.2700825079676186,2.8,9.6,10.5,16.100000000000001,null,2380,null,0.68,null,null,0,10.4,12.2,21.85,null,1,1,1,589,630,885,null,0,0,0,1]
["34014020",null,null,3,40,140,20,21.5,0,26,30,45.4,2459.2000000000003,3628.1091959950468,3929.4415695377957,4955.6400000000003,1.5,1.08,1.08,1.08,1755,2845,3082,3886,151,245,265,334,0.10189868478428986,0.26237161414251958,0.30592500796073402,0.48134974943137049,1.2760000000000001E-4,1.7219,2,3.76611E-4,448.37784746172167,485.61784045001809,612.44000000000005,0.95,0.95,0.95,448,486,612,193,209,263,0.16455496588623258,0.1922740711354792,0.30142179085547277,1.9,9.6,10.5,16.100000000000001,null,3074,null,0.8,null,null,0,10.4,12.2,21.85,null,1,1,1,448,486,612,null,0,0,0,1]
["34016010",null,null,3,40,160,10,11.5,0,26,30,45.5,1386.9,2603.9362232520607,2826.6988006529018,3605.38,1.5,1.08,1.08,1.08,990,2042,2217,2827,85,176,191,243,5.1179158088434408E-2,0.20046748279247403,0.23384464098890503,0.3682343427384388,3.969E-4,1.7345999999999999,2,3.6734700000000002E-4,361.00257998610687,391.88577307200529,499.84,0.98,0.98,0.98,361,392,500,155,169,215,0.15784887533096326,0.18572654509721107,0.29228700277798675,1.1000000000000001,11,12.4,19.2,null,1541,null,0.9,null,null,0,11.2,13,21.85,null,1,1,1,361,392,500,null,0,0,0,{"$f":"IF(SUM(BV916:BX916)=0,1,0)","v":1}]
["34016011",null,null,3,40,160,11,11.5,0,26,30,45.5,1374.96,3533.107636511756,3835.359341571188,4891.8999999999996,1.5,1.1000000000000001,1.1000000000000001,1.1000000000000001,981,2758,2994,3819,84,237,257,328,8.902682035410743E-2,0.61422385368791244,0.71480772824658112,1.1292825279207326,3.969E-4,1.7345999999999999,4,5.7428799999999995E-4,592,642,819,0.95,0.95,0.95,592,642,819,255,276,352,0.70442666719486835,0.81698629969873737,1.2893886583447325,2.1,11,12.4,19.2,null,2022,null,0.68,null,null,0,11.2,13,21.85,null,1,1,1,592,642,819,null,0,0,0,1]
["34016016",null,null,3,40,160,16,16.5,0,26,30,46.4,1849.6000000000001,4417.9368883555589,4716.8848144627045,6723.7,1.5,1.1000000000000001,1.1000000000000001,1.1000000000000001,1320,3449,3683,5249,114,297,317,451,0.21919381104157631,1.4218556466193635,1.6153748832768098,3.2239502067344685,2.0829999999999999E-4,1.724,4,1.392796E-3,676,722,1030,0.95,0.95,0.95,676,722,1030,291,310,443,1.3661686148172167,1.5462621883682115,3.112728234709111,3.2,11.5,12.8,19.600000000000001,null,2720,null,0.68,null,null,0,10,11.8,21.85,null,1,1,1,676,722,1030,null,0,0,0,1]
["34016020",null,null,3,40,160,20,21.5,0,26,30,46.4,2811.2000000000003,4165.887726998767,4522.2727563025155,5768.04,1.5,1.08,1.08,1.08,2006,3267,3547,4524,173,281,305,389,0.13646077135406978,0.3513653688085987,0.41235697482772449,0.66342434491024516,1.2760000000000001E-4,1.7219,2,3.76611E-4,514.83890668473202,558.88255136973487,712.84,0.95,0.95,0.95,515,559,713,221,240,307,0.21989661309334549,0.25827229749987091,0.41765567382317259,2.1,11.5,12.8,19.600000000000001,null,3514,null,0.8,null,null,0,10,11.8,21.85,null,1,1,1,515,559,713,null,0,0,0,1]
["34016021",null,null,3,40,160,21,21.5,0,26,30,46.4,2910.4,5689.6682460807178,6074.6702425752001,8659.16,1.5,1.05,1.05,1.05,2077,4492,4796,6837,179,386,412,588,0.21660245050066415,0.95789835596811579,1.0870494190212092,2.1697162791451228,1.2760000000000001E-4,1.7219,4,5.1420100000000005E-4,738.0333851508442,787.97378843505794,1123.22,0.85,0.85,0.85,738,788,1123,317,339,483,0.65390832051840242,0.74470210261054104,1.4802227109968673,4.3,11.5,12.8,19.600000000000001,null,3638,null,0.8,null,null,0,10,11.8,21.85,null,1,1,1,738,788,1123,null,0,0,0,1]
["34018010",null,null,3,40,180,10,11.5,0,26,30,46,1559.7,2970.6878039917879,3224.8253922941558,4113.18,1.5,1.08,1.08,1.08,1113,2330,2529,3226,96,200,217,277,6.8532144923707336E-2,0.27028861945847477,0.31500621168669868,0.49841362806075101,3.969E-4,1.7345999999999999,2,3.6734700000000002E-4,411.84801378696699,447.08095237792156,570.24,0.98,0.98,0.98,412,447,570,177,192,245,0.21495642722836134,0.25036580839638034,0.39566467113231368,1.2,12.2,13.7,22,null,1733,null,0.9,null,null,0,10.9,12.7,21.85,null,1,1,1,412,447,570,null,0,0,0,1]
["34018015",null,null,3,40,180,15,16.5,0,26,30,46.4,{"$f":"IF($N924-($BE924*$BG924)>100,$BE924*$BG924,$N924-95)","v":2257.6},3233.3460619053994,3452.1364439366635,4920.8599999999997,1.5,1.08,1.08,1.08,{"$f":"ROUND(M924*POWER(CF_heat,Q924),0)","v":1611},{"$f":"ROUND(N924*POWER(CF_heat,R924),0)","v":2536},{"$f":"ROUND(O924*POWER(CF_heat,S924),0)","v":2707},{"$f":"ROUND(P924*POWER(CF_heat,T924),0)","v":3859},139,218,233,332,0.12090825171183087,0.28778504307982616,0.32723974604003053,0.64898864028636305,{"$f":"IF($G924=$CO$103,CP$103,IF($G924=$CO$104,CP$104,IF($G924=$CO$105,CP$105,IF($G924=$CO$107,CP$107,IF($G924=$CO$108,CP$108,IF($G924=$CO$109,CP$109,IF($G924=$CO$111,CP$111,IF($G924=$CO$112,CP$112,IF($G924=$CO$113,CP$113,IF($G924=$CO$115,CP$115,IF($G924=$CO$116,CP$116,IF($G924=$CO$117,CP$117,IF($G924=$CO$119,CP$119,IF($G924=$CO$120,CP$120,))))))))))))))","v":2.0829999999999999E-4},{"$f":"IF($G924=$CO$103,CQ$103,IF($G924=$CO$104,CQ$104,IF($G924=$CO$105,CQ$105,IF($G924=$CO$107,CQ$107,IF($G924=$CO$108,CQ$108,IF($G924=$CO$109,CQ$109,IF($G924=$CO$111,CQ$111,IF($G924=$CO$112,CQ$112,IF($G924=$CO$113,CQ$113,IF($G924=$CO$115,CQ$115,IF($G924=$CO$116,CQ$116,IF($G924=$CO$117,CQ$117,IF($G924=$CO$119,CQ$119,IF($G924=$CO$120,CQ$120,))))))))))))))","v":1.724},{"$f":"IF($G924=$CO$103,CR$103,IF($G924=$CO$104,CR$104,IF($G924=$CO$105,CR$105,IF($G924=$CO$107,CR$107,IF($G924=$CO$108,CR$108,IF($G924=$CO$109,CR$109,IF($G924=$CO$111,CR$111,IF($G924=$CO$112,CR$112,IF($G924=$CO$113,CR$113,IF($G924=$CO$115,CR$115,IF($G924=$CO$116,CR$116,IF($G924=$CO$117,CR$117,IF($G924=$CO$119,CR$119,IF($G924=$CO$120,CR$120,))))))))))))))","v":2},{"$f":"IF($G924=$CO$103,CS$103,IF($G924=$CO$104,CS$104,IF($G924=$CO$105,CS$105,IF($G924=$CO$107,CS$107,IF($G924=$CO$108,CS$108,IF($G924=$CO$109,CS$109,IF($G924=$CO$111,CS$111,IF($G924=$CO$112,CS$112,IF($G924=$CO$113,CS$113,IF($G924=$CO$115,CS$115,IF($G924=$CO$116,CS$116,IF($G924=$CO$117,CS$117,IF($G924=$CO$119,CS$119,IF($G924=$CO$120,CS$120,))))))))))))))","v":4.6182900000000003E-4},420.6820520547858,449.14828645115074,640.24,1.01,1.01,1.01,{"$f":"ROUND(AK924*POWER(CF_cool,AN924),0)","v":421},449,640,181,193,275,0.2010263623163458,0.22751208445626886,0.45076939507650016,{"$f":"ROUND(IF(G924=10,$CO$92*F924,IF(G924=11,$CO$93*F924,IF(G924=15,$CO$94*F924,IF(G924=16,$CO$95*F924,IF(G924=20,$CO$96*F924,IF(G924=21,$CO$97*F924,)))))),1)","v":1.8},11.5,12.8,19.600000000000001,null,2822,null,{"$f":"IF(G924=10,0.9,IF(G924=11,0.68,IF(G924=15,0.8,IF(G924=16,0.68,IF(G924=20,0.8,IF(G924=21,0.8))))))","v":0.8},null,null,0,10,11.8,21.85,null,1,1,1,{"$f":"AQ924/BO924","v":421},{"$f":"AR924/BP924","v":449},{"$f":"AS924/BQ924","v":640},null,{"$f":"BR924-AQ924","v":0},{"$f":"BS924-AR924","v":0},{"$f":"BT924-AS924","v":0},1]
[{"$f":"CONCATENATE(D925,E925,F925,G925)","v":"34018016"},null,null,3,40,180,16,16.5,0,26,30,46.4,2080.8000000000002,4843.4549704976926,5171.1963699821436,7371.3,1.5,{"$f":"IF($G925=10,1.08,IF($G925=11,1.1,IF($G925=15,1.08,IF($G925=16,1.1,IF($G925=20,1.08,IF($G925=21,1.05))))))","v":1.1000000000000001},1.1000000000000001,1.1000000000000001,1485,3781,4037,5755,128,325,347,495,{"$f":"(($AG925*(Y925^$AH925)*((($F925-14.4)*$AI925)/100))+($AJ925*(Y925^2)))*0.0098","v":0.28169026210453879},{"$f":"(($AG925*(Z925^$AH925)*((($F925-14.4)*$AI925)/100))+($AJ925*(Z925^2)))*0.0098","v":1.73113399073644},{"$f":"(($AG925*(AA925^$AH925)*((($F925-14.4)*$AI925)/100))+($AJ925*(AA925^2)))*0.0098","v":1.9675246325457276},{"$f":"(($AG925*(AB925^$AH925)*((($F925-14.4)*$AI925)/100))+($AJ925*(AB925^2)))*0.0098","v":3.9422156930022778},2.0829999999999999E-4,1.724,4,1.392796E-3,686.3088894339993,732.7492584003295,1044.5,0.95,0.95,0.95,686,733,1045,295,315,449,{"$f":"(($AG925*(AT925^$AH925)*((($F925-14.4)*$AI925)/100))+($AJ925*(AT925^2)))*0.0098","v":1.4327504054076798},{"$f":"(($AG925*(AU925^$AH925)*((($F925-14.4)*$AI925)/100))+($AJ925*(AU925^2)))*0.0098","v":1.6285969093831283},{"$f":"(($AG925*(AV925^$AH925)*((($F925-14.4)*$AI925)/100))+($AJ925*(AV925^2)))*0.0098","v":3.2569852229594378},3.6,11.5,12.8,19.600000000000001,null,3060,null,0.68,null,null,0,10,11.8,21.85,null,{"$f":"IF(1/(1+((2258*((0.622/((101325/(1*611*EXP(17.27*((($AM$1+$AM$2)/2)/((($AM$1+$AM$2)/2)+237.3))))))-1)*1000-(0.622/((101325/($AQ$1*611*EXP(17.27*($AM$3/($AM$3+237.3))))))-1)*1000))/(1005*((($AM$1+$AM$2)/2)-$AM$3))))>1,1,1/(1+((2258*((0.622/((101325/(1*611*EXP(17.27*((($AM$1+$AM$2)/2)/((($AM$1+$AM$2)/2)+237.3))))))-1)*1000-(0.622/((101325/($AQ$1*611*EXP(17.27*($AM$3/($AM$3+237.3))))))-1)*1000))/(1005*((($AM$1+$AM$2)/2)-$AM$3)))))","v":1},1,1,686,733,1045,null,0,0,0,1]
["34018021",null,null,3,40,180,21,21.5,0,26,30,46.4,3274.4,6016.7573462820046,6423.892435808023,9156.9599999999991,1.5,1.05,1.05,1.05,2336,4751,5072,7230,201,409,436,622,0.28015956511163204,1.103167036901554,1.2484144659284111,2.4851546453410029,1.2760000000000001E-4,1.7219,4,5.1420100000000005E-4,750.12346036921247,800.88196110577712,1141.6200000000001,0.85,0.85,0.85,750,801,1142,323,344,491,0.69902928526631702,0.78946623977507491,1.5712748482814811,4.8,11.5,12.8,19.600000000000001,null,4093,null,0.8,null,null,0,10,11.8,21.85,null,1,1,1,750,801,1142,null,0,0,0,1]
["34020010",null,null,3,40,200,10,11.5,0,26,30,46.5,1733.4,3259.5785648750903,3552.8677924068675,4620.9799999999996,1.5,1.08,1.08,1.08,1237,2556,2786,3624,106,220,240,312,8.7505139631258749E-2,0.34122659140984074,0.40155124196507375,0.65654717810994445,3.969E-4,1.7345999999999999,2,3.6734700000000002E-4,451.89903695786995,492.55985148767917,640.64,0.98,0.98,0.98,452,493,641,194,212,276,0.26974633951173027,0.31839322337808124,0.52169992911952934,1.3,13.4,14.8,24,null,1926,null,0.9,null,null,0,10.7,12.5,21.85,null,1,1,1,452,493,641,null,0,0,0,1]
["34020015",null,null,3,40,200,15,16.5,0,26,30,47.1,2508.8000000000002,3875.4624109054007,4083.4735576056296,5893.16,1.5,1.08,1.08,1.08,1790,3039,3202,4622,154,261,275,397,0.15208846662282102,0.41943542456469279,0.46387282230494226,0.94232779221518648,2.0829999999999999E-4,1.724,2,4.6182900000000003E-4,529.01617838795164,557.41053504066974,804.44,1.01,1.01,1.01,529,557,804,227,240,346,0.3205762003800503,0.35685612106712633,0.72249739815889857,2,13.2,14.7,23.5,null,3136,null,0.8,null,null,0,10,11.4,21.85,null,1,1,1,529,557,804,null,0,0,0,1]
["34020016",null,null,3,40,200,16,16.5,0,26,30,47.1,2312,5667.1755761695722,5971.3549398587584,8617.7000000000007,1.5,1.1000000000000001,1.1000000000000001,1.1000000000000001,1650,4424,4662,6728,142,380,401,579,0.35304780575711819,2.3956910473507516,2.6608247339246818,5.453670256932595,2.0829999999999999E-4,1.724,4,1.392796E-3,868,914,1320,0.95,0.95,0.95,868,914,1320,373,393,568,2.3103470177002245,2.5582125224157561,5.2529022162438315,4,13.2,14.7,23.5,null,3400,null,0.68,null,null,0,10,11.4,21.85,null,1,1,1,868,914,1320,null,0,0,0,1]
["34020021",null,null,3,40,200,21,21.5,0,26,30,47.1,3638.4,7298.5082710627348,7690.2476078687869,11098.36,1.5,1.05,1.05,1.05,2596,5763,6072,8763,223,496,522,754,0.35321969142289794,1.6462201996699861,1.8169792507482643,3.7009529132948087,1.2760000000000001E-4,1.7219,4,5.1420100000000005E-4,946.7235228616961,997.53785795739748,1439.62,0.85,0.85,0.85,947,998,1440,407,429,619,1.123918147974541,1.2440371883056511,2.5261009474966261,5.3,13.2,14.7,23.5,null,4548,null,0.8,null,null,0,10,11.4,21.85,null,1,1,1,947,998,1440,null,0,0,0,1]
["34022010",null,null,3,40,220,10,11.5,0,26,30,46.9,1907.1000000000001,3560.7045070849035,3890.5075371280445,5128.78,1.5,1.08,1.08,1.08,1361,2792,3051,4022,117,240,262,346,0.11114404913398458,0.42247701862510323,0.49758266516536109,0.83671193247343323,3.969E-4,1.7345999999999999,2,3.6734700000000002E-4,493.64631212835212,539.36930014536108,711.04,0.98,0.98,0.98,494,539,711,212,232,306,0.33526766264658142,0.39659808957963044,0.66495285135759441,1.5,13.4,14.8,24,null,2119,null,0.9,null,null,0,10.5,12.3,21.85,null,1,1,1,494,539,711,null,0,0,0,1]
["34022015",null,null,3,40,220,15,16.5,0,26,30,47.8,2760,4302.5567439745028,4481.7988603493422,6540.76,1.5,1.08,1.08,1.08,1969,3374,3515,5130,169,290,302,441,0.18745448872557333,0.52824934112772992,0.57108950097253486,1.1842811694377704,2.0829999999999999E-4,1.724,2,4.6182900000000003E-4,587.31626956044784,611.78353807115786,892.84,1.01,1.01,1.01,587,612,893,252,263,384,0.40328748590288432,0.43778400702821296,0.90690223440245954,2.2000000000000002,15.5,16.8,27.5,null,3450,null,0.8,null,null,0,10,11.1,21.85,null,1,1,1,587,612,893,null,0,0,0,1]
["34022016",null,null,3,40,220,16,16.5,0,26,30,47.8,2543.2000000000003,6291.7251954043459,6553.83496101116,9564.7000000000007,1.5,1.1000000000000001,1.1000000000000001,1.1000000000000001,1815,4912,5117,7467,156,422,440,642,0.43355017635192966,2.9944257157555945,3.2482983187702561,6.7877453647142758,2.0829999999999999E-4,1.724,4,1.392796E-3,963.35813446001066,1003.4910975149082,1464.5,0.95,0.95,0.95,963,1003,1465,414,431,630,2.8848425296225417,3.1200973344986664,6.542211558205909,4.4000000000000004,15.5,16.8,27.5,null,3740,null,0.68,null,null,0,10,11.1,21.85,null,1,1,1,963,1003,1465,null,0,0,0,1]
["34022021",null,null,3,40,220,21,21.5,0,26,30,47.8,4002.4,8102.8384881891643,8440.3982243391856,12317.96,1.5,1.05,1.05,1.05,2856,6398,6664,9726,246,550,573,836,0.43957084177356665,2.062358887776655,2.231838465716764,4.6282420475748083,1.2760000000000001E-4,1.7219,4,5.1420100000000005E-4,1051.0569439418873,1094.8433905300585,1597.82,0.85,0.85,0.85,1051,1095,1598,452,471,687,1.4132675404061716,1.529835024440543,3.1674021588285153,5.9,15.5,16.8,27.5,null,5003,null,0.8,null,null,0,10,11.1,21.85,null,1,1,1,1051,1095,1598,null,0,0,0,1]
["34024010",null,null,3,40,240,10,11.5,0,26,30,47.2,2079.9,3860.4188735925432,4228.9855673527691,5636.58,1.5,1.08,1.08,1.08,1484,3027,3317,4420,128,260,285,380,0.1383133641901681,0.51455963451703945,0.61042691940395077,1.0436441851774703,3.969E-4,1.7345999999999999,2,3.6734700000000002E-4,535.19789031294818,586.29496640731588,781.44,{"$f":"IF($G940=10,0.98,IF($G940=11,0.95,IF($G940=15,1.01,IF($G940=16,0.95,IF($G940=20,0.95,IF($G940=21,0.85))))))","v":0.98},0.98,0.98,535,586,781,230,252,336,0.40968486620571454,0.48550351822928639,0.82954646870937465,1.6,14.8,16.600000000000001,28,null,2311,null,0.9,null,null,0,10.4,12.2,21.85,null,1,1,1,535,586,781,null,0,0,0,1]
["34024015",null,null,3,40,240,15,16.5,0,26,30,48.1,3010.4,4729.715265656896,4901.7743245246338,7188.36,1.5,1.08,1.08,1.08,2148,3709,3844,5637,185,319,331,485,0.2295254692303644,0.65146857081143239,0.69931956136513895,1.4577106558488697,2.0829999999999999E-4,1.724,2,4.6182900000000003E-4,645.62512273636446,669.11187505864359,981.24,1.01,1.01,1.01,646,669,981,278,288,422,0.50037899202077363,0.5354561461459616,1.1152542227427753,2.4,16.399999999999999,17.7,29.7,null,3763,null,0.8,null,null,0,10,10.9,21.85,null,1,1,1,646,669,981,null,0,0,0,1]
["34024016",null,null,3,40,240,16,16.5,0,26,30,48.1,2774.4,6916.3686790875245,7167.9744986485921,10511.7,1.5,1.1000000000000001,1.1000000000000001,1.1000000000000001,1980,5400,5596,8207,170,464,481,706,0.52347322660748008,3.667097444714627,3.9329940571020581,8.3052967253826289,2.0829999999999999E-4,1.724,4,1.392796E-3,1059,1098,1610,0.95,0.95,0.95,1059,1098,1610,455,472,692,3.5300159430065703,3.7910912175214273,7.987173009623401,4.8,16.399999999999999,17.7,29.7,null,4080,null,0.68,null,null,0,10,10.9,21.85,null,1,1,1,1059,1098,1610,null,0,0,0,1]
["34024021",null,null,3,40,240,21,21.5,0,26,30,48.1,4366.4000000000005,8907.2895892451361,9231.3217513746804,13537.56,1.5,1.05,1.05,1.05,3115,7033,7289,10689,268,605,627,919,0.53312441438129277,2.5400955106251395,2.7208037343149845,5.6848092494770484,1.2760000000000001E-4,1.7219,4,5.1420100000000005E-4,1155.4060454399644,1197.4377673560793,1756.02,0.85,0.85,0.85,1155,1197,1756,497,515,755,1.7405492683847181,1.8636668369026486,3.8910739231720726,6.4,16.399999999999999,17.7,29.7,null,5458,null,0.8,null,null,0,10,10.9,21.85,null,1,1,1,1155,1197,1756,null,0,0,0,1]
["34026010",null,null,3,40,260,10,11.5,0,26,30,47.8,2253.6,4178.1784000000007,4608.2849999999999,6144.38,1.5,1.08,1.08,1.08,1608,3277,3614,4819,138,282,311,414,0.16695947578181702,0.62619933930989857,0.75101257718335657,1.2786543856943258,3.969E-4,1.7345999999999999,2,3.6734700000000002E-4,579.25120000000004,638.88,851.84,0.98,0.98,0.98,579,639,852,249,275,366,0.4971168110898011,0.59766089099899167,1.0165350975712137,1.7,16.2,18.600000000000001,31.4,null,2504,null,0.9,null,null,0,10.199999999999999,11.9,21.85,null,1,1,1,579,639,852,null,0,0,0,1]
["34026015",null,null,3,40,260,15,16.5,0,26,30,48.1,3261.6000000000004,4942.1733310961072,5121.9619484404784,7511.2599999999993,1.5,1.08,1.08,1.08,2327,3876,4017,5891,200,333,345,507,0.27396557268358585,0.72567906330489695,0.77658683374621928,1.6253475371689938,2.0829999999999999E-4,1.724,2,4.6182900000000003E-4,653.91552727192982,677.70396216321694,993.84,1.01,1.01,1.01,654,678,994,281,292,427,0.52438185580177876,0.5643390276130934,1.1687899905071639,2.6,16.399999999999999,17.7,29.7,null,4077,null,0.8,null,null,0,10,10.9,21.85,null,1,1,1,654,678,994,null,0,0,0,1]
["34026016",null,null,3,40,260,16,16.5,0,26,30,48.1,3005.6000000000004,7342.4691534710291,7609.5768181679023,11159.300000000001,1.5,1.1000000000000001,1.1000000000000001,1.1000000000000001,2145,5732,5941,8712,184,493,511,749,0.62308584895739549,4.1978564997308982,4.5006744046263982,9.4678767911138362,2.0829999999999999E-4,1.724,4,1.392796E-3,1068.8700133353962,1107.7538502516963,1624.5,0.95,0.95,0.95,1069,1108,1625,460,476,699,3.66947790801381,3.9213280612116019,8.2763568685468254,5.2,16.399999999999999,17.7,29.7,null,4420,null,0.68,null,null,0,10,10.9,21.85,null,1,1,1,1069,1108,1625,null,0,0,0,1]
["34026021",null,null,3,40,260,21,21.5,0,26,30,48.1,4729.6000000000004,9234.8263652613623,9570.7750567366256,14035.359999999999,1.5,1.05,1.05,1.05,3375,7291,7557,11082,290,627,650,953,0.63727959833745607,2.7863852901670048,2.9859304369033395,6.2326378089967651,1.2760000000000001E-4,1.7219,4,5.1420100000000005E-4,1167.5126679363457,1209.9849719689844,1774.42,0.85,0.85,0.85,1168,1210,1774,502,520,763,1.8190609839698662,1.9461054883013664,4.0628828592588073,6.9,16.399999999999999,17.7,29.7,null,5912,null,0.8,null,null,0,10,10.9,21.85,null,1,1,1,1168,1210,1774,null,0,0,0,1]
["34028010",null,null,3,40,280,10,11.5,0,26,30,47.8,2426.4,4331.3824000000004,4782.2249168521384,6369.68,1.5,1.08,1.08,1.08,1731,3397,3750,4995,149,292,323,430,0.20147898123374744,0.69744802061985678,0.84077185533321985,1.4297918820056932,3.969E-4,1.7345999999999999,2,3.6734700000000002E-4,587.68320000000006,648.85364133524638,864.24,0.98,0.98,0.98,588,649,864,253,279,372,0.53495403421136267,0.64106400571541289,1.0925143603098122,1.9,16.2,18.600000000000001,31.4,null,2696,null,0.9,null,null,0,10.199999999999999,11.9,21.85,null,1,1,1,588,649,864,null,0,0,0,1]
["34028015",null,null,3,40,280,15,16.5,0,26,30,48.9,3512,5583.9635634029,5708.9475468201636,8483.56,1.5,1.08,1.08,1.08,2506,4379,4477,6653,216,377,385,572,0.32591653577324375,0.94303351503609456,0.98167422248603797,2.0958794463889725,2.0829999999999999E-4,1.724,2,4.6182900000000003E-4,762.23344503523219,779.29426056038062,1158.04,1.01,1.01,1.01,762,779,1158,328,335,498,0.72271492130345638,0.75246226647382841,1.6068391234938044,2.8,19.3,20.399999999999999,34.5,null,4390,null,0.8,null,null,0,10,10.6,21.85,null,1,1,1,762,779,1158,null,0,0,0,1]
["34028016",null,null,3,40,280,16,16.5,0,26,30,48.9,3236.8,8165.5551181941737,8348.321999442087,12405.7,1.5,1.1000000000000001,1.1000000000000001,1.1000000000000001,2309,6375,6518,9685,199,548,561,833,0.73979266728541604,5.2414825003503225,5.4853925820263667,11.822942017746373,2.0829999999999999E-4,1.724,4,1.392796E-3,1250,1278,1900,0.95,0.95,0.95,1250,1278,1900,538,550,817,5.0575445569651576,5.2786547361922693,11.385263573722288,5.6,19.3,20.399999999999999,34.5,null,4760,null,0.68,null,null,0,10,10.6,21.85,null,1,1,1,1250,1278,1900,null,0,0,0,1]
["34028020",null,null,3,40,280,20,21.5,0,26,30,48.9,4919.2000000000007,7236.8592000000008,7990.1253664397382,10642.44,1.5,1.08,1.08,1.08,3510,5675,6266,8346,302,488,539,718,0.46039697419996556,1.1617686015146995,1.4078788417424029,2.45260460232267,1.2760000000000001E-4,1.7219,2,3.76611E-4,894.36320000000012,987.455178225689,1315.24,0.95,0.95,0.95,894,987,1315,384,424,565,0.73142402444564503,0.88553710556508203,1.5421797125957473,3.7,19.3,20.399999999999999,34.5,null,6149,null,0.8,null,null,0,10,10.6,21.85,null,1,1,1,894,987,1315,null,0,0,0,1]
["34028021",null,null,3,40,280,21,21.5,0,26,30,48.1,5093.6000000000004,10516.06232539558,10751.439821034392,15976.76,1.5,1.05,1.05,1.05,3634,8303,8489,12614,313,714,730,1085,0.75697742312718319,3.6582492578050627,3.8170452588806048,8.1713252650858994,1.2760000000000001E-4,1.7219,4,5.1420100000000005E-4,1261.7808956926551,1290.0229142432502,1916.9885000000002,0.85,0.85,0.85,1262,1290,1917,543,555,824,2.1656497129108883,2.258122327655359,4.8155944562823167,7.5,19.3,20.399999999999999,34.5,null,6367,null,0.8,null,null,0,10,10.6,21.85,null,1,1,1,1262,1290,1917,null,0,0,0,1]
["34030011",null,null,3,40,300,11,11.5,0,26,30,47.8,2578.5600000000004,6285,6939,9242,1.5,1.1000000000000001,1.1000000000000001,1.1000000000000001,1840,4907,5417,7215,158,422,466,620,0.42990956307764866,2.5929756315684109,3.1114877859888272,5.2637423167962414,3.969E-4,1.7345999999999999,4,5.7428799999999995E-4,963,1063,1416,0.95,0.95,0.95,963,1063,1416,414,457,609,2.5033921219274102,3.0018914286103233,5.092866662726184,4,16.2,18.600000000000001,31.4,null,3792,null,0.68,null,null,0,10.199999999999999,11.9,21.85,null,1,1,1,963,1063,1416,null,0,0,0,1]
["34030015",null,null,3,40,300,15,16.5,0,26,30,48.9,3763.2000000000003,5796,5926,8806,1.5,1.08,1.08,1.08,2685,4545,4647,6906,231,391,400,594,0.38004637845015493,1.0351823450431246,1.0811369831130657,2.302757295064469,2.0829999999999999E-4,1.724,2,4.6182900000000003E-4,771,788,1171,1.01,1.01,1.01,771,{"$f":"ROUND(AL960*POWER(CF_cool,AO960),0)","v":788},{"$f":"ROUND(AM960*POWER(CF_cool,AP960),0)","v":1171},332,339,504,0.75777354700053923,0.78851465813358146,1.6813903761483546,3,19.3,20.399999999999999,34.5,null,4704,null,0.8,null,null,0,10,10.6,21.85,null,1,1,1,771,788,1171,null,0,0,0,1]
["34030020",null,null,3,40,300,20,21.5,0,26,30,48.9,5270.4000000000005,7549,8335,11102,1.5,1.08,1.08,1.08,3760,5920,6537,8707,323,509,562,749,0.53449410593005442,1.2832239462300581,1.5535382796513144,2.7065035395986743,1.2760000000000001E-4,1.7219,2,3.76611E-4,905,999,1331,0.95,0.95,0.95,905,999,1331,389,430,572,0.76431919512798108,0.92701417801356134,1.6073504963383516,4,19.3,20.399999999999999,34.5,null,6588,null,0.8,null,null,0,10,10.6,21.85,null,1,1,1,905,999,1331,null,0,0,0,1]
["34030021",null,null,3,40,300,21,21.5,0,26,30,48.1,5457.6,10844,11086,16475,1.5,1.05,1.05,1.05,3894,8562,8753,13008,335,736,753,1119,0.88377169947981948,3.9638592223290634,4.1409093254305303,8.8489265516529922,1.2760000000000001E-4,1.7219,4,5.1420100000000005E-4,1468,1501,2231,0.85,0.85,0.85,1468,1501,2231,631,645,959,2.9532166901831141,3.0796974723112269,6.5810810968934375,8,19.3,20.399999999999999,34.5,null,6822,null,0.8,null,null,0,10,10.6,21.85,null,1,1,1,1468,1501,2231,null,0,0,0,1]
["3505011",null,null,3,50,50,11,11.5,0,26,30,38.799999999999997,471.24,881.02076921515595,942.75810617769378,1102.4000000000001,1.5,1.1000000000000001,1.1000000000000001,1.1000000000000001,336,688,736,861,29,59,63,74,6.6390344559610964E-3,2.6124513105548242E-2,2.9658332216627524E-2,4.0497070432560033E-2,3.969E-4,1.7345999999999999,4,5.7428799999999995E-4,147.56138863197239,157.90172054122763,184.64,0.95,0.95,0.95,148,158,185,64,68,80,3.0575828151930776E-2,3.4381682232525662E-2,4.7098764109165574E-2,0.7,3.6,4.0999999999999996,5.0999999999999996,null,693,null,0.68,null,null,0,14.2,16.2,21.85,null,1,1,1,148,158,185,null,0,0,0,1]
["3506010",null,null,3,50,60,10,11.5,0,26,30,40,581.4,841.69225687813923,901.35950941531064,1066.3800000000001,1.5,1.08,1.08,1.08,415,660,707,836,36,57,61,72,6.4416881672429262E-3,1.5637729576638788E-2,1.782898414147421E-2,2.4572994832794695E-2,3.969E-4,1.7345999999999999,2,3.6734700000000002E-4,116.68990721587436,124.96201154556491,147.84,0.98,0.98,0.98,117,125,148,50,54,64,1.214004296048507E-2,1.4086095785072505E-2,1.9563990759703984E-2,0.4,4.8,5.4,6.8,null,646,null,0.9,null,null,0,13.6,15.6,21.85,null,1,1,1,117,125,148,null,0,0,0,1]
["3506015",null,null,3,50,60,15,16.5,0,26,30,41.1,832,957.19258357509659,1027.5250511543745,1359.96,1.5,1.08,1.08,1.08,594,751,806,1067,51,65,69,92,1.3407845475285831E-2,2.1607295358039021E-2,2.4302699376319299E-2,4.2830982878635446E-2,2.0829999999999999E-4,1.724,2,4.6182900000000003E-4,189.925625,140.26129481477255,185.64,1.01,1.01,1.01,190,140,186,82,60,80,3.4141898797120353E-2,1.8458252538956766E-2,3.25208961878376E-2,0.6,4.8,5.5,7.2,null,1040,null,0.8,null,null,0,12.3,14.4,21.85,null,1,1,1,190,140,186,null,0,0,0,1]
["3506016",null,null,3,50,60,16,16.5,0,26,30,41.1,774.5200000000001,1399.7241764138612,1502.5729206967153,1988.7,1.5,1.1000000000000001,1.1000000000000001,1.1000000000000001,553,1093,1173,1553,48,94,101,134,3.4395354733294137E-2,0.12999495976193065,0.1498640371075696,0.26238954698403733,2.0829999999999999E-4,1.724,4,1.392796E-3,214,230,305,0.95,0.95,0.95,214,230,305,92,99,131,0.12457564927087089,0.14404410806926615,0.25087593311274681,1.2,4.8,5.5,7.2,null,1139,null,0.68,null,null,0,12.3,14.4,21.85,null,1,1,1,214,230,305,null,0,0,0,1]
["3506021",null,null,3,50,60,21,21.5,0,26,30,41.1,1239.2,1802.6437228662567,1935.0981352499616,2561.16,1.5,1.05,1.05,1.05,884,1423,1528,2022,76,122,131,174,3.3056948915059815E-2,8.3927928329369905E-2,9.6565795839234567E-2,0.16901353512975539,1.2760000000000001E-4,1.7219,4,5.1420100000000005E-4,233.82931859416351,251.01059773412922,332.22,0.85,0.85,0.85,234,251,332,101,108,143,5.7851346790324013E-2,6.601213332318584E-2,0.1147780548995266,1.6,4.8,5.5,7.2,null,1549,null,0.8,null,null,0,12.3,14.4,21.85,null,1,1,1,234,251,332,null,0,0,0,1]
["3507010",null,null,3,50,70,10,11.5,0,26,30,41,677.7,1029.7403904507714,1104.2859635902939,1320.28,1.5,1.08,1.08,1.08,484,808,866,1035,42,69,74,89,9.1798390522946638E-3,2.3833508628602774E-2,2.7271158049938453E-2,3.8924960889446435E-2,3.969E-4,1.7345999999999999,2,3.6734700000000002E-4,142.7603849699376,153.09517888293954,183.04,0.98,0.98,0.98,143,153,183,61,66,79,1.8801217016227327E-2,2.1878764945327631E-2,3.093277823234393E-2,0.5,5.5,5.9,7.9,null,753,null,0.9,null,null,0,13.2,15.1,21.85,null,1,1,1,143,153,183,null,0,0,0,1]
["3507015",null,null,3,50,70,15,16.5,0,26,30,41.1,975.82735416996661,1070.8273541699666,1149.5094620994566,1521.41,1.5,1.08,1.08,1.08,696,840,901,1193,{"$f":"ROUND(U974*3600/(4186*ABS($O$1-$O$2)),0)","v":60},{"$f":"ROUND(V974*3600/(4186*ABS($O$1-$O$2)),0)","v":72},{"$f":"ROUND(W974*3600/(4186*ABS($O$1-$O$2)),0)","v":77},{"$f":"ROUND(X974*3600/(4186*ABS($O$1-$O$2)),0)","v":103},1.8933016885219214E-2,2.7077000311869458E-2,3.0892373713348693E-2,5.4716713303803698E-2,2.0829999999999999E-4,1.724,2,4.6182900000000003E-4,135.09481491470635,145.02129350758159,191.94,1.01,1.01,1.01,135,145,192,{"$f":"ROUND(AQ974*3600/(4186*ABS($AM$1-$AM$2)),0)","v":58},{"$f":"ROUND(AR974*3600/(4186*ABS($AM$1-$AM$2)),0)","v":62},{"$f":"ROUND(AS974*3600/(4186*ABS($AM$1-$AM$2)),0)","v":83},1.7715040719154605E-2,2.0190861450308E-2,3.5797696205080359E-2,0.7,5.0999999999999996,5.6,7.2,null,1214,null,0.8,null,null,0,12.3,14.4,21.85,null,1,1,1,135,145,192,null,0,0,0,1]
["3507016",null,null,3,50,70,16,16.5,0,26,30,41.1,903.72,1627.62717250317,1747.2217424001376,2312.5,1.5,1.1000000000000001,1.1000000000000001,1.1000000000000001,645,1271,1364,1805,55,109,117,155,4.5833406894825762E-2,0.17694509326691635,0.20354226765780917,0.35504012904622118,2.0829999999999999E-4,1.724,4,1.392796E-3,219.59769851718443,235.73326859625641,312,0.95,0.95,0.95,220,236,312,95,101,134,0.1348444213322838,0.1521944098151945,0.26618360536544905,1.4,5.0999999999999996,5.6,7.2,null,1329,null,0.68,null,null,0,12.3,14.4,21.85,null,1,1,1,220,236,312,null,0,0,0,1]
["3507021",null,null,3,50,70,21,21.5,0,26,30,41.1,1445.6000000000001,1977.8291945358951,2123.1558613833213,2810.06,1.5,1.05,1.05,1.05,1031,1562,1676,2219,89,134,144,191,4.6237434215905163E-2,0.10327341364618195,0.11896980279584603,0.20738026513327959,1.2760000000000001E-4,1.7219,4,5.1420100000000005E-4,240.30463534531125,257.96170693632649,341.42,0.85,0.85,0.85,240,258,341,103,111,147,6.1591027996900249E-2,7.1335725011536941E-2,0.12389224890734116,1.9,5.0999999999999996,5.6,7.2,null,1807,null,0.8,null,null,0,12.3,14.4,21.85,null,1,1,1,240,258,341,null,0,0,0,1]
["3508010",null,null,3,50,80,10,11.5,0,26,30,41.8,774.9,1214.2269940407766,1304.1433704057049,1574.18,1.5,1.08,1.08,1.08,553,952,1023,1235,48,82,88,106,1.2502850299408872E-2,3.4861135731848764E-2,3.9921570095941127E-2,5.7081303711220763E-2,3.969E-4,1.7345999999999999,2,3.6734700000000002E-4,168.33710197020613,180.80286190736828,218.24,0.98,0.98,0.98,168,181,218,72,78,94,2.7165359623318678E-2,3.167181300086596E-2,4.5312552969066985E-2,0.5,6.3,6.8,9.1,null,861,null,0.9,null,null,0,12.8,14.7,21.85,null,1,1,1,168,181,218,null,0,0,0,1]
["3508015",null,null,3,50,80,15,16.5,0,26,30,42.4,1109.6000000000001,1395.33740436932,1496.2563490716184,2007.56,1.5,1.08,1.08,1.08,792,1094,1173,1574,68,94,101,135,2.4792384486274778E-2,4.6744452652574681E-2,5.3812575245209708E-2,9.5090019266223458E-2,2.0829999999999999E-4,1.724,2,4.6182900000000003E-4,190.46915773046311,204.24499885412456,274.04000000000002,1.01,1.01,1.01,190,204,274,82,88,118,3.5768909532348576E-2,4.1076258231928696E-2,7.3013760578283488E-2,0.8,6,6.7,9,null,1387,null,0.8,null,null,0,11.8,13.7,21.85,null,1,1,1,190,204,274,null,0,0,0,{"$f":"IF(SUM(BV980:BX980)=0,1,0)","v":1}]
["3508016",null,null,3,50,80,16,16.5,0,26,30,42.4,1032.24,2040.4331716148024,2188.0092071816284,2935.7,1.5,1.1000000000000001,1.1000000000000001,1.1000000000000001,737,1593,1708,2292,63,137,147,197,6.0949986346466332E-2,0.28204303816785287,0.32414663509783698,0.57808545963619196,2.0829999999999999E-4,1.724,4,1.392796E-3,312,335,450,0.95,0.95,0.95,312,335,450,134,144,194,0.26997766374686077,0.31121106327333475,0.56081193423750164,1.6,6,6.7,9,null,1518,null,0.68,null,null,0,11.8,13.7,21.85,null,1,1,1,312,335,450,null,0,0,0,1]
["3508021",null,null,3,50,80,21,21.5,0,26,30,42.4,1652.8000000000002,2627.7848955664344,2817.8416357747774,3780.76,1.5,1.05,1.05,1.05,1179,2075,2225,2985,101,178,191,257,6.0678879974764371E-2,0.1842669292057651,0.21161521327347374,0.37914528733911407,1.2760000000000001E-4,1.7219,4,5.1420100000000005E-4,340.86222571220884,365.51537125251701,490.42,0.85,0.85,0.85,341,366,490,147,157,211,0.12659023968056798,0.14403307699408213,0.25732674402542394,2.1,6,6.7,9,null,2066,null,0.8,null,null,0,11.8,13.7,21.85,null,1,1,1,341,366,490,null,0,0,0,1]
["3509010",null,null,3,50,90,10,11.5,0,26,30,42.4,871.2,1395.6272192501513,1501.3000140389001,1828.08,1.5,1.08,1.08,1.08,622,1095,1177,1434,53,94,101,123,1.5871942883951773E-2,4.7370929137888165E-2,5.4349648935862721E-2,7.9273358405672414E-2,3.969E-4,1.7345999999999999,2,3.6734700000000002E-4,193.48593193227777,208.13611852764589,253.44,0.98,0.98,0.98,193,208,253,83,89,109,3.7340239212640722E-2,4.2669333600542279E-2,6.2889336846315577E-2,0.6,6.7,7.4,10.3,null,968,null,0.9,null,null,0,12.5,14.7,21.85,null,1,1,1,193,208,253,null,0,0,0,1]
["3509015",null,null,3,50,90,15,16.5,0,26,30,43.3,1248.8000000000002,1597.9167676946356,1711.9130538160239,2331.36,1.5,1.08,1.08,1.08,891,1253,1343,1828,77,108,115,157,3.2352146782251102E-2,6.2677952603543502E-2,7.0873536439037516E-2,0.1304045922070263,2.0829999999999999E-4,1.724,2,4.6182900000000003E-4,218.12205414485143,233.68300487544244,318.24,1.01,1.01,1.01,218,234,318,94,101,137,4.7773932289979358E-2,5.4977761599022158E-2,9.9846629634346956E-2,0.9,7,7.7,10.7,null,1561,null,0.8,null,null,0,11.3,13.2,21.85,null,1,1,1,218,234,318,null,0,0,0,1]
["3509016",null,null,3,50,90,16,16.5,0,26,30,43.3,1161.44,2336.669516687492,2503.3688418217644,3409.2,1.5,1.1000000000000001,1.1000000000000001,1.1000000000000001,829,1824,1954,2662,71,157,168,229,7.8402105479962514E-2,0.37413425352165253,0.42759818960823864,0.7880408313931474,2.0829999999999999E-4,1.724,4,1.392796E-3,357.77938745479025,383.30357134546551,522,0.95,0.95,0.95,358,383,522,154,165,224,0.36016635113087053,0.41266687566708049,0.75442675175462648,1.8,7,7.7,10.7,null,1708,null,0.68,null,null,0,11.3,13.2,21.85,null,1,1,1,358,383,522,null,0,0,0,1]
[{"$f":"CONCATENATE(D989,E989,F989,G989)","v":"3509021"},null,null,3,50,90,21,21.5,0,26,30,43.3,1859.2,3009.2947651024979,3223.9795559512399,4390.5600000000004,1.5,{"$f":"IF($G989=10,1.08,IF($G989=11,1.1,IF($G989=15,1.08,IF($G989=16,1.1,IF($G989=20,1.08,IF($G989=21,1.05))))))","v":1.05},1.05,1.05,1327,2376,2545,3467,114,204,219,298,{"$f":"(($AG989*(Y989^$AH989)*((($F989-14.4)*$AI989)/100))+($AJ989*(Y989^2)))*0.0098","v":7.8654721788001064E-2},{"$f":"(($AG989*(Z989^$AH989)*((($F989-14.4)*$AI989)/100))+($AJ989*(Z989^2)))*0.0098","v":0.24557012647784476},{"$f":"(($AG989*(AA989^$AH989)*((($F989-14.4)*$AI989)/100))+($AJ989*(AA989^2)))*0.0098","v":0.28220360612938261},{"$f":"(($AG989*(AB989^$AH989)*((($F989-14.4)*$AI989)/100))+($AJ989*(AB989^2)))*0.0098","v":0.51636549160207501},1.2760000000000001E-4,1.7219,4,5.1420100000000005E-4,390.34964893343317,418.19741370243202,569.52,0.85,0.85,0.85,390,418,570,168,180,245,{"$f":"(($AG989*(AT989^$AH989)*((($F989-14.4)*$AI989)/100))+($AJ989*(AT989^2)))*0.0098","v":0.16789509816318576},{"$f":"(($AG989*(AU989^$AH989)*((($F989-14.4)*$AI989)/100))+($AJ989*(AU989^2)))*0.0098","v":0.19217671661448937},{"$f":"(($AG989*(AV989^$AH989)*((($F989-14.4)*$AI989)/100))+($AJ989*(AV989^2)))*0.0098","v":0.35163070513405226},2.4,7,7.7,10.7,null,2324,null,0.8,null,null,0,11.3,13.2,21.85,null,{"$f":"IF(1/(1+((2258*((0.622/((101325/(1*611*EXP(17.27*((($AM$1+$AM$2)/2)/((($AM$1+$AM$2)/2)+237.3))))))-1)*1000-(0.622/((101325/($AQ$1*611*EXP(17.27*($AM$3/($AM$3+237.3))))))-1)*1000))/(1005*((($AM$1+$AM$2)/2)-$AM$3))))>1,1,1/(1+((2258*((0.622/((101325/(1*611*EXP(17.27*((($AM$1+$AM$2)/2)/((($AM$1+$AM$2)/2)+237.3))))))-1)*1000-(0.622/((101325/($AQ$1*611*EXP(17.27*($AM$3/($AM$3+237.3))))))-1)*1000))/(1005*((($AM$1+$AM$2)/2)-$AM$3)))))","v":1},1,1,390,418,570,null,0,0,0,1]
["35010010",null,null,3,50,100,10,11.5,0,26,30,43,968.4,1574.3905475253332,1696.1265760133244,2081.98,1.5,1.08,1.08,1.08,691,1235,1330,1633,59,106,114,140,2.038632436986812E-2,6.2151943031227098E-2,7.1407310896984919E-2,0.10572290690654358,3.969E-4,1.7345999999999999,2,3.6734700000000002E-4,218.26918973175157,235.14633901405676,288.64,0.98,0.98,0.98,218,235,289,94,101,124,4.9429305306709352E-2,5.6681136080738742E-2,8.3841493078660942E-2,0.7,7.8,8.6999999999999993,12.2,null,1076,null,0.9,null,null,0,12.3,14.1,21.85,null,1,1,1,218,235,289,null,0,0,0,1]
["35010015",null,null,3,50,100,15,16.5,0,26,30,44.1,1387.2,1798.7737222599399,1926.0891717740149,2655.16,1.5,1.08,1.08,1.08,990,1411,1511,2082,85,121,130,179,4.0108422587570892E-2,7.9882926528895518E-2,9.1900063797744749E-2,0.17176599623849034,2.0829999999999999E-4,1.724,2,4.6182900000000003E-4,245.53983484833029,262.91890485611941,362.44,1.01,1.01,1.01,246,263,362,106,113,156,6.1693712021988735E-2,6.989545441405931E-2,0.13124694650181259,1,7,7.7,10.7,null,1734,null,0.8,null,null,0,10.9,12.8,21.85,null,1,1,1,246,263,362,null,0,0,0,1]
["35010016",null,null,3,50,100,16,16.5,0,26,30,44.1,1290.6400000000001,2630.3871448118639,2816.5633812075234,3882.7,1.5,1.1000000000000001,1.1000000000000001,1.1000000000000001,921,2054,2199,3031,79,177,189,261,9.8246362381930949E-2,0.4800973876606639,0.5463285500064492,1.0323140112813236,2.0829999999999999E-4,1.724,4,1.392796E-3,403,431,595,0.95,0.95,0.95,403,431,595,173,185,256,0.45896052508691165,0.52378160296818432,0.99366847477469411,2,7,7.7,10.7,null,1898,null,0.68,null,null,0,10.9,12.8,21.85,null,1,1,1,403,431,595,null,0,0,0,1]
["35010020",null,null,3,50,100,20,21.5,0,26,30,44.1,1940,2518.7768428703835,2713.5353098724395,3330.84,1.5,1.08,1.08,1.08,1384,1975,2128,2612,119,170,183,225,6.029061158379944E-2,0.12149545292969745,0.14043896852494522,0.21087888899397389,1.2760000000000001E-4,1.7219,2,3.76611E-4,311.2816285378957,335.35074484391049,411.64,0.95,0.95,0.95,311,335,412,134,144,177,7.6117387440108403E-2,8.7676786087461309E-2,0.13152753973488002,1.3,7,7.7,10.7,null,2425,null,0.8,null,null,0,10.9,12.8,21.85,null,1,1,1,311,335,412,null,0,0,0,1]
["35010021",null,null,3,50,100,21,21.5,0,26,30,44.1,2065.6,3387.5608889256064,3627.3291443724347,5000.3599999999997,1.5,1.05,1.05,1.05,1474,2675,2864,3948,127,230,246,340,9.923031133978083E-2,0.31649151807140574,0.36099859926961725,0.68037875512768187,1.2760000000000001E-4,1.7219,4,5.1420100000000005E-4,439.41631078060919,470.51776864522725,648.62,0.85,0.85,0.85,439,471,649,189,203,279,0.21560419169801393,0.24792046126884393,0.46186798350799674,2.7,7,7.7,10.7,null,2582,null,0.8,null,null,0,10.9,12.8,21.85,null,1,1,1,439,471,649,null,0,0,0,1]
["35011011",null,null,3,50,110,11,11.5,0,26,30,43.5,1037,2396.6961264405954,2582.0149905458411,3169.4,1.5,1.1000000000000001,1.1000000000000001,1.1000000000000001,740,1871,2016,2474,64,161,173,213,4.3255797367993884E-2,0.24597270880165012,0.28182196378494073,0.41797960302434661,3.969E-4,1.7345999999999999,4,5.7428799999999995E-4,401.42051232401269,432.4594048025981,530.84,0.95,0.95,0.95,401,432,531,172,186,228,0.27874588734236166,0.32327190223067265,0.47558723983145007,1.5,8.4,9.3000000000000007,14,null,1525,null,0.68,null,null,0,12,13.9,21.85,null,1,1,1,401,432,531,null,0,0,0,1]
["35011015",null,null,3,50,110,15,16.5,0,26,30,44.1,1525.6000000000001,1908.1501882577959,2043.2071973479594,2816.6099999999997,1.5,1.08,1.08,1.08,1089,1496,1602,2209,94,129,138,190,4.9832891564788713E-2,9.2300683368990388E-2,0.10527066402536114,0.19649702710776104,2.0829999999999999E-4,1.724,2,4.6182900000000003E-4,249.80785427097814,267.48901053042016,368.74,1.01,1.01,1.01,250,267,369,108,115,159,6.5293712586279876E-2,7.3788401225819936E-2,0.1387762211751877,1.1000000000000001,7.9,8.8000000000000007,12.5,null,1907,null,0.8,null,null,0,10.9,12.8,21.85,null,1,1,1,250,267,369,null,0,0,0,1]
["35011020",null,null,3,50,110,20,21.5,0,26,30,44.1,2134.4,2692.551301713082,2900.746468081386,3560.6400000000003,1.5,1.08,1.08,1.08,1523,2112,2275,2792,131,182,196,240,7.3912943178970431E-2,0.14088231271581872,0.16294943153117869,0.24258448149029985,1.2760000000000001E-4,1.7219,2,3.76611E-4,317.17997831584631,341.70517057946222,419.44,0.95,0.95,0.95,317,342,419,136,147,180,7.9544712053658623E-2,9.2650629466224224E-2,0.13785909087762688,1.5,7.9,8.8000000000000007,12.5,null,2668,null,0.8,null,null,0,10.9,12.8,21.85,null,1,1,1,317,342,419,null,0,0,0,1]
["35011021",null,null,3,50,110,21,21.5,0,26,30,44.1,2272,3556.1815292902165,3807.8845891872675,5249.2599999999993,1.5,1.05,1.05,1.05,1621,2808,3007,4145,139,241,259,356,0.12078530128330646,0.35310128138501551,0.40643245418374957,0.75693105159793073,1.2760000000000001E-4,1.7219,4,5.1420100000000005E-4,445.64897406447591,477.19157375690452,657.82,0.85,0.85,0.85,446,477,658,192,205,283,0.22661573879571267,0.25750136415425773,0.48325773512719011,2.9,7.9,8.8000000000000007,12.5,null,2840,null,0.8,null,null,0,10.9,12.8,21.85,null,1,1,1,446,477,658,null,0,0,0,1]
["35012011",null,null,3,50,120,11,11.5,0,26,30,44,1130.8400000000001,2611.8926414972211,2821.6982019103875,3513.9,1.5,1.1000000000000001,1.1000000000000001,1.1000000000000001,807,2039,2203,2743,69,175,189,236,5.2222225060914139E-2,0.30012112200532121,0.34704829521290631,0.52808528089261231,3.969E-4,1.7345999999999999,4,5.7428799999999995E-4,437,473,589,0.95,0.95,0.95,437,473,589,188,203,253,0.34358909156864093,0.39720266611384658,0.60239378849067871,1.6,8.9,9.9,14.8,null,1663,null,0.68,null,null,0,11.8,13.7,21.85,null,1,1,1,437,473,589,null,0,0,0,1]
["35012015",null,null,3,50,120,15,16.5,0,26,30,44.8,1664.8000000000002,2216.9073865755149,2373.9948983307781,3302.76,1.5,1.08,1.08,1.08,1188,1739,1862,2590,102,150,160,223,5.9602862391888348E-2,0.12616601065937175,0.14306010269934949,0.27327410250387973,2.0829999999999999E-4,1.724,2,4.6182900000000003E-4,302.61675876046246,324.05983479376272,450.84,{"$f":"IF($G1004=10,0.98,IF($G1004=11,0.95,IF($G1004=15,1.01,IF($G1004=16,0.95,IF($G1004=20,0.95,IF($G1004=21,0.85))))))","v":1.01},1.01,1.01,303,324,451,130,139,194,9.5500985484133716E-2,0.10878402336268925,0.20824992292405745,1.2,8.6999999999999993,9.8000000000000007,14.3,null,2081,null,0.8,null,null,0,10.6,12.5,21.85,null,1,1,1,303,324,451,null,0,0,0,1]
["35012020",null,null,3,50,120,20,21.5,0,26,30,44.8,2328,3079.6829926739365,3327.0647594078355,4143.24,1.5,1.08,1.08,1.08,1661,2415,2609,3249,143,208,224,279,8.9057423748788681E-2,0.1855749132469651,0.2146103274757947,0.33023406948567835,1.2760000000000001E-4,1.7219,2,3.76611E-4,380.60090160569081,411.17343900116532,512.04,0.95,0.95,0.95,381,411,512,164,177,220,0.11646670942658871,0.13524222402195477,0.20715667478646135,1.6,8.6999999999999993,9.8000000000000007,14.3,null,2910,null,0.8,null,null,0,10.6,12.5,21.85,null,1,1,1,381,411,512,null,0,0,0,1]
["35012021",null,null,3,50,120,21,21.5,0,26,30,44.8,2478.4,4175.015825613802,4470.8526528786542,6219.96,1.5,1.05,1.05,1.05,1768,3296,3530,4911,152,283,304,422,0.14660483300442131,0.49159200971034805,0.56525436757201819,1.0725116519177567,1.2760000000000001E-4,1.7219,4,5.1420100000000005E-4,541.56076058716258,579.9351342123673,806.82,0.85,0.85,0.85,542,580,807,233,249,347,0.33654397258851859,0.38303545484733642,0.73178556707416287,3.2,8.6999999999999993,9.8000000000000007,14.3,null,3098,null,0.8,null,null,0,10.6,12.5,21.85,null,1,1,1,542,580,807,null,0,0,0,1]
["35014011",null,null,3,50,140,11,11.5,0,26,30,44.8,1319.2,3077.015307780141,3332.5766142436496,4202.8999999999996,1.5,1.1000000000000001,1.1000000000000001,1.1000000000000001,941,2402,2602,3281,81,207,224,282,7.6866085718810581E-2,0.44450269226506778,0.51557472310872998,0.79522620174472214,3.969E-4,1.7345999999999999,4,5.7428799999999995E-4,515,558,704,0.95,0.95,0.95,515,558,704,221,240,303,0.5026708586376617,0.58700184508997044,0.91049538023254029,1.9,10.1,11.2,17.5,null,1940,null,0.68,null,null,0,11.5,13.3,21.85,null,1,1,1,515,558,704,null,0,0,0,1]
["35014015",null,null,3,50,140,15,16.5,0,26,30,45.4,1942.4,2628.9846104428207,2815.4584574952669,3950.36,1.5,1.08,1.08,1.08,1386,2062,2208,3098,119,177,190,266,8.3508425333673433E-2,0.18029092070853758,0.20688755958299987,0.39793806455132874,2.0829999999999999E-4,1.724,2,4.6182900000000003E-4,358.86695423586366,384.32138301819265,539.24,1.01,1.01,1.01,359,384,539,154,165,232,0.137621338941047,0.1573279392829452,0.30498467021762166,1.4,9.6,10.5,16.100000000000001,null,2428,null,0.8,null,null,0,10.4,12.2,21.85,null,1,1,1,359,384,539,null,0,0,0,1]
["35014020",null,null,3,50,140,20,21.5,0,26,30,45.4,2716,3628.1091959950468,3929.4415695377957,4955.6400000000003,1.5,1.08,1.08,1.08,1938,2845,3082,3886,167,245,265,334,0.1240376978184978,0.26237161414251958,0.30592500796073402,0.48134974943137049,1.2760000000000001E-4,1.7219,2,3.76611E-4,448.37784746172167,485.61784045001809,612.44000000000005,0.95,0.95,0.95,448,486,612,193,209,263,0.16455496588623258,0.1922740711354792,0.30142179085547277,1.9,9.6,10.5,16.100000000000001,null,3395,null,0.8,null,null,0,10.4,12.2,21.85,null,1,1,1,448,486,612,null,0,0,0,1]
["35014021",null,null,3,50,140,21,21.5,0,26,30,45.4,2892,4951.0649025572329,5302.2438770247491,7439.56,1.5,1.05,1.05,1.05,2063,3909,4186,5874,177,336,360,505,0.20452858530985907,0.7095813437342614,0.81150138458700172,1.5688563953148518,1.2760000000000001E-4,1.7219,4,5.1420100000000005E-4,642.22570316870622,687.77876463210498,965.02,0.85,0.85,0.85,642,688,965,276,296,415,0.48412380536530875,0.55460694628885931,1.0702397452319661,3.7,9.6,10.5,16.100000000000001,null,3615,null,0.8,null,null,0,10.4,12.2,21.85,null,1,1,1,642,688,965,null,0,0,0,1]
["35016011",null,null,3,50,160,11,11.5,0,26,30,45.5,1508.24,3533.107636511756,3835.359341571188,4891.8999999999996,1.5,1.1000000000000001,1.1000000000000001,1.1000000000000001,1076,2758,2994,3819,93,237,257,328,0.10751492310277221,0.61422385368791244,0.71480772824658112,1.1292825279207326,3.969E-4,1.7345999999999999,4,5.7428799999999995E-4,592,642,819,0.95,0.95,0.95,592,642,819,255,276,352,0.70442666719486835,0.81698629969873737,1.2893886583447325,2.1,11,12.4,19.2,null,2218,null,0.68,null,null,0,11.2,13,21.85,null,1,1,1,592,642,819,null,0,0,0,1]
["35016015",null,null,3,50,160,15,16.5,0,26,30,46.4,2219.2000000000003,3021.1783832091446,3225.6120441880121,4597.96,1.5,1.08,1.08,1.08,1583,2369,2530,3606,136,204,218,310,0.11204679264720135,0.24535535943304876,0.27900545112342201,0.55221870136410589,2.0829999999999999E-4,1.724,2,4.6182900000000003E-4,412.40297880742492,440.30899429620177,627.64,1.01,1.01,1.01,412,440,628,177,189,270,0.18642121393254038,0.21164255392481759,0.42236240265801678,1.6,11.5,12.8,19.600000000000001,null,2774,null,0.8,null,null,0,10,11.8,21.85,null,1,1,1,412,440,628,null,0,0,0,1]
["35016020",null,null,3,50,160,20,21.5,0,26,30,46.4,3104,4165.887726998767,4522.2727563025155,5768.04,1.5,1.08,1.08,1.08,2215,3267,3547,4524,190,281,305,389,0.16379044563992917,0.3513653688085987,0.41235697482772449,0.66342434491024516,1.2760000000000001E-4,1.7219,2,3.76611E-4,514.83890668473202,558.88255136973487,712.84,0.95,0.95,0.95,515,559,713,221,240,307,0.21989661309334549,0.25827229749987091,0.41765567382317259,2.1,11.5,12.8,19.600000000000001,null,3880,null,0.8,null,null,0,10,11.8,21.85,null,1,1,1,515,559,713,null,0,0,0,1]
["35016021",null,null,3,50,160,21,21.5,0,26,30,46.4,3304.8,5689.6682460807178,6074.6702425752001,8659.16,1.5,1.05,1.05,1.05,2358,4492,4796,6837,203,386,412,588,0.27614100775060368,0.95789835596811579,1.0870494190212092,2.1697162791451228,1.2760000000000001E-4,1.7219,4,5.1420100000000005E-4,738.0333851508442,787.97378843505794,1123.22,0.85,0.85,0.85,738,788,1123,317,339,483,0.65390832051840242,0.74470210261054104,1.4802227109968673,4.3,11.5,12.8,19.600000000000001,null,4131,null,0.8,null,null,0,10,11.8,21.85,null,1,1,1,738,788,1123,null,0,0,0,1]
["35018011",null,null,3,50,180,11,11.5,0,26,30,46,1696.6000000000001,4030.7284303866513,4375.55079813051,5580.9,1.5,1.1000000000000001,1.1000000000000001,1.1000000000000001,1211,3147,3416,4357,104,271,294,375,0.14211336632171467,0.84114261538251256,0.97920937003276931,1.542963405794187,3.969E-4,1.7345999999999999,4,5.7428799999999995E-4,675.10313623602258,732.85712932403612,934.74,0.95,0.95,0.95,675,733,935,290,315,402,0.95449169552535984,1.1138291531732329,1.7573589514811909,2.4,12.2,13.7,22,null,2495,null,0.68,null,null,0,10.9,12.7,21.85,null,1,1,1,675,733,935,null,0,0,0,1]
["35018015",null,null,3,50,180,15,16.5,0,26,30,46.4,2496.8000000000002,3233.3460619053994,3452.1364439366635,4920.8599999999997,1.5,1.08,1.08,1.08,1781,2536,2707,3859,153,218,233,332,0.14543068294367006,0.28778504307982616,0.32723974604003053,0.64898864028636305,2.0829999999999999E-4,1.724,2,4.6182900000000003E-4,420.6820520547858,449.14828645115074,640.24,1.01,1.01,1.01,421,449,640,181,193,275,0.2010263623163458,0.22751208445626886,0.45076939507650016,1.8,11.5,12.8,19.600000000000001,null,3121,null,0.8,null,null,0,10,11.8,21.85,null,1,1,1,421,449,640,null,0,0,0,1]
["35018020",null,null,3,50,180,20,21.5,0,26,30,46.4,3492,4497.8275192555193,4882.6094666576164,6227.64,1.5,1.08,1.08,1.08,2492,3527,3829,4884,214,303,329,420,0.21167209240829504,0.41646566084553188,0.48893351284694392,0.78724334085603187,1.2760000000000001E-4,1.7219,2,3.76611E-4,526.1057925837863,571.11330132956857,728.44,0.95,0.95,0.95,526,{"$f":"ROUND(AL1024*POWER(CF_cool,AO1024),0)","v":571},{"$f":"ROUND(AM1024*POWER(CF_cool,AP1024),0)","v":728},226,246,313,0.23536033293811029,0.27756656183252509,0.44366421223291913,2.4,11.5,12.8,19.600000000000001,null,4365,null,0.8,null,null,0,10,11.8,21.85,null,1,1,1,526,571,728,null,0,0,0,1]
["35018021",null,null,3,50,180,21,21.5,0,26,30,46.4,3718.4,6016.7573462820046,6423.892435808023,9156.9599999999991,1.5,1.05,1.05,1.05,2653,4751,5072,7230,228,409,436,622,0.35708786548323435,1.103167036901554,1.2484144659284111,2.4851546453410029,1.2760000000000001E-4,1.7219,4,5.1420100000000005E-4,750.12346036921247,800.88196110577712,1141.6200000000001,0.85,0.85,0.85,750,801,1142,323,344,491,0.69902928526631702,0.78946623977507491,1.5712748482814811,4.8,11.5,12.8,19.600000000000001,null,4648,null,0.8,null,null,0,10,11.8,21.85,null,1,1,1,750,801,1142,null,0,0,0,1]
["35020011",null,null,3,50,200,11,11.5,0,26,30,46.5,1884.96,4422.7050634086982,4820.649682883678,6269.9,1.5,1.1000000000000001,1.1000000000000001,1.1000000000000001,1345,3453,3764,4895,116,297,324,421,0.18577152689584636,1.0585097287299379,1.2444441055870641,2.0270127868370142,3.969E-4,1.7345999999999999,4,5.7428799999999995E-4,741,807,1050,0.95,0.95,0.95,741,807,1050,319,347,452,1.2089524361917552,1.4138727396795772,2.3143510148052444,2.7,13.4,14.8,24,null,2772,null,0.68,null,null,0,10.7,12.5,21.85,null,1,1,1,741,807,1050,null,0,0,0,1]
["35020015",null,null,3,50,200,15,16.5,0,26,30,47.1,2774.4,3875.4624109054007,4083.4735576056296,5893.16,1.5,1.08,1.08,1.08,1980,3039,3202,4622,170,261,275,397,0.18386531946704859,0.41943542456469279,0.46387282230494226,0.94232779221518648,2.0829999999999999E-4,1.724,2,4.6182900000000003E-4,529.01617838795164,557.41053504066974,804.44,1.01,1.01,1.01,529,557,804,227,240,346,0.3205762003800503,0.35685612106712633,0.72249739815889857,2,13.2,14.7,23.5,null,3468,null,0.8,null,null,0,10,11.4,21.85,null,1,1,1,529,557,804,null,0,0,0,1]
["35020016",null,null,3,50,200,16,16.5,0,26,30,47.1,2581.2800000000002,5667.1755761695722,5971.3549398587584,8617.7000000000007,1.5,1.1000000000000001,1.1000000000000001,1.1000000000000001,1842,4424,4662,6728,158,380,401,579,0.43429242128316042,2.3956910473507516,2.6608247339246818,5.453670256932595,2.0829999999999999E-4,1.724,4,1.392796E-3,868,914,1320,0.95,0.95,0.95,868,914,1320,373,393,568,2.3103470177002245,2.5582125224157561,5.2529022162438315,4,13.2,14.7,23.5,null,3796,null,0.68,null,null,0,10,11.4,21.85,null,1,1,1,868,914,1320,null,0,0,0,1]
["35020020",null,null,3,50,200,20,21.5,0,26,30,47.1,3880,5214.8121821672385,5684.028740747025,7392.84,1.5,1.08,1.08,1.08,2768,4090,4458,5798,238,352,383,499,0.26646107501988686,0.56991326043648238,0.67162306767239033,1.1243831840072513,1.2760000000000001E-4,1.7219,2,3.76611E-4,644.46964929787134,702.45751547390614,913.64,0.95,0.95,0.95,644,702,914,277,302,393,0.35773067054432378,0.42311312971539766,0.70617331390652549,2.7,13.2,14.7,23.5,null,4850,null,0.8,null,null,0,10,11.4,21.85,null,1,1,1,644,702,914,null,0,0,0,1]
["35022010",null,null,3,50,220,10,11.5,0,26,30,46.9,2130.3000000000002,3560.7045070849035,3890.5075371280445,5128.78,1.5,1.08,1.08,1.08,1520,2792,3051,4022,131,240,262,346,0.13704218478305144,0.42247701862510323,0.49758266516536109,0.83671193247343323,3.969E-4,1.7345999999999999,2,3.6734700000000002E-4,493.64631212835212,539.36930014536108,711.04,0.98,0.98,0.98,494,539,711,212,232,306,0.33526766264658142,0.39659808957963044,0.66495285135759441,1.5,13.4,14.8,24,null,2367,null,0.9,null,null,0,10.5,12.3,21.85,null,1,1,1,494,539,711,null,0,0,0,1]
["35022011",null,null,3,50,220,11,11.5,0,26,30,46.9,2073.3200000000002,4831.2827990970827,5278.770565343093,6958.9,1.5,1.1000000000000001,1.1000000000000001,1.1000000000000001,1479,3772,4121,5433,127,324,354,467,0.23341663312881039,1.314879108402222,1.5495706507880502,2.5925816673788113,3.969E-4,1.7345999999999999,4,5.7428799999999995E-4,809.18727868766814,884.1366084769129,1165.54,0.95,0.95,0.95,809,884,1166,348,380,501,1.5011980733038943,1.7674215645183677,2.9547969820093392,2.9,13.4,14.8,24,null,3049,null,0.68,null,null,0,10.5,12.3,21.85,null,1,1,1,809,884,1166,null,0,0,0,1]
["35022016",null,null,3,50,220,16,16.5,0,26,30,47.8,2839.6800000000003,6291.7251954043459,6553.83496101116,9564.7000000000007,1.5,1.1000000000000001,1.1000000000000001,1.1000000000000001,2026,4912,5117,7467,174,422,440,642,0.53562782219440108,2.9944257157555945,3.2482983187702561,6.7877453647142758,2.0829999999999999E-4,1.724,4,1.392796E-3,963.35813446001066,1003.4910975149082,1464.5,0.95,0.95,0.95,963,1003,1465,414,431,630,2.8848425296225417,3.1200973344986664,6.542211558205909,4.4000000000000004,15.5,16.8,27.5,null,4176,null,0.68,null,null,0,10,11.1,21.85,null,1,1,1,963,1003,1465,null,0,0,0,1]
["35022020",null,null,3,50,220,20,21.5,0,26,30,47.8,4268,5696.5662496175182,6224.1991397456159,8205.24,1.5,1.08,1.08,1.08,3045,4467,4881,6435,262,384,420,553,0.32837489279926158,0.68913594795268296,0.82013908311111194,1.4002126537427437,1.2760000000000001E-4,1.7219,2,3.76611E-4,704.00695650122941,769.21417236639559,1014.04,0.95,0.95,0.95,704,769,1014,303,331,436,0.43521399990720622,0.5165738484716168,0.88193136480825907,2.9,15.5,16.8,27.5,null,5335,null,0.8,null,null,0,10,11.1,21.85,null,1,1,1,704,769,1014,null,0,0,0,1]
["35024010",null,null,3,50,240,10,11.5,0,26,30,47.2,2323.8000000000002,3860.4188735925432,4228.9855673527691,5636.58,1.5,1.08,1.08,1.08,1658,3027,3317,4420,{"$f":"ROUND(U1038*3600/(4186*ABS($O$1-$O$2)),0)","v":143},{"$f":"ROUND(V1038*3600/(4186*ABS($O$1-$O$2)),0)","v":260},{"$f":"ROUND(W1038*3600/(4186*ABS($O$1-$O$2)),0)","v":285},{"$f":"ROUND(X1038*3600/(4186*ABS($O$1-$O$2)),0)","v":380},0.16976040551569688,0.51455963451703945,0.61042691940395077,1.0436441851774703,3.969E-4,1.7345999999999999,2,3.6734700000000002E-4,535.19789031294818,586.29496640731588,781.44,0.98,0.98,0.98,535,586,781,{"$f":"ROUND(AQ1038*3600/(4186*ABS($AM$1-$AM$2)),0)","v":230},{"$f":"ROUND(AR1038*3600/(4186*ABS($AM$1-$AM$2)),0)","v":252},{"$f":"ROUND(AS1038*3600/(4186*ABS($AM$1-$AM$2)),0)","v":336},0.40968486620571454,0.48550351822928639,0.82954646870937465,1.6,14.8,16.600000000000001,28,null,2582,null,0.9,null,null,0,10.4,12.2,21.85,null,1,1,1,535,586,781,null,0,0,0,1]
["35024011",null,null,3,50,240,11,11.5,0,26,30,47.2,2261.6800000000003,5237.9452617275747,5738.028861571599,7647.9,1.5,1.1000000000000001,1.1000000000000001,1.1000000000000001,1614,4089,4480,5971,139,352,385,514,0.29179323594944478,1.6146931478475526,1.905847517886774,3.2559623282985095,3.969E-4,1.7345999999999999,4,5.7428799999999995E-4,877,961,1281,0.95,0.95,0.95,877,961,1281,377,413,551,1.8332088548014907,2.1703781533558777,3.704430979547201,3.2,14.8,16.600000000000001,28,null,3326,null,0.68,null,null,0,10.4,12.2,21.85,null,1,1,1,877,961,1281,null,0,0,0,1]
["35024016",null,null,3,50,240,16,16.5,0,26,30,48.1,3097.4,6916.3686790875245,7167.9744986485921,10511.7,1.5,1.1000000000000001,1.1000000000000001,1.1000000000000001,2210,5400,5596,8207,190,464,481,706,0.64901697730759178,3.667097444714627,3.9329940571020581,8.3052967253826289,2.0829999999999999E-4,1.724,4,1.392796E-3,1059,1098,1610,0.95,0.95,0.95,1059,1098,1610,455,472,692,3.5300159430065703,3.7910912175214273,7.987173009623401,4.8,16.399999999999999,17.7,29.7,null,4555,null,0.68,null,null,0,10,10.9,21.85,null,1,1,1,1059,1098,1610,null,0,0,0,1]
["35024020",null,null,3,50,240,20,21.5,0,26,30,48.1,4656,6176.0620183272586,6765.7106634844222,9017.64,1.5,1.08,1.08,1.08,3322,4844,5306,7072,286,417,456,608,0.39762486511490663,0.82504336232375919,0.98120320393227112,1.7151431662130303,1.2760000000000001E-4,1.7219,2,3.76611E-4,763.26517311676128,836.13657141043336,1114.44,0.95,0.95,0.95,763,836,1114,328,359,479,0.51827708039997999,0.61727233073709142,1.0794747424565225,3.2,16.399999999999999,17.7,29.7,null,5820,null,0.8,null,null,0,10,10.9,21.85,null,1,1,1,763,836,1114,null,0,0,0,1]
["35026010",null,null,3,50,260,10,11.5,0,26,30,47.8,2518.2000000000003,4178.1784000000007,4608.2849999999999,6144.38,1.5,1.08,1.08,1.08,1797,3277,3614,4819,155,282,311,414,0.20685908200401493,0.62619933930989857,0.75101257718335657,1.2786543856943258,3.969E-4,1.7345999999999999,2,3.6734700000000002E-4,579.25120000000004,638.88,851.84,0.98,0.98,0.98,579,639,852,249,275,366,0.4971168110898011,0.59766089099899167,1.0165350975712137,1.7,16.2,18.600000000000001,31.4,null,2798,null,0.9,null,null,0,10.199999999999999,11.9,21.85,null,1,1,1,579,639,852,null,0,0,0,{"$f":"IF(SUM(BV1044:BX1044)=0,1,0)","v":1}]
["35026011",null,null,3,50,260,11,11.5,0,26,30,47.8,2450.7200000000003,5669.0920000000006,6252.6749999999993,8336.9,1.5,1.1000000000000001,1.1000000000000001,1.1000000000000001,1749,4426,4882,6509,150,381,420,560,0.35405823910620621,1.9626616514787372,2.3494829093201255,3.9995616431127772,3.969E-4,1.7345999999999999,4,5.7428799999999995E-4,949.51120000000003,1047.2549999999999,1396.34,0.95,0.95,0.95,950,1047,1396,409,450,600,2.2371204011135477,2.6688522314760581,4.5447894857124886,3.5,16.2,18.600000000000001,31.4,null,3604,null,0.68,null,null,0,10.199999999999999,11.9,21.85,null,1,1,1,950,1047,1396,null,0,0,0,1]
["35026016",null,null,3,50,260,16,16.5,0,26,30,48.1,3355.8,7342.4691534710291,7609.5768181679023,11159.300000000001,1.5,1.1000000000000001,1.1000000000000001,1.1000000000000001,2394,5732,5941,8712,206,493,511,749,0.77479982331112029,4.1978564997308982,4.5006744046263982,9.4678767911138362,2.0829999999999999E-4,1.724,4,1.392796E-3,1068.8700133353962,1107.7538502516963,1624.5,0.95,0.95,0.95,1069,1108,1625,460,476,699,3.66947790801381,3.9213280612116019,8.2763568685468254,5.2,16.399999999999999,17.7,29.7,null,4935,null,0.68,null,null,0,10,10.9,21.85,null,1,1,1,1069,1108,1625,null,0,0,0,1]
["35026020",null,null,3,50,260,20,21.5,0,26,30,48.1,5044,6444.5232000000005,7107.93,9477.24,1.5,1.08,1.08,1.08,3599,5054,5574,7432,310,435,479,639,0.47441686522604776,0.91294981512938123,1.1001003363250261,1.9230584519635214,1.2760000000000001E-4,1.7219,2,3.76611E-4,768.42720000000008,847.53,1130.04,0.95,0.95,0.95,768,848,1130,330,365,486,0.53526796134941879,0.65032127694667174,1.1314386418343181,3.5,16.399999999999999,17.7,29.7,null,6305,null,0.8,null,null,0,10,10.9,21.85,null,1,1,1,768,848,1130,null,0,0,0,1]
["35028010",null,null,3,50,280,10,11.5,0,26,30,47.8,2711.7000000000003,4331.3824000000004,4782.2249168521384,6369.68,1.5,1.08,1.08,1.08,1935,3397,3750,4995,166,292,323,430,0.24581200027236116,0.69744802061985678,0.84077185533321985,1.4297918820056932,3.969E-4,1.7345999999999999,2,3.6734700000000002E-4,587.68320000000006,648.85364133524638,864.24,0.98,0.98,0.98,588,649,864,253,279,372,0.53495403421136267,0.64106400571541289,1.0925143603098122,1.9,16.2,18.600000000000001,31.4,null,3013,null,0.9,null,null,0,10.199999999999999,11.9,21.85,null,1,1,1,588,649,864,null,0,0,0,1]
["35028011",null,null,3,50,280,11,11.5,0,26,30,47.8,2639.0800000000004,5976.8600000000006,6598.9760720588583,8789.5,1.5,1.1000000000000001,1.1000000000000001,1.1000000000000001,1883,4666,5152,6862,162,401,443,590,0.42877537112266756,2.2589629505887028,2.7138313013647335,4.6046594930075209,3.969E-4,1.7345999999999999,4,5.7428799999999995E-4,956,1056,1406,0.95,0.95,0.95,956,1056,1406,411,454,605,2.3637663276478489,2.839310118041396,4.8232973600811606,3.7,16.2,18.600000000000001,31.4,null,3881,null,0.68,null,null,0,10.199999999999999,11.9,21.85,null,1,1,1,956,1056,1406,null,0,0,0,1]
[{"$f":"CONCATENATE(D1053,E1053,F1053,G1053)","v":"35028016"},null,null,3,50,280,16,16.5,0,26,30,48.9,3613.5200000000004,8165.5551181941737,8348.321999442087,12405.7,1.5,{"$f":"IF($G1053=10,1.08,IF($G1053=11,1.1,IF($G1053=15,1.08,IF($G1053=16,1.1,IF($G1053=20,1.08,IF($G1053=21,1.05))))))","v":1.1000000000000001},1.1000000000000001,1.1000000000000001,2578,6375,6518,9685,222,548,561,833,{"$f":"(($AG1053*(Y1053^$AH1053)*((($F1053-14.4)*$AI1053)/100))+($AJ1053*(Y1053^2)))*0.0098","v":0.9133083225181986},{"$f":"(($AG1053*(Z1053^$AH1053)*((($F1053-14.4)*$AI1053)/100))+($AJ1053*(Z1053^2)))*0.0098","v":5.2414825003503225},{"$f":"(($AG1053*(AA1053^$AH1053)*((($F1053-14.4)*$AI1053)/100))+($AJ1053*(AA1053^2)))*0.0098","v":5.4853925820263667},{"$f":"(($AG1053*(AB1053^$AH1053)*((($F1053-14.4)*$AI1053)/100))+($AJ1053*(AB1053^2)))*0.0098","v":11.822942017746373},2.0829999999999999E-4,1.724,4,1.392796E-3,1250,1278,1900,0.95,0.95,0.95,1250,1278,1900,538,550,817,{"$f":"(($AG1053*(AT1053^$AH1053)*((($F1053-14.4)*$AI1053)/100))+($AJ1053*(AT1053^2)))*0.0098","v":5.0575445569651576},{"$f":"(($AG1053*(AU1053^$AH1053)*((($F1053-14.4)*$AI1053)/100))+($AJ1053*(AU1053^2)))*0.0098","v":5.2786547361922693},{"$f":"(($AG1053*(AV1053^$AH1053)*((($F1053-14.4)*$AI1053)/100))+($AJ1053*(AV1053^2)))*0.0098","v":11.385263573722288},5.6,19.3,20.399999999999999,34.5,null,5314,null,0.68,null,null,0,10,10.6,21.85,null,{"$f":"IF(1/(1+((2258*((0.622/((101325/(1*611*EXP(17.27*((($AM$1+$AM$2)/2)/((($AM$1+$AM$2)/2)+237.3))))))-1)*1000-(0.622/((101325/($AQ$1*611*EXP(17.27*($AM$3/($AM$3+237.3))))))-1)*1000))/(1005*((($AM$1+$AM$2)/2)-$AM$3))))>1,1,1/(1+((2258*((0.622/((101325/(1*611*EXP(17.27*((($AM$1+$AM$2)/2)/((($AM$1+$AM$2)/2)+237.3))))))-1)*1000-(0.622/((101325/($AQ$1*611*EXP(17.27*($AM$3/($AM$3+237.3))))))-1)*1000))/(1005*((($AM$1+$AM$2)/2)-$AM$3)))))","v":1},1,1,1250,1278,1900,null,0,0,0,1]
["35028020",null,null,3,50,280,20,21.5,0,26,30,48.9,5432,7236.8592000000008,7990.1253664397382,10642.44,1.5,1.08,1.08,1.08,3876,5675,6266,8346,333,488,539,718,0.55573198802446522,1.1617686015146995,1.4078788417424029,2.45260460232267,1.2760000000000001E-4,1.7219,2,3.76611E-4,894.36320000000012,987.455178225689,1315.24,0.95,0.95,0.95,894,987,1315,384,424,565,0.73142402444564503,0.88553710556508203,1.5421797125957473,3.7,19.3,20.399999999999999,34.5,null,6790,null,0.8,null,null,0,10,10.6,21.85,null,1,1,1,894,987,1315,null,0,0,0,1]
["35030010",null,null,3,50,300,10,11.5,0,26,30,47.8,2905.2000000000003,4485,4951,6595,1.5,1.08,1.08,1.08,2073,3517,3883,5172,178,302,334,445,0.29200255140823372,0.77349371966225222,0.93173607735144592,1.5849386369150411,3.969E-4,1.7345999999999999,2,3.6734700000000002E-4,595,658,877,0.98,0.98,0.98,595,658,877,256,283,377,0.57014654745249982,0.68602826252827387,1.1657237163109904,2,16.2,18.600000000000001,31.4,null,3228,null,0.9,null,null,0,10.199999999999999,11.9,21.85,null,1,1,1,595,658,877,null,0,0,0,1]
["35030011",null,null,3,50,300,11,11.5,0,26,30,47.8,2827.44,6285,6939,9242,1.5,1.1000000000000001,1.1000000000000001,1.1000000000000001,2017,4907,5417,7215,173,422,466,620,0.50716053555601559,2.5929756315684109,3.1114877859888272,5.2637423167962414,3.969E-4,1.7345999999999999,4,5.7428799999999995E-4,963,1063,1416,0.95,0.95,0.95,963,1063,1416,414,457,609,2.5033921219274102,3.0018914286103233,5.092866662726184,4,16.2,18.600000000000001,31.4,null,4158,null,0.68,null,null,0,10.199999999999999,11.9,21.85,null,1,1,1,963,1063,1416,null,0,0,0,1]
["35030016",null,null,3,50,300,16,16.5,0,26,30,48.9,3871.92,8592,8784,13053,1.5,1.1000000000000001,1.1000000000000001,1.1000000000000001,2763,6708,6858,10191,238,577,590,876,1.0648672612688495,5.8870483048918967,6.1467040133841699,13.232326467562144,2.0829999999999999E-4,1.724,4,1.392796E-3,1260,1288,1915,0.95,0.95,0.95,1260,1288,1915,542,554,823,5.2151501028652509,5.4410466690980455,11.721888897057807,6,19.3,20.399999999999999,34.5,null,5694,null,0.68,null,null,0,10,10.6,21.85,null,1,1,1,1260,1288,1915,null,0,0,0,1]
["35030020",null,null,3,50,300,20,21.5,0,26,30,48.9,5820,7549,8335,11102,1.5,1.08,1.08,1.08,4153,5920,6537,8707,357,509,562,749,0.6479305397958588,1.2832239462300581,1.5535382796513144,2.7065035395986743,1.2760000000000001E-4,1.7219,2,3.76611E-4,905,999,1331,0.95,0.95,0.95,905,999,1331,389,430,572,0.76431919512798108,0.92701417801356134,1.6073504963383516,4,19.3,20.399999999999999,34.5,null,7275,null,0.8,null,null,0,10,10.6,21.85,null,1,1,1,905,999,1331,null,0,0,0,1]
["3605010",null,null,3,60,50,10,11.5,0,26,30,38.799999999999997,526.5,649,695,812,1.5,1.08,1.08,1.08,376,509,545,637,32,44,47,55,4.81676982785451E-3,8.9335048277857931E-3,1.0154354668942562E-2,1.3782148323783661E-2,3.969E-4,1.7345999999999999,2,3.6734700000000002E-4,{"$f":"AK866","v":90.020119234756137},{"$f":"AL866","v":96.328259324977694},{"$f":"AM866","v":112.64},0.98,0.98,0.98,90,96,113,39,41,49,7.0687185128054265E-3,7.7890899379448103E-3,1.1010617958771767E-2,0.3,3.6,4.0999999999999996,5.0999999999999996,null,585,null,0.9,null,null,0,14.2,16.2,21.85,null,1,1,1,90,96,113,null,0,0,0,1]
["3605011",null,null,3,60,50,11,11.5,0,26,30,38.799999999999997,507.96000000000004,881.02076921515595,942.75810617769378,1102.4000000000001,1.5,1.1000000000000001,1.1000000000000001,1.1000000000000001,362,688,736,861,31,59,63,74,7.5481323286702567E-3,2.6124513105548242E-2,2.9658332216627524E-2,4.0497070432560033E-2,3.969E-4,1.7345999999999999,4,5.7428799999999995E-4,{"$f":"AK867*(1-(($E1063-50)*0.005))","v":140.18331920037377},{"$f":"AL867*(1-(($E1063-50)*0.005))","v":150.00663451416625},{"$f":"AM867*(1-(($E1063-50)*0.005))","v":175.40799999999999},0.95,0.95,0.95,140,150,175,60,65,75,2.6987522766917661E-2,3.1506920640586411E-2,4.1563628457333114E-2,0.7,3.6,4.0999999999999996,5.0999999999999996,null,747,null,0.68,null,null,0,14.2,16.2,21.85,null,1,1,1,140,150,175,null,0,0,0,1]
["3606011",null,null,3,60,60,11,11.5,0,26,30,40,609.28000000000009,1142.0361657917249,1222.9946868592929,1446.9,1.5,1.1000000000000001,1.1000000000000001,1.1000000000000001,435,892,955,1130,37,77,82,97,1.1429835075068501E-2,4.6649790795689712E-2,5.2655498392101936E-2,7.2777833153007732E-2,3.969E-4,1.7345999999999999,4,5.7428799999999995E-4,{"$f":"AK869*(1-(($E1065-50)*0.005))","v":181.45},{"$f":"AL869*(1-(($E1065-50)*0.005))","v":194.75},{"$f":"AM869*(1-(($E1065-50)*0.005))","v":229.89999999999998},0.95,0.95,0.95,181,195,230,78,84,99,4.7822750061516088E-2,5.515628855485781E-2,7.5698373695825147E-2,0.8,4.8,5.4,6.8,null,896,null,0.68,null,null,0,13.6,15.6,21.85,null,1,1,1,181,195,230,null,0,0,0,1]
["3606015",null,null,3,60,60,15,16.5,0,26,30,41.1,862.19258357509659,957.19258357509659,1027.5250511543745,1359.96,1.5,1.08,1.08,1.08,615,751,806,1067,53,65,69,92,1.4461403006385631E-2,2.1607295358039021E-2,2.4302699376319299E-2,4.2830982878635446E-2,2.0829999999999999E-4,1.724,2,4.6182900000000003E-4,{"$f":"AK870","v":189.925625},{"$f":"AL870","v":140.26129481477255},{"$f":"AM870","v":185.64},1.01,1.01,1.01,190,140,186,82,60,80,3.4141898797120353E-2,1.8458252538956766E-2,3.25208961878376E-2,0.6,4.8,5.5,7.2,null,1120,null,0.8,null,null,0,12.3,14.4,21.85,null,1,1,1,190,140,186,null,0,0,0,1]
["3606016",null,null,3,60,60,16,16.5,0,26,30,41.1,850.00000000000011,1399.7241764138612,1502.5729206967153,1988.7,1.5,1.1000000000000001,1.1000000000000001,1.1000000000000001,606,1093,1173,1553,52,94,101,134,4.0291197461745115E-2,0.12999495976193065,0.1498640371075696,0.26238954698403733,2.0829999999999999E-4,1.724,4,1.392796E-3,{"$f":"AK871*(1-(($E1067-50)*0.005))","v":203.29999999999998},{"$f":"AL871*(1-(($E1067-50)*0.005))","v":218.5},{"$f":"AM871*(1-(($E1067-50)*0.005))","v":289.75},0.95,0.95,0.95,203,219,290,87,94,125,0.11152852163170968,0.12999495976193065,0.22861851818729159,1.2,4.8,5.5,7.2,null,1250,null,0.68,null,null,0,12.3,14.4,21.85,null,1,1,1,203,219,290,null,0,0,0,1]
["3606020",null,null,3,60,60,20,21.5,0,26,30,41.1,1251.575008837732,1346.575008837732,1442.0332127786496,1706.04,1.5,1.08,1.08,1.08,893,1056,1131,1338,77,91,97,115,2.3902999958867951E-2,3.3257087321880145E-2,3.773334830335235E-2,5.2841431064416994E-2,1.2760000000000001E-4,1.7219,2,3.76611E-4,{"$f":"AK872","v":166.41571994991173},{"$f":"AL872","v":178.21286873827722},{"$f":"AM872","v":210.84},{"$f":"IF($G1068=10,0.98,IF($G1068=11,0.95,IF($G1068=15,1.01,IF($G1068=16,0.95,IF($G1068=20,0.95,IF($G1068=21,0.85))))))","v":0.95},0.95,0.95,166,178,211,71,77,91,2.0362186770824586E-2,2.3902999958867951E-2,3.3257087321880145E-2,0.8,4.8,5.5,7.2,null,1565,null,0.8,null,null,0,12.3,14.4,21.85,null,1,1,1,166,178,211,null,0,0,0,1]
["3607010",null,null,3,60,70,10,11.5,0,26,30,41,737.1,1029.7403904507714,1104.2859635902939,1320.28,1.5,1.08,1.08,1.08,526,808,866,1035,45,69,74,89,1.0479147115270298E-2,2.3833508628602774E-2,2.7271158049938453E-2,3.8924960889446435E-2,3.969E-4,1.7345999999999999,2,3.6734700000000002E-4,{"$f":"AK874","v":142.7603849699376},{"$f":"AL874","v":153.09517888293954},{"$f":"AM874","v":183.04},0.98,0.98,0.98,143,153,183,61,66,79,1.8801217016227327E-2,2.1878764945327631E-2,3.093277823234393E-2,0.5,5.5,5.9,7.9,null,819,null,0.9,null,null,0,13.2,15.1,21.85,null,1,1,1,143,153,183,null,0,0,0,1]
["3607011",null,null,3,60,70,11,11.5,0,26,30,41,711.28000000000009,1397.1861540381678,1498.3320774196782,1791.4,1.5,1.1000000000000001,1.1000000000000001,1.1000000000000001,508,1091,1170,1399,44,94,101,120,1.7030292031564611E-2,7.2618348923691595E-2,8.3337593553421352E-2,0.11600499755813,3.969E-4,1.7345999999999999,4,5.7428799999999995E-4,{"$f":"AK875*(1-(($E1071-50)*0.005))","v":222.31279835588435},{"$f":"AL875*(1-(($E1071-50)*0.005))","v":238.40659745648665},{"$f":"AM875*(1-(($E1071-50)*0.005))","v":285.03800000000001},0.95,0.95,0.95,222,238,285,95,102,123,7.4106071766531376E-2,8.4926962093825373E-2,0.12163782133012768,0.9,5.5,5.9,7.9,null,1046,null,0.68,null,null,0,13.2,15.1,21.85,null,1,1,1,222,238,285,null,0,0,0,1]
["3607016",null,null,3,60,70,16,16.5,0,26,30,41.1,992.12000000000012,1627.62717250317,1747.2217424001376,2312.5,1.5,1.1000000000000001,1.1000000000000001,1.1000000000000001,708,1271,1364,1805,61,109,117,155,5.6221407904648489E-2,0.17694509326691635,0.20354226765780917,0.35504012904622118,2.0829999999999999E-4,1.724,4,1.392796E-3,{"$f":"AK877*(1-(($E1073-50)*0.005))","v":208.61781359132519},{"$f":"AL877*(1-(($E1073-50)*0.005))","v":223.94660516644359},{"$f":"AM877*(1-(($E1073-50)*0.005))","v":296.39999999999998},0.95,0.95,0.95,209,224,296,90,96,127,0.12118111727948573,0.13766383484006076,0.23938244568295547,1.4,5.0999999999999996,5.6,7.2,null,1459,null,0.68,null,null,0,12.3,14.4,21.85,null,1,1,1,209,224,296,null,0,0,0,1]
["3607020",null,null,3,60,70,20,21.5,0,26,30,41.1,1414.840819712653,1509.840819712653,1619.1421060355642,1935.84,1.5,1.08,1.08,1.08,1010,1184,1270,1518,87,102,109,131,3.0975335955806562E-2,4.2396471925119035E-2,4.8331778986334215E-2,6.9488117345007913E-2,1.2760000000000001E-4,1.7219,2,3.76611E-4,{"$f":"AK878","v":170.52628152222005},{"$f":"AL878","v":182.87112058001478},{"$f":"AM878","v":218.64000000000001},0.95,0.95,0.95,171,183,219,74,79,94,2.2511197833279682E-2,2.5608782122359248E-2,3.6084845824600094E-2,0.9,5.0999999999999996,5.6,7.2,null,1826,null,0.8,null,null,0,12.3,14.4,21.85,null,1,1,1,171,183,219,null,0,0,0,1]
["3608010",null,null,3,60,80,10,11.5,0,26,30,41.8,842.4,1214.2269940407766,1304.1433704057049,1574.18,1.5,1.08,1.08,1.08,601,952,1023,1235,52,82,88,106,1.4569668054530934E-2,3.4861135731848764E-2,3.9921570095941127E-2,5.7081303711220763E-2,3.969E-4,1.7345999999999999,2,3.6734700000000002E-4,{"$f":"AK880","v":168.33710197020613},{"$f":"AL880","v":180.80286190736828},{"$f":"AM880","v":218.24},0.98,0.98,0.98,168,181,218,72,78,94,2.7165359623318678E-2,3.167181300086596E-2,4.5312552969066985E-2,0.5,6.3,6.8,9.1,null,936,null,0.9,null,null,0,12.8,14.7,21.85,null,1,1,1,168,181,218,null,0,0,0,1]
["3608011",null,null,3,60,80,11,11.5,0,26,30,41.8,812.6,1647.5037394527276,1769.505282019556,2135.9,1.5,1.1000000000000001,1.1000000000000001,1.1000000000000001,580,1286,1381,1668,50,111,119,143,2.3104561254728973E-2,0.10537485365866733,0.12035350001470055,0.17100095804480808,3.969E-4,1.7345999999999999,4,5.7428799999999995E-4,{"$f":"AK881*(1-(($E1077-50)*0.005))","v":262.2},{"$f":"AL881*(1-(($E1077-50)*0.005))","v":281.2},{"$f":"AM881*(1-(($E1077-50)*0.005))","v":340.09999999999997},0.95,0.95,0.95,262,281,340,113,121,146,0.10902979448688195,0.12424747141184385,0.17793080818342127,1.1000000000000001,6.3,6.8,9.1,null,1195,null,0.68,null,null,0,12.8,14.7,21.85,null,1,1,1,262,281,340,null,0,0,0,1]
["3608016",null,null,3,60,80,16,16.5,0,26,30,42.4,1133.5600000000002,2040.4331716148024,2188.0092071816284,2935.7,1.5,1.1000000000000001,1.1000000000000001,1.1000000000000001,809,1593,1708,2292,70,137,147,197,7.5007154239125809E-2,0.28204303816785287,0.32414663509783698,0.57808545963619196,2.0829999999999999E-4,1.724,4,1.392796E-3,{"$f":"AK883*(1-(($E1079-50)*0.005))","v":296.39999999999998},{"$f":"AL883*(1-(($E1079-50)*0.005))","v":318.25},{"$f":"AM883*(1-(($E1079-50)*0.005))","v":427.5},0.95,0.95,0.95,296,318,428,127,137,184,0.24284130542751581,0.28204303816785287,0.50510982133090043,1.6,6,6.7,9,null,1667,null,0.68,null,null,0,11.8,13.7,21.85,null,1,1,1,296,318,428,null,0,0,0,1]
["3608020",null,null,3,60,80,20,21.5,0,26,30,42.4,1668.8000000000002,1942.5718983039128,2086.4239348515057,2518.44,1.5,1.08,1.08,1.08,1191,1523,1636,1975,102,131,141,170,4.3115449560715988E-2,7.0594323803498546E-2,8.1613209141998835E-2,0.11803010584799242,1.2760000000000001E-4,1.7219,2,3.76611E-4,{"$f":"AK884","v":240.07166246887351},{"$f":"AL884","v":257.84953601562182},{"$f":"AM884","v":311.24},0.95,0.95,0.95,240,258,311,103,111,134,4.3951963441231798E-2,5.0929918356249132E-2,7.381701321036345E-2,1.1000000000000001,6,6.7,9,null,2086,null,0.8,null,null,0,11.8,13.7,21.85,null,1,1,1,240,258,311,null,0,0,0,1]
["3609010",null,null,3,60,90,10,11.5,0,26,30,42.4,947.7,1395.6272192501513,1501.3000140389001,1828.08,1.5,1.08,1.08,1.08,676,1095,1177,1434,58,94,101,123,1.8844836985638887E-2,4.7370929137888165E-2,5.4349648935862721E-2,7.9273358405672414E-2,3.969E-4,1.7345999999999999,2,3.6734700000000002E-4,{"$f":"AK886","v":193.48593193227777},{"$f":"AL886","v":208.13611852764589},{"$f":"AM886","v":253.44},0.98,0.98,0.98,193,208,253,83,89,109,3.7340239212640722E-2,4.2669333600542279E-2,6.2889336846315577E-2,0.6,6.7,7.4,10.3,null,1053,null,0.9,null,null,0,12.5,14.7,21.85,null,1,1,1,193,208,253,null,0,0,0,1]
["3609011",null,null,3,60,90,11,11.5,0,26,30,42.4,914.6,1893.6336235985709,2037.0140009310799,2480.4,1.5,1.1000000000000001,1.1000000000000001,1.1000000000000001,653,1478,1590,1936,56,127,137,166,3.0322959100417032E-2,0.1432245427635509,0.16545208362851668,0.2385477205755622,3.969E-4,1.7345999999999999,4,5.7428799999999995E-4,{"$f":"AK887*(1-(($E1083-50)*0.005))","v":301.3048681496536},{"$f":"AL887*(1-(($E1083-50)*0.005))","v":324.118787985594},{"$f":"AM887*(1-(($E1083-50)*0.005))","v":394.66800000000001},0.95,0.95,0.95,301,324,395,129,139,170,0.14754712308352055,0.17008165672135647,0.24963110053828763,1.2,6.7,7.4,10.3,null,1345,null,0.68,null,null,0,12.5,14.7,21.85,null,1,1,1,301,324,395,null,0,0,0,1]
["3609016",null,null,3,60,90,16,16.5,0,26,30,43.3,1275.68,2336.669516687492,2503.3688418217644,3409.2,1.5,1.1000000000000001,1.1000000000000001,1.1000000000000001,910,1824,1954,2662,78,157,168,229,9.4327088277835633E-2,0.37413425352165253,0.42759818960823864,0.7880408313931474,2.0829999999999999E-4,1.724,4,1.392796E-3,{"$f":"AK889*(1-(($E1085-50)*0.005))","v":339.8904180820507},{"$f":"AL889*(1-(($E1085-50)*0.005))","v":364.13839277819221},{"$f":"AM889*(1-(($E1085-50)*0.005))","v":495.9},0.95,0.95,0.95,340,364,496,146,157,213,0.32420444088187106,0.37413425352165253,0.68303071504603596,1.8,7,7.7,10.7,null,1876,null,0.68,null,null,0,11.3,13.2,21.85,null,1,1,1,340,364,496,null,0,0,0,1]
["3609020",null,null,3,60,90,20,21.5,0,26,30,43.3,1877.6000000000001,2232.7836804230465,2401.8435041457315,2924.64,1.5,1.08,1.08,1.08,1340,1751,1884,2294,115,151,162,197,5.5493248439033437E-2,9.4834579626451532E-2,0.10891673537133954,0.16011957350838529,1.2760000000000001E-4,1.7219,2,3.76611E-4,{"$f":"AK890","v":275.93732338069162},{"$f":"AL890","v":296.83048721840407},{"$f":"AM890","v":361.44},0.95,0.95,0.95,276,297,361,119,128,155,5.9353068879593893E-2,6.85057463009488E-2,9.9843942617951306E-2,1.2,7,7.7,10.7,null,2347,null,0.8,null,null,0,11.3,13.2,21.85,null,1,1,1,276,297,361,null,0,0,0,1]
["36010010",null,null,3,60,100,10,11.5,0,26,30,43,1053,1574.3905475253332,1696.1265760133244,2081.98,1.5,1.08,1.08,1.08,751,1235,1330,1633,65,106,114,140,2.450160120986232E-2,6.2151943031227098E-2,7.1407310896984919E-2,0.10572290690654358,3.969E-4,1.7345999999999999,2,3.6734700000000002E-4,{"$f":"AK892","v":218.26918973175157},{"$f":"AL892","v":235.14633901405676},{"$f":"AM892","v":288.64},0.98,0.98,0.98,218,{"$f":"ROUND(AL1088*POWER(CF_cool,AO1088),0)","v":235},{"$f":"ROUND(AM1088*POWER(CF_cool,AP1088),0)","v":289},94,101,124,4.9429305306709352E-2,5.6681136080738742E-2,8.3841493078660942E-2,0.7,7.8,8.6999999999999993,12.2,null,1170,null,0.9,null,null,0,12.3,14.1,21.85,null,1,1,1,218,235,289,null,0,0,0,1]
["36010011",null,null,3,60,100,11,11.5,0,26,30,43,1015.9200000000001,2136.1856779144437,2301.3611872256411,2824.9,1.5,1.1000000000000001,1.1000000000000001,1.1000000000000001,725,1668,1797,2205,62,143,155,190,3.8754898442136025E-2,0.18804776535798132,0.21911871198426447,0.32261632041631727,3.969E-4,1.7345999999999999,4,5.7428799999999995E-4,{"$f":"AK893*(1-(($E1089-50)*0.005))","v":340.09999999999997},{"$f":"AL893*(1-(($E1089-50)*0.005))","v":365.75},{"$f":"AM893*(1-(($E1089-50)*0.005))","v":449.34999999999997},0.95,0.95,0.95,340,366,449,146,157,193,0.19560272364226922,0.22451745509669774,0.33237326625268138,1.3,7.8,8.6999999999999993,12.2,null,1494,null,0.68,null,null,0,12.3,14.1,21.85,null,1,1,1,340,366,449,null,0,0,0,1]
["36010016",null,null,3,60,100,16,16.5,0,26,30,44.1,1417.1200000000001,2630.3871448118639,2816.5633812075234,3882.7,1.5,1.1000000000000001,1.1000000000000001,1.1000000000000001,1011,2054,2199,3031,87,177,189,261,0.11873572073391116,0.4800973876606639,0.5463285500064492,1.0323140112813236,2.0829999999999999E-4,1.724,4,1.392796E-3,{"$f":"AK895*(1-(($E1091-50)*0.005))","v":382.84999999999997},{"$f":"AL895*(1-(($E1091-50)*0.005))","v":409.45},{"$f":"AM895*(1-(($E1091-50)*0.005))","v":565.25},0.95,0.95,0.95,383,409,565,165,176,243,0.41809834906484244,0.4747690796059541,0.89660560861144689,2,7,7.7,10.7,null,2084,null,0.68,null,null,0,10.9,12.8,21.85,null,1,1,1,383,409,565,null,0,0,0,1]
["36010020",null,null,3,60,100,20,21.5,0,26,30,44.1,2086.4,2518.7768428703835,2713.5353098724395,3330.84,1.5,1.08,1.08,1.08,1489,1975,2128,2612,128,170,183,225,6.9568693256735675E-2,0.12149545292969745,0.14043896852494522,0.21087888899397389,1.2760000000000001E-4,1.7219,2,3.76611E-4,{"$f":"AK896","v":311.2816285378957},{"$f":"AL896","v":335.35074484391049},{"$f":"AM896","v":411.64},0.95,0.95,0.95,311,335,412,134,144,177,7.6117387440108403E-2,8.7676786087461309E-2,0.13152753973488002,1.3,7,7.7,10.7,null,2608,null,0.8,null,null,0,10.9,12.8,21.85,null,1,1,1,311,335,412,null,0,0,0,1]
["36011010",null,null,3,60,110,10,11.5,0,26,30,43.5,1158.3,1766.3893947845202,1902.9712804051933,2335.88,1.5,1.08,1.08,1.08,826,1385,1492,1832,71,119,128,158,3.0242099553905905E-2,8.0603275811184871E-2,9.2599605028954202E-2,0.13830835282173867,3.969E-4,1.7345999999999999,2,3.6734700000000002E-4,{"$f":"AK898","v":244.88738360147738},{"$f":"AL898","v":263.82272182064906},{"$f":"AM898","v":323.83999999999997},0.98,0.98,0.98,245,264,324,105,114,139,6.3532409410345894E-2,7.4283678081492499E-2,0.10834103483995079,0.7,8.4,9.3000000000000007,14,null,1287,null,0.9,null,null,0,12,13.9,21.85,null,1,1,1,245,264,324,null,0,0,0,1]
["36011011",null,null,3,60,110,11,11.5,0,26,30,43.5,1117.24,2396.6961264405954,2582.0149905458411,3169.4,1.5,1.1000000000000001,1.1000000000000001,1.1000000000000001,797,1871,2016,2474,69,161,173,213,4.9814345286812417E-2,0.24597270880165012,0.28182196378494073,0.41797960302434661,3.969E-4,1.7345999999999999,4,5.7428799999999995E-4,{"$f":"AK899*(1-(($E1095-50)*0.005))","v":381.34948670781205},{"$f":"AL899*(1-(($E1095-50)*0.005))","v":410.83643456246818},{"$f":"AM899*(1-(($E1095-50)*0.005))","v":504.298},0.95,0.95,0.95,381,411,504,164,177,217,0.25471717745648809,0.29428702881790797,0.43299428611996899,1.5,8.4,9.3000000000000007,14,null,1643,null,0.68,null,null,0,12,13.9,21.85,null,1,1,1,381,411,504,null,0,0,0,1]
["36011016",null,null,3,60,110,16,16.5,0,26,30,44.1,1558.5600000000002,2849.7497938679544,3051.4523045945984,4206.5,1.5,1.1000000000000001,1.1000000000000001,1.1000000000000001,1112,2225,2382,3284,96,191,205,282,0.14620409172298215,0.56476814232501726,0.64910736540223946,1.2162714994016472,2.0829999999999999E-4,1.724,4,1.392796E-3,{"$f":"AK901*(1-(($E1097-50)*0.005))","v":387.44131870036443},{"$f":"AL901*(1-(($E1097-50)*0.005))","v":414.86403732263182},{"$f":"AM901*(1-(($E1097-50)*0.005))","v":571.9},0.95,0.95,0.95,387,415,572,166,178,246,0.42859150013825975,0.49164521021083024,0.92937971839530331,2.2000000000000002,7.9,8.8000000000000007,12.5,null,2292,null,0.68,null,null,0,10.9,12.8,21.85,null,1,1,1,387,415,572,null,0,0,0,1]
["36011020",null,null,3,60,110,20,21.5,0,26,30,44.1,2295.2000000000003,2692.551301713082,2900.746468081386,3560.6400000000003,1.5,1.08,1.08,1.08,1638,2112,2275,2792,141,182,196,240,8.5379972963736117E-2,0.14088231271581872,0.16294943153117869,0.24258448149029985,1.2760000000000001E-4,1.7219,2,3.76611E-4,{"$f":"AK902","v":317.17997831584631},{"$f":"AL902","v":341.70517057946222},{"$f":"AM902","v":419.44},0.95,0.95,0.95,317,342,419,136,147,180,7.9544712053658623E-2,9.2650629466224224E-2,0.13785909087762688,1.5,7.9,8.8000000000000007,12.5,null,2869,null,0.8,null,null,0,10.9,12.8,21.85,null,1,1,1,317,342,419,null,0,0,0,1]
["36012010",null,null,3,60,120,10,11.5,0,26,30,44,1263.6000000000001,1924.9914127028867,2079.6202422788024,2589.7800000000002,1.5,1.08,1.08,1.08,902,1510,1631,2031,78,130,140,175,3.7628769921881793E-2,9.8985854052659E-2,0.11393853661367993,0.17413148637766063,3.969E-4,1.7345999999999999,2,3.6734700000000002E-4,{"$f":"AK904","v":266.87553260000635},{"$f":"AL904","v":288.31284965818764},{"$f":"AM904","v":359.04},0.98,0.98,0.98,267,288,359,115,124,154,7.844810437960871E-2,9.0497540707880797E-2,0.13655457969155813,0.8,8.9,9.9,14.8,null,1404,null,0.9,null,null,0,11.8,13.7,21.85,null,1,1,1,267,288,359,null,0,0,0,1]
["36012011",null,null,3,60,120,11,11.5,0,26,30,44,1219.24,2611.8926414972211,2821.6982019103875,3513.9,1.5,1.1000000000000001,1.1000000000000001,1.1000000000000001,870,2039,2203,2743,75,175,189,236,6.1041723176808352E-2,0.30012112200532121,0.34704829521290631,0.52808528089261231,3.969E-4,1.7345999999999999,4,5.7428799999999995E-4,{"$f":"AK905*(1-(($E1101-50)*0.005))","v":415.15},{"$f":"AL905*(1-(($E1101-50)*0.005))","v":449.34999999999997},{"$f":"AM905*(1-(($E1101-50)*0.005))","v":559.54999999999995},0.95,0.95,0.95,415,449,560,178,193,241,0.30990424198218286,0.3610496821113453,0.54945691937795194,1.6,8.9,9.9,14.8,null,1793,null,0.68,null,null,0,11.8,13.7,21.85,null,1,1,1,415,449,560,null,0,0,0,1]
["36012015",null,null,3,60,120,15,16.5,0,26,30,44.8,1791.2,2216.9073865755149,2373.9948983307781,3302.76,1.5,1.08,1.08,1.08,1278,1739,1862,2590,{"$f":"ROUND(U1102*3600/(4186*ABS($O$1-$O$2)),0)","v":110},{"$f":"ROUND(V1102*3600/(4186*ABS($O$1-$O$2)),0)","v":150},{"$f":"ROUND(W1102*3600/(4186*ABS($O$1-$O$2)),0)","v":160},{"$f":"ROUND(X1102*3600/(4186*ABS($O$1-$O$2)),0)","v":223},6.9018782178903434E-2,0.12616601065937175,0.14306010269934949,0.27327410250387973,2.0829999999999999E-4,1.724,2,4.6182900000000003E-4,{"$f":"AK906","v":302.61675876046246},{"$f":"AL906","v":324.05983479376272},{"$f":"AM906","v":450.84},1.01,1.01,1.01,303,324,451,{"$f":"ROUND(AQ1102*3600/(4186*ABS($AM$1-$AM$2)),0)","v":130},{"$f":"ROUND(AR1102*3600/(4186*ABS($AM$1-$AM$2)),0)","v":139},{"$f":"ROUND(AS1102*3600/(4186*ABS($AM$1-$AM$2)),0)","v":194},9.5500985484133716E-2,0.10878402336268925,0.20824992292405745,1.2,8.6999999999999993,9.8000000000000007,14.3,null,2239,null,0.8,null,null,0,10.6,12.5,21.85,null,1,1,1,303,324,451,null,0,0,0,1]
["36012016",null,null,3,60,120,16,16.5,0,26,30,44.8,1700.68,3241.8333772189817,3471.5459677567114,4829.7,1.5,1.1000000000000001,1.1000000000000001,1.1000000000000001,1213,2531,2710,3771,104,218,233,324,0.17351433022019377,0.74138661467882749,0.84499496566697219,1.6164367454023814,2.0829999999999999E-4,1.724,4,1.392796E-3,{"$f":"AK907*(1-(($E1103-50)*0.005))","v":471.2},{"$f":"AL907*(1-(($E1103-50)*0.005))","v":505.4},{"$f":"AM907*(1-(($E1103-50)*0.005))","v":703},0.95,0.95,0.95,471,505,703,203,217,302,0.64446844794703151,0.73471714915599595,1.4074989276146941,2.4,8.6999999999999993,9.8000000000000007,14.3,null,2501,null,0.68,null,null,0,10.6,12.5,21.85,null,1,1,1,471,505,703,null,0,0,0,1]
["36012021",null,null,3,60,120,21,21.5,0,26,30,44.8,2766.4,4175.015825613802,4470.8526528786542,6219.96,1.5,1.05,1.05,1.05,1974,3296,3530,4911,170,283,304,422,0.18222607240280492,0.49159200971034805,0.56525436757201819,1.0725116519177567,1.2760000000000001E-4,1.7219,4,5.1420100000000005E-4,{"$f":"AK909*(1-(($E1105-50)*0.005))","v":514.48272255780444},{"$f":"AL909*(1-(($E1105-50)*0.005))","v":550.93837750174896},{"$f":"AM909*(1-(($E1105-50)*0.005))","v":766.47900000000004},0.85,0.85,0.85,514,551,766,221,237,329,0.30361039651243749,0.34789062749724042,0.65951184573728794,3.2,8.6999999999999993,9.8000000000000007,14.3,null,3458,null,0.8,null,null,0,10.6,12.5,21.85,null,1,1,1,514,551,766,null,0,0,0,1]
["36014010",null,null,3,60,140,10,11.5,0,26,30,44.8,1474.2,2267.7915432376717,2456.1428225151312,3097.58,1.5,1.08,1.08,1.08,1052,1778,1926,2429,90,153,166,209,5.3134853086565473E-2,0.14445801004372538,0.16853243053054429,0.26063544201388444,3.969E-4,1.7345999999999999,2,3.6734700000000002E-4,{"$f":"AK910","v":314.40040300104783},{"$f":"AL910","v":340.51290804463417},{"$f":"AM910","v":429.44},0.98,0.98,0.98,314,341,429,135,147,184,0.11404996966906063,0.1339431496553784,0.20476735769324847,0.9,10.1,11.2,17.5,null,1638,null,0.9,null,null,0,11.5,13.3,21.85,null,1,1,1,314,341,429,null,0,0,0,1]
["36014015",null,null,3,60,140,15,16.5,0,26,30,45.4,2089.6,2628.9846104428207,2815.4584574952669,3950.36,1.5,1.08,1.08,1.08,1491,2062,2208,3098,128,177,190,266,9.6170088144447816E-2,0.18029092070853758,0.20688755958299987,0.39793806455132874,2.0829999999999999E-4,1.724,2,4.6182900000000003E-4,{"$f":"AK912","v":358.86695423586366},{"$f":"AL912","v":384.32138301819265},{"$f":"AM912","v":539.24},1.01,1.01,1.01,359,384,539,154,165,232,0.137621338941047,0.1573279392829452,0.30498467021762166,1.4,9.6,10.5,16.100000000000001,null,2612,null,0.8,null,null,0,10.4,12.2,21.85,null,1,1,1,359,384,539,null,0,0,0,{"$f":"IF(SUM(BV1108:BX1108)=0,1,0)","v":1}]
["36014016",null,null,3,60,140,16,16.5,0,26,30,45.4,1984.2400000000002,3844.4231409656436,4117.1080284867467,5776.7,1.5,1.1000000000000001,1.1000000000000001,1.1000000000000001,1416,3001,3214,4510,122,258,276,388,0.24369446864660352,1.0559926133482667,1.2053689200498885,2.3527630854060915,2.0829999999999999E-4,1.724,4,1.392796E-3,{"$f":"AK913*(1-(($E1109-50)*0.005))","v":559.54999999999995},{"$f":"AL913*(1-(($E1109-50)*0.005))","v":598.5},{"$f":"AM913*(1-(($E1109-50)*0.005))","v":840.75},0.95,0.95,0.95,560,599,841,241,258,362,0.92385867287338341,1.0559926133482667,2.0530216141448148,2.8,9.6,10.5,16.100000000000001,null,2918,null,0.68,null,null,0,10.4,12.2,21.85,null,1,1,1,560,599,841,null,0,0,0,1]
["36014021",null,null,3,60,140,21,21.5,0,26,30,45.4,3228,4951.0649025572329,5302.2438770247491,7439.56,1.5,1.05,1.05,1.05,2303,3909,4186,5874,198,336,360,505,0.25414749939944054,0.7095813437342614,0.81150138458700172,1.5688563953148518,1.2760000000000001E-4,1.7219,4,5.1420100000000005E-4,{"$f":"AK915*(1-(($E1111-50)*0.005))","v":610.11441801027092},{"$f":"AL915*(1-(($E1111-50)*0.005))","v":653.38982640049971},{"$f":"AM915*(1-(($E1111-50)*0.005))","v":916.76899999999989},0.85,0.85,0.85,610,653,917,262,281,394,0.43757289193642696,0.50130580430581539,0.96732003781553921,3.7,9.6,10.5,16.100000000000001,null,4035,null,0.8,null,null,0,10.4,12.2,21.85,null,1,1,1,610,653,917,null,0,0,0,1]
["36016010",null,null,3,60,160,10,11.5,0,26,30,45.5,1684.8,2603.9362232520607,2826.6988006529018,3605.38,1.5,1.08,1.08,1.08,1202,2042,2217,2827,103,176,191,243,7.3313335373750482E-2,0.20046748279247403,0.23384464098890503,0.3682343427384388,3.969E-4,1.7345999999999999,2,3.6734700000000002E-4,{"$f":"AK916","v":361.00257998610687},{"$f":"AL916","v":391.88577307200529},{"$f":"AM916","v":499.84},0.98,0.98,0.98,361,392,500,155,169,215,0.15784887533096326,0.18572654509721107,0.29228700277798675,1.1000000000000001,11,12.4,19.2,null,1872,null,0.9,null,null,0,11.2,13,21.85,null,1,1,1,361,392,500,null,0,0,0,1]
["36016015",null,null,3,60,160,15,16.5,0,26,30,46.4,2388.8000000000002,3021.1783832091446,3225.6120441880121,4597.96,1.5,1.08,1.08,1.08,1704,2369,2530,3606,147,204,218,310,0.13020194874716545,0.24535535943304876,0.27900545112342201,0.55221870136410589,2.0829999999999999E-4,1.724,2,4.6182900000000003E-4,{"$f":"AK918","v":412.40297880742492},{"$f":"AL918","v":440.30899429620177},{"$f":"AM918","v":627.64},1.01,1.01,1.01,412,440,628,177,189,270,0.18642121393254038,0.21164255392481759,0.42236240265801678,1.6,11.5,12.8,19.600000000000001,null,2986,null,0.8,null,null,0,10,11.8,21.85,null,1,1,1,412,440,628,null,0,0,0,1]
["36016016",null,null,3,60,160,16,16.5,0,26,30,46.4,2267.1200000000003,4417.9368883555589,4716.8848144627045,6723.7,1.5,1.1000000000000001,1.1000000000000001,1.1000000000000001,1618,3449,3683,5249,139,297,317,451,0.32256299444463393,1.4218556466193635,1.6153748832768098,3.2239502067344685,2.0829999999999999E-4,1.724,4,1.392796E-3,{"$f":"AK919*(1-(($E1115-50)*0.005))","v":642.19999999999993},{"$f":"AL919*(1-(($E1115-50)*0.005))","v":685.9},{"$f":"AM919*(1-(($E1115-50)*0.005))","v":978.5},0.95,0.95,0.95,642,686,979,276,295,421,1.2317402838570684,1.4031717458922595,2.8167901180560695,3.2,11.5,12.8,19.600000000000001,null,3334,null,0.68,null,null,0,10,11.8,21.85,null,1,1,1,642,686,979,null,0,0,0,1]
[{"$f":"CONCATENATE(D1117,E1117,F1117,G1117)","v":"36016021"},null,null,3,60,160,21,21.5,0,26,30,46.4,3688.8,5689.6682460807178,6074.6702425752001,8659.16,1.5,{"$f":"IF($G1117=10,1.08,IF($G1117=11,1.1,IF($G1117=15,1.08,IF($G1117=16,1.1,IF($G1117=20,1.08,IF($G1117=21,1.05))))))","v":1.05},1.05,1.05,2632,4492,4796,6837,226,386,412,588,{"$f":"(($AG1117*(Y1117^$AH1117)*((($F1117-14.4)*$AI1117)/100))+($AJ1117*(Y1117^2)))*0.0098","v":0.33976360538389638},{"$f":"(($AG1117*(Z1117^$AH1117)*((($F1117-14.4)*$AI1117)/100))+($AJ1117*(Z1117^2)))*0.0098","v":0.95789835596811579},{"$f":"(($AG1117*(AA1117^$AH1117)*((($F1117-14.4)*$AI1117)/100))+($AJ1117*(AA1117^2)))*0.0098","v":1.0870494190212092},{"$f":"(($AG1117*(AB1117^$AH1117)*((($F1117-14.4)*$AI1117)/100))+($AJ1117*(AB1117^2)))*0.0098","v":2.1697162791451228},1.2760000000000001E-4,1.7219,4,5.1420100000000005E-4,{"$f":"AK921*(1-(($E1117-50)*0.005))","v":701.13171589330193},{"$f":"AL921*(1-(($E1117-50)*0.005))","v":748.57509901330502},{"$f":"AM921*(1-(($E1117-50)*0.005))","v":1067.059},0.85,0.85,0.85,701,749,1067,301,322,459,{"$f":"(($AG1117*(AT1117^$AH1117)*((($F1117-14.4)*$AI1117)/100))+($AJ1117*(AT1117^2)))*0.0098","v":0.59149415219438328},{"$f":"(($AG1117*(AU1117^$AH1117)*((($F1117-14.4)*$AI1117)/100))+($AJ1117*(AU1117^2)))*0.0098","v":0.67403798206333032},{"$f":"(($AG1117*(AV1117^$AH1117)*((($F1117-14.4)*$AI1117)/100))+($AJ1117*(AV1117^2)))*0.0098","v":1.3407017765206954},4.3,11.5,12.8,19.600000000000001,null,4611,null,0.8,null,null,0,10,11.8,21.85,null,{"$f":"IF(1/(1+((2258*((0.622/((101325/(1*611*EXP(17.27*((($AM$1+$AM$2)/2)/((($AM$1+$AM$2)/2)+237.3))))))-1)*1000-(0.622/((101325/($AQ$1*611*EXP(17.27*($AM$3/($AM$3+237.3))))))-1)*1000))/(1005*((($AM$1+$AM$2)/2)-$AM$3))))>1,1,1/(1+((2258*((0.622/((101325/(1*611*EXP(17.27*((($AM$1+$AM$2)/2)/((($AM$1+$AM$2)/2)+237.3))))))-1)*1000-(0.622/((101325/($AQ$1*611*EXP(17.27*($AM$3/($AM$3+237.3))))))-1)*1000))/(1005*((($AM$1+$AM$2)/2)-$AM$3)))))","v":1},1,1,701,749,1067,null,0,0,0,1]
["36018010",null,null,3,60,180,10,11.5,0,26,30,46,1895.4,2970.6878039917879,3224.8253922941558,4113.18,1.5,1.08,1.08,1.08,1352,2330,2529,3226,116,200,217,277,9.753311130346938E-2,0.27028861945847477,0.31500621168669868,0.49841362806075101,3.969E-4,1.7345999999999999,2,3.6734700000000002E-4,{"$f":"AK922","v":411.84801378696699},{"$f":"AL922","v":447.08095237792156},{"$f":"AM922","v":570.24},0.98,0.98,0.98,412,447,570,177,192,245,0.21495642722836134,0.25036580839638034,0.39566467113231368,1.2,12.2,13.7,22,null,2106,null,0.9,null,null,0,10.9,12.7,21.85,null,1,1,1,412,447,570,null,0,0,0,1]
["36018015",null,null,3,60,180,15,16.5,0,26,30,46.4,2687.2000000000003,3233.3460619053994,3452.1364439366635,4920.8599999999997,1.5,1.08,1.08,1.08,1917,2536,2707,3859,165,218,233,332,0.1681908860784691,0.28778504307982616,0.32723974604003053,0.64898864028636305,2.0829999999999999E-4,1.724,2,4.6182900000000003E-4,{"$f":"AK924","v":420.6820520547858},{"$f":"AL924","v":449.14828645115074},{"$f":"AM924","v":640.24},1.01,1.01,1.01,421,449,640,181,193,275,0.2010263623163458,0.22751208445626886,0.45076939507650016,1.8,11.5,12.8,19.600000000000001,null,3359,null,0.8,null,null,0,10,11.8,21.85,null,1,1,1,421,449,640,null,0,0,0,1]
["36018016",null,null,3,60,180,16,16.5,0,26,30,46.4,2550.6800000000003,4843.4549704976926,5171.1963699821436,7371.3,1.5,1.1000000000000001,1.1000000000000001,1.1000000000000001,1820,3781,4037,5755,157,325,347,495,0.41900350733409608,1.73113399073644,1.9675246325457276,3.9422156930022778,2.0829999999999999E-4,1.724,4,1.392796E-3,{"$f":"AK925*(1-(($E1121-50)*0.005))","v":651.99344496229935},{"$f":"AL925*(1-(($E1121-50)*0.005))","v":696.11179548031294},{"$f":"AM925*(1-(($E1121-50)*0.005))","v":992.27499999999998},0.95,0.95,0.95,652,696,992,280,299,427,1.2939522074981635,1.4709345613590254,2.9520146975406614,3.6,11.5,12.8,19.600000000000001,null,3751,null,0.68,null,null,0,10,11.8,21.85,null,1,1,1,652,696,992,null,0,0,0,1]
["36018021",null,null,3,60,180,21,21.5,0,26,30,46.4,4150.4000000000005,6016.7573462820046,6423.892435808023,9156.9599999999991,1.5,1.05,1.05,1.05,2961,4751,5072,7230,255,409,436,622,0.44302228495249563,1.103167036901554,1.2484144659284111,2.4851546453410029,1.2760000000000001E-4,1.7219,4,5.1420100000000005E-4,{"$f":"AK927*(1-(($E1123-50)*0.005))","v":712.61728735075178},{"$f":"AL927*(1-(($E1123-50)*0.005))","v":760.83786305048818},{"$f":"AM927*(1-(($E1123-50)*0.005))","v":1084.539},0.85,0.85,0.85,713,761,1085,307,327,467,0.63371848583647827,0.71584299915296878,1.4259468895379601,4.8,11.5,12.8,19.600000000000001,null,5188,null,0.8,null,null,0,10,11.8,21.85,null,1,1,1,713,761,1085,null,0,0,0,1]
["36020010",null,null,3,60,200,10,11.5,0,26,30,46.5,2106,3259.5785648750903,3552.8677924068675,4620.9799999999996,1.5,1.08,1.08,1.08,1503,2556,2786,3624,129,220,240,312,0.12605977368527707,0.34122659140984074,0.40155124196507375,0.65654717810994445,3.969E-4,1.7345999999999999,2,3.6734700000000002E-4,{"$f":"AK928","v":451.89903695786995},{"$f":"AL928","v":492.55985148767917},{"$f":"AM928","v":640.64},0.98,0.98,0.98,452,493,641,194,212,276,0.26974633951173027,0.31839322337808124,0.52169992911952934,1.3,13.4,14.8,24,null,2340,null,0.9,null,null,0,10.7,12.5,21.85,null,1,1,1,452,493,641,null,0,0,0,1]
["36020015",null,null,3,60,200,15,16.5,0,26,30,47.1,2985.6000000000004,3875.4624109054007,4083.4735576056296,5893.16,1.5,1.08,1.08,1.08,2130,3039,3202,4622,183,261,275,397,0.21182310684511718,0.41943542456469279,0.46387282230494226,0.94232779221518648,2.0829999999999999E-4,1.724,2,4.6182900000000003E-4,{"$f":"AK930","v":529.01617838795164},{"$f":"AL930","v":557.41053504066974},{"$f":"AM930","v":804.44},1.01,1.01,1.01,529,557,804,227,240,346,0.3205762003800503,0.35685612106712633,0.72249739815889857,2,13.2,14.7,23.5,null,3732,null,0.8,null,null,0,10,11.4,21.85,null,1,1,1,529,557,804,null,0,0,0,1]
["36020016",null,null,3,60,200,16,16.5,0,26,30,47.1,2834.2400000000002,5667.1755761695722,5971.3549398587584,8617.7000000000007,1.5,1.1000000000000001,1.1000000000000001,1.1000000000000001,2022,4424,4662,6728,174,380,401,579,0.52372329266389506,2.3956910473507516,2.6608247339246818,5.453670256932595,2.0829999999999999E-4,1.724,4,1.392796E-3,{"$f":"AK931*(1-(($E1127-50)*0.005))","v":824.59999999999991},{"$f":"AL931*(1-(($E1127-50)*0.005))","v":868.3},{"$f":"AM931*(1-(($E1127-50)*0.005))","v":1254},0.95,0.95,0.95,825,868,1254,355,373,539,2.0978657398992668,2.3103470177002245,4.7413493401618769,4,13.2,14.7,23.5,null,4168,null,0.68,null,null,0,10,11.4,21.85,null,1,1,1,825,868,1254,null,0,0,0,1]
["36020021",null,null,3,60,200,21,21.5,0,26,30,47.1,4611.2,7298.5082710627348,7690.2476078687869,11098.36,1.5,1.05,1.05,1.05,3290,5763,6072,8763,283,496,522,754,0.55826620637561175,1.6462201996699861,1.8169792507482643,3.7009529132948087,1.2760000000000001E-4,1.7219,4,5.1420100000000005E-4,{"$f":"AK933*(1-(($E1129-50)*0.005))","v":899.3873467186113},{"$f":"AL933*(1-(($E1129-50)*0.005))","v":947.6609650595276},{"$f":"AM933*(1-(($E1129-50)*0.005))","v":1367.6389999999999},0.85,0.85,0.85,899,948,1368,387,408,588,1.019863004581038,1.1292496135192727,2.2871485746983979,5.3,13.2,14.7,23.5,null,5764,null,0.8,null,null,0,10,11.4,21.85,null,1,1,1,899,948,1368,null,0,0,0,1]
["36022010",null,null,3,60,220,10,11.5,0,26,30,46.9,2316.6,3560.7045070849035,3890.5075371280445,5128.78,1.5,1.08,1.08,1.08,1653,2792,3051,4022,142,240,262,346,0.15915088944964759,0.42247701862510323,0.49758266516536109,0.83671193247343323,3.969E-4,1.7345999999999999,2,3.6734700000000002E-4,{"$f":"AK934","v":493.64631212835212},{"$f":"AL934","v":539.36930014536108},{"$f":"AM934","v":711.04},0.98,0.98,0.98,494,539,711,212,232,306,0.33526766264658142,0.39659808957963044,0.66495285135759441,1.5,13.4,14.8,24,null,2574,null,0.9,null,null,0,10.5,12.3,21.85,null,1,1,1,494,539,711,null,0,0,0,1]
["36022015",null,null,3,60,220,15,16.5,0,26,30,47.8,3284,4302.5567439745028,4481.7988603493422,6540.76,1.5,1.08,1.08,1.08,2343,3374,3515,5130,202,290,302,441,0.26381547696755536,0.52824934112772992,0.57108950097253486,1.1842811694377704,2.0829999999999999E-4,1.724,2,4.6182900000000003E-4,{"$f":"AK936","v":587.31626956044784},{"$f":"AL936","v":611.78353807115786},{"$f":"AM936","v":892.84},{"$f":"IF($G1132=10,0.98,IF($G1132=11,0.95,IF($G1132=15,1.01,IF($G1132=16,0.95,IF($G1132=20,0.95,IF($G1132=21,0.85))))))","v":1.01},1.01,1.01,587,612,893,252,263,384,0.40328748590288432,0.43778400702821296,0.90690223440245954,2.2000000000000002,15.5,16.8,27.5,null,4105,null,0.8,null,null,0,10,11.1,21.85,null,1,1,1,587,612,893,null,0,0,0,1]
["36022016",null,null,3,60,220,16,16.5,0,26,30,47.8,3117.8,6291.7251954043459,6553.83496101116,9564.7000000000007,1.5,1.1000000000000001,1.1000000000000001,1.1000000000000001,2225,4912,5117,7467,191,422,440,642,0.64165808679597847,2.9944257157555945,3.2482983187702561,6.7877453647142758,2.0829999999999999E-4,1.724,4,1.392796E-3,{"$f":"AK937*(1-(($E1133-50)*0.005))","v":915.1902277370101},{"$f":"AL937*(1-(($E1133-50)*0.005))","v":953.31654263916278},{"$f":"AM937*(1-(($E1133-50)*0.005))","v":1391.2749999999999},0.95,0.95,0.95,915,953,1391,393,410,598,2.606712114900299,2.830801345902183,5.9091706872999774,4.4000000000000004,15.5,16.8,27.5,null,4585,null,0.68,null,null,0,10,11.1,21.85,null,1,1,1,915,953,1391,null,0,0,0,1]
["36022021",null,null,3,60,220,21,21.5,0,26,30,47.8,5072,8102.8384881891643,8440.3982243391856,12317.96,1.5,1.05,1.05,1.05,3619,6398,6664,9726,311,550,573,836,0.68897192916700922,2.062358887776655,2.231838465716764,4.6282420475748083,1.2760000000000001E-4,1.7219,4,5.1420100000000005E-4,{"$f":"AK939*(1-(($E1135-50)*0.005))","v":998.50409674479295},{"$f":"AL939*(1-(($E1135-50)*0.005))","v":1040.1012210035556},{"$f":"AM939*(1-(($E1135-50)*0.005))","v":1517.9289999999999},0.85,0.85,0.85,999,1040,1518,430,447,653,1.2838937063558278,1.3833362790303125,2.8717815858269482,5.9,15.5,16.8,27.5,null,6340,null,0.8,null,null,0,10,11.1,21.85,null,1,1,1,999,1040,1518,null,0,0,0,1]
["36024010",null,null,3,60,240,10,11.5,0,26,30,47.2,2527.2000000000003,3860.4188735925432,4228.9855673527691,5636.58,1.5,1.08,1.08,1.08,1803,3027,3317,4420,155,260,285,380,0.1970570406694046,0.51455963451703945,0.61042691940395077,1.0436441851774703,3.969E-4,1.7345999999999999,2,3.6734700000000002E-4,{"$f":"AK940","v":535.19789031294818},{"$f":"AL940","v":586.29496640731588},{"$f":"AM940","v":781.44},0.98,0.98,0.98,535,586,781,230,252,336,0.40968486620571454,0.48550351822928639,0.82954646870937465,1.6,14.8,16.600000000000001,28,null,2808,null,0.9,null,null,0,10.4,12.2,21.85,null,1,1,1,535,586,781,null,0,0,0,1]
["36024015",null,null,3,60,240,15,16.5,0,26,30,48.1,3582.4,4729.715265656896,4901.7743245246338,7188.36,1.5,1.08,1.08,1.08,2556,3709,3844,5637,220,319,331,485,0.31966009565854897,0.65146857081143239,0.69931956136513895,1.4577106558488697,2.0829999999999999E-4,1.724,2,4.6182900000000003E-4,{"$f":"AK942","v":645.62512273636446},{"$f":"AL942","v":669.11187505864359},{"$f":"AM942","v":981.24},1.01,1.01,1.01,646,669,981,278,288,422,0.50037899202077363,0.5354561461459616,1.1152542227427753,2.4,16.399999999999999,17.7,29.7,null,4478,null,0.8,null,null,0,10,10.9,21.85,null,1,1,1,646,669,981,null,0,0,0,1]
["36024016",null,null,3,60,240,16,16.5,0,26,30,48.1,3401.36,6916.3686790875245,7167.9744986485921,10511.7,1.5,1.1000000000000001,1.1000000000000001,1.1000000000000001,2427,5400,5596,8207,209,464,481,706,0.78040124095033736,3.667097444714627,3.9329940571020581,8.3052967253826289,2.0829999999999999E-4,1.724,4,1.392796E-3,{"$f":"AK943*(1-(($E1139-50)*0.005))","v":1006.05},{"$f":"AL943*(1-(($E1139-50)*0.005))","v":1043.0999999999999},{"$f":"AM943*(1-(($E1139-50)*0.005))","v":1529.5},0.95,0.95,0.95,1006,1043,1530,433,448,658,3.2056884848903526,3.4251634117384206,7.2399571479829739,4.8,16.399999999999999,17.7,29.7,null,5002,null,0.68,null,null,0,10,10.9,21.85,null,1,1,1,1006,1043,1530,null,0,0,0,1]
["36024020",null,null,3,60,240,20,21.5,0,26,30,48.1,5007.2000000000007,6176.0620183272586,6765.7106634844222,9017.64,1.5,1.08,1.08,1.08,3573,4844,5306,7072,307,417,456,608,0.45600875869183882,0.82504336232375919,0.98120320393227112,1.7151431662130303,1.2760000000000001E-4,1.7219,2,3.76611E-4,{"$f":"AK944","v":763.26517311676128},{"$f":"AL944","v":836.13657141043336},{"$f":"AM944","v":1114.44},0.95,0.95,0.95,763,836,1114,328,359,479,0.51827708039997999,0.61727233073709142,1.0794747424565225,3.2,16.399999999999999,17.7,29.7,null,6259,null,0.8,null,null,0,10,10.9,21.85,null,1,1,1,763,836,1114,null,0,0,0,1]
["36024021",null,null,3,60,240,21,21.5,0,26,30,48.1,5533.6,8907.2895892451361,9231.3217513746804,13537.56,1.5,1.05,1.05,1.05,3948,7033,7289,10689,340,605,627,919,0.84041498964491823,2.5400955106251395,2.7208037343149845,5.6848092494770484,1.2760000000000001E-4,1.7219,4,5.1420100000000005E-4,{"$f":"AK945*(1-(($E1141-50)*0.005))","v":1097.6357431679662},{"$f":"AL945*(1-(($E1141-50)*0.005))","v":1137.5658789882752},{"$f":"AM945*(1-(($E1141-50)*0.005))","v":1668.2189999999998},0.85,0.85,0.85,1098,1138,1668,472,489,717,1.5763127514075634,1.6871375198707783,3.5225353216246118,6.4,16.399999999999999,17.7,29.7,null,6917,null,0.8,null,null,0,10,10.9,21.85,null,1,1,1,1098,1138,1668,null,0,0,0,1]
["36026011",null,null,3,60,260,11,11.5,0,26,30,47.8,2641.1200000000003,5669.0920000000006,6252.6749999999993,8336.9,1.5,1.1000000000000001,1.1000000000000001,1.1000000000000001,1884,4426,4882,6509,162,381,420,560,0.40761019407017751,1.9626616514787372,2.3494829093201255,3.9995616431127772,3.969E-4,1.7345999999999999,4,5.7428799999999995E-4,{"$f":"AK947*(1-(($E1143-50)*0.005))","v":902.03563999999994},{"$f":"AL947*(1-(($E1143-50)*0.005))","v":994.89224999999988},{"$f":"AM947*(1-(($E1143-50)*0.005))","v":1326.5229999999999},0.95,0.95,0.95,902,995,1327,388,428,571,2.0297156957328881,2.4328018547463013,4.1462671288299067,3.5,16.2,18.600000000000001,31.4,null,3884,null,0.68,null,null,0,10.199999999999999,11.9,21.85,null,1,1,1,902,995,1327,null,0,0,0,1]
["36026015",null,null,3,60,260,15,16.5,0,26,30,48.1,3881.6000000000004,4942.1733310961072,5121.9619484404784,7511.2599999999993,1.5,1.08,1.08,1.08,2770,3876,4017,5891,238,333,345,507,0.38179383823153723,0.72567906330489695,0.77658683374621928,1.6253475371689938,2.0829999999999999E-4,1.724,2,4.6182900000000003E-4,{"$f":"AK948","v":653.91552727192982},{"$f":"AL948","v":677.70396216321694},{"$f":"AM948","v":993.84},1.01,1.01,1.01,654,678,994,281,292,427,0.52438185580177876,0.5643390276130934,1.1687899905071639,2.6,16.399999999999999,17.7,29.7,null,4852,null,0.8,null,null,0,10,10.9,21.85,null,1,1,1,654,678,994,null,0,0,0,1]
["36026020",null,null,3,60,260,20,21.5,0,26,30,48.1,5424.8,6444.5232000000005,7107.93,9477.24,1.5,1.08,1.08,1.08,3871,5054,5574,7432,333,435,479,639,0.54470305582037903,0.91294981512938123,1.1001003363250261,1.9230584519635214,1.2760000000000001E-4,1.7219,2,3.76611E-4,{"$f":"AK950","v":768.42720000000008},{"$f":"AL950","v":847.53},{"$f":"AM950","v":1130.04},0.95,0.95,0.95,768,848,1130,330,365,486,0.53526796134941879,0.65032127694667174,1.1314386418343181,3.5,16.399999999999999,17.7,29.7,null,6781,null,0.8,null,null,0,10,10.9,21.85,null,1,1,1,768,848,1130,null,0,0,0,1]
["36026021",null,null,3,60,260,21,21.5,0,26,30,48.1,5994.4000000000005,9234.8263652613623,9570.7750567366256,14035.359999999999,1.5,1.05,1.05,1.05,4277,7291,7557,11082,368,627,650,953,1.0041596455064796,2.7863852901670048,2.9859304369033395,6.2326378089967651,1.2760000000000001E-4,1.7219,4,5.1420100000000005E-4,{"$f":"AK951*(1-(($E1147-50)*0.005))","v":1109.1370345395283},{"$f":"AL951*(1-(($E1147-50)*0.005))","v":1149.4857233705352},{"$f":"AM951*(1-(($E1147-50)*0.005))","v":1685.6990000000001},0.85,0.85,0.85,1109,1149,1686,477,494,725,1.6494853644946779,1.7639261148960748,3.6828578662116489,6.9,16.399999999999999,17.7,29.7,null,7493,null,0.8,null,null,0,10,10.9,21.85,null,1,1,1,1109,1149,1686,null,0,0,0,1]
["36028011",null,null,3,60,280,11,11.5,0,26,30,47.8,2844.44,5976.8600000000006,6598.9760720588583,8789.5,1.5,1.1000000000000001,1.1000000000000001,1.1000000000000001,2030,4666,5152,6862,175,401,443,590,0.4937013280739897,2.2589629505887028,2.7138313013647335,4.6046594930075209,3.969E-4,1.7345999999999999,4,5.7428799999999995E-4,{"$f":"AK953*(1-(($E1149-50)*0.005))","v":908.19999999999993},{"$f":"AL953*(1-(($E1149-50)*0.005))","v":1003.1999999999999},{"$f":"AM953*(1-(($E1149-50)*0.005))","v":1335.7},0.95,0.95,0.95,908,1003,1336,390,431,574,2.1462188393916612,2.5799409816472285,4.3766393424547507,3.7,16.2,18.600000000000001,31.4,null,4183,null,0.68,null,null,0,10.199999999999999,11.9,21.85,null,1,1,1,908,1003,1336,null,0,0,0,1]
["36028015",null,null,3,60,280,15,16.5,0,26,30,48.9,4180,5583.9635634029,5708.9475468201636,8483.56,1.5,1.08,1.08,1.08,2982,4379,4477,6653,256,377,385,572,0.45041903467978345,0.94303351503609456,0.98167422248603797,2.0958794463889725,2.0829999999999999E-4,1.724,2,4.6182900000000003E-4,{"$f":"AK954","v":762.23344503523219},{"$f":"AL954","v":779.29426056038062},{"$f":"AM954","v":1158.04},1.01,1.01,1.01,762,779,1158,328,335,498,0.72271492130345638,0.75246226647382841,1.6068391234938044,2.8,19.3,20.399999999999999,34.5,null,5225,null,0.8,null,null,0,10,10.6,21.85,null,1,1,1,762,779,1158,null,0,0,0,1]
["36028020",null,null,3,60,280,20,21.5,0,26,30,48.9,5841.6,7236.8592000000008,7990.1253664397382,10642.44,1.5,1.08,1.08,1.08,4168,5675,6266,8346,358,488,539,718,0.63893362029085699,1.1617686015146995,1.4078788417424029,2.45260460232267,1.2760000000000001E-4,1.7219,2,3.76611E-4,{"$f":"AK956","v":894.36320000000012},{"$f":"AL956","v":987.455178225689},{"$f":"AM956","v":1315.24},0.95,0.95,0.95,894,{"$f":"ROUND(AL1152*POWER(CF_cool,AO1152),0)","v":987},{"$f":"ROUND(AM1152*POWER(CF_cool,AP1152),0)","v":1315},384,424,565,0.73142402444564503,0.88553710556508203,1.5421797125957473,3.7,19.3,20.399999999999999,34.5,null,7302,null,0.8,null,null,0,10,10.6,21.85,null,1,1,1,894,987,1315,null,0,0,0,1]
["36028021",null,null,3,60,280,21,21.5,0,26,30,48.1,6456,10516.06232539558,10751.439821034392,15976.76,1.5,1.05,1.05,1.05,4606,8303,8489,12614,396,714,730,1085,1.1849851895844175,3.6582492578050627,3.8170452588806048,8.1713252650858994,1.2760000000000001E-4,1.7219,4,5.1420100000000005E-4,{"$f":"AK957*(1-(($E1153-50)*0.005))","v":1198.6918509080224},{"$f":"AL957*(1-(($E1153-50)*0.005))","v":1225.5217685310877},{"$f":"AM957*(1-(($E1153-50)*0.005))","v":1821.139075},0.85,0.85,0.85,1199,1226,1821,516,527,783,1.9644055632915978,2.0452529153279042,4.366289902836666,7.5,19.3,20.399999999999999,34.5,null,8070,null,0.8,null,null,0,10,10.6,21.85,null,1,1,1,1199,1226,1821,null,0,0,0,1]
["36030011",null,null,3,60,300,11,11.5,0,26,30,47.8,3047.76,6285,6939,9242,1.5,1.1000000000000001,1.1000000000000001,1.1000000000000001,2175,4907,5417,7215,187,422,466,620,0.58447598099022358,2.5929756315684109,3.1114877859888272,5.2637423167962414,3.969E-4,1.7345999999999999,4,5.7428799999999995E-4,{"$f":"AK959*(1-(($E1155-50)*0.005))","v":914.84999999999991},{"$f":"AL959*(1-(($E1155-50)*0.005))","v":1009.8499999999999},{"$f":"AM959*(1-(($E1155-50)*0.005))","v":1345.2},0.95,0.95,0.95,915,1010,1345,393,434,578,2.2751562092091793,2.7300663372021905,4.62537792131213,4,16.2,18.600000000000001,31.4,null,4482,null,0.68,null,null,0,10.199999999999999,11.9,21.85,null,1,1,1,915,1010,1345,null,0,0,0,1]
["36030015",null,null,3,60,300,15,16.5,0,26,30,48.9,4478.4000000000005,5796,5926,8806,1.5,1.08,1.08,1.08,3195,4545,4647,6906,275,391,400,594,0.52938995844715253,1.0351823450431246,1.0811369831130657,2.302757295064469,2.0829999999999999E-4,1.724,2,4.6182900000000003E-4,{"$f":"AK960","v":771},{"$f":"AL960","v":788},{"$f":"AM960","v":1171},1.01,1.01,1.01,771,788,1171,332,339,504,0.75777354700053923,0.78851465813358146,1.6813903761483546,3,19.3,20.399999999999999,34.5,null,5598,null,0.8,null,null,0,10,10.6,21.85,null,1,1,1,771,788,1171,null,0,0,0,1]
["36030020",null,null,3,60,300,20,21.5,0,26,30,48.9,6259.2000000000007,7549,8335,11102,1.5,1.08,1.08,1.08,4466,5920,6537,8707,384,509,562,749,0.74552004994329901,1.2832239462300581,1.5535382796513144,2.7065035395986743,1.2760000000000001E-4,1.7219,2,3.76611E-4,{"$f":"AK962","v":905},{"$f":"AL962","v":999},{"$f":"AM962","v":1331},0.95,0.95,0.95,905,999,1331,389,430,572,0.76431919512798108,0.92701417801356134,1.6073504963383516,4,19.3,20.399999999999999,34.5,null,7824,null,0.8,null,null,0,10,10.6,21.85,null,1,1,1,905,999,1331,null,0,0,0,1]
["36030021",null,null,3,60,300,21,21.5,0,26,30,48.1,6916.8,10844,11086,16475,1.5,1.05,1.05,1.05,4935,8562,8753,13008,424,736,753,1119,1.383402919949889,3.9638592223290634,4.1409093254305303,8.8489265516529922,1.2760000000000001E-4,1.7219,4,5.1420100000000005E-4,{"$f":"AK963*(1-(($E1159-50)*0.005))","v":1394.6},{"$f":"AL963*(1-(($E1159-50)*0.005))","v":1425.95},{"$f":"AM963*(1-(($E1159-50)*0.005))","v":2119.4499999999998},0.85,0.85,0.85,1395,1426,2119,600,613,911,2.6822487551293954,2.7943529240068119,5.9640387294956385,8,19.3,20.399999999999999,34.5,null,8646,null,0.8,null,null,0,10,10.6,21.85,null,1,1,1,1395,1426,2119,null,0,0,0,1]
["3705011",null,null,3,70,50,11,11.5,0,26,30,38.799999999999997,540.6,881.02076921515595,942.75810617769378,1102.4000000000001,1.5,1.1000000000000001,1.1000000000000001,1.1000000000000001,386,688,736,861,33,59,63,74,8.5136037221624286E-3,2.6124513105548242E-2,2.9658332216627524E-2,4.0497070432560033E-2,3.969E-4,1.7345999999999999,4,5.7428799999999995E-4,{"$f":"AK867*(1-(($E1161-50)*0.005))","v":132.80524976877516},{"$f":"AL867*(1-(($E1161-50)*0.005))","v":142.11154848710487},{"$f":"AM867*(1-(($E1161-50)*0.005))","v":166.17599999999999},0.95,0.95,0.95,133,142,166,57,61,71,2.4439447563990385E-2,2.7864169418642188E-2,3.7378477580393518E-2,0.7,3.6,4.0999999999999996,5.0999999999999996,null,795,null,0.68,null,null,0,14.2,16.2,21.85,null,1,1,1,133,142,166,null,0,0,0,1]
["3706010",null,null,3,70,60,10,11.5,0,26,30,40,674.1,841.69225687813923,901.35950941531064,1066.3800000000001,1.5,1.08,1.08,1.08,481,660,707,836,41,57,61,72,8.2771486259630156E-3,1.5637729576638788E-2,1.782898414147421E-2,2.4572994832794695E-2,3.969E-4,1.7345999999999999,2,3.6734700000000002E-4,{"$f":"AK868","v":116.68990721587436},{"$f":"AL868","v":124.96201154556491},{"$f":"AM868","v":147.84},0.98,0.98,0.98,117,125,148,50,54,64,1.214004296048507E-2,1.4086095785072505E-2,1.9563990759703984E-2,0.4,4.8,5.4,6.8,null,749,null,0.9,null,null,0,13.6,15.6,21.85,null,1,1,1,117,125,148,null,0,0,0,1]
["3706015",null,null,3,70,60,15,16.5,0,26,30,41.1,862.19258357509659,957.19258357509659,1027.5250511543745,1359.96,1.5,1.08,1.08,1.08,615,751,806,1067,53,65,69,92,1.4461403006385631E-2,2.1607295358039021E-2,2.4302699376319299E-2,4.2830982878635446E-2,2.0829999999999999E-4,1.724,2,4.6182900000000003E-4,{"$f":"AK870","v":189.925625},{"$f":"AL870","v":140.26129481477255},{"$f":"AM870","v":185.64},1.01,1.01,1.01,190,140,186,82,60,80,3.4141898797120353E-2,1.8458252538956766E-2,3.25208961878376E-2,0.6,4.8,5.5,7.2,null,1183,null,0.8,null,null,0,12.3,14.4,21.85,null,1,1,1,190,140,186,null,0,0,0,1]
["3706016",null,null,3,70,60,16,16.5,0,26,30,41.1,922.08,1399.7241764138612,1502.5729206967153,1988.7,1.5,1.1000000000000001,1.1000000000000001,1.1000000000000001,658,1093,1173,1553,57,94,101,134,4.831030799740238E-2,0.12999495976193065,0.1498640371075696,0.26238954698403733,2.0829999999999999E-4,1.724,4,1.392796E-3,{"$f":"AK871*(1-(($E1165-50)*0.005))","v":192.6},{"$f":"AL871*(1-(($E1165-50)*0.005))","v":207},{"$f":"AM871*(1-(($E1165-50)*0.005))","v":274.5},0.95,0.95,0.95,193,207,275,83,89,118,0.10160656240768863,0.11666144105878498,0.20394945539765266,1.2,4.8,5.5,7.2,null,1356,null,0.68,null,null,0,12.3,14.4,21.85,null,1,1,1,193,207,275,null,0,0,0,1]
["3706021",null,null,3,70,60,21,21.5,0,26,30,41.1,1524.8000000000002,1802.6437228662567,1935.0981352499616,2561.16,1.5,1.05,1.05,1.05,1088,1423,1528,2022,94,122,131,174,5.0222897301191519E-2,8.3927928329369905E-2,9.6565795839234567E-2,0.16901353512975539,1.2760000000000001E-4,1.7219,4,5.1420100000000005E-4,{"$f":"AK873*(1-(($E1167-50)*0.005))","v":210.44638673474716},{"$f":"AL873*(1-(($E1167-50)*0.005))","v":225.90953796071631},{"$f":"AM873*(1-(($E1167-50)*0.005))","v":298.99800000000005},0.85,0.85,0.85,210,226,299,90,97,129,4.6103087970489939E-2,5.3427000434504705E-2,9.36816763992913E-2,1.6,4.8,5.5,7.2,null,1906,null,0.8,null,null,0,12.3,14.4,21.85,null,1,1,1,210,226,299,null,0,0,0,1]
["3707010",null,null,3,70,70,10,11.5,0,26,30,41,786.6,1029.7403904507714,1104.2859635902939,1320.28,1.5,1.08,1.08,1.08,561,808,866,1035,48,69,74,89,1.1861318452303862E-2,2.3833508628602774E-2,2.7271158049938453E-2,3.8924960889446435E-2,3.969E-4,1.7345999999999999,2,3.6734700000000002E-4,{"$f":"AK874","v":142.7603849699376},{"$f":"AL874","v":153.09517888293954},{"$f":"AM874","v":183.04},0.98,0.98,0.98,143,153,183,61,66,79,1.8801217016227327E-2,2.1878764945327631E-2,3.093277823234393E-2,0.5,5.5,5.9,7.9,null,874,null,0.9,null,null,0,13.2,15.1,21.85,null,1,1,1,143,153,183,null,0,0,0,1]
["3707015",null,null,3,70,70,15,16.5,0,26,30,41.1,975.82735416996661,1070.8273541699666,1149.5094620994566,1521.41,1.5,1.08,1.08,1.08,696,840,901,1193,60,72,77,103,1.8933016885219214E-2,2.7077000311869458E-2,3.0892373713348693E-2,5.4716713303803698E-2,2.0829999999999999E-4,1.724,2,4.6182900000000003E-4,{"$f":"AK876","v":135.09481491470635},{"$f":"AL876","v":145.02129350758159},{"$f":"AM876","v":191.94},1.01,1.01,1.01,135,145,192,58,62,83,1.7715040719154605E-2,2.0190861450308E-2,3.5797696205080359E-2,0.7,5.0999999999999996,5.6,7.2,null,1380,null,0.8,null,null,0,12.3,14.4,21.85,null,1,1,1,135,145,192,null,0,0,0,1]
["3707016",null,null,3,70,70,16,16.5,0,26,30,41.1,1075.76,1627.62717250317,1747.2217424001376,2312.5,1.5,1.1000000000000001,1.1000000000000001,1.1000000000000001,768,1271,1364,1805,66,109,117,155,6.5678988551115688E-2,0.17694509326691635,0.20354226765780917,0.35504012904622118,2.0829999999999999E-4,1.724,4,1.392796E-3,{"$f":"AK877*(1-(($E1171-50)*0.005))","v":197.63792866546598},{"$f":"AL877*(1-(($E1171-50)*0.005))","v":212.15994173663077},{"$f":"AM877*(1-(($E1171-50)*0.005))","v":280.8},0.95,0.95,0.95,198,212,281,85,91,121,0.10824120315119022,0.12385592691043998,0.21753268060832034,1.4,5.0999999999999996,5.6,7.2,null,1582,null,0.68,null,null,0,12.3,14.4,21.85,null,1,1,1,198,212,281,null,0,0,0,1]
["3707021",null,null,3,70,70,21,21.5,0,26,30,41.1,1779.2,1977.8291945358951,2123.1558613833213,2810.06,1.5,1.05,1.05,1.05,1269,1562,1676,2219,109,134,144,191,6.8833434662868426E-2,0.10327341364618195,0.11896980279584603,0.20738026513327959,1.2760000000000001E-4,1.7219,4,5.1420100000000005E-4,{"$f":"AK879*(1-(($E1173-50)*0.005))","v":216.27417181078013},{"$f":"AL879*(1-(($E1173-50)*0.005))","v":232.16553624269386},{"$f":"AM879*(1-(($E1173-50)*0.005))","v":307.27800000000002},0.85,0.85,0.85,216,232,307,93,100,132,5.0403119254411544E-2,5.811870904430734E-2,0.1002656435372716,1.9,5.0999999999999996,5.6,7.2,null,2224,null,0.8,null,null,0,12.3,14.4,21.85,null,1,1,1,216,232,307,null,0,0,0,1]
["3708010",null,null,3,70,80,10,11.5,0,26,30,41.8,898.2,1214.2269940407766,1304.1433704057049,1574.18,1.5,1.08,1.08,1.08,641,952,1023,1235,55,82,88,106,1.6219350437927195E-2,3.4861135731848764E-2,3.9921570095941127E-2,5.7081303711220763E-2,3.969E-4,1.7345999999999999,2,3.6734700000000002E-4,{"$f":"AK880","v":168.33710197020613},{"$f":"AL880","v":180.80286190736828},{"$f":"AM880","v":218.24},0.98,0.98,0.98,168,181,218,72,78,94,2.7165359623318678E-2,3.167181300086596E-2,4.5312552969066985E-2,0.5,6.3,6.8,9.1,null,998,null,0.9,null,null,0,12.8,14.7,21.85,null,1,1,1,168,181,218,null,0,0,0,1]
["3708011",null,null,3,70,80,11,11.5,0,26,30,41.8,864.96,1647.5037394527276,1769.505282019556,2135.9,1.5,1.1000000000000001,1.1000000000000001,1.1000000000000001,617,1286,1381,1668,53,111,119,143,2.5804509170938524E-2,0.10537485365866733,0.12035350001470055,0.17100095804480808,3.969E-4,1.7345999999999999,4,5.7428799999999995E-4,{"$f":"AK881*(1-(($E1175-50)*0.005))","v":248.4},{"$f":"AL881*(1-(($E1175-50)*0.005))","v":266.40000000000003},{"$f":"AM881*(1-(($E1175-50)*0.005))","v":322.2},0.95,0.95,0.95,248,266,322,107,114,138,9.8244834171768089E-2,0.11087971657113949,0.15974609947904747,1.1000000000000001,6.3,6.8,9.1,null,1272,null,0.68,null,null,0,12.8,14.7,21.85,null,1,1,1,248,266,322,null,0,0,0,1]
["3708015",null,null,3,70,80,15,16.5,0,26,30,42.4,1262.4000000000001,1395.33740436932,1496.2563490716184,2007.56,1.5,1.08,1.08,1.08,901,1094,1173,1574,77,94,101,135,3.1622260247799898E-2,4.6744452652574681E-2,5.3812575245209708E-2,9.5090019266223458E-2,2.0829999999999999E-4,1.724,2,4.6182900000000003E-4,{"$f":"AK882","v":190.46915773046311},{"$f":"AL882","v":204.24499885412456},{"$f":"AM882","v":274.04000000000002},1.01,1.01,1.01,190,204,274,82,88,118,3.5768909532348576E-2,4.1076258231928696E-2,7.3013760578283488E-2,0.8,6,6.7,9,null,1578,null,0.8,null,null,0,11.8,13.7,21.85,null,1,1,1,190,204,274,null,0,0,0,1]
["3708020",null,null,3,70,80,20,21.5,0,26,30,42.4,1761.6000000000001,1942.5718983039128,2086.4239348515057,2518.44,1.5,1.08,1.08,1.08,1257,1523,1636,1975,108,131,141,170,4.8253656404733676E-2,7.0594323803498546E-2,8.1613209141998835E-2,0.11803010584799242,1.2760000000000001E-4,1.7219,2,3.76611E-4,{"$f":"AK884","v":240.07166246887351},{"$f":"AL884","v":257.84953601562182},{"$f":"AM884","v":311.24},0.95,0.95,0.95,240,258,311,103,111,134,4.3951963441231798E-2,5.0929918356249132E-2,7.381701321036345E-2,1.1000000000000001,6,6.7,9,null,2202,null,0.8,null,null,0,11.8,13.7,21.85,null,1,1,1,240,258,311,null,0,0,0,1]
["3708021",null,null,3,70,80,21,21.5,0,26,30,42.4,2033.6000000000001,2627.7848955664344,2817.8416357747774,3780.76,1.5,1.05,1.05,1.05,1451,2075,2225,2985,125,178,191,257,9.2124850207916414E-2,0.1842669292057651,0.21161521327347374,0.37914528733911407,1.2760000000000001E-4,1.7219,4,5.1420100000000005E-4,{"$f":"AK885*(1-(($E1179-50)*0.005))","v":306.77600314098794},{"$f":"AL885*(1-(($E1179-50)*0.005))","v":328.96383412726533},{"$f":"AM885*(1-(($E1179-50)*0.005))","v":441.37800000000004},0.85,0.85,0.85,307,329,441,132,141,190,0.10250721708800391,0.11665704857419769,0.20944530996587024,2.1,6,6.7,9,null,2542,null,0.8,null,null,0,11.8,13.7,21.85,null,1,1,1,307,329,441,null,0,0,0,1]
[{"$f":"CONCATENATE(D1181,E1181,F1181,G1181)","v":"3709011"},null,null,3,70,90,11,11.5,0,26,30,42.4,973.08,1893.6336235985709,2037.0140009310799,2480.4,1.5,{"$f":"IF($G1181=10,1.08,IF($G1181=11,1.1,IF($G1181=15,1.08,IF($G1181=16,1.1,IF($G1181=20,1.08,IF($G1181=21,1.05))))))","v":1.1000000000000001},1.1000000000000001,1.1000000000000001,694,1478,1590,1936,60,127,137,166,{"$f":"(($AG1181*(Y1181^$AH1181)*((($F1181-14.4)*$AI1181)/100))+($AJ1181*(Y1181^2)))*0.0098","v":3.45455476286229E-2},{"$f":"(($AG1181*(Z1181^$AH1181)*((($F1181-14.4)*$AI1181)/100))+($AJ1181*(Z1181^2)))*0.0098","v":0.1432245427635509},{"$f":"(($AG1181*(AA1181^$AH1181)*((($F1181-14.4)*$AI1181)/100))+($AJ1181*(AA1181^2)))*0.0098","v":0.16545208362851668},{"$f":"(($AG1181*(AB1181^$AH1181)*((($F1181-14.4)*$AI1181)/100))+($AJ1181*(AB1181^2)))*0.0098","v":0.2385477205755622},3.969E-4,1.7345999999999999,4,5.7428799999999995E-4,{"$f":"AK887*(1-(($E1181-50)*0.005))","v":285.44671719440868},{"$f":"AL887*(1-(($E1181-50)*0.005))","v":307.05990440740487},{"$f":"AM887*(1-(($E1181-50)*0.005))","v":373.89600000000002},0.95,0.95,0.95,285,307,374,123,132,161,{"$f":"(($AG1181*(AT1181^$AH1181)*((($F1181-14.4)*$AI1181)/100))+($AJ1181*(AT1181^2)))*0.0098","v":0.13476424954614483},{"$f":"(($AG1181*(AU1181^$AH1181)*((($F1181-14.4)*$AI1181)/100))+($AJ1181*(AU1181^2)))*0.0098","v":0.15414634227636631},{"$f":"(($AG1181*(AV1181^$AH1181)*((($F1181-14.4)*$AI1181)/100))+($AJ1181*(AV1181^2)))*0.0098","v":0.22503364182021707},1.2,6.7,7.4,10.3,null,1431,null,0.68,null,null,0,12.5,14.7,21.85,null,{"$f":"IF(1/(1+((2258*((0.622/((101325/(1*611*EXP(17.27*((($AM$1+$AM$2)/2)/((($AM$1+$AM$2)/2)+237.3))))))-1)*1000-(0.622/((101325/($AQ$1*611*EXP(17.27*($AM$3/($AM$3+237.3))))))-1)*1000))/(1005*((($AM$1+$AM$2)/2)-$AM$3))))>1,1,1/(1+((2258*((0.622/((101325/(1*611*EXP(17.27*((($AM$1+$AM$2)/2)/((($AM$1+$AM$2)/2)+237.3))))))-1)*1000-(0.622/((101325/($AQ$1*611*EXP(17.27*($AM$3/($AM$3+237.3))))))-1)*1000))/(1005*((($AM$1+$AM$2)/2)-$AM$3)))))","v":1},1,1,285,307,374,null,0,0,0,1]
["3709015",null,null,3,70,90,15,16.5,0,26,30,43.3,1420,1597.9167676946356,1711.9130538160239,2331.36,1.5,1.08,1.08,1.08,1013,1253,1343,1828,87,108,115,157,4.1067523421380404E-2,6.2677952603543502E-2,7.0873536439037516E-2,0.1304045922070263,2.0829999999999999E-4,1.724,2,4.6182900000000003E-4,{"$f":"AK888","v":218.12205414485143},{"$f":"AL888","v":233.68300487544244},{"$f":"AM888","v":318.24},1.01,1.01,1.01,218,234,318,94,101,137,4.7773932289979358E-2,5.4977761599022158E-2,9.9846629634346956E-2,0.9,7,7.7,10.7,null,1775,null,0.8,null,null,0,11.3,13.2,21.85,null,1,1,1,218,234,318,null,0,0,0,1]
["3709020",null,null,3,70,90,20,21.5,0,26,30,43.3,1982.4,2232.7836804230465,2401.8435041457315,2924.64,1.5,1.08,1.08,1.08,1414,1751,1884,2294,122,151,162,197,6.2331978728998726E-2,9.4834579626451532E-2,0.10891673537133954,0.16011957350838529,1.2760000000000001E-4,1.7219,2,3.76611E-4,{"$f":"AK890","v":275.93732338069162},{"$f":"AL890","v":296.83048721840407},{"$f":"AM890","v":361.44},0.95,0.95,0.95,276,297,361,119,128,155,5.9353068879593893E-2,6.85057463009488E-2,9.9843942617951306E-2,1.2,7,7.7,10.7,null,2478,null,0.8,null,null,0,11.3,13.2,21.85,null,1,1,1,276,297,361,null,0,0,0,1]
["3709021",null,null,3,70,90,21,21.5,0,26,30,43.3,2287.2000000000003,3009.2947651024979,3223.9795559512399,4390.5600000000004,1.5,1.05,1.05,1.05,1632,2376,2545,3467,140,204,219,298,0.11752097196085158,0.24557012647784476,0.28220360612938261,0.51636549160207501,1.2760000000000001E-4,1.7219,4,5.1420100000000005E-4,{"$f":"AK891*(1-(($E1185-50)*0.005))","v":351.31468404008984},{"$f":"AL891*(1-(($E1185-50)*0.005))","v":376.37767233218881},{"$f":"AM891*(1-(($E1185-50)*0.005))","v":512.56799999999998},0.85,0.85,0.85,351,376,513,151,162,221,0.1362599646071031,0.15635937292747906,0.28727735551509725,2.4,7,7.7,10.7,null,2859,null,0.8,null,null,0,11.3,13.2,21.85,null,1,1,1,351,376,513,null,0,0,0,1]
["37010011",null,null,3,70,100,11,11.5,0,26,30,43,1081.2,2136.1856779144437,2301.3611872256411,2824.9,1.5,1.1000000000000001,1.1000000000000001,1.1000000000000001,771,1668,1797,2205,66,143,155,190,4.3597575487921043E-2,0.18804776535798132,0.21911871198426447,0.32261632041631727,3.969E-4,1.7345999999999999,4,5.7428799999999995E-4,{"$f":"AK893*(1-(($E1187-50)*0.005))","v":322.2},{"$f":"AL893*(1-(($E1187-50)*0.005))","v":346.5},{"$f":"AM893*(1-(($E1187-50)*0.005))","v":425.7},0.95,0.95,0.95,322,347,426,138,149,183,0.17577233145875712,0.20329967931870585,0.30039191735019899,1.3,7.8,8.6999999999999993,12.2,null,1590,null,0.68,null,null,0,12.3,14.1,21.85,null,1,1,1,322,347,426,null,0,0,0,1]
["37010015",null,null,3,70,100,15,16.5,0,26,30,44.1,1577.6000000000001,1798.7737222599399,1926.0891717740149,2655.16,1.5,1.08,1.08,1.08,1126,1411,1511,2082,97,121,130,179,5.1887218476980509E-2,7.9882926528895518E-2,9.1900063797744749E-2,0.17176599623849034,2.0829999999999999E-4,1.724,2,4.6182900000000003E-4,{"$f":"AK894","v":245.53983484833029},{"$f":"AL894","v":262.91890485611941},{"$f":"AM894","v":362.44},1.01,1.01,1.01,246,263,362,106,113,156,6.1693712021988735E-2,6.989545441405931E-2,0.13124694650181259,1,7,7.7,10.7,null,1972,null,0.8,null,null,0,10.9,12.8,21.85,null,1,1,1,246,263,362,null,0,0,0,1]
["37010020",null,null,3,70,100,20,21.5,0,26,30,44.1,2202.4,2518.7768428703835,2713.5353098724395,3330.84,1.5,1.08,1.08,1.08,1571,1975,2128,2612,135,170,183,225,7.7237065895624624E-2,0.12149545292969745,0.14043896852494522,0.21087888899397389,1.2760000000000001E-4,1.7219,2,3.76611E-4,{"$f":"AK896","v":311.2816285378957},{"$f":"AL896","v":335.35074484391049},{"$f":"AM896","v":411.64},0.95,0.95,0.95,311,335,412,134,144,177,7.6117387440108403E-2,8.7676786087461309E-2,0.13152753973488002,1.3,7,7.7,10.7,null,2753,null,0.8,null,null,0,10.9,12.8,21.85,null,1,1,1,311,335,412,null,0,0,0,1]
["37010021",null,null,3,70,100,21,21.5,0,26,30,44.1,2541.6000000000004,3387.5608889256064,3627.3291443724347,5000.3599999999997,1.5,1.05,1.05,1.05,1813,2675,2864,3948,156,230,246,340,0.14821625281490858,0.31649151807140574,0.36099859926961725,0.68037875512768187,1.2760000000000001E-4,1.7219,4,5.1420100000000005E-4,{"$f":"AK897*(1-(($E1191-50)*0.005))","v":395.47467970254826},{"$f":"AL897*(1-(($E1191-50)*0.005))","v":423.46599178070454},{"$f":"AM897*(1-(($E1191-50)*0.005))","v":583.75800000000004},0.85,0.85,0.85,395,423,584,170,182,251,0.17529537823939492,0.20027756700352137,0.37549687320095038,2.7,7,7.7,10.7,null,3177,null,0.8,null,null,0,10.9,12.8,21.85,null,1,1,1,395,423,584,null,0,0,0,1]
["37011011",null,null,3,70,110,11,11.5,0,26,30,43.5,1189.3200000000002,2396.6961264405954,2582.0149905458411,3169.4,1.5,1.1000000000000001,1.1000000000000001,1.1000000000000001,849,1871,2016,2474,73,161,173,213,5.5374844849529002E-2,0.24597270880165012,0.28182196378494073,0.41797960302434661,3.969E-4,1.7345999999999999,4,5.7428799999999995E-4,{"$f":"AK899*(1-(($E1193-50)*0.005))","v":361.2784610916114},{"$f":"AL899*(1-(($E1193-50)*0.005))","v":389.21346432233833},{"$f":"AM899*(1-(($E1193-50)*0.005))","v":477.75600000000003},0.95,0.95,0.95,361,389,478,155,167,206,0.22892075331887479,0.26360701638401601,0.39231335542301654,1.5,8.4,9.3000000000000007,14,null,1749,null,0.68,null,null,0,12,13.9,21.85,null,1,1,1,361,389,478,null,0,0,0,1]
["37011015",null,null,3,70,110,15,16.5,0,26,30,44.1,1735.2,1908.1501882577959,2043.2071973479594,2816.6099999999997,1.5,1.08,1.08,1.08,1238,1496,1602,2209,106,129,138,190,6.2960117128389281E-2,9.2300683368990388E-2,0.10527066402536114,0.19649702710776104,2.0829999999999999E-4,1.724,2,4.6182900000000003E-4,{"$f":"AK900","v":249.80785427097814},{"$f":"AL900","v":267.48901053042016},{"$f":"AM900","v":368.74},1.01,1.01,1.01,250,267,369,108,115,159,6.5293712586279876E-2,7.3788401225819936E-2,0.1387762211751877,1.1000000000000001,7.9,8.8000000000000007,12.5,null,2169,null,0.8,null,null,0,10.9,12.8,21.85,null,1,1,1,250,267,369,null,0,0,0,1]
["37011020",null,null,3,70,110,20,21.5,0,26,30,44.1,2422.4,2692.551301713082,2900.746468081386,3560.6400000000003,1.5,1.08,1.08,1.08,1728,2112,2275,2792,149,182,196,240,9.5139184275649227E-2,0.14088231271581872,0.16294943153117869,0.24258448149029985,1.2760000000000001E-4,1.7219,2,3.76611E-4,{"$f":"AK902","v":317.17997831584631},{"$f":"AL902","v":341.70517057946222},{"$f":"AM902","v":419.44},{"$f":"IF($G1196=10,0.98,IF($G1196=11,0.95,IF($G1196=15,1.01,IF($G1196=16,0.95,IF($G1196=20,0.95,IF($G1196=21,0.85))))))","v":0.95},0.95,0.95,317,342,419,136,147,180,7.9544712053658623E-2,9.2650629466224224E-2,0.13785909087762688,1.5,7.9,8.8000000000000007,12.5,null,3028,null,0.8,null,null,0,10.9,12.8,21.85,null,1,1,1,317,342,419,null,0,0,0,1]
["37011021",null,null,3,70,110,21,21.5,0,26,30,44.1,2796,3556.1815292902165,3807.8845891872675,5249.2599999999993,1.5,1.05,1.05,1.05,1995,2808,3007,4145,172,241,259,356,0.18288147409507508,0.35310128138501551,0.40643245418374957,0.75693105159793073,1.2760000000000001E-4,1.7219,4,5.1420100000000005E-4,{"$f":"AK903*(1-(($E1197-50)*0.005))","v":401.08407665802832},{"$f":"AL903*(1-(($E1197-50)*0.005))","v":429.47241638121409},{"$f":"AM903*(1-(($E1197-50)*0.005))","v":592.03800000000001},0.85,0.85,0.85,401,429,592,172,184,255,0.18288147409507508,0.20857122356778737,0.39426311339739478,2.9,7.9,8.8000000000000007,12.5,null,3495,null,0.8,null,null,0,10.9,12.8,21.85,null,1,1,1,401,429,592,null,0,0,0,1]
["37012011",null,null,3,70,120,11,11.5,0,26,30,44,1297.44,2611.8926414972211,2821.6982019103875,3513.9,1.5,1.1000000000000001,1.1000000000000001,1.1000000000000001,926,2039,2203,2743,80,175,189,236,6.8884141986738326E-2,0.30012112200532121,0.34704829521290631,0.52808528089261231,3.969E-4,1.7345999999999999,4,5.7428799999999995E-4,{"$f":"AK905*(1-(($E1199-50)*0.005))","v":393.3},{"$f":"AL905*(1-(($E1199-50)*0.005))","v":425.7},{"$f":"AM905*(1-(($E1199-50)*0.005))","v":530.1},0.95,0.95,0.95,393,426,530,169,183,228,0.28100254656640733,0.32654029940547913,0.49473160420277329,1.6,8.9,9.9,14.8,null,1908,null,0.68,null,null,0,11.8,13.7,21.85,null,1,1,1,393,426,530,null,0,0,0,1]
["37012015",null,null,3,70,120,15,16.5,0,26,30,44.8,1892.8000000000002,2216.9073865755149,2373.9948983307781,3302.76,1.5,1.08,1.08,1.08,1351,1739,1862,2590,116,150,160,223,7.6522771268122888E-2,0.12616601065937175,0.14306010269934949,0.27327410250387973,2.0829999999999999E-4,1.724,2,4.6182900000000003E-4,{"$f":"AK906","v":302.61675876046246},{"$f":"AL906","v":324.05983479376272},{"$f":"AM906","v":450.84},1.01,1.01,1.01,303,324,451,130,139,194,9.5500985484133716E-2,0.10878402336268925,0.20824992292405745,1.2,8.6999999999999993,9.8000000000000007,14.3,null,2366,null,0.8,null,null,0,10.6,12.5,21.85,null,1,1,1,303,324,451,null,0,0,0,1]
["37012020",null,null,3,70,120,20,21.5,0,26,30,44.8,2643.2000000000003,3079.6829926739365,3327.0647594078355,4143.24,1.5,1.08,1.08,1.08,1886,2415,2609,3249,162,208,224,279,0.11370074344599808,0.1855749132469651,0.2146103274757947,0.33023406948567835,1.2760000000000001E-4,1.7219,2,3.76611E-4,{"$f":"AK908","v":380.60090160569081},{"$f":"AL908","v":411.17343900116532},{"$f":"AM908","v":512.04},0.95,0.95,0.95,381,411,512,164,177,220,0.11646670942658871,0.13524222402195477,0.20715667478646135,1.6,8.6999999999999993,9.8000000000000007,14.3,null,3304,null,0.8,null,null,0,10.6,12.5,21.85,null,1,1,1,381,411,512,null,0,0,0,1]
["37012021",null,null,3,70,120,21,21.5,0,26,30,44.8,3049.6000000000004,4175.015825613802,4470.8526528786542,6219.96,1.5,1.05,1.05,1.05,2176,3296,3530,4911,187,283,304,422,0.21933532145865542,0.49159200971034805,0.56525436757201819,1.0725116519177567,1.2760000000000001E-4,1.7219,4,5.1420100000000005E-4,{"$f":"AK909*(1-(($E1203-50)*0.005))","v":487.40468452844635},{"$f":"AL909*(1-(($E1203-50)*0.005))","v":521.94162079113062},{"$f":"AM909*(1-(($E1203-50)*0.005))","v":726.13800000000003},0.85,0.85,0.85,487,522,726,209,224,312,0.27233882367922241,0.31168810153078941,0.59464126902332604,3.2,8.6999999999999993,9.8000000000000007,14.3,null,3812,null,0.8,null,null,0,10.6,12.5,21.85,null,1,1,1,487,522,726,null,0,0,0,1]
["37014011",null,null,3,70,140,11,11.5,0,26,30,44.8,1513.68,3077.015307780141,3332.5766142436496,4202.8999999999996,1.5,1.1000000000000001,1.1000000000000001,1.1000000000000001,1080,2402,2602,3281,93,207,224,282,9.9432758629534254E-2,0.44450269226506778,0.51557472310872998,0.79522620174472214,3.969E-4,1.7345999999999999,4,5.7428799999999995E-4,{"$f":"AK911*(1-(($E1205-50)*0.005))","v":463.5},{"$f":"AL911*(1-(($E1205-50)*0.005))","v":502.2},{"$f":"AM911*(1-(($E1205-50)*0.005))","v":633.6},0.95,0.95,0.95,464,502,634,200,216,273,0.41668910360367667,0.48150849511107319,0.74809399232284723,1.9,10.1,11.2,17.5,null,2226,null,0.68,null,null,0,11.5,13.3,21.85,null,1,1,1,464,502,634,null,0,0,0,1]
["37014015",null,null,3,70,140,15,16.5,0,26,30,45.4,2208.8000000000002,2628.9846104428207,2815.4584574952669,3950.36,1.5,1.08,1.08,1.08,1576,2062,2208,3098,136,177,190,266,0.10815458129500337,0.18029092070853758,0.20688755958299987,0.39793806455132874,2.0829999999999999E-4,1.724,2,4.6182900000000003E-4,{"$f":"AK912","v":358.86695423586366},{"$f":"AL912","v":384.32138301819265},{"$f":"AM912","v":539.24},1.01,1.01,1.01,359,384,539,154,165,232,0.137621338941047,0.1573279392829452,0.30498467021762166,1.4,9.6,10.5,16.100000000000001,null,2761,null,0.8,null,null,0,10.4,12.2,21.85,null,1,1,1,359,384,539,null,0,0,0,1]
["37014020",null,null,3,70,140,20,21.5,0,26,30,45.4,3083.2000000000003,3628.1091959950468,3929.4415695377957,4955.6400000000003,1.5,1.08,1.08,1.08,2200,2845,3082,3886,189,245,265,334,0.15795639334836814,0.26237161414251958,0.30592500796073402,0.48134974943137049,1.2760000000000001E-4,1.7219,2,3.76611E-4,{"$f":"AK914","v":448.37784746172167},{"$f":"AL914","v":485.61784045001809},{"$f":"AM914","v":612.44000000000005},0.95,0.95,0.95,448,486,612,193,209,263,0.16455496588623258,0.1922740711354792,0.30142179085547277,1.9,9.6,10.5,16.100000000000001,null,3854,null,0.8,null,null,0,10.4,12.2,21.85,null,1,1,1,448,486,612,null,0,0,0,1]
["37014021",null,null,3,70,140,21,21.5,0,26,30,45.4,3558.4,4951.0649025572329,5302.2438770247491,7439.56,1.5,1.05,1.05,1.05,2539,3909,4186,5874,218,336,360,505,0.30627199365611757,0.7095813437342614,0.81150138458700172,1.5688563953148518,1.2760000000000001E-4,1.7219,4,5.1420100000000005E-4,{"$f":"AK915*(1-(($E1209-50)*0.005))","v":578.00313285183563},{"$f":"AL915*(1-(($E1209-50)*0.005))","v":619.00088816889445},{"$f":"AM915*(1-(($E1209-50)*0.005))","v":868.51800000000003},0.85,0.85,0.85,578,619,869,249,266,374,0.39640702455899102,0.45063859581811744,0.87404085180991176,3.7,9.6,10.5,16.100000000000001,null,4448,null,0.8,null,null,0,10.4,12.2,21.85,null,1,1,1,578,619,869,null,0,0,0,1]
["37016011",null,null,3,70,160,11,11.5,0,26,30,45.5,1729.92,3533.107636511756,3835.359341571188,4891.8999999999996,1.5,1.1000000000000001,1.1000000000000001,1.1000000000000001,1234,2758,2994,3819,106,237,257,328,0.13706496818569217,0.61422385368791244,0.71480772824658112,1.1292825279207326,3.969E-4,1.7345999999999999,4,5.7428799999999995E-4,{"$f":"AK917*(1-(($E1211-50)*0.005))","v":532.80000000000007},{"$f":"AL917*(1-(($E1211-50)*0.005))","v":577.80000000000007},{"$f":"AM917*(1-(($E1211-50)*0.005))","v":737.1},0.95,0.95,0.95,533,578,737,229,249,317,0.57600512225495459,0.6737130340721369,1.0592575372514981,2.1,11,12.4,19.2,null,2544,null,0.68,null,null,0,11.2,13,21.85,null,1,1,1,533,578,737,null,0,0,0,1]
["37016015",null,null,3,70,160,15,16.5,0,26,30,46.4,2524,3021.1783832091446,3225.6120441880121,4597.96,1.5,1.08,1.08,1.08,1801,2369,2530,3606,155,204,218,310,0.14423616356954855,0.24535535943304876,0.27900545112342201,0.55221870136410589,2.0829999999999999E-4,1.724,2,4.6182900000000003E-4,{"$f":"AK918","v":412.40297880742492},{"$f":"AL918","v":440.30899429620177},{"$f":"AM918","v":627.64},1.01,1.01,1.01,412,440,628,177,189,270,0.18642121393254038,0.21164255392481759,0.42236240265801678,1.6,11.5,12.8,19.600000000000001,null,3155,null,0.8,null,null,0,10,11.8,21.85,null,1,1,1,412,440,628,null,0,0,0,1]
["37016016",null,null,3,70,160,16,16.5,0,26,30,46.4,2458.88,4417.9368883555589,4716.8848144627045,6723.7,1.5,{"$f":"IF($G1213=10,1.08,IF($G1213=11,1.1,IF($G1213=15,1.08,IF($G1213=16,1.1,IF($G1213=20,1.08,IF($G1213=21,1.05))))))","v":1.1000000000000001},1.1000000000000001,1.1000000000000001,1754,3449,3683,5249,151,297,317,451,0.37909235056422885,1.4218556466193635,1.6153748832768098,3.2239502067344685,2.0829999999999999E-4,1.724,4,1.392796E-3,{"$f":"AK919*(1-(($E1213-50)*0.005))","v":608.4},{"$f":"AL919*(1-(($E1213-50)*0.005))","v":649.80000000000007},{"$f":"AM919*(1-(($E1213-50)*0.005))","v":927},0.95,0.95,0.95,608,650,927,261,280,399,1.1041620342144007,1.2669184895297865,2.5354197823012985,3.2,11.5,12.8,19.600000000000001,null,3616,null,0.68,null,null,0,10,11.8,21.85,null,{"$f":"IF(1/(1+((2258*((0.622/((101325/(1*611*EXP(17.27*((($AM$1+$AM$2)/2)/((($AM$1+$AM$2)/2)+237.3))))))-1)*1000-(0.622/((101325/($AQ$1*611*EXP(17.27*($AM$3/($AM$3+237.3))))))-1)*1000))/(1005*((($AM$1+$AM$2)/2)-$AM$3))))>1,1,1/(1+((2258*((0.622/((101325/(1*611*EXP(17.27*((($AM$1+$AM$2)/2)/((($AM$1+$AM$2)/2)+237.3))))))-1)*1000-(0.622/((101325/($AQ$1*611*EXP(17.27*($AM$3/($AM$3+237.3))))))-1)*1000))/(1005*((($AM$1+$AM$2)/2)-$AM$3)))))","v":1},1,1,608,650,927,null,0,0,0,1]
["37016020",null,null,3,70,160,20,21.5,0,26,30,46.4,3524,4165.887726998767,4522.2727563025155,5768.04,1.5,1.08,1.08,1.08,2514,3267,3547,4524,216,281,305,389,0.21030082235120676,0.3513653688085987,0.41235697482772449,0.66342434491024516,1.2760000000000001E-4,1.7219,2,3.76611E-4,{"$f":"AK920","v":514.83890668473202},{"$f":"AL920","v":558.88255136973487},{"$f":"AM920","v":712.84},0.95,0.95,0.95,515,559,713,221,240,307,0.21989661309334549,0.25827229749987091,0.41765567382317259,2.1,11.5,12.8,19.600000000000001,null,4405,null,0.8,null,null,0,10,11.8,21.85,null,1,1,1,515,559,713,null,0,0,0,1]
["37018010",null,null,3,70,180,10,11.5,0,26,30,46,2021.4,2970.6878039917879,3224.8253922941558,4113.18,1.5,1.08,1.08,1.08,1442,2330,2529,3226,124,200,217,277,0.11046568359554032,0.27028861945847477,0.31500621168669868,0.49841362806075101,3.969E-4,1.7345999999999999,2,3.6734700000000002E-4,{"$f":"AK922","v":411.84801378696699},{"$f":"AL922","v":447.08095237792156},{"$f":"AM922","v":570.24},0.98,0.98,0.98,412,{"$f":"ROUND(AL1216*POWER(CF_cool,AO1216),0)","v":447},{"$f":"ROUND(AM1216*POWER(CF_cool,AP1216),0)","v":570},177,192,245,0.21495642722836134,0.25036580839638034,0.39566467113231368,1.2,12.2,13.7,22,null,2246,null,0.9,null,null,0,10.9,12.7,21.85,null,1,1,1,412,447,570,null,0,0,0,1]
["37018011",null,null,3,70,180,11,11.5,0,26,30,46,1946.16,4030.7284303866513,4375.55079813051,5580.9,1.5,1.1000000000000001,1.1000000000000001,1.1000000000000001,1389,3147,3416,4357,119,271,294,375,0.18232769941759774,0.84114261538251256,0.97920937003276931,1.542963405794187,3.969E-4,1.7345999999999999,4,5.7428799999999995E-4,{"$f":"AK923*(1-(($E1217-50)*0.005))","v":607.59282261242038},{"$f":"AL923*(1-(($E1217-50)*0.005))","v":659.57141639163251},{"$f":"AM923*(1-(($E1217-50)*0.005))","v":841.26600000000008},0.95,0.95,0.95,608,660,841,261,284,362,0.78419058339595171,0.91797171561030966,1.4444273621530805,2.4,12.2,13.7,22,null,2862,null,0.68,null,null,0,10.9,12.7,21.85,null,1,1,1,608,660,841,null,0,0,0,1]
["37018016",null,null,3,70,180,16,16.5,0,26,30,46.4,2766.2400000000002,4843.4549704976926,5171.1963699821436,7371.3,1.5,1.1000000000000001,1.1000000000000001,1.1000000000000001,1974,3781,4037,5755,170,325,347,495,0.4891632416374056,1.73113399073644,1.9675246325457276,3.9422156930022778,2.0829999999999999E-4,1.724,4,1.392796E-3,{"$f":"AK925*(1-(($E1219-50)*0.005))","v":617.6780004905994},{"$f":"AL925*(1-(($E1219-50)*0.005))","v":659.4743325602966},{"$f":"AM925*(1-(($E1219-50)*0.005))","v":940.05000000000007},0.95,0.95,0.95,618,659,940,266,283,404,1.1706721211477129,1.3211566956647793,2.6489509285879493,3.6,11.5,12.8,19.600000000000001,null,4068,null,0.68,null,null,0,10,11.8,21.85,null,1,1,1,618,659,940,null,0,0,0,1]
["37018020",null,null,3,70,180,20,21.5,0,26,30,46.4,3964,4497.8275192555193,4882.6094666576164,6227.64,1.5,1.08,1.08,1.08,2828,3527,3829,4884,243,303,329,420,0.27101874738256526,0.41646566084553188,0.48893351284694392,0.78724334085603187,1.2760000000000001E-4,1.7219,2,3.76611E-4,{"$f":"AK926","v":526.1057925837863},{"$f":"AL926","v":571.11330132956857},{"$f":"AM926","v":728.44},0.95,0.95,0.95,526,571,728,226,246,313,0.23536033293811029,0.27756656183252509,0.44366421223291913,2.4,11.5,12.8,19.600000000000001,null,4955,null,0.8,null,null,0,10,11.8,21.85,null,1,1,1,526,571,728,null,0,0,0,1]
["37020010",null,null,3,70,200,10,11.5,0,26,30,46.5,2246.4,3259.5785648750903,3552.8677924068675,4620.9799999999996,1.5,1.08,1.08,1.08,1603,2556,2786,3624,138,220,240,312,0.14292012781225258,0.34122659140984074,0.40155124196507375,0.65654717810994445,3.969E-4,1.7345999999999999,2,3.6734700000000002E-4,{"$f":"AK928","v":451.89903695786995},{"$f":"AL928","v":492.55985148767917},{"$f":"AM928","v":640.64},0.98,0.98,0.98,452,493,641,194,212,276,0.26974633951173027,0.31839322337808124,0.52169992911952934,1.3,13.4,14.8,24,null,2496,null,0.9,null,null,0,10.7,12.5,21.85,null,1,1,1,452,493,641,null,0,0,0,1]
["37020011",null,null,3,70,200,11,11.5,0,26,30,46.5,2162.4,4422.7050634086982,4820.649682883678,6269.9,1.5,1.1000000000000001,1.1000000000000001,1.1000000000000001,1543,3453,3764,4895,133,297,324,421,0.23905536878491745,1.0585097287299379,1.2444441055870641,2.0270127868370142,3.969E-4,1.7345999999999999,4,5.7428799999999995E-4,{"$f":"AK929*(1-(($E1223-50)*0.005))","v":666.9},{"$f":"AL929*(1-(($E1223-50)*0.005))","v":726.30000000000007},{"$f":"AM929*(1-(($E1223-50)*0.005))","v":945},0.95,0.95,0.95,667,726,945,287,312,406,0.99322225900411476,1.1600716519126888,1.8944066592380211,2.7,13.4,14.8,24,null,3180,null,0.68,null,null,0,10.7,12.5,21.85,null,1,1,1,667,726,945,null,0,0,0,1]
["37020016",null,null,3,70,200,16,16.5,0,26,30,47.1,3073.6000000000004,5667.1755761695722,5971.3549398587584,8617.7000000000007,1.5,1.1000000000000001,1.1000000000000001,1.1000000000000001,2193,4424,4662,6728,189,380,401,579,0.61497142854575904,2.3956910473507516,2.6608247339246818,5.453670256932595,2.0829999999999999E-4,1.724,4,1.392796E-3,{"$f":"AK931*(1-(($E1225-50)*0.005))","v":781.2},{"$f":"AL931*(1-(($E1225-50)*0.005))","v":822.6},{"$f":"AM931*(1-(($E1225-50)*0.005))","v":1188},0.95,0.95,0.95,781,823,1188,336,354,511,1.8844908176680129,2.0863559467311625,4.2718806216468543,4,13.2,14.7,23.5,null,4520,null,0.68,null,null,0,10,11.4,21.85,null,1,1,1,781,823,1188,null,0,0,0,1]
["37020020",null,null,3,70,200,20,21.5,0,26,30,47.1,4404.8,5214.8121821672385,5684.028740747025,7392.84,1.5,1.08,1.08,1.08,3143,4090,4458,5798,270,352,383,499,0.34038477779411858,0.56991326043648238,0.67162306767239033,1.1243831840072513,1.2760000000000001E-4,1.7219,2,3.76611E-4,{"$f":"AK932","v":644.46964929787134},{"$f":"AL932","v":702.45751547390614},{"$f":"AM932","v":913.64},0.95,0.95,0.95,644,702,914,277,302,393,0.35773067054432378,0.42311312971539766,0.70617331390652549,2.7,13.2,14.7,23.5,null,5506,null,0.8,null,null,0,10,11.4,21.85,null,1,1,1,644,702,914,null,0,0,0,1]
["37022010",null,null,3,70,220,10,11.5,0,26,30,46.9,2471.4,3560.7045070849035,3890.5075371280445,5128.78,1.5,1.08,1.08,1.08,1763,2792,3051,4022,152,240,262,346,0.18058051679334117,0.42247701862510323,0.49758266516536109,0.83671193247343323,3.969E-4,1.7345999999999999,2,3.6734700000000002E-4,{"$f":"AK934","v":493.64631212835212},{"$f":"AL934","v":539.36930014536108},{"$f":"AM934","v":711.04},0.98,0.98,0.98,494,539,711,212,232,306,0.33526766264658142,0.39659808957963044,0.66495285135759441,1.5,13.4,14.8,24,null,2746,null,0.9,null,null,0,10.5,12.3,21.85,null,1,1,1,494,539,711,null,0,0,0,1]
["37022011",null,null,3,70,220,11,11.5,0,26,30,46.9,2378.6400000000003,4831.2827990970827,5278.770565343093,6958.9,1.5,1.1000000000000001,1.1000000000000001,1.1000000000000001,1697,3772,4121,5433,146,324,354,467,0.30163421639535692,1.314879108402222,1.5495706507880502,2.5925816673788113,3.969E-4,1.7345999999999999,4,5.7428799999999995E-4,{"$f":"AK935*(1-(($E1229-50)*0.005))","v":728.2685508189013},{"$f":"AL935*(1-(($E1229-50)*0.005))","v":795.72294762922161},{"$f":"AM935*(1-(($E1229-50)*0.005))","v":1048.9860000000001},0.95,0.95,0.95,728,796,1049,313,342,451,1.2333357810617314,1.4535411776301579,2.429809823390217,2.9,13.4,14.8,24,null,3498,null,0.68,null,null,0,10.5,12.3,21.85,null,1,1,1,728,796,1049,null,0,0,0,1]
["37022016",null,null,3,70,220,16,16.5,0,26,30,47.8,3380.96,6291.7251954043459,6553.83496101116,9564.7000000000007,1.5,1.1000000000000001,1.1000000000000001,1.1000000000000001,2412,4912,5117,7467,207,422,440,642,0.7499571873647507,2.9944257157555945,3.2482983187702561,6.7877453647142758,2.0829999999999999E-4,1.724,4,1.392796E-3,{"$f":"AK937*(1-(($E1231-50)*0.005))","v":867.02232101400966},{"$f":"AL937*(1-(($E1231-50)*0.005))","v":903.14198776341743},{"$f":"AM937*(1-(($E1231-50)*0.005))","v":1318.05},0.95,0.95,0.95,867,903,1318,373,388,567,2.3546702433249038,2.542525946151883,5.3260734736735467,4.4000000000000004,15.5,16.8,27.5,null,4972,null,0.68,null,null,0,10,11.1,21.85,null,1,1,1,867,903,1318,null,0,0,0,1]
["37022020",null,null,3,70,220,20,21.5,0,26,30,47.8,4845.6000000000004,5696.5662496175182,6224.1991397456159,8205.24,1.5,1.08,1.08,1.08,3457,4467,4881,6435,297,384,420,553,0.41866488247896305,0.68913594795268296,0.82013908311111194,1.4002126537427437,1.2760000000000001E-4,1.7219,2,3.76611E-4,{"$f":"AK938","v":704.00695650122941},{"$f":"AL938","v":769.21417236639559},{"$f":"AM938","v":1014.04},0.95,0.95,0.95,704,769,1014,303,331,436,0.43521399990720622,0.5165738484716168,0.88193136480825907,2.9,15.5,16.8,27.5,null,6057,null,0.8,null,null,0,10,11.1,21.85,null,1,1,1,704,769,1014,null,0,0,0,1]
["37022021",null,null,3,70,220,21,21.5,0,26,30,47.8,5591.2000000000007,8102.8384881891643,8440.3982243391856,12317.96,1.5,1.05,1.05,1.05,3989,6398,6664,9726,343,550,573,836,0.83146007717556014,2.062358887776655,2.231838465716764,4.6282420475748083,1.2760000000000001E-4,1.7219,4,5.1420100000000005E-4,{"$f":"AK939*(1-(($E1233-50)*0.005))","v":945.95124954769858},{"$f":"AL939*(1-(($E1233-50)*0.005))","v":985.35905147705273},{"$f":"AM939*(1-(($E1233-50)*0.005))","v":1438.038},0.85,0.85,0.85,946,985,1438,407,424,618,1.1550802934243622,1.249654704267791,2.5821815560084596,5.9,15.5,16.8,27.5,null,6989,null,0.8,null,null,0,10,11.1,21.85,null,1,1,1,946,985,1438,null,0,0,0,1]
["37024010",null,null,3,70,240,10,11.5,0,26,30,47.2,2695.5,3860.4188735925432,4228.9855673527691,5636.58,1.5,1.08,1.08,1.08,1923,3027,3317,4420,165,260,285,380,0.22124213501886925,0.51455963451703945,0.61042691940395077,1.0436441851774703,3.969E-4,1.7345999999999999,2,3.6734700000000002E-4,{"$f":"AK940","v":535.19789031294818},{"$f":"AL940","v":586.29496640731588},{"$f":"AM940","v":781.44},0.98,0.98,0.98,535,586,781,230,252,336,0.40968486620571454,0.48550351822928639,0.82954646870937465,1.6,14.8,16.600000000000001,28,null,2995,null,0.9,null,null,0,10.4,12.2,21.85,null,1,1,1,535,586,781,null,0,0,0,1]
["37024011",null,null,3,70,240,11,11.5,0,26,30,47.2,2594.88,5237.9452617275747,5738.028861571599,7647.9,1.5,1.1000000000000001,1.1000000000000001,1.1000000000000001,1851,4089,4480,5971,159,352,385,514,0.37340851851940821,1.6146931478475526,1.905847517886774,3.2559623282985095,3.969E-4,1.7345999999999999,4,5.7428799999999995E-4,{"$f":"AK941*(1-(($E1235-50)*0.005))","v":789.30000000000007},{"$f":"AL941*(1-(($E1235-50)*0.005))","v":864.9},{"$f":"AM941*(1-(($E1235-50)*0.005))","v":1152.9000000000001},0.95,0.95,0.95,789,865,1153,339,372,496,1.5061686783354979,1.7884763806738539,3.0475702640596607,3.2,14.8,16.600000000000001,28,null,3816,null,0.68,null,null,0,10.4,12.2,21.85,null,1,1,1,789,865,1153,null,0,0,0,1]
["37024015",null,null,3,70,240,15,16.5,0,26,30,48.1,3786.4,4729.715265656896,4901.7743245246338,7188.36,1.5,1.08,1.08,1.08,2702,3709,3844,5637,232,319,331,485,0.35385515276286178,0.65146857081143239,0.69931956136513895,1.4577106558488697,2.0829999999999999E-4,1.724,2,4.6182900000000003E-4,{"$f":"AK942","v":645.62512273636446},{"$f":"AL942","v":669.11187505864359},{"$f":"AM942","v":981.24},1.01,1.01,1.01,646,669,981,278,288,422,0.50037899202077363,0.5354561461459616,1.1152542227427753,2.4,16.399999999999999,17.7,29.7,null,4733,null,0.8,null,null,0,10,10.9,21.85,null,1,1,1,646,669,981,null,0,0,0,{"$f":"IF(SUM(BV1236:BX1236)=0,1,0)","v":1}]
["37024016",null,null,3,70,240,16,16.5,0,26,30,48.1,3688.32,6916.3686790875245,7167.9744986485921,10511.7,1.5,1.1000000000000001,1.1000000000000001,1.1000000000000001,2632,5400,5596,8207,226,464,481,706,0.9079212558619838,3.667097444714627,3.9329940571020581,8.3052967253826289,2.0829999999999999E-4,1.724,4,1.392796E-3,{"$f":"AK943*(1-(($E1237-50)*0.005))","v":953.1},{"$f":"AL943*(1-(($E1237-50)*0.005))","v":988.2},{"$f":"AM943*(1-(($E1237-50)*0.005))","v":1449},0.95,0.95,0.95,953,988,1449,410,425,623,2.8829742127720457,3.0915421128416769,6.5083593785708551,4.8,16.399999999999999,17.7,29.7,null,5424,null,0.68,null,null,0,10,10.9,21.85,null,1,1,1,953,988,1449,null,0,0,0,1]
["37024020",null,null,3,70,240,20,21.5,0,26,30,48.1,5285.6,6176.0620183272586,6765.7106634844222,9017.64,1.5,1.08,1.08,1.08,3771,4844,5306,7072,324,417,456,608,0.5061175152324221,0.82504336232375919,0.98120320393227112,1.7151431662130303,1.2760000000000001E-4,1.7219,2,3.76611E-4,{"$f":"AK944","v":763.26517311676128},{"$f":"AL944","v":836.13657141043336},{"$f":"AM944","v":1114.44},0.95,0.95,0.95,763,836,1114,328,359,479,0.51827708039997999,0.61727233073709142,1.0794747424565225,3.2,16.399999999999999,17.7,29.7,null,6607,null,0.8,null,null,0,10,10.9,21.85,null,1,1,1,763,836,1114,null,0,0,0,1]
["37024021",null,null,3,70,240,21,21.5,0,26,30,48.1,6100,8907.2895892451361,9231.3217513746804,13537.56,1.5,1.05,1.05,1.05,4352,7033,7289,10689,374,605,627,919,1.008739846129268,2.5400955106251395,2.7208037343149845,5.6848092494770484,1.2760000000000001E-4,1.7219,4,5.1420100000000005E-4,{"$f":"AK945*(1-(($E1239-50)*0.005))","v":1039.865440895968},{"$f":"AL945*(1-(($E1239-50)*0.005))","v":1077.6939906204714},{"$f":"AM945*(1-(($E1239-50)*0.005))","v":1580.4180000000001},0.85,0.85,0.85,1040,1078,1580,447,464,679,1.4199573685694282,1.5254204393827127,3.1718040427302778,6.4,16.399999999999999,17.7,29.7,null,7625,null,0.8,null,null,0,10,10.9,21.85,null,1,1,1,1040,1078,1580,null,0,0,0,1]
["37026010",null,null,3,70,260,10,11.5,0,26,30,47.8,2920.5,4178.1784000000007,4608.2849999999999,6144.38,1.5,1.08,1.08,1.08,2084,3277,3614,4819,179,282,311,414,0.26986039702960174,0.62619933930989857,0.75101257718335657,1.2786543856943258,3.969E-4,1.7345999999999999,2,3.6734700000000002E-4,{"$f":"AK946","v":579.25120000000004},{"$f":"AL946","v":638.88},{"$f":"AM946","v":851.84},0.98,0.98,0.98,579,639,852,249,275,366,0.4971168110898011,0.59766089099899167,1.0165350975712137,1.7,16.2,18.600000000000001,31.4,null,3245,null,0.9,null,null,0,10.199999999999999,11.9,21.85,null,1,1,1,579,639,852,null,0,0,0,1]
["37026011",null,null,3,70,260,11,11.5,0,26,30,47.8,2811.1200000000003,5669.0920000000006,6252.6749999999993,8336.9,1.5,1.1000000000000001,1.1000000000000001,1.1000000000000001,2006,4426,4882,6509,173,381,420,560,0.45972083623578924,1.9626616514787372,2.3494829093201255,3.9995616431127772,3.969E-4,1.7345999999999999,4,5.7428799999999995E-4,{"$f":"AK947*(1-(($E1241-50)*0.005))","v":854.56008000000008},{"$f":"AL947*(1-(($E1241-50)*0.005))","v":942.52949999999987},{"$f":"AM947*(1-(($E1241-50)*0.005))","v":1256.7059999999999},0.95,0.95,0.95,855,943,1257,368,405,541,1.8409052614034471,2.1968946293249942,3.7519603111008868,3.5,16.2,18.600000000000001,31.4,null,4134,null,0.68,null,null,0,10.199999999999999,11.9,21.85,null,1,1,1,855,943,1257,null,0,0,0,1]
["37026015",null,null,3,70,260,15,16.5,0,26,30,48.1,4101.6000000000004,4942.1733310961072,5121.9619484404784,7511.2599999999993,1.5,1.08,1.08,1.08,2927,3876,4017,5891,252,333,345,507,0.42583090915309529,0.72567906330489695,0.77658683374621928,1.6253475371689938,2.0829999999999999E-4,1.724,2,4.6182900000000003E-4,{"$f":"AK948","v":653.91552727192982},{"$f":"AL948","v":677.70396216321694},{"$f":"AM948","v":993.84},1.01,1.01,1.01,654,678,994,281,292,427,0.52438185580177876,0.5643390276130934,1.1687899905071639,2.6,16.399999999999999,17.7,29.7,null,5127,null,0.8,null,null,0,10,10.9,21.85,null,1,1,1,654,678,994,null,0,0,0,1]
["37026016",null,null,3,70,260,16,16.5,0,26,30,48.1,3995.6800000000003,7342.4691534710291,7609.5768181679023,11159.300000000001,1.5,1.1000000000000001,1.1000000000000001,1.1000000000000001,2851,5732,5941,8712,245,493,511,749,1.0830149369910209,4.1978564997308982,4.5006744046263982,9.4678767911138362,2.0829999999999999E-4,1.724,4,1.392796E-3,{"$f":"AK949*(1-(($E1243-50)*0.005))","v":961.98301200185654},{"$f":"AL949*(1-(($E1243-50)*0.005))","v":996.97846522652674},{"$f":"AM949*(1-(($E1243-50)*0.005))","v":1462.05},0.95,0.95,0.95,962,997,1462,414,429,629,2.9909495004602342,3.2047731122754111,6.7401780855043194,5.2,16.399999999999999,17.7,29.7,null,5876,null,0.68,null,null,0,10,10.9,21.85,null,1,1,1,962,997,1462,null,0,0,0,1]
["37026020",null,null,3,70,260,20,21.5,0,26,30,48.1,{"$f":"IF($N1244-($BE1244*$BG1244)>100,$BE1244*$BG1244,$N1244-95)","v":5726.4000000000005},6444.5232000000005,7107.93,9477.24,1.5,1.08,1.08,1.08,{"$f":"ROUND(M1244*POWER(CF_heat,Q1244),0)","v":4086},{"$f":"ROUND(N1244*POWER(CF_heat,R1244),0)","v":5054},{"$f":"ROUND(O1244*POWER(CF_heat,S1244),0)","v":5574},{"$f":"ROUND(P1244*POWER(CF_heat,T1244),0)","v":7432},351,435,479,639,0.602994502513019,0.91294981512938123,1.1001003363250261,1.9230584519635214,{"$f":"IF($G1244=$CO$103,CP$103,IF($G1244=$CO$104,CP$104,IF($G1244=$CO$105,CP$105,IF($G1244=$CO$107,CP$107,IF($G1244=$CO$108,CP$108,IF($G1244=$CO$109,CP$109,IF($G1244=$CO$111,CP$111,IF($G1244=$CO$112,CP$112,IF($G1244=$CO$113,CP$113,IF($G1244=$CO$115,CP$115,IF($G1244=$CO$116,CP$116,IF($G1244=$CO$117,CP$117,IF($G1244=$CO$119,CP$119,IF($G1244=$CO$120,CP$120,))))))))))))))","v":1.2760000000000001E-4},{"$f":"IF($G1244=$CO$103,CQ$103,IF($G1244=$CO$104,CQ$104,IF($G1244=$CO$105,CQ$105,IF($G1244=$CO$107,CQ$107,IF($G1244=$CO$108,CQ$108,IF($G1244=$CO$109,CQ$109,IF($G1244=$CO$111,CQ$111,IF($G1244=$CO$112,CQ$112,IF($G1244=$CO$113,CQ$113,IF($G1244=$CO$115,CQ$115,IF($G1244=$CO$116,CQ$116,IF($G1244=$CO$117,CQ$117,IF($G1244=$CO$119,CQ$119,IF($G1244=$CO$120,CQ$120,))))))))))))))","v":1.7219},{"$f":"IF($G1244=$CO$103,CR$103,IF($G1244=$CO$104,CR$104,IF($G1244=$CO$105,CR$105,IF($G1244=$CO$107,CR$107,IF($G1244=$CO$108,CR$108,IF($G1244=$CO$109,CR$109,IF($G1244=$CO$111,CR$111,IF($G1244=$CO$112,CR$112,IF($G1244=$CO$113,CR$113,IF($G1244=$CO$115,CR$115,IF($G1244=$CO$116,CR$116,IF($G1244=$CO$117,CR$117,IF($G1244=$CO$119,CR$119,IF($G1244=$CO$120,CR$120,))))))))))))))","v":2},{"$f":"IF($G1244=$CO$103,CS$103,IF($G1244=$CO$104,CS$104,IF($G1244=$CO$105,CS$105,IF($G1244=$CO$107,CS$107,IF($G1244=$CO$108,CS$108,IF($G1244=$CO$109,CS$109,IF($G1244=$CO$111,CS$111,IF($G1244=$CO$112,CS$112,IF($G1244=$CO$113,CS$113,IF($G1244=$CO$115,CS$115,IF($G1244=$CO$116,CS$116,IF($G1244=$CO$117,CS$117,IF($G1244=$CO$119,CS$119,IF($G1244=$CO$120,CS$120,))))))))))))))","v":3.76611E-4},{"$f":"AK950","v":768.42720000000008},{"$f":"AL950","v":847.53},{"$f":"AM950","v":1130.04},0.95,0.95,0.95,{"$f":"ROUND(AK1244*POWER(CF_cool,AN1244),0)","v":768},848,1130,330,365,486,0.53526796134941879,0.65032127694667174,1.1314386418343181,{"$f":"ROUND(IF(G1244=10,$CO$92*F1244,IF(G1244=11,$CO$93*F1244,IF(G1244=15,$CO$94*F1244,IF(G1244=16,$CO$95*F1244,IF(G1244=20,$CO$96*F1244,IF(G1244=21,$CO$97*F1244,)))))),1)","v":3.5},16.399999999999999,17.7,29.7,null,7158,null,{"$f":"IF(G1244=10,0.9,IF(G1244=11,0.68,IF(G1244=15,0.8,IF(G1244=16,0.68,IF(G1244=20,0.8,IF(G1244=21,0.8))))))","v":0.8},null,null,0,10,10.9,21.85,null,1,1,1,{"$f":"AQ1244/BO1244","v":768},{"$f":"AR1244/BP1244","v":848},{"$f":"AS1244/BQ1244","v":1130},null,{"$f":"BR1244-AQ1244","v":0},{"$f":"BS1244-AR1244","v":0},{"$f":"BT1244-AS1244","v":0},1]
[{"$f":"CONCATENATE(D1245,E1245,F1245,G1245)","v":"37026021"},null,null,3,70,260,21,21.5,0,26,30,48.1,6608,9234.8263652613623,9570.7750567366256,14035.359999999999,1.5,{"$f":"IF($G1245=10,1.08,IF($G1245=11,1.1,IF($G1245=15,1.08,IF($G1245=16,1.1,IF($G1245=20,1.08,IF($G1245=21,1.05))))))","v":1.05},1.05,1.05,4715,7291,7557,11082,405,627,650,953,{"$f":"(($AG1245*(Y1245^$AH1245)*((($F1245-14.4)*$AI1245)/100))+($AJ1245*(Y1245^2)))*0.0098","v":1.2059887751355205},{"$f":"(($AG1245*(Z1245^$AH1245)*((($F1245-14.4)*$AI1245)/100))+($AJ1245*(Z1245^2)))*0.0098","v":2.7863852901670048},{"$f":"(($AG1245*(AA1245^$AH1245)*((($F1245-14.4)*$AI1245)/100))+($AJ1245*(AA1245^2)))*0.0098","v":2.9859304369033395},{"$f":"(($AG1245*(AB1245^$AH1245)*((($F1245-14.4)*$AI1245)/100))+($AJ1245*(AB1245^2)))*0.0098","v":6.2326378089967651},1.2760000000000001E-4,1.7219,4,5.1420100000000005E-4,{"$f":"AK951*(1-(($E1245-50)*0.005))","v":1050.7614011427111},{"$f":"AL951*(1-(($E1245-50)*0.005))","v":1088.986474772086},{"$f":"AM951*(1-(($E1245-50)*0.005))","v":1596.9780000000001},0.85,0.85,0.85,1051,1089,1597,452,468,687,{"$f":"(($AG1245*(AT1245^$AH1245)*((($F1245-14.4)*$AI1245)/100))+($AJ1245*(AT1245^2)))*0.0098","v":1.4879260994697849},{"$f":"(($AG1245*(AU1245^$AH1245)*((($F1245-14.4)*$AI1245)/100))+($AJ1245*(AU1245^2)))*0.0098","v":1.5903992294210147},{"$f":"(($AG1245*(AV1245^$AH1245)*((($F1245-14.4)*$AI1245)/100))+($AJ1245*(AV1245^2)))*0.0098","v":3.3209177672900552},6.9,16.399999999999999,17.7,29.7,null,8260,null,0.8,null,null,0,10,10.9,21.85,null,{"$f":"IF(1/(1+((2258*((0.622/((101325/(1*611*EXP(17.27*((($AM$1+$AM$2)/2)/((($AM$1+$AM$2)/2)+237.3))))))-1)*1000-(0.622/((101325/($AQ$1*611*EXP(17.27*($AM$3/($AM$3+237.3))))))-1)*1000))/(1005*((($AM$1+$AM$2)/2)-$AM$3))))>1,1,1/(1+((2258*((0.622/((101325/(1*611*EXP(17.27*((($AM$1+$AM$2)/2)/((($AM$1+$AM$2)/2)+237.3))))))-1)*1000-(0.622/((101325/($AQ$1*611*EXP(17.27*($AM$3/($AM$3+237.3))))))-1)*1000))/(1005*((($AM$1+$AM$2)/2)-$AM$3)))))","v":1},1,1,1051,1089,1597,null,0,0,0,1]
["37028010",null,null,3,70,280,10,11.5,0,26,30,47.8,3144.6,4331.3824000000004,4782.2249168521384,6369.68,1.5,1.08,1.08,1.08,2244,3397,3750,4995,193,292,323,430,0.32450782365092823,0.69744802061985678,0.84077185533321985,1.4297918820056932,3.969E-4,1.7345999999999999,2,3.6734700000000002E-4,{"$f":"AK952","v":587.68320000000006},{"$f":"AL952","v":648.85364133524638},{"$f":"AM952","v":864.24},0.98,0.98,0.98,588,649,864,253,279,372,0.53495403421136267,0.64106400571541289,1.0925143603098122,1.9,16.2,18.600000000000001,31.4,null,3494,null,0.9,null,null,0,10.199999999999999,11.9,21.85,null,1,1,1,588,649,864,null,0,0,0,1]
["37028011",null,null,3,70,280,11,11.5,0,26,30,47.8,3027.36,5976.8600000000006,6598.9760720588583,8789.5,1.5,1.1000000000000001,1.1000000000000001,1.1000000000000001,2160,4666,5152,6862,186,401,443,590,0.55189138630647128,2.2589629505887028,2.7138313013647335,4.6046594930075209,3.969E-4,1.7345999999999999,4,5.7428799999999995E-4,{"$f":"AK953*(1-(($E1247-50)*0.005))","v":860.4},{"$f":"AL953*(1-(($E1247-50)*0.005))","v":950.4},{"$f":"AM953*(1-(($E1247-50)*0.005))","v":1265.4000000000001},0.95,0.95,0.95,860,950,1265,370,409,544,1.9480766738222903,2.3426301068154332,3.9636141454507294,3.7,16.2,18.600000000000001,31.4,null,4452,null,0.68,null,null,0,10.199999999999999,11.9,21.85,null,1,1,1,860,950,1265,null,0,0,0,1]
["37028015",null,null,3,70,280,15,16.5,0,26,30,48.9,4417.6000000000004,5583.9635634029,5708.9475468201636,8483.56,1.5,1.08,1.08,1.08,3152,4379,4477,6653,271,377,385,572,0.50206129398682864,0.94303351503609456,0.98167422248603797,2.0958794463889725,2.0829999999999999E-4,1.724,2,4.6182900000000003E-4,{"$f":"AK954","v":762.23344503523219},{"$f":"AL954","v":779.29426056038062},{"$f":"AM954","v":1158.04},1.01,1.01,1.01,762,779,1158,328,335,498,0.72271492130345638,0.75246226647382841,1.6068391234938044,2.8,19.3,20.399999999999999,34.5,null,5522,null,0.8,null,null,0,10,10.6,21.85,null,1,1,1,762,779,1158,null,0,0,0,1]
["37028016",null,null,3,70,280,16,16.5,0,26,30,48.9,4303.04,8165.5551181941737,8348.321999442087,12405.7,1.5,1.1000000000000001,1.1000000000000001,1.1000000000000001,3070,6375,6518,9685,264,548,561,833,1.2756845362282965,5.2414825003503225,5.4853925820263667,11.822942017746373,2.0829999999999999E-4,1.724,4,1.392796E-3,{"$f":"AK955*(1-(($E1249-50)*0.005))","v":1125},{"$f":"AL955*(1-(($E1249-50)*0.005))","v":1150.2},{"$f":"AM955*(1-(($E1249-50)*0.005))","v":1710},0.95,0.95,0.95,1125,1150,1710,484,495,735,4.1197638080701617,4.303188677291093,9.2690685719048727,5.6,19.3,20.399999999999999,34.5,null,6328,null,0.68,null,null,0,10,10.6,21.85,null,1,1,1,1125,1150,1710,null,0,0,0,1]
["37028020",null,null,3,70,280,20,21.5,0,26,30,48.9,6166.4000000000005,7236.8592000000008,7990.1253664397382,10642.44,1.5,1.08,1.08,1.08,4400,5675,6266,8346,378,488,539,718,0.7095417597869712,1.1617686015146995,1.4078788417424029,2.45260460232267,1.2760000000000001E-4,1.7219,2,3.76611E-4,{"$f":"AK956","v":894.36320000000012},{"$f":"AL956","v":987.455178225689},{"$f":"AM956","v":1315.24},0.95,0.95,0.95,894,987,1315,384,424,565,0.73142402444564503,0.88553710556508203,1.5421797125957473,3.7,19.3,20.399999999999999,34.5,null,7708,null,0.8,null,null,0,10,10.6,21.85,null,1,1,1,894,987,1315,null,0,0,0,1]
["37028021",null,null,3,70,280,21,21.5,0,26,30,48.1,7116.8,10516.06232539558,10751.439821034392,15976.76,1.5,1.05,1.05,1.05,5078,8303,8489,12614,437,714,730,1085,1.4300709118414534,3.6582492578050627,3.8170452588806048,8.1713252650858994,1.2760000000000001E-4,1.7219,4,5.1420100000000005E-4,{"$f":"AK957*(1-(($E1251-50)*0.005))","v":1135.6028061233897},{"$f":"AL957*(1-(($E1251-50)*0.005))","v":1161.0206228189252},{"$f":"AM957*(1-(($E1251-50)*0.005))","v":1725.2896500000002},0.85,0.85,0.85,1136,1161,1725,488,499,742,1.765707316194199,1.8425509564254707,3.9382791259815497,7.5,19.3,20.399999999999999,34.5,null,8896,null,0.8,null,null,0,10,10.6,21.85,null,1,1,1,1136,1161,1725,null,0,0,0,1]
["37030010",null,null,3,70,300,10,11.5,0,26,30,47.8,3369.6,4485,4951,6595,1.5,1.08,1.08,1.08,2404,3517,3883,5172,207,302,334,445,0.3854509450716484,0.77349371966225222,0.93173607735144592,1.5849386369150411,3.969E-4,1.7345999999999999,2,3.6734700000000002E-4,{"$f":"AK958","v":595},{"$f":"AL958","v":658},{"$f":"AM958","v":877},0.98,0.98,0.98,595,658,877,256,283,377,0.57014654745249982,0.68602826252827387,1.1657237163109904,2,16.2,18.600000000000001,31.4,null,3744,null,0.9,null,null,0,10.199999999999999,11.9,21.85,null,1,1,1,595,658,877,null,0,0,0,1]
["37030011",null,null,3,70,300,11,11.5,0,26,30,47.8,3243.6000000000004,6285,6939,9242,1.5,1.1000000000000001,1.1000000000000001,1.1000000000000001,2314,4907,5417,7215,199,422,466,620,0.65470840256671092,2.5929756315684109,3.1114877859888272,5.2637423167962414,3.969E-4,1.7345999999999999,4,5.7428799999999995E-4,{"$f":"AK959*(1-(($E1253-50)*0.005))","v":866.7},{"$f":"AL959*(1-(($E1253-50)*0.005))","v":956.7},{"$f":"AM959*(1-(($E1253-50)*0.005))","v":1274.4000000000001},0.95,0.95,0.95,867,957,1274,373,412,548,2.0671585695075865,2.4812230586532968,4.192848366554875,4,16.2,18.600000000000001,31.4,null,4770,null,0.68,null,null,0,10.199999999999999,11.9,21.85,null,1,1,1,867,957,1274,null,0,0,0,1]
["37030015",null,null,3,70,300,15,16.5,0,26,30,48.9,4732.8,5796,5926,8806,1.5,1.08,1.08,1.08,3377,4545,4647,6906,290,391,400,594,0.58568868583890898,1.0351823450431246,1.0811369831130657,2.302757295064469,2.0829999999999999E-4,1.724,2,4.6182900000000003E-4,{"$f":"AK960","v":771},{"$f":"AL960","v":788},{"$f":"AM960","v":1171},1.01,1.01,1.01,771,788,1171,332,339,504,0.75777354700053923,0.78851465813358146,1.6813903761483546,3,19.3,20.399999999999999,34.5,null,5916,null,0.8,null,null,0,10,10.6,21.85,null,1,1,1,771,788,1171,null,0,0,0,1]
["37030016",null,null,3,70,300,16,16.5,0,26,30,48.9,4610.4000000000005,8592,8784,13053,1.5,1.1000000000000001,1.1000000000000001,1.1000000000000001,3290,6708,6858,10191,283,577,590,876,1.4863667210224454,5.8870483048918967,6.1467040133841699,13.232326467562144,2.0829999999999999E-4,1.724,4,1.392796E-3,{"$f":"AK961*(1-(($E1255-50)*0.005))","v":1134},{"$f":"AL961*(1-(($E1255-50)*0.005))","v":1159.2},{"$f":"AM961*(1-(($E1255-50)*0.005))","v":1723.5},0.95,0.95,0.95,1134,1159,1724,488,498,741,4.2564565008580368,4.4268402074268778,9.5614346250878981,6,19.3,20.399999999999999,34.5,null,6780,null,0.68,null,null,0,10,10.6,21.85,null,1,1,1,1134,1159,1724,null,0,0,0,1]
["37030020",null,null,3,70,300,20,21.5,0,26,30,48.9,6607.2000000000007,7549,8335,11102,1.5,1.08,1.08,1.08,4714,5920,6537,8707,405,509,562,749,0.82599988043004202,1.2832239462300581,1.5535382796513144,2.7065035395986743,1.2760000000000001E-4,1.7219,2,3.76611E-4,{"$f":"AK962","v":905},{"$f":"AL962","v":999},{"$f":"AM962","v":1331},0.95,0.95,0.95,905,999,1331,389,430,572,0.76431919512798108,0.92701417801356134,1.6073504963383516,4,19.3,20.399999999999999,34.5,null,8259,null,0.8,null,null,0,10,10.6,21.85,null,1,1,1,905,999,1331,null,0,0,0,1]
["37030021",null,null,3,70,300,21,21.5,0,26,30,48.1,7624.8,10844,11086,16475,1.5,1.05,1.05,1.05,5440,8562,8753,13008,468,736,753,1119,1.6696663471972064,3.9638592223290634,4.1409093254305303,8.8489265516529922,1.2760000000000001E-4,1.7219,4,5.1420100000000005E-4,{"$f":"AK963*(1-(($E1257-50)*0.005))","v":1321.2},{"$f":"AL963*(1-(($E1257-50)*0.005))","v":1350.9},{"$f":"AM963*(1-(($E1257-50)*0.005))","v":2007.9},0.85,0.85,0.85,1321,1351,2008,568,581,863,2.4157211967993639,2.52238015738329,5.3763665867199411,8,19.3,20.399999999999999,34.5,null,9531,null,0.8,null,null,0,10,10.6,21.85,null,1,1,1,1321,1351,2008,null,0,0,0,1]
["3905010",null,null,3,90,50,10,11.5,0,26,30,38.799999999999997,554,649,695,812,1.5,1.08,1.08,1.08,395,509,545,637,34,44,47,55,5.4173140039869795E-3,8.9335048277857931E-3,1.0154354668942562E-2,1.3782148323783661E-2,3.969E-4,1.7345999999999999,2,3.6734700000000002E-4,{"$f":"AK866","v":90.020119234756137},{"$f":"AL866","v":96.328259324977694},{"$f":"AM866","v":112.64},0.98,0.98,0.98,90,96,113,39,41,49,7.0687185128054265E-3,7.7890899379448103E-3,1.1010617958771767E-2,0.3,3.6,4.0999999999999996,5.0999999999999996,null,685,null,0.9,null,null,0,14.2,16.2,21.85,null,1,1,1,90,96,113,null,0,0,0,{"$f":"IF(SUM(BV1258:BX1258)=0,1,0)","v":1}]
["3905011",null,null,3,90,50,11,11.5,0,26,30,38.799999999999997,597.72,881.02076921515595,942.75810617769378,1102.4000000000001,1.5,1.1000000000000001,1.1000000000000001,1.1000000000000001,426,688,736,861,37,59,63,74,1.0612933230886815E-2,2.6124513105548242E-2,2.9658332216627524E-2,4.0497070432560033E-2,3.969E-4,1.7345999999999999,4,5.7428799999999995E-4,{"$f":"AK867*(1-(($E1259-50)*0.005))","v":118.04911090557792},{"$f":"AL867*(1-(($E1259-50)*0.005))","v":126.32137643298211},147.71199999999999,0.95,0.95,0.95,118,126,148,51,54,64,1.9712695730767473E-2,2.2014400496593908E-2,3.0575828151930776E-2,0.7,3.6,4.0999999999999996,5.0999999999999996,null,879,null,0.68,null,null,0,14.2,16.2,21.85,null,1,1,1,118,126,148,null,0,0,0,1]
["3906010",null,null,3,90,60,10,11.5,0,26,30,40,738.9,841.69225687813923,901.35950941531064,1066.3800000000001,1.5,1.08,1.08,1.08,527,660,707,836,45,57,61,72,9.9055597231353532E-3,1.5637729576638788E-2,1.782898414147421E-2,2.4572994832794695E-2,3.969E-4,1.7345999999999999,2,3.6734700000000002E-4,{"$f":"AK868","v":116.68990721587436},{"$f":"AL868","v":124.96201154556491},{"$f":"AM868","v":147.84},{"$f":"IF($G1260=10,0.98,IF($G1260=11,0.95,IF($G1260=15,1.01,IF($G1260=16,0.95,IF($G1260=20,0.95,IF($G1260=21,0.85))))))","v":0.98},0.98,0.98,117,125,148,50,54,64,1.214004296048507E-2,1.4086095785072505E-2,1.9563990759703984E-2,0.4,4.8,5.4,6.8,null,821,null,0.9,null,null,0,13.6,15.6,21.85,null,1,1,1,117,125,148,null,0,0,0,1]
["3906011",null,null,3,90,60,11,11.5,0,26,30,40,717.40000000000009,1142.0361657917249,1222.9946868592929,1446.9,1.5,1.1000000000000001,1.1000000000000001,1.1000000000000001,512,892,955,1130,44,77,82,97,1.5926975365168097E-2,4.6649790795689712E-2,5.2655498392101936E-2,7.2777833153007732E-2,3.969E-4,1.7345999999999999,4,5.7428799999999995E-4,{"$f":"AK869*(1-(($E1261-50)*0.005))","v":152.80000000000001},164,193.60000000000002,0.95,0.95,0.95,153,164,194,66,71,83,3.4680795154499997E-2,3.99087069798299E-2,5.3898866409191976E-2,0.8,4.8,5.4,6.8,null,1055,null,0.68,null,null,0,13.6,15.6,21.85,null,1,1,1,153,164,194,null,0,0,0,1]
["3906015",null,null,3,90,60,15,16.5,0,26,30,41.1,862.19258357509659,957.19258357509659,1027.5250511543745,1359.96,1.5,1.08,1.08,1.08,615,751,806,1067,53,65,69,92,1.4461403006385631E-2,2.1607295358039021E-2,2.4302699376319299E-2,4.2830982878635446E-2,2.0829999999999999E-4,1.724,2,4.6182900000000003E-4,{"$f":"AK870","v":189.925625},{"$f":"AL870","v":140.26129481477255},{"$f":"AM870","v":185.64},1.01,1.01,1.01,190,140,186,82,60,80,3.4141898797120353E-2,1.8458252538956766E-2,3.25208961878376E-2,0.6,4.8,5.5,7.2,null,1272,null,0.8,null,null,0,12.3,14.4,21.85,null,1,1,1,190,140,186,null,0,0,0,1]
["3906016",null,null,3,90,60,16,16.5,0,26,30,41.1,1059.44,1399.7241764138612,1502.5729206967153,1988.7,1.5,1.1000000000000001,1.1000000000000001,1.1000000000000001,756,1093,1173,1553,65,94,101,134,6.2639249606078043E-2,0.12999495976193065,0.1498640371075696,0.26238954698403733,2.0829999999999999E-4,1.724,4,1.392796E-3,{"$f":"AK871*(1-(($E1263-50)*0.005))","v":171.20000000000002},184,244,0.95,0.95,0.95,171,184,244,74,79,105,8.0959899206031985E-2,9.2143347433738906E-2,0.16184705578141051,1.2,4.8,5.5,7.2,null,1558,null,0.68,null,null,0,12.3,14.4,21.85,null,1,1,1,171,184,244,null,0,0,0,1]
["3906020",null,null,3,90,60,20,21.5,0,26,30,41.1,1251.575008837732,1346.575008837732,1442.0332127786496,1706.04,1.5,1.08,1.08,1.08,893,1056,1131,1338,77,91,97,115,2.3902999958867951E-2,3.3257087321880145E-2,3.773334830335235E-2,5.2841431064416994E-2,1.2760000000000001E-4,1.7219,2,3.76611E-4,{"$f":"AK872","v":166.41571994991173},{"$f":"AL872","v":178.21286873827722},{"$f":"AM872","v":210.84},0.95,0.95,0.95,166,178,211,71,77,91,2.0362186770824586E-2,2.3902999958867951E-2,3.3257087321880145E-2,0.8,4.8,5.5,7.2,null,1774,null,0.8,null,null,0,12.3,14.4,21.85,null,1,1,1,166,178,211,null,0,0,0,1]
["3906021",null,null,3,90,60,21,21.5,0,26,30,41.1,1707.6437228662567,1802.6437228662567,1935.0981352499616,2561.16,1.5,1.05,1.05,1.05,1218,1423,1528,2022,105,122,131,174,6.2449516280666917E-2,8.3927928329369905E-2,9.6565795839234567E-2,0.16901353512975539,1.2760000000000001E-4,1.7219,4,5.1420100000000005E-4,{"$f":"AK873*(1-(($E1265-50)*0.005))","v":187.06345487533082},200.80847818730339,265.77600000000001,0.85,0.85,0.85,187,201,266,80,86,114,3.6566197767014287E-2,4.2157511548033891E-2,7.3430249142286366E-2,1.6,4.8,5.5,7.2,null,2262,null,0.8,null,null,0,12.3,14.4,21.85,null,1,1,1,187,201,266,null,0,0,0,1]
["3907010",null,null,3,90,70,10,11.5,0,26,30,41,862.2,1029.7403904507714,1104.2859635902939,1320.28,1.5,1.08,1.08,1.08,615,808,866,1035,53,69,74,89,1.4348254736186753E-2,2.3833508628602774E-2,2.7271158049938453E-2,3.8924960889446435E-2,3.969E-4,1.7345999999999999,2,3.6734700000000002E-4,{"$f":"AK874","v":142.7603849699376},{"$f":"AL874","v":153.09517888293954},{"$f":"AM874","v":183.04},0.98,0.98,0.98,143,153,183,61,66,79,1.8801217016227327E-2,2.1878764945327631E-2,3.093277823234393E-2,0.5,5.5,5.9,7.9,null,958,null,0.9,null,null,0,13.2,15.1,21.85,null,1,1,1,143,153,183,null,0,0,0,{"$f":"IF(SUM(BV1266:BX1266)=0,1,0)","v":1}]
["3907011",null,null,3,90,70,11,11.5,0,26,30,41,837.08,1397.1861540381678,1498.3320774196782,1791.4,1.5,1.1000000000000001,1.1000000000000001,1.1000000000000001,597,1091,1170,1399,51,94,101,120,2.2563375207378413E-2,7.2618348923691595E-2,8.3337593553421352E-2,0.11600499755813,3.969E-4,1.7345999999999999,4,5.7428799999999995E-4,{"$f":"AK875*(1-(($E1267-50)*0.005))","v":187.21077756285001},200.763450489673,240.03200000000004,0.95,0.95,0.95,187,201,240,80,86,103,5.3323157788472068E-2,6.1241419094392333E-2,8.6530816741384173E-2,0.9,5.5,5.9,7.9,null,1231,null,0.68,null,null,0,13.2,15.1,21.85,null,1,1,1,187,201,240,null,0,0,0,1]
["3907015",null,null,3,90,70,15,16.5,0,26,30,41.1,975.82735416996661,1070.8273541699666,1149.5094620994566,1521.41,1.5,1.08,1.08,1.08,696,840,901,1193,60,72,77,103,1.8933016885219214E-2,2.7077000311869458E-2,3.0892373713348693E-2,5.4716713303803698E-2,2.0829999999999999E-4,1.724,2,4.6182900000000003E-4,{"$f":"AK876","v":135.09481491470635},{"$f":"AL876","v":145.02129350758159},{"$f":"AM876","v":191.94},1.01,1.01,1.01,135,145,192,58,62,83,1.7715040719154605E-2,2.0190861450308E-2,3.5797696205080359E-2,0.7,5.0999999999999996,5.6,7.2,null,1484,null,0.8,null,null,0,12.3,14.4,21.85,null,1,1,1,135,145,192,null,0,0,0,1]
["3907016",null,null,3,90,70,16,16.5,0,26,30,41.1,1235.5600000000002,1627.62717250317,1747.2217424001376,2312.5,1.5,1.1000000000000001,1.1000000000000001,1.1000000000000001,882,1271,1364,1805,76,109,117,155,8.6774410985169817E-2,0.17694509326691635,0.20354226765780917,0.35504012904622118,2.0829999999999999E-4,1.724,4,1.392796E-3,{"$f":"AK877*(1-(($E1269-50)*0.005))","v":175.67815881374756},188.58661487700513,249.60000000000002,0.95,0.95,0.95,176,189,250,76,81,108,8.6774410985169817E-2,9.8410548491480745E-2,0.1737502364352142,1.4,5.0999999999999996,5.6,7.2,null,1817,null,0.68,null,null,0,12.3,14.4,21.85,null,1,1,1,176,189,250,null,0,0,0,1]
["3907020",null,null,3,90,70,20,21.5,0,26,30,41.1,1414.840819712653,1509.840819712653,1619.1421060355642,1935.84,1.5,1.08,1.08,1.08,1010,1184,1270,1518,87,102,109,131,3.0975335955806562E-2,4.2396471925119035E-2,4.8331778986334215E-2,6.9488117345007913E-2,1.2760000000000001E-4,1.7219,2,3.76611E-4,{"$f":"AK878","v":170.52628152222005},{"$f":"AL878","v":182.87112058001478},{"$f":"AM878","v":218.64000000000001},0.95,0.95,0.95,171,183,219,74,79,94,2.2511197833279682E-2,2.5608782122359248E-2,3.6084845824600094E-2,0.9,5.0999999999999996,5.6,7.2,null,2070,null,0.8,null,null,0,12.3,14.4,21.85,null,1,1,1,171,183,219,null,0,0,0,1]
["3907021",null,null,3,90,70,21,21.5,0,26,30,41.1,1882.8291945358951,1977.8291945358951,2123.1558613833213,2810.06,1.5,1.05,1.05,1.05,1343,1562,1676,2219,115,134,144,191,7.6472423673578288E-2,0.10327341364618195,0.11896980279584603,0.20738026513327959,1.2760000000000001E-4,1.7219,4,5.1420100000000005E-4,{"$f":"AK879*(1-(($E1271-50)*0.005))","v":192.24370827624901},206.3693655490612,273.13600000000002,0.85,0.85,0.85,192,206,273,83,89,117,4.0321086103226239E-2,4.6237434215905163E-2,7.9106795420991471E-2,1.9,5.0999999999999996,5.6,7.2,null,2639,null,0.8,null,null,0,12.3,14.4,21.85,null,1,1,1,192,206,273,null,0,0,0,1]
["3908010",null,null,3,90,80,10,11.5,0,26,30,41.8,985.5,1214.2269940407766,1304.1433704057049,1574.18,1.5,1.08,1.08,1.08,703,952,1023,1235,60,82,88,106,1.9157582546598294E-2,3.4861135731848764E-2,3.9921570095941127E-2,5.7081303711220763E-2,3.969E-4,1.7345999999999999,2,3.6734700000000002E-4,{"$f":"AK880","v":168.33710197020613},{"$f":"AL880","v":180.80286190736828},{"$f":"AM880","v":218.24},0.98,0.98,0.98,168,181,218,72,78,94,2.7165359623318678E-2,3.167181300086596E-2,4.5312552969066985E-2,0.5,6.3,6.8,9.1,null,1095,null,0.9,null,null,0,12.8,14.7,21.85,null,1,1,1,168,181,218,null,0,0,0,1]
["3908011",null,null,3,90,80,11,11.5,0,26,30,41.8,956.08,1647.5037394527276,1769.505282019556,2135.9,1.5,1.1000000000000001,1.1000000000000001,1.1000000000000001,682,1286,1381,1668,59,111,119,143,3.163015956438104E-2,0.10537485365866733,0.12035350001470055,0.17100095804480808,3.969E-4,1.7345999999999999,4,5.7428799999999995E-4,{"$f":"AK881*(1-(($E1273-50)*0.005))","v":220.8},236.8,286.40000000000003,0.95,0.95,0.95,221,237,286,95,102,123,7.8299087882813992E-2,8.9670310483074542E-2,0.12820103543813627,1.1000000000000001,6.3,6.8,9.1,null,1406,null,0.68,null,null,0,12.8,14.7,21.85,null,1,1,1,221,237,286,null,0,0,0,1]
["3908015",null,null,3,90,80,15,16.5,0,26,30,42.4,1300.33740436932,1395.33740436932,1496.2563490716184,2007.56,1.5,1.08,1.08,1.08,928,1094,1173,1574,80,94,101,135,3.4080098515836543E-2,4.6744452652574681E-2,5.3812575245209708E-2,9.5090019266223458E-2,2.0829999999999999E-4,1.724,2,4.6182900000000003E-4,{"$f":"AK882","v":190.46915773046311},{"$f":"AL882","v":204.24499885412456},{"$f":"AM882","v":274.04000000000002},1.01,1.01,1.01,190,204,274,82,88,118,3.5768909532348576E-2,4.1076258231928696E-2,7.3013760578283488E-2,0.8,6,6.7,9,null,1696,null,0.8,null,null,0,11.8,13.7,21.85,null,1,1,1,190,204,274,null,0,0,0,1]
["3908016",null,null,3,90,80,16,16.5,0,26,30,42.4,1412.3600000000001,2040.4331716148024,2188.0092071816284,2935.7,1.5,1.1000000000000001,1.1000000000000001,1.1000000000000001,1008,1593,1708,2292,87,137,147,197,0.11513212118281042,0.28204303816785287,0.32414663509783698,0.57808545963619196,2.0829999999999999E-4,1.724,4,1.392796E-3,{"$f":"AK883*(1-(($E1275-50)*0.005))","v":249.60000000000002},268,360,0.95,0.95,0.95,250,268,360,108,115,155,0.17636599641795059,0.19963483858129261,0.35991661732431846,1.6,6,6.7,9,null,2077,null,0.68,null,null,0,11.8,13.7,21.85,null,1,1,1,250,268,360,null,0,0,0,1]
["3908020",null,null,3,90,80,20,21.5,0,26,30,42.4,1847.5718983039128,1942.5718983039128,2086.4239348515057,2518.44,1.5,1.08,1.08,1.08,1318,1523,1636,1975,113,131,141,170,5.2753755294783017E-2,7.0594323803498546E-2,8.1613209141998835E-2,0.11803010584799242,1.2760000000000001E-4,1.7219,2,3.76611E-4,{"$f":"AK884","v":240.07166246887351},{"$f":"AL884","v":257.84953601562182},{"$f":"AM884","v":311.24},0.95,0.95,0.95,240,258,311,103,111,134,4.3951963441231798E-2,5.0929918356249132E-2,7.381701321036345E-2,1.1000000000000001,6,6.7,9,null,2366,null,0.8,null,null,0,11.8,13.7,21.85,null,1,1,1,240,258,311,null,0,0,0,1]
["3908021",null,null,3,90,80,21,21.5,0,26,30,42.4,2412.8000000000002,2627.7848955664344,2817.8416357747774,3780.76,1.5,{"$f":"IF($G1277=10,1.08,IF($G1277=11,1.1,IF($G1277=15,1.08,IF($G1277=16,1.1,IF($G1277=20,1.08,IF($G1277=21,1.05))))))","v":1.05},1.05,1.05,1722,2075,2225,2985,148,178,191,257,0.12828462049421555,0.1842669292057651,0.21161521327347374,0.37914528733911407,1.2760000000000001E-4,1.7219,4,5.1420100000000005E-4,{"$f":"AK885*(1-(($E1277-50)*0.005))","v":272.68978056976709},292.41229700201364,392.33600000000001,0.85,0.85,0.85,273,292,392,117,126,169,8.0927946505306478E-2,9.3574633891534351E-2,0.16642663939476923,2.1,6,6.7,9,null,3016,null,0.8,null,null,0,11.8,13.7,21.85,null,{"$f":"IF(1/(1+((2258*((0.622/((101325/(1*611*EXP(17.27*((($AM$1+$AM$2)/2)/((($AM$1+$AM$2)/2)+237.3))))))-1)*1000-(0.622/((101325/($AQ$1*611*EXP(17.27*($AM$3/($AM$3+237.3))))))-1)*1000))/(1005*((($AM$1+$AM$2)/2)-$AM$3))))>1,1,1/(1+((2258*((0.622/((101325/(1*611*EXP(17.27*((($AM$1+$AM$2)/2)/((($AM$1+$AM$2)/2)+237.3))))))-1)*1000-(0.622/((101325/($AQ$1*611*EXP(17.27*($AM$3/($AM$3+237.3))))))-1)*1000))/(1005*((($AM$1+$AM$2)/2)-$AM$3)))))","v":1},1,1,273,292,392,null,0,0,0,1]
["3909010",null,null,3,90,90,10,11.5,0,26,30,42.4,1108.8,1395.6272192501513,1501.3000140389001,1828.08,1.5,1.08,1.08,1.08,791,1095,1177,1434,68,94,101,123,2.5520596919236801E-2,4.7370929137888165E-2,5.4349648935862721E-2,7.9273358405672414E-2,3.969E-4,1.7345999999999999,2,3.6734700000000002E-4,{"$f":"AK886","v":193.48593193227777},{"$f":"AL886","v":208.13611852764589},{"$f":"AM886","v":253.44},0.98,0.98,0.98,193,208,253,83,89,109,3.7340239212640722E-2,4.2669333600542279E-2,6.2889336846315577E-2,0.6,6.7,7.4,10.3,null,1232,null,0.9,null,null,0,12.5,14.7,21.85,null,1,1,1,193,208,253,null,0,0,0,1]
["3909011",null,null,3,90,90,11,11.5,0,26,30,42.4,1075.76,1893.6336235985709,2037.0140009310799,2480.4,1.5,1.1000000000000001,1.1000000000000001,1.1000000000000001,768,1478,1590,1936,66,127,137,166,4.1368380404565773E-2,0.1432245427635509,0.16545208362851668,0.2385477205755622,3.969E-4,1.7345999999999999,4,5.7428799999999995E-4,{"$f":"AK887*(1-(($E1279-50)*0.005))","v":253.73041528391883},272.94213725102657,332.35200000000003,0.95,0.95,0.95,254,273,332,109,117,143,0.10710199356983116,0.12253704973862133,0.17952436170139471,1.2,6.7,7.4,10.3,null,1582,null,0.68,null,null,0,12.5,14.7,21.85,null,1,1,1,254,273,332,null,0,0,0,1]
["3909015",null,null,3,90,90,15,16.5,0,26,30,43.3,1502.9167676946356,1597.9167676946356,1711.9130538160239,2331.36,1.5,1.08,1.08,1.08,1072,1253,1343,1828,92,108,115,157,4.5807009490369296E-2,6.2677952603543502E-2,7.0873536439037516E-2,0.1304045922070263,2.0829999999999999E-4,1.724,2,4.6182900000000003E-4,{"$f":"AK888","v":218.12205414485143},{"$f":"AL888","v":233.68300487544244},{"$f":"AM888","v":318.24},1.01,1.01,1.01,218,{"$f":"ROUND(AL1280*POWER(CF_cool,AO1280),0)","v":234},{"$f":"ROUND(AM1280*POWER(CF_cool,AP1280),0)","v":318},94,101,137,4.7773932289979358E-2,5.4977761599022158E-2,9.9846629634346956E-2,0.9,7,7.7,10.7,null,1908,null,0.8,null,null,0,11.3,13.2,21.85,null,1,1,1,218,234,318,null,0,0,0,1]
["3909016",null,null,3,90,90,16,16.5,0,26,30,43.3,1588.48,2336.669516687492,2503.3688418217644,3409.2,1.5,1.1000000000000001,1.1000000000000001,1.1000000000000001,1133,1824,1954,2662,97,157,168,229,0.1448592566259394,0.37413425352165253,0.42759818960823864,0.7880408313931474,2.0829999999999999E-4,1.724,4,1.392796E-3,{"$f":"AK889*(1-(($E1281-50)*0.005))","v":286.22350996383221},306.64285707637242,417.6,0.95,0.95,0.95,286,307,418,123,132,180,0.23124713149578516,0.26577617988746643,0.48994811583224235,1.8,7,7.7,10.7,null,2336,null,0.68,null,null,0,11.3,13.2,21.85,null,1,1,1,286,307,418,null,0,0,0,1]
["3909020",null,null,3,90,90,20,21.5,0,26,30,43.3,2128.8000000000002,2232.7836804230465,2401.8435041457315,2924.64,1.5,1.08,1.08,1.08,1519,1751,1884,2294,131,151,162,197,7.1700530261989179E-2,9.4834579626451532E-2,0.10891673537133954,0.16011957350838529,1.2760000000000001E-4,1.7219,2,3.76611E-4,{"$f":"AK890","v":275.93732338069162},{"$f":"AL890","v":296.83048721840407},{"$f":"AM890","v":361.44},0.95,0.95,0.95,276,297,361,119,128,155,5.9353068879593893E-2,6.85057463009488E-2,9.9843942617951306E-2,1.2,7,7.7,10.7,null,2661,null,0.8,null,null,0,11.3,13.2,21.85,null,1,1,1,276,297,361,null,0,0,0,1]
["3909021",null,null,3,90,90,21,21.5,0,26,30,43.3,2714.4,3009.2947651024979,3223.9795559512399,4390.5600000000004,1.5,1.05,1.05,1.05,1937,2376,2545,3467,167,204,219,298,0.16594444405125913,0.24557012647784476,0.28220360612938261,0.51636549160207501,1.2760000000000001E-4,1.7219,4,5.1420100000000005E-4,{"$f":"AK891*(1-(($E1283-50)*0.005))","v":312.27971914674657},334.55793096194566,455.61599999999999,0.85,0.85,0.85,312,335,456,134,144,196,0.10787416210567184,0.1241775646026971,0.22705771841592612,2.4,7,7.7,10.7,null,3393,null,0.8,null,null,0,11.3,13.2,21.85,null,1,1,1,312,335,456,null,0,0,0,1]
["39010010",null,null,3,90,100,10,11.5,0,26,30,43,1232.1000000000001,1574.3905475253332,1696.1265760133244,2081.98,1.5,1.08,1.08,1.08,879,1235,1330,1633,76,106,114,140,3.2979856516064276E-2,6.2151943031227098E-2,7.1407310896984919E-2,0.10572290690654358,3.969E-4,1.7345999999999999,2,3.6734700000000002E-4,{"$f":"AK892","v":218.26918973175157},{"$f":"AL892","v":235.14633901405676},{"$f":"AM892","v":288.64},0.98,0.98,0.98,218,235,289,94,101,124,4.9429305306709352E-2,5.6681136080738742E-2,8.3841493078660942E-2,0.7,7.8,8.6999999999999993,12.2,null,1369,null,0.9,null,null,0,12.3,14.1,21.85,null,1,1,1,218,235,289,null,0,0,0,1]
["39010011",null,null,3,90,100,11,11.5,0,26,30,43,1195.44,2136.1856779144437,2301.3611872256411,2824.9,1.5,1.1000000000000001,1.1000000000000001,1.1000000000000001,853,1668,1797,2205,73,143,155,190,5.2719707456230981E-2,0.18804776535798132,0.21911871198426447,0.32261632041631727,3.969E-4,1.7345999999999999,4,5.7428799999999995E-4,{"$f":"AK893*(1-(($E1285-50)*0.005))","v":286.40000000000003},308,378.40000000000003,0.95,0.95,0.95,286,308,378,123,132,163,0.14132746365415341,0.16156481846403381,0.24109003434984042,1.3,7.8,8.6999999999999993,12.2,null,1758,null,0.68,null,null,0,12.3,14.1,21.85,null,1,1,1,286,308,378,null,0,0,0,1]
["39010015",null,null,3,90,100,15,16.5,0,26,30,44.1,1696,1798.7737222599399,1926.0891717740149,2655.16,1.5,1.08,1.08,1.08,1210,1411,1511,2082,104,121,130,179,5.9442615824893692E-2,7.9882926528895518E-2,9.1900063797744749E-2,0.17176599623849034,2.0829999999999999E-4,1.724,2,4.6182900000000003E-4,{"$f":"AK894","v":245.53983484833029},{"$f":"AL894","v":262.91890485611941},{"$f":"AM894","v":362.44},1.01,1.01,1.01,246,263,362,106,113,156,6.1693712021988735E-2,6.989545441405931E-2,0.13124694650181259,1,7,7.7,10.7,null,2120,null,0.8,null,null,0,10.9,12.8,21.85,null,1,1,1,246,263,362,null,0,0,0,1]
["39010016",null,null,3,90,100,16,16.5,0,26,30,44.1,1765.2800000000002,2630.3871448118639,2816.5633812075234,3882.7,1.5,1.1000000000000001,1.1000000000000001,1.1000000000000001,1260,2054,2199,3031,108,177,189,261,0.18159751638342336,0.4800973876606639,0.5463285500064492,1.0323140112813236,2.0829999999999999E-4,1.724,4,1.392796E-3,{"$f":"AK895*(1-(($E1287-50)*0.005))","v":322.40000000000003},344.8,476,0.95,0.95,0.95,322,345,476,138,148,205,0.2941057009854936,0.33752256227392147,0.64121078624091732,2,7,7.7,10.7,null,2596,null,0.68,null,null,0,10.9,12.8,21.85,null,1,1,1,322,345,476,null,0,0,0,1]
["39010020",null,null,3,90,100,20,21.5,0,26,30,44.1,2365.6,2518.7768428703835,2713.5353098724395,3330.84,1.5,1.08,1.08,1.08,1688,1975,2128,2612,145,170,183,225,8.8877020809456558E-2,0.12149545292969745,0.14043896852494522,0.21087888899397389,1.2760000000000001E-4,1.7219,2,3.76611E-4,{"$f":"AK896","v":311.2816285378957},{"$f":"AL896","v":335.35074484391049},{"$f":"AM896","v":411.64},0.95,0.95,0.95,311,335,412,134,144,177,7.6117387440108403E-2,8.7676786087461309E-2,0.13152753973488002,1.3,7,7.7,10.7,null,2957,null,0.8,null,null,0,10.9,12.8,21.85,null,1,1,1,311,335,412,null,0,0,0,1]
["39010021",null,null,3,90,100,21,21.5,0,26,30,44.1,3016,3387.5608889256064,3627.3291443724347,5000.3599999999997,1.5,1.05,1.05,1.05,2152,2675,2864,3948,185,230,246,340,0.20677817674427174,0.31649151807140574,0.36099859926961725,0.68037875512768187,1.2760000000000001E-4,1.7219,4,5.1420100000000005E-4,{"$f":"AK897*(1-(($E1289-50)*0.005))","v":351.53304862448738},376.41421491618183,518.89600000000007,0.85,0.85,0.85,352,376,519,151,162,223,0.13908560667023842,0.1595487116439181,0.29792507049687533,2.7,7,7.7,10.7,null,3770,null,0.8,null,null,0,10.9,12.8,21.85,null,1,1,1,352,376,519,null,0,0,0,1]
["39011010",null,null,3,90,110,10,11.5,0,26,30,43.5,1355.4,1766.3893947845202,1902.9712804051933,2335.88,1.5,1.08,1.08,1.08,967,1385,1492,1832,83,119,128,158,4.0657655900270546E-2,8.0603275811184871E-2,9.2599605028954202E-2,0.13830835282173867,3.969E-4,1.7345999999999999,2,3.6734700000000002E-4,{"$f":"AK898","v":244.88738360147738},{"$f":"AL898","v":263.82272182064906},{"$f":"AM898","v":323.83999999999997},0.98,0.98,0.98,245,264,324,105,114,139,6.3532409410345894E-2,7.4283678081492499E-2,0.10834103483995079,0.7,8.4,9.3000000000000007,14,null,1506,null,0.9,null,null,0,12,13.9,21.85,null,1,1,1,245,264,324,null,0,0,0,1]
["39011011",null,null,3,90,110,11,11.5,0,26,30,43.5,1315.1200000000001,2396.6961264405954,2582.0149905458411,3169.4,1.5,1.1000000000000001,1.1000000000000001,1.1000000000000001,938,1871,2016,2474,81,161,173,213,6.7326126144190229E-2,0.24597270880165012,0.28182196378494073,0.41797960302434661,3.969E-4,1.7345999999999999,4,5.7428799999999995E-4,{"$f":"AK899*(1-(($E1291-50)*0.005))","v":321.13640985921018},345.96752384207849,424.67200000000003,0.95,0.95,0.95,321,346,425,138,149,183,0.18378544744861192,0.21245294497481637,0.31346610837783906,1.5,8.4,9.3000000000000007,14,null,1934,null,0.68,null,null,0,12,13.9,21.85,null,1,1,1,321,346,425,null,0,0,0,1]
["39011015",null,null,3,90,110,15,16.5,0,26,30,44.1,1813.1501882577959,1908.1501882577959,2043.2071973479594,2816.6099999999997,1.5,1.08,1.08,1.08,1294,1496,1602,2209,111,129,138,190,6.8872021216798224E-2,9.2300683368990388E-2,0.10527066402536114,0.19649702710776104,2.0829999999999999E-4,1.724,2,4.6182900000000003E-4,{"$f":"AK900","v":249.80785427097814},{"$f":"AL900","v":267.48901053042016},{"$f":"AM900","v":368.74},1.01,1.01,1.01,250,267,369,108,115,159,6.5293712586279876E-2,7.3788401225819936E-2,0.1387762211751877,1.1000000000000001,7.9,8.8000000000000007,12.5,null,2332,null,0.8,null,null,0,10.9,12.8,21.85,null,1,1,1,250,267,369,null,0,0,0,1]
["39011016",null,null,3,90,110,16,16.5,0,26,30,44.1,1942.0800000000002,2849.7497938679544,3051.4523045945984,4206.5,1.5,1.1000000000000001,1.1000000000000001,1.1000000000000001,1386,2225,2382,3284,119,191,205,282,0.22284724271769266,0.56476814232501726,0.64910736540223946,1.2162714994016472,2.0829999999999999E-4,1.724,4,1.392796E-3,{"$f":"AK901*(1-(($E1293-50)*0.005))","v":326.26637364241219},349.35918932432156,481.6,0.95,0.95,0.95,326,349,482,140,150,207,0.30664457319746813,0.35116848134916551,0.66162867873921294,2.2000000000000002,7.9,8.8000000000000007,12.5,null,2856,null,0.68,null,null,0,10.9,12.8,21.85,null,1,1,1,326,349,482,null,0,0,0,1]
["39011020",null,null,3,90,110,20,21.5,0,26,30,44.1,2597.551301713082,2692.551301713082,2900.746468081386,3560.6400000000003,1.5,1.08,1.08,1.08,1853,2112,2275,2792,{"$f":"ROUND(U1294*3600/(4186*ABS($O$1-$O$2)),0)","v":159},{"$f":"ROUND(V1294*3600/(4186*ABS($O$1-$O$2)),0)","v":182},{"$f":"ROUND(W1294*3600/(4186*ABS($O$1-$O$2)),0)","v":196},{"$f":"ROUND(X1294*3600/(4186*ABS($O$1-$O$2)),0)","v":240},0.10806898126869131,0.14088231271581872,0.16294943153117869,0.24258448149029985,1.2760000000000001E-4,1.7219,2,3.76611E-4,{"$f":"AK902","v":317.17997831584631},{"$f":"AL902","v":341.70517057946222},{"$f":"AM902","v":419.44},0.95,0.95,0.95,317,342,419,{"$f":"ROUND(AQ1294*3600/(4186*ABS($AM$1-$AM$2)),0)","v":136},{"$f":"ROUND(AR1294*3600/(4186*ABS($AM$1-$AM$2)),0)","v":147},{"$f":"ROUND(AS1294*3600/(4186*ABS($AM$1-$AM$2)),0)","v":180},7.9544712053658623E-2,9.2650629466224224E-2,0.13785909087762688,1.5,7.9,8.8000000000000007,12.5,null,3253,null,0.8,null,null,0,10.9,12.8,21.85,null,1,1,1,317,342,419,null,0,0,0,1]
["39011021",null,null,3,90,110,21,21.5,0,26,30,44.1,3317.6000000000004,3556.1815292902165,3807.8845891872675,5249.2599999999993,1.5,1.05,1.05,1.05,2367,2808,3007,4145,204,241,259,356,0.25505690850986723,0.35310128138501551,0.40643245418374957,0.75693105159793073,1.2760000000000001E-4,1.7219,4,5.1420100000000005E-4,{"$f":"AK903*(1-(($E1295-50)*0.005))","v":356.51917925158074},381.75325900552366,526.25600000000009,0.85,0.85,0.85,357,382,526,154,164,226,0.14745282166354523,0.16667463291891743,0.31147275075508585,2.9,7.9,8.8000000000000007,12.5,null,4147,null,0.8,null,null,0,10.9,12.8,21.85,null,1,1,1,357,382,526,null,0,0,0,1]
["39012010",null,null,3,90,120,10,11.5,0,26,30,44,1478.7,1924.9914127028867,2079.6202422788024,2589.7800000000002,1.5,1.08,1.08,1.08,1055,1510,1631,2031,91,130,140,175,5.0358882528916071E-2,9.8985854052659E-2,0.11393853661367993,0.17413148637766063,3.969E-4,1.7345999999999999,2,3.6734700000000002E-4,{"$f":"AK904","v":266.87553260000635},{"$f":"AL904","v":288.31284965818764},{"$f":"AM904","v":359.04},0.98,0.98,0.98,267,288,359,115,124,154,7.844810437960871E-2,9.0497540707880797E-2,0.13655457969155813,0.8,8.9,9.9,14.8,null,1643,null,0.9,null,null,0,11.8,13.7,21.85,null,1,1,1,267,288,359,null,0,0,0,1]
["39012011",null,null,3,90,120,11,11.5,0,26,30,44,1434.8000000000002,2611.8926414972211,2821.6982019103875,3513.9,1.5,1.1000000000000001,1.1000000000000001,1.1000000000000001,1024,2039,2203,2743,88,175,189,236,8.2356523498268983E-2,0.30012112200532121,0.34704829521290631,0.52808528089261231,3.969E-4,1.7345999999999999,4,5.7428799999999995E-4,{"$f":"AK905*(1-(($E1297-50)*0.005))","v":349.6},378.40000000000003,471.20000000000005,0.95,0.95,0.95,350,378,471,151,163,203,0.22724462739367163,0.26248234911718626,0.39720266611384658,1.6,8.9,9.9,14.8,null,2110,null,0.68,null,null,0,11.8,13.7,21.85,null,1,1,1,350,378,471,null,0,0,0,1]
["39012015",null,null,3,90,120,15,16.5,0,26,30,44.8,2035.2,2216.9073865755149,2373.9948983307781,3302.76,1.5,1.08,1.08,1.08,1452,1739,1862,2590,125,150,160,223,8.8487348526074455E-2,0.12616601065937175,0.14306010269934949,0.27327410250387973,2.0829999999999999E-4,1.724,2,4.6182900000000003E-4,{"$f":"AK906","v":302.61675876046246},{"$f":"AL906","v":324.05983479376272},{"$f":"AM906","v":450.84},1.01,1.01,1.01,303,324,451,130,139,194,9.5500985484133716E-2,0.10878402336268925,0.20824992292405745,1.2,8.6999999999999993,9.8000000000000007,14.3,null,2544,null,0.8,null,null,0,10.6,12.5,21.85,null,1,1,1,303,324,451,null,0,0,0,1]
["39012016",null,null,3,90,120,16,16.5,0,26,30,44.8,2118.2000000000003,3241.8333772189817,3471.5459677567114,4829.7,1.5,1.1000000000000001,1.1000000000000001,1.1000000000000001,1511,2531,2710,3771,130,218,233,324,0.26870060652826744,0.74138661467882749,0.84499496566697219,1.6164367454023814,2.0829999999999999E-4,1.724,4,1.392796E-3,{"$f":"AK907*(1-(($E1299-50)*0.005))","v":396.8},425.6,592,0.95,0.95,0.95,397,426,592,171,183,255,0.46012138640416272,0.52567017074545741,1.0090350123400229,2.4,8.6999999999999993,9.8000000000000007,14.3,null,3115,null,0.68,null,null,0,10.6,12.5,21.85,null,1,1,1,397,426,592,null,0,0,0,1]
["39012020",null,null,3,90,120,20,21.5,0,26,30,44.8,2838.4,3079.6829926739365,3327.0647594078355,4143.24,1.5,1.08,1.08,1.08,2025,2415,2609,3249,174,208,224,279,0.13078691595011677,0.1855749132469651,0.2146103274757947,0.33023406948567835,1.2760000000000001E-4,1.7219,2,3.76611E-4,{"$f":"AK908","v":380.60090160569081},{"$f":"AL908","v":411.17343900116532},{"$f":"AM908","v":512.04},0.95,0.95,0.95,381,411,512,164,177,220,0.11646670942658871,0.13524222402195477,0.20715667478646135,1.6,8.6999999999999993,9.8000000000000007,14.3,null,3548,null,0.8,null,null,0,10.6,12.5,21.85,null,1,1,1,381,411,512,null,0,0,0,1]
["39012021",null,null,3,90,120,21,21.5,0,26,30,44.8,3619.2000000000003,4175.015825613802,4470.8526528786542,6219.96,1.5,1.05,1.05,1.05,2582,3296,3530,4911,222,283,304,422,0.30629142573414947,0.49159200971034805,0.56525436757201819,1.0725116519177567,1.2760000000000001E-4,1.7219,4,5.1420100000000005E-4,{"$f":"AK909*(1-(($E1301-50)*0.005))","v":433.24860846973007},463.94810736989388,645.45600000000013,0.85,0.85,0.85,433,464,645,186,200,277,0.21705942256541252,0.24997780932429775,0.4714720817724099,3.2,8.6999999999999993,9.8000000000000007,14.3,null,4524,null,0.8,null,null,0,10.6,12.5,21.85,null,1,1,1,433,464,645,null,0,0,0,1]
["39014010",null,null,3,90,140,10,11.5,0,26,30,44.8,1725.3,2267.7915432376717,2456.1428225151312,3097.58,1.5,1.08,1.08,1.08,1231,1778,1926,2429,106,153,166,209,7.2293221671239749E-2,0.14445801004372538,0.16853243053054429,0.26063544201388444,3.969E-4,1.7345999999999999,2,3.6734700000000002E-4,{"$f":"AK910","v":314.40040300104783},{"$f":"AL910","v":340.51290804463417},{"$f":"AM910","v":429.44},0.98,0.98,0.98,314,341,429,135,147,184,0.11404996966906063,0.1339431496553784,0.20476735769324847,0.9,10.1,11.2,17.5,null,1917,null,0.9,null,null,0,11.5,13.3,21.85,null,1,1,1,314,341,429,null,0,0,0,1]
["39014011",null,null,3,90,140,11,11.5,0,26,30,44.8,1673.48,3077.015307780141,3332.5766142436496,4202.8999999999996,1.5,1.1000000000000001,1.1000000000000001,1.1000000000000001,1194,2402,2602,3281,103,207,224,282,0.12030094078787502,0.44450269226506778,0.51557472310872998,0.79522620174472214,3.969E-4,1.7345999999999999,4,5.7428799999999995E-4,{"$f":"AK911*(1-(($E1303-50)*0.005))","v":412},446.40000000000003,563.20000000000005,0.95,0.95,0.95,412,446,563,177,192,242,0.33130587245231424,0.38594383945063293,0.59623805397162932,1.9,10.1,11.2,17.5,null,2461,null,0.68,null,null,0,11.5,13.3,21.85,null,1,1,1,412,446,563,null,0,0,0,1]
["39014015",null,null,3,90,140,15,16.5,0,26,30,45.4,2374.4,2628.9846104428207,2815.4584574952669,3950.36,1.5,1.08,1.08,1.08,1694,2062,2208,3098,146,177,190,266,0.12409813838669288,0.18029092070853758,0.20688755958299987,0.39793806455132874,2.0829999999999999E-4,1.724,2,4.6182900000000003E-4,{"$f":"AK912","v":358.86695423586366},{"$f":"AL912","v":384.32138301819265},{"$f":"AM912","v":539.24},1.01,1.01,1.01,359,384,539,154,165,232,0.137621338941047,0.1573279392829452,0.30498467021762166,1.4,9.6,10.5,16.100000000000001,null,2968,null,0.8,null,null,0,10.4,12.2,21.85,null,1,1,1,359,384,539,null,0,0,0,1]
["39014016",null,null,3,90,140,16,16.5,0,26,30,45.4,2471.1200000000003,3844.4231409656436,4117.1080284867467,5776.7,1.5,1.1000000000000001,1.1000000000000001,1.1000000000000001,1763,3001,3214,4510,152,258,276,388,0.37457506323756945,1.0559926133482667,1.2053689200498885,2.3527630854060915,2.0829999999999999E-4,1.724,4,1.392796E-3,{"$f":"AK913*(1-(($E1305-50)*0.005))","v":471.20000000000005},504,708,0.95,0.95,0.95,471,504,708,203,217,304,0.6599969120341207,0.75213770121751022,1.4570546367798474,2.8,9.6,10.5,16.100000000000001,null,3634,null,0.68,null,null,0,10.4,12.2,21.85,null,1,1,1,471,504,708,null,0,0,0,1]
["39014020",null,null,3,90,140,20,21.5,0,26,30,45.4,3312,3628.1091959950468,3929.4415695377957,4955.6400000000003,1.5,1.08,1.08,1.08,2363,2845,3082,3886,203,245,265,334,0.18163117976777518,0.26237161414251958,0.30592500796073402,0.48134974943137049,1.2760000000000001E-4,1.7219,2,3.76611E-4,{"$f":"AK914","v":448.37784746172167},{"$f":"AL914","v":485.61784045001809},{"$f":"AM914","v":612.44000000000005},0.95,0.95,0.95,448,486,612,193,209,263,0.16455496588623258,0.1922740711354792,0.30142179085547277,1.9,9.6,10.5,16.100000000000001,null,4140,null,0.8,null,null,0,10.4,12.2,21.85,null,1,1,1,448,486,612,null,0,0,0,1]
["39014021",null,null,3,90,140,21,21.5,0,26,30,45.4,4222.4000000000005,4951.0649025572329,5302.2438770247491,7439.56,1.5,1.05,1.05,1.05,3013,3909,4186,5874,259,336,360,505,0.42789685946511441,0.7095813437342614,0.81150138458700172,1.5688563953148518,1.2760000000000001E-4,1.7219,4,5.1420100000000005E-4,{"$f":"AK915*(1-(($E1307-50)*0.005))","v":513.78056253496504},550.22301170568403,772.01600000000008,0.85,0.85,0.85,514,550,772,221,237,332,0.31449909051066427,0.36017197200501333,0.69324533058772597,3.7,9.6,10.5,16.100000000000001,null,5278,null,0.8,null,null,0,10.4,12.2,21.85,null,1,1,1,514,550,772,null,0,0,0,1]
["39016010",null,null,3,90,160,10,11.5,0,26,30,45.5,{"$f":"IF($N1308-($BE1308*$BG1308)>100,$BE1308*$BG1308,$N1308-95)","v":1971},2603.9362232520607,2826.6988006529018,3605.38,1.5,1.08,1.08,1.08,{"$f":"ROUND(M1308*POWER(CF_heat,Q1308),0)","v":1406},{"$f":"ROUND(N1308*POWER(CF_heat,R1308),0)","v":2042},{"$f":"ROUND(O1308*POWER(CF_heat,S1308),0)","v":2217},{"$f":"ROUND(P1308*POWER(CF_heat,T1308),0)","v":2827},121,176,191,243,9.9148233007324282E-2,0.20046748279247403,0.23384464098890503,0.3682343427384388,{"$f":"IF($G1308=$CO$103,CP$103,IF($G1308=$CO$104,CP$104,IF($G1308=$CO$105,CP$105,IF($G1308=$CO$107,CP$107,IF($G1308=$CO$108,CP$108,IF($G1308=$CO$109,CP$109,IF($G1308=$CO$111,CP$111,IF($G1308=$CO$112,CP$112,IF($G1308=$CO$113,CP$113,IF($G1308=$CO$115,CP$115,IF($G1308=$CO$116,CP$116,IF($G1308=$CO$117,CP$117,IF($G1308=$CO$119,CP$119,IF($G1308=$CO$120,CP$120,))))))))))))))","v":3.969E-4},{"$f":"IF($G1308=$CO$103,CQ$103,IF($G1308=$CO$104,CQ$104,IF($G1308=$CO$105,CQ$105,IF($G1308=$CO$107,CQ$107,IF($G1308=$CO$108,CQ$108,IF($G1308=$CO$109,CQ$109,IF($G1308=$CO$111,CQ$111,IF($G1308=$CO$112,CQ$112,IF($G1308=$CO$113,CQ$113,IF($G1308=$CO$115,CQ$115,IF($G1308=$CO$116,CQ$116,IF($G1308=$CO$117,CQ$117,IF($G1308=$CO$119,CQ$119,IF($G1308=$CO$120,CQ$120,))))))))))))))","v":1.7345999999999999},{"$f":"IF($G1308=$CO$103,CR$103,IF($G1308=$CO$104,CR$104,IF($G1308=$CO$105,CR$105,IF($G1308=$CO$107,CR$107,IF($G1308=$CO$108,CR$108,IF($G1308=$CO$109,CR$109,IF($G1308=$CO$111,CR$111,IF($G1308=$CO$112,CR$112,IF($G1308=$CO$113,CR$113,IF($G1308=$CO$115,CR$115,IF($G1308=$CO$116,CR$116,IF($G1308=$CO$117,CR$117,IF($G1308=$CO$119,CR$119,IF($G1308=$CO$120,CR$120,))))))))))))))","v":2},{"$f":"IF($G1308=$CO$103,CS$103,IF($G1308=$CO$104,CS$104,IF($G1308=$CO$105,CS$105,IF($G1308=$CO$107,CS$107,IF($G1308=$CO$108,CS$108,IF($G1308=$CO$109,CS$109,IF($G1308=$CO$111,CS$111,IF($G1308=$CO$112,CS$112,IF($G1308=$CO$113,CS$113,IF($G1308=$CO$115,CS$115,IF($G1308=$CO$116,CS$116,IF($G1308=$CO$117,CS$117,IF($G1308=$CO$119,CS$119,IF($G1308=$CO$120,CS$120,))))))))))))))","v":3.6734700000000002E-4},{"$f":"AK916","v":361.00257998610687},{"$f":"AL916","v":391.88577307200529},{"$f":"AM916","v":499.84},0.98,0.98,0.98,{"$f":"ROUND(AK1308*POWER(CF_cool,AN1308),0)","v":361},392,500,155,169,215,0.15784887533096326,0.18572654509721107,0.29228700277798675,{"$f":"ROUND(IF(G1308=10,$CO$92*F1308,IF(G1308=11,$CO$93*F1308,IF(G1308=15,$CO$94*F1308,IF(G1308=16,$CO$95*F1308,IF(G1308=20,$CO$96*F1308,IF(G1308=21,$CO$97*F1308,)))))),1)","v":1.1000000000000001},11,12.4,19.2,null,2190,null,{"$f":"IF(G1308=10,0.9,IF(G1308=11,0.68,IF(G1308=15,0.8,IF(G1308=16,0.68,IF(G1308=20,0.8,IF(G1308=21,0.8))))))","v":0.9},null,null,0,11.2,13,21.85,null,1,1,1,{"$f":"AQ1308/BO1308","v":361},{"$f":"AR1308/BP1308","v":392},{"$f":"AS1308/BQ1308","v":500},null,{"$f":"BR1308-AQ1308","v":0},{"$f":"BS1308-AR1308","v":0},{"$f":"BT1308-AS1308","v":0},1]
[{"$f":"CONCATENATE(D1309,E1309,F1309,G1309)","v":"39016011"},null,null,3,90,160,11,11.5,0,26,30,45.5,1912.8400000000001,3533.107636511756,3835.359341571188,4891.8999999999996,1.5,{"$f":"IF($G1309=10,1.08,IF($G1309=11,1.1,IF($G1309=15,1.08,IF($G1309=16,1.1,IF($G1309=20,1.08,IF($G1309=21,1.05))))))","v":1.1000000000000001},1.1000000000000001,1.1000000000000001,1365,2758,2994,3819,117,237,257,328,{"$f":"(($AG1309*(Y1309^$AH1309)*((($F1309-14.4)*$AI1309)/100))+($AJ1309*(Y1309^2)))*0.0098","v":0.16466209705808554},{"$f":"(($AG1309*(Z1309^$AH1309)*((($F1309-14.4)*$AI1309)/100))+($AJ1309*(Z1309^2)))*0.0098","v":0.61422385368791244},{"$f":"(($AG1309*(AA1309^$AH1309)*((($F1309-14.4)*$AI1309)/100))+($AJ1309*(AA1309^2)))*0.0098","v":0.71480772824658112},{"$f":"(($AG1309*(AB1309^$AH1309)*((($F1309-14.4)*$AI1309)/100))+($AJ1309*(AB1309^2)))*0.0098","v":1.1292825279207326},3.969E-4,1.7345999999999999,4,5.7428799999999995E-4,{"$f":"AK917*(1-(($E1309-50)*0.005))","v":473.6},513.6,655.20000000000005,0.95,0.95,0.95,474,514,655,204,221,282,{"$f":"(($AG1309*(AT1309^$AH1309)*((($F1309-14.4)*$AI1309)/100))+($AJ1309*(AT1309^2)))*0.0098","v":0.4640491206916364},{"$f":"(($AG1309*(AU1309^$AH1309)*((($F1309-14.4)*$AI1309)/100))+($AJ1309*(AU1309^2)))*0.0098","v":0.53894356828722567},{"$f":"(($AG1309*(AV1309^$AH1309)*((($F1309-14.4)*$AI1309)/100))+($AJ1309*(AV1309^2)))*0.0098","v":0.85058660754203463},2.1,11,12.4,19.2,null,2813,null,0.68,null,null,0,11.2,13,21.85,null,{"$f":"IF(1/(1+((2258*((0.622/((101325/(1*611*EXP(17.27*((($AM$1+$AM$2)/2)/((($AM$1+$AM$2)/2)+237.3))))))-1)*1000-(0.622/((101325/($AQ$1*611*EXP(17.27*($AM$3/($AM$3+237.3))))))-1)*1000))/(1005*((($AM$1+$AM$2)/2)-$AM$3))))>1,1,1/(1+((2258*((0.622/((101325/(1*611*EXP(17.27*((($AM$1+$AM$2)/2)/((($AM$1+$AM$2)/2)+237.3))))))-1)*1000-(0.622/((101325/($AQ$1*611*EXP(17.27*($AM$3/($AM$3+237.3))))))-1)*1000))/(1005*((($AM$1+$AM$2)/2)-$AM$3)))))","v":1},1,1,474,514,655,null,0,0,0,1]
["39016015",null,null,3,90,160,15,16.5,0,26,30,46.4,2713.6000000000004,3021.1783832091446,3225.6120441880121,4597.96,1.5,1.08,1.08,1.08,1936,2369,2530,3606,166,204,218,310,0.16467154436067985,0.24535535943304876,0.27900545112342201,0.55221870136410589,2.0829999999999999E-4,1.724,2,4.6182900000000003E-4,{"$f":"AK918","v":412.40297880742492},{"$f":"AL918","v":440.30899429620177},{"$f":"AM918","v":627.64},1.01,1.01,1.01,412,440,628,177,189,270,0.18642121393254038,0.21164255392481759,0.42236240265801678,1.6,11.5,12.8,19.600000000000001,null,3392,null,0.8,null,null,0,10,11.8,21.85,null,1,1,1,412,440,628,null,0,0,0,1]
["39016016",null,null,3,90,160,16,16.5,0,26,30,46.4,2824.7200000000003,4417.9368883555589,4716.8848144627045,6723.7,1.5,1.1000000000000001,1.1000000000000001,1.1000000000000001,2015,3449,3683,5249,173,297,317,451,0.49432099836521415,1.4218556466193635,1.6153748832768098,3.2239502067344685,2.0829999999999999E-4,1.724,4,1.392796E-3,{"$f":"AK919*(1-(($E1311-50)*0.005))","v":540.80000000000007},577.6,824,0.95,0.95,0.95,541,578,824,233,249,354,0.88438233143809808,1.0070388639260359,2.0053499906797914,3.2,11.5,12.8,19.600000000000001,null,4154,null,0.68,null,null,0,10,11.8,21.85,null,1,1,1,541,578,824,null,0,0,0,1]
["39016020",null,null,3,90,160,20,21.5,0,26,30,46.4,3784.8,4165.887726998767,4522.2727563025155,5768.04,1.5,1.08,1.08,1.08,2700,3267,3547,4524,232,281,305,389,0.24174548155889081,0.3513653688085987,0.41235697482772449,0.66342434491024516,1.2760000000000001E-4,1.7219,2,3.76611E-4,{"$f":"AK920","v":514.83890668473202},{"$f":"AL920","v":558.88255136973487},{"$f":"AM920","v":712.84},0.95,0.95,0.95,515,559,713,221,240,307,0.21989661309334549,0.25827229749987091,0.41765567382317259,2.1,11.5,12.8,19.600000000000001,null,4731,null,0.8,null,null,0,10,11.8,21.85,null,1,1,1,515,559,713,null,0,0,0,1]
["39016021",null,null,3,90,160,21,21.5,0,26,30,46.4,4825.6000000000004,5689.6682460807178,6074.6702425752001,8659.16,1.5,1.05,1.05,1.05,3443,4492,4796,6837,296,386,412,588,0.57261571143090695,0.95789835596811579,1.0870494190212092,2.1697162791451228,1.2760000000000001E-4,1.7219,4,5.1420100000000005E-4,{"$f":"AK921*(1-(($E1313-50)*0.005))","v":590.42670812067536},630.37903074804638,898.57600000000002,0.85,0.85,0.85,590,630,899,254,271,387,0.42584228809686814,0.48270488883670892,0.96271826690758167,4.3,11.5,12.8,19.600000000000001,null,6032,null,0.8,null,null,0,10,11.8,21.85,null,1,1,1,590,630,899,null,0,0,0,1]
["39018010",null,null,3,90,180,10,11.5,0,26,30,46,2217.6,2970.6878039917879,3224.8253922941558,4113.18,1.5,1.08,1.08,1.08,1582,2330,2529,3226,136,200,217,277,0.13127515560178563,0.27028861945847477,0.31500621168669868,0.49841362806075101,3.969E-4,1.7345999999999999,2,3.6734700000000002E-4,{"$f":"AK922","v":411.84801378696699},{"$f":"AL922","v":447.08095237792156},{"$f":"AM922","v":570.24},0.98,0.98,0.98,412,447,570,177,192,245,0.21495642722836134,0.25036580839638034,0.39566467113231368,1.2,12.2,13.7,22,null,2464,null,0.9,null,null,0,10.9,12.7,21.85,null,1,1,1,412,447,570,null,0,0,0,1]
["39018011",null,null,3,90,180,11,11.5,0,26,30,46,2151.52,4030.7284303866513,4375.55079813051,5580.9,1.5,1.1000000000000001,1.1000000000000001,1.1000000000000001,1535,3147,3416,4357,132,271,294,375,0.22091262796537386,0.84114261538251256,0.97920937003276931,1.542963405794187,3.969E-4,1.7345999999999999,4,5.7428799999999995E-4,{"$f":"AK923*(1-(($E1315-50)*0.005))","v":540.08250898881806},586.2857034592289,747.79200000000003,0.95,0.95,0.95,540,586,748,232,252,322,0.62966316838166758,0.73453696701630555,1.1605072842899384,2.4,12.2,13.7,22,null,3164,null,0.68,null,null,0,10.9,12.7,21.85,null,1,1,1,540,586,748,null,0,0,0,1]
["39018015",null,null,3,90,180,15,16.5,0,26,30,46.4,3052.8,3233.3460619053994,3452.1364439366635,4920.8599999999997,1.5,1.08,1.08,1.08,2178,2536,2707,3859,187,218,233,332,0.21407043601326417,0.28778504307982616,0.32723974604003053,0.64898864028636305,2.0829999999999999E-4,1.724,2,4.6182900000000003E-4,{"$f":"AK924","v":420.6820520547858},{"$f":"AL924","v":449.14828645115074},{"$f":"AM924","v":640.24},1.01,1.01,1.01,421,449,640,181,193,275,0.2010263623163458,0.22751208445626886,0.45076939507650016,1.8,11.5,12.8,19.600000000000001,null,3816,null,0.8,null,null,0,10,11.8,21.85,null,1,1,1,421,449,640,null,0,0,0,1]
["39018016",null,null,3,90,180,16,16.5,0,26,30,46.4,3177.6400000000003,4843.4549704976926,5171.1963699821436,7371.3,1.5,1.1000000000000001,1.1000000000000001,1.1000000000000001,2267,3781,4037,5755,195,325,347,495,0.63898368117168614,1.73113399073644,1.9675246325457276,3.9422156930022778,2.0829999999999999E-4,1.724,4,1.392796E-3,{"$f":"AK925*(1-(($E1317-50)*0.005))","v":549.04711154719951},586.1994067202636,835.6,0.95,0.95,0.95,549,586,836,236,252,359,0.92691716617962061,1.0534510929149468,2.1027210065613033,3.6,11.5,12.8,19.600000000000001,null,4673,null,0.68,null,null,0,10,11.8,21.85,null,1,1,1,549,586,836,null,0,0,0,1]
["39018020",null,null,3,90,180,20,21.5,0,26,30,46.4,4258.4000000000005,4497.8275192555193,4882.6094666576164,6227.64,1.5,1.08,1.08,1.08,3038,3527,3829,4884,261,303,329,420,0.31145181781249576,0.41646566084553188,0.48893351284694392,0.78724334085603187,1.2760000000000001E-4,1.7219,2,3.76611E-4,{"$f":"AK926","v":526.1057925837863},{"$f":"AL926","v":571.11330132956857},{"$f":"AM926","v":728.44},0.95,0.95,0.95,526,571,728,226,246,313,0.23536033293811029,0.27756656183252509,0.44366421223291913,2.4,11.5,12.8,19.600000000000001,null,5323,null,0.8,null,null,0,10,11.8,21.85,null,1,1,1,526,571,728,null,0,0,0,1]
["39018021",null,null,3,90,180,21,21.5,0,26,30,46.4,5428.8,6016.7573462820046,6423.892435808023,9156.9599999999991,1.5,1.05,1.05,1.05,3874,4751,5072,7230,333,409,436,622,0.74142761725186834,1.103167036901554,1.2484144659284111,2.4851546453410029,1.2760000000000001E-4,1.7219,4,5.1420100000000005E-4,{"$f":"AK927*(1-(($E1319-50)*0.005))","v":600.09876829536995},640.7055688846217,913.29600000000016,0.85,0.85,0.85,600,641,913,258,276,393,0.45312420435916939,0.51605374379859181,1.0212249916105052,4.8,11.5,12.8,19.600000000000001,null,6786,null,0.8,null,null,0,10,11.8,21.85,null,1,1,1,600,641,913,null,0,0,0,1]
["39020010",null,null,3,90,200,10,11.5,0,26,30,46.5,2464.2000000000003,3259.5785648750903,3552.8677924068675,4620.9799999999996,1.5,1.08,1.08,1.08,1758,2556,2786,3624,151,220,240,312,0.16901338855595993,0.34122659140984074,0.40155124196507375,0.65654717810994445,3.969E-4,1.7345999999999999,2,3.6734700000000002E-4,{"$f":"AK928","v":451.89903695786995},{"$f":"AL928","v":492.55985148767917},{"$f":"AM928","v":640.64},0.98,0.98,0.98,452,493,641,194,212,276,0.26974633951173027,0.31839322337808124,0.52169992911952934,1.3,13.4,14.8,24,null,2738,null,0.9,null,null,0,10.7,12.5,21.85,null,1,1,1,452,493,641,null,0,0,0,1]
["39020011",null,null,3,90,200,11,11.5,0,26,30,46.5,2390.88,4422.7050634086982,4820.649682883678,6269.9,1.5,1.1000000000000001,1.1000000000000001,1.1000000000000001,1706,3453,3764,4895,147,297,324,421,0.28756461008077178,1.0585097287299379,1.2444441055870641,2.0270127868370142,3.969E-4,1.7345999999999999,4,5.7428799999999995E-4,{"$f":"AK929*(1-(($E1321-50)*0.005))","v":592.80000000000007},645.6,840,0.95,0.95,0.95,593,646,840,255,278,361,0.79741142286378819,0.93612628458550773,1.5219412146633173,2.7,13.4,14.8,24,null,3516,null,0.68,null,null,0,10.7,12.5,21.85,null,1,1,1,593,646,840,null,0,0,0,1]
["39020015",null,null,3,90,200,15,16.5,0,26,30,47.1,3392,3875.4624109054007,4083.4735576056296,5893.16,1.5,1.08,1.08,1.08,2420,3039,3202,4622,208,261,275,397,0.27094842745391123,0.41943542456469279,0.46387282230494226,0.94232779221518648,2.0829999999999999E-4,1.724,2,4.6182900000000003E-4,{"$f":"AK930","v":529.01617838795164},{"$f":"AL930","v":557.41053504066974},{"$f":"AM930","v":804.44},1.01,1.01,1.01,529,557,804,227,240,346,0.3205762003800503,0.35685612106712633,0.72249739815889857,2,13.2,14.7,23.5,null,4240,null,0.8,null,null,0,10,11.4,21.85,null,1,1,1,529,557,804,null,0,0,0,1]
["39020016",null,null,3,90,200,16,16.5,0,26,30,47.1,3530.5600000000004,5667.1755761695722,5971.3549398587584,8617.7000000000007,1.5,1.1000000000000001,1.1000000000000001,1.1000000000000001,2519,4424,4662,6728,217,380,401,579,0.80439935740205348,2.3956910473507516,2.6608247339246818,5.453670256932595,2.0829999999999999E-4,1.724,4,1.392796E-3,{"$f":"AK931*(1-(($E1323-50)*0.005))","v":694.40000000000009},731.2,1056,0.95,0.95,0.95,694,731,1056,298,314,454,1.491441462445297,1.6514513925414656,3.3905483017623261,4,13.2,14.7,23.5,null,5192,null,0.68,null,null,0,10,11.4,21.85,null,1,1,1,694,731,1056,null,0,0,0,1]
["39020020",null,null,3,90,200,20,21.5,0,26,30,47.1,4731.2,5214.8121821672385,5684.028740747025,7392.84,1.5,1.08,1.08,1.08,3376,4090,4458,5798,290,352,383,499,0.39106075400040691,0.56991326043648238,0.67162306767239033,1.1243831840072513,1.2760000000000001E-4,1.7219,2,3.76611E-4,{"$f":"AK932","v":644.46964929787134},{"$f":"AL932","v":702.45751547390614},{"$f":"AM932","v":913.64},{"$f":"IF($G1324=10,0.98,IF($G1324=11,0.95,IF($G1324=15,1.01,IF($G1324=16,0.95,IF($G1324=20,0.95,IF($G1324=21,0.85))))))","v":0.95},0.95,0.95,644,702,914,277,302,393,0.35773067054432378,0.42311312971539766,0.70617331390652549,2.7,13.2,14.7,23.5,null,5914,null,0.8,null,null,0,10,11.4,21.85,null,1,1,1,644,702,914,null,0,0,0,1]
["39020021",null,null,3,90,200,21,21.5,0,26,30,47.1,6032,7298.5082710627348,7690.2476078687869,11098.36,1.5,1.05,1.05,1.05,4304,5763,6072,8763,370,496,522,754,0.93527743505224326,1.6462201996699861,1.8169792507482643,3.7009529132948087,1.2760000000000001E-4,1.7219,4,5.1420100000000005E-4,{"$f":"AK933*(1-(($E1325-50)*0.005))","v":757.3788182893569},798.03028636591807,1151.6959999999999,0.85,0.85,0.85,757,798,1152,326,343,495,0.73288688786693268,0.80824929999896877,1.6398162021031533,5.3,13.2,14.7,23.5,null,7540,null,0.8,null,null,0,10,11.4,21.85,null,1,1,1,757,798,1152,null,0,0,0,1]
["39022010",null,null,3,90,220,10,11.5,0,26,30,46.9,2710.8,3560.7045070849035,3890.5075371280445,5128.78,1.5,1.08,1.08,1.08,1934,2792,3051,4022,166,240,262,346,0.21269218466872539,0.42247701862510323,0.49758266516536109,0.83671193247343323,3.969E-4,1.7345999999999999,2,3.6734700000000002E-4,{"$f":"AK934","v":493.64631212835212},{"$f":"AL934","v":539.36930014536108},{"$f":"AM934","v":711.04},0.98,0.98,0.98,494,539,711,212,232,306,0.33526766264658142,0.39659808957963044,0.66495285135759441,1.5,13.4,14.8,24,null,3012,null,0.9,null,null,0,10.5,12.3,21.85,null,1,1,1,494,539,711,null,0,0,0,1]
["39022011",null,null,3,90,220,11,11.5,0,26,30,46.9,2630.2400000000002,4831.2827990970827,5278.770565343093,6958.9,1.5,1.1000000000000001,1.1000000000000001,1.1000000000000001,1877,3772,4121,5433,161,324,354,467,0.3611375771995321,1.314879108402222,1.5495706507880502,2.5925816673788113,3.969E-4,1.7345999999999999,4,5.7428799999999995E-4,{"$f":"AK935*(1-(($E1327-50)*0.005))","v":647.34982295013458},707.30928678153032,932.43200000000002,0.95,0.95,0.95,647,707,932,278,304,401,0.99013169422170477,1.1684294283659524,1.9530959353824595,2.9,13.4,14.8,24,null,3868,null,0.68,null,null,0,10.5,12.3,21.85,null,1,1,1,647,707,932,null,0,0,0,1]
["39022015",null,null,3,90,220,15,16.5,0,26,30,47.8,3731.2000000000003,4302.5567439745028,4481.7988603493422,6540.76,1.5,1.08,1.08,1.08,2662,3374,3515,5130,229,290,302,441,0.33559224091066187,0.52824934112772992,0.57108950097253486,1.1842811694377704,2.0829999999999999E-4,1.724,2,4.6182900000000003E-4,{"$f":"AK936","v":587.31626956044784},{"$f":"AL936","v":611.78353807115786},{"$f":"AM936","v":892.84},1.01,1.01,1.01,587,612,893,252,263,384,0.40328748590288432,0.43778400702821296,0.90690223440245954,2.2000000000000002,15.5,16.8,27.5,null,4664,null,0.8,null,null,0,10,11.1,21.85,null,1,1,1,587,612,893,null,0,0,0,1]
["39022016",null,null,3,90,220,16,16.5,0,26,30,47.8,3883.4800000000005,6291.7251954043459,6553.83496101116,9564.7000000000007,1.5,1.1000000000000001,1.1000000000000001,1.1000000000000001,2771,4912,5117,7467,238,422,440,642,0.98315560794849932,2.9944257157555945,3.2482983187702561,6.7877453647142758,2.0829999999999999E-4,1.724,4,1.392796E-3,{"$f":"AK937*(1-(($E1329-50)*0.005))","v":770.68650756800855},802.79287801192663,1171.6000000000001,0.95,0.95,0.95,771,803,1172,332,345,504,1.8772611674531099,2.0229091641039956,4.2327428666784401,4.4000000000000004,15.5,16.8,27.5,null,5711,null,0.68,null,null,0,10,11.1,21.85,null,1,1,1,771,803,1172,null,0,0,0,1]
["39022020",null,null,3,90,220,20,21.5,0,26,30,47.8,5204,5696.5662496175182,6224.1991397456159,8205.24,1.5,1.08,1.08,1.08,3713,4467,4881,6435,319,384,420,553,0.48087308379286675,0.68913594795268296,0.82013908311111194,1.4002126537427437,1.2760000000000001E-4,1.7219,2,3.76611E-4,{"$f":"AK938","v":704.00695650122941},{"$f":"AL938","v":769.21417236639559},{"$f":"AM938","v":1014.04},0.95,0.95,0.95,704,769,1014,303,331,436,0.43521399990720622,0.5165738484716168,0.88193136480825907,2.9,15.5,16.8,27.5,null,6505,null,0.8,null,null,0,10,11.1,21.85,null,1,1,1,704,769,1014,null,0,0,0,{"$f":"IF(SUM(BV1330:BX1330)=0,1,0)","v":1}]
["39022021",null,null,3,90,220,21,21.5,0,26,30,47.8,6635.2000000000007,8102.8384881891643,8440.3982243391856,12317.96,1.5,1.05,1.05,1.05,4734,6398,6664,9726,407,550,573,836,1.1550802934243622,2.062358887776655,2.231838465716764,4.6282420475748083,1.2760000000000001E-4,1.7219,4,5.1420100000000005E-4,{"$f":"AK939*(1-(($E1331-50)*0.005))","v":840.84555515350985},875.87471242404683,1278.2560000000001,0.85,0.85,0.85,841,876,1278,362,377,550,0.92217135208938283,0.99698948336525617,2.062358887776655,5.9,15.5,16.8,27.5,null,8294,null,0.8,null,null,0,10,11.1,21.85,null,1,1,1,841,876,1278,null,0,0,0,1]
["39024010",null,null,3,90,240,10,11.5,0,26,30,47.2,2957.4,3860.4188735925432,4228.9855673527691,5636.58,1.5,1.08,1.08,1.08,2110,3027,3317,4420,181,260,285,380,0.26263195343566531,0.51455963451703945,0.61042691940395077,1.0436441851774703,3.969E-4,1.7345999999999999,2,3.6734700000000002E-4,{"$f":"AK940","v":535.19789031294818},{"$f":"AL940","v":586.29496640731588},{"$f":"AM940","v":781.44},0.98,0.98,0.98,535,586,781,230,252,336,0.40968486620571454,0.48550351822928639,0.82954646870937465,1.6,14.8,16.600000000000001,28,null,3286,null,0.9,null,null,0,10.4,12.2,21.85,null,1,1,1,535,586,781,null,0,0,0,1]
["39024011",null,null,3,90,240,11,11.5,0,26,30,47.2,2868.92,5237.9452617275747,5738.028861571599,7647.9,1.5,1.1000000000000001,1.1000000000000001,1.1000000000000001,2047,4089,4480,5971,176,352,385,514,0.44999284940458101,1.6146931478475526,1.905847517886774,3.2559623282985095,3.969E-4,1.7345999999999999,4,5.7428799999999995E-4,{"$f":"AK941*(1-(($E1333-50)*0.005))","v":701.6},768.80000000000007,1024.8,0.95,0.95,0.95,702,769,1025,302,331,441,1.2165749768913829,1.4411293029196479,2.450823677113505,3.2,14.8,16.600000000000001,28,null,4219,null,0.68,null,null,0,10.4,12.2,21.85,null,1,1,1,702,769,1025,null,0,0,0,1]
["39024015",null,null,3,90,240,15,16.5,0,26,30,48.1,4070.4,4729.715265656896,4901.7743245246338,7188.36,1.5,1.08,1.08,1.08,2904,3709,3844,5637,250,319,331,485,0.40828050613844374,0.65146857081143239,0.69931956136513895,1.4577106558488697,2.0829999999999999E-4,1.724,2,4.6182900000000003E-4,{"$f":"AK942","v":645.62512273636446},{"$f":"AL942","v":669.11187505864359},{"$f":"AM942","v":981.24},1.01,1.01,1.01,646,669,981,278,288,422,0.50037899202077363,0.5354561461459616,1.1152542227427753,2.4,16.399999999999999,17.7,29.7,null,5088,null,0.8,null,null,0,10,10.9,21.85,null,1,1,1,646,669,981,null,0,0,0,1]
["39024016",null,null,3,90,240,16,16.5,0,26,30,48.1,4236.4000000000005,6916.3686790875245,7167.9744986485921,10511.7,1.5,1.1000000000000001,1.1000000000000001,1.1000000000000001,3023,5400,5596,8207,260,464,481,706,1.1910661065279706,3.667097444714627,3.9329940571020581,8.3052967253826289,2.0829999999999999E-4,1.724,4,1.392796E-3,{"$f":"AK943*(1-(($E1335-50)*0.005))","v":847.2},878.40000000000009,1288,0.95,0.95,0.95,847,878,1288,364,378,554,2.2878415447981948,2.4618571409756229,5.1780577671725734,4.8,16.399999999999999,17.7,29.7,null,6230,null,0.68,null,null,0,10,10.9,21.85,null,1,1,1,847,878,1288,null,0,0,0,1]
["39024020",null,null,3,90,240,20,21.5,0,26,30,48.1,5677.6,6176.0620183272586,6765.7106634844222,9017.64,1.5,1.08,1.08,1.08,4051,4844,5306,7072,348,417,456,608,0.58118110176905935,0.82504336232375919,0.98120320393227112,1.7151431662130303,1.2760000000000001E-4,1.7219,2,3.76611E-4,{"$f":"AK944","v":763.26517311676128},{"$f":"AL944","v":836.13657141043336},{"$f":"AM944","v":1114.44},0.95,0.95,0.95,763,836,1114,328,359,479,0.51827708039997999,0.61727233073709142,1.0794747424565225,3.2,16.399999999999999,17.7,29.7,null,7097,null,0.8,null,null,0,10,10.9,21.85,null,1,1,1,763,836,1114,null,0,0,0,1]
["39024021",null,null,3,90,240,21,21.5,0,26,30,48.1,7238.4000000000005,8907.2895892451361,9231.3217513746804,13537.56,1.5,1.05,1.05,1.05,5165,7033,7289,10689,444,605,627,919,1.4017254634974277,2.5400955106251395,2.7208037343149845,5.6848092494770484,1.2760000000000001E-4,1.7219,4,5.1420100000000005E-4,{"$f":"AK945*(1-(($E1337-50)*0.005))","v":924.3248363519715},957.9502138848635,1404.816,0.85,0.85,0.85,924,958,1405,397,412,604,1.1309883683073365,1.2143464412684668,2.532024482622266,6.4,16.399999999999999,17.7,29.7,null,9048,null,0.8,null,null,0,10,10.9,21.85,null,1,1,1,924,958,1405,null,0,0,0,1]
["39026010",null,null,3,90,260,10,11.5,0,26,30,47.8,3203.1,4178.1784000000007,4608.2849999999999,6144.38,1.5,1.08,1.08,1.08,2285,3277,3614,4819,197,282,311,414,0.32216359157716806,0.62619933930989857,0.75101257718335657,1.2786543856943258,3.969E-4,1.7345999999999999,2,3.6734700000000002E-4,{"$f":"AK946","v":579.25120000000004},{"$f":"AL946","v":638.88},{"$f":"AM946","v":851.84},0.98,0.98,0.98,579,639,852,249,275,366,0.4971168110898011,0.59766089099899167,1.0165350975712137,1.7,16.2,18.600000000000001,31.4,null,3559,null,0.9,null,null,0,10.199999999999999,11.9,21.85,null,1,1,1,579,639,852,null,0,0,0,1]
["39026011",null,null,3,90,260,11,11.5,0,26,30,47.8,3108.28,5669.0920000000006,6252.6749999999993,8336.9,1.5,1.1000000000000001,1.1000000000000001,1.1000000000000001,2218,4426,4882,6509,191,381,420,560,0.55115651005125332,1.9626616514787372,2.3494829093201255,3.9995616431127772,3.969E-4,1.7345999999999999,4,5.7428799999999995E-4,{"$f":"AK947*(1-(($E1339-50)*0.005))","v":759.60896000000002},837.80399999999997,1117.0719999999999,0.95,0.95,0.95,760,838,1117,327,360,480,1.4806797755162824,1.7677753648891372,3.0070132280708757,3.5,16.2,18.600000000000001,31.4,null,4571,null,0.68,null,null,0,10.199999999999999,11.9,21.85,null,1,1,1,760,838,1117,null,0,0,0,1]
["39026015",null,null,3,90,260,15,16.5,0,26,30,48.1,4409.6000000000004,4942.1733310961072,5121.9619484404784,7511.2599999999993,1.5,1.08,1.08,1.08,3146,3876,4017,5891,271,333,345,507,0.48928472058211264,0.72567906330489695,0.77658683374621928,1.6253475371689938,2.0829999999999999E-4,1.724,2,4.6182900000000003E-4,{"$f":"AK948","v":653.91552727192982},{"$f":"AL948","v":677.70396216321694},{"$f":"AM948","v":993.84},1.01,1.01,1.01,654,678,994,281,292,427,0.52438185580177876,0.5643390276130934,1.1687899905071639,2.6,16.399999999999999,17.7,29.7,null,5512,null,0.8,null,null,0,10,10.9,21.85,null,1,1,1,654,678,994,null,0,0,0,1]
["39026016",null,null,3,90,260,16,16.5,0,26,30,48.1,4590,7342.4691534710291,7609.5768181679023,11159.300000000001,1.5,1.1000000000000001,1.1000000000000001,1.1000000000000001,3275,5732,5941,8712,282,493,511,749,1.4215275927841482,4.1978564997308982,4.5006744046263982,9.4678767911138362,2.0829999999999999E-4,1.724,4,1.392796E-3,{"$f":"AK949*(1-(($E1341-50)*0.005))","v":855.09601066831692},886.20308020135712,1299.6000000000001,0.95,0.95,0.95,855,886,1300,368,381,559,2.3802282979902296,2.5459313981957901,5.3584842219212074,5.2,16.399999999999999,17.7,29.7,null,6750,null,0.68,null,null,0,10,10.9,21.85,null,1,1,1,855,886,1300,null,0,0,0,1]
["39026020",null,null,3,90,260,20,21.5,0,26,30,48.1,6150.4000000000005,6444.5232000000005,7107.93,9477.24,1.5,1.08,1.08,1.08,4388,5054,5574,7432,377,435,479,639,0.69226960741753107,0.91294981512938123,1.1001003363250261,1.9230584519635214,1.2760000000000001E-4,1.7219,2,3.76611E-4,{"$f":"AK950","v":768.42720000000008},{"$f":"AL950","v":847.53},{"$f":"AM950","v":1130.04},0.95,0.95,0.95,768,848,1130,330,365,486,0.53526796134941879,0.65032127694667174,1.1314386418343181,3.5,16.399999999999999,17.7,29.7,null,7688,null,0.8,null,null,0,10,10.9,21.85,null,1,1,1,768,848,1130,null,0,0,0,1]
["39026021",null,null,3,90,260,21,21.5,0,26,30,48.1,7841.6,9234.8263652613623,9570.7750567366256,14035.359999999999,1.5,1.05,1.05,1.05,5595,7291,7557,11082,481,627,650,953,1.6760794134881409,2.7863852901670048,2.9859304369033395,6.2326378089967651,1.2760000000000001E-4,1.7219,4,5.1420100000000005E-4,{"$f":"AK951*(1-(($E1343-50)*0.005))","v":934.01013434907657},967.98797757518753,1419.5360000000001,0.85,0.85,0.85,934,968,1420,402,416,611,1.1889622202851386,1.2694165220620492,2.651509402413625,6.9,16.399999999999999,17.7,29.7,null,9802,null,0.8,null,null,0,10,10.9,21.85,null,1,1,1,934,968,1420,null,0,0,0,1]
["39028010",null,null,3,90,280,10,11.5,0,26,30,47.8,3449.7000000000003,4331.3824000000004,4782.2249168521384,6369.68,1.5,1.08,1.08,1.08,2461,3397,3750,4995,212,292,323,430,0.38589098045208187,0.69744802061985678,0.84077185533321985,1.4297918820056932,3.969E-4,1.7345999999999999,2,3.6734700000000002E-4,{"$f":"AK952","v":587.68320000000006},{"$f":"AL952","v":648.85364133524638},{"$f":"AM952","v":864.24},0.98,0.98,0.98,588,{"$f":"ROUND(AL1344*POWER(CF_cool,AO1344),0)","v":649},{"$f":"ROUND(AM1344*POWER(CF_cool,AP1344),0)","v":864},253,279,372,0.53495403421136267,0.64106400571541289,1.0925143603098122,1.9,16.2,18.600000000000001,31.4,null,3833,null,0.9,null,null,0,10.199999999999999,11.9,21.85,null,1,1,1,588,649,864,null,0,0,0,1]
["39028011",null,null,3,90,280,11,11.5,0,26,30,47.8,3346.96,5976.8600000000006,6598.9760720588583,8789.5,1.5,1.1000000000000001,1.1000000000000001,1.1000000000000001,2388,4666,5152,6862,205,401,443,590,0.6593453931938531,2.2589629505887028,2.7138313013647335,4.6046594930075209,3.969E-4,1.7345999999999999,4,5.7428799999999995E-4,{"$f":"AK953*(1-(($E1345-50)*0.005))","v":764.80000000000007},844.80000000000007,1124.8,0.95,0.95,0.95,765,845,1125,329,363,484,1.5697399936932146,1.8808232580881712,3.1948091479955543,3.7,16.2,18.600000000000001,31.4,null,4922,null,0.68,null,null,0,10.199999999999999,11.9,21.85,null,1,1,1,765,845,1125,null,0,0,0,1]
["39028015",null,null,3,90,280,15,16.5,0,26,30,48.9,4748.8,5583.9635634029,5708.9475468201636,8483.56,1.5,1.08,1.08,1.08,3388,4379,4477,6653,291,377,385,572,0.57509349674954735,0.94303351503609456,0.98167422248603797,2.0958794463889725,2.0829999999999999E-4,1.724,2,4.6182900000000003E-4,{"$f":"AK954","v":762.23344503523219},{"$f":"AL954","v":779.29426056038062},{"$f":"AM954","v":1158.04},1.01,1.01,1.01,762,779,1158,328,335,498,0.72271492130345638,0.75246226647382841,1.6068391234938044,2.8,19.3,20.399999999999999,34.5,null,5936,null,0.8,null,null,0,10,10.6,21.85,null,1,1,1,762,779,1158,null,0,0,0,1]
["39028016",null,null,3,90,280,16,16.5,0,26,30,48.9,4942.92,8165.5551181941737,8348.321999442087,12405.7,1.5,1.1000000000000001,1.1000000000000001,1.1000000000000001,3527,6375,6518,9685,303,548,561,833,1.6644868885687731,5.2414825003503225,5.4853925820263667,11.822942017746373,2.0829999999999999E-4,1.724,4,1.392796E-3,{"$f":"AK955*(1-(($E1347-50)*0.005))","v":1000},1022.4000000000001,1520,0.95,0.95,0.95,1000,1022,1520,430,439,654,3.2759217230813951,3.4100192093921895,7.3878092647259885,5.6,19.3,20.399999999999999,34.5,null,7269,null,0.68,null,null,0,10,10.6,21.85,null,1,1,1,1000,1022,1520,null,0,0,0,1]
["39028020",null,null,3,90,280,20,21.5,0,26,30,48.9,6624,7236.8592000000008,7990.1253664397382,10642.44,1.5,1.08,1.08,1.08,4726,5675,6266,8346,406,488,539,718,0.81441671527563209,1.1617686015146995,1.4078788417424029,2.45260460232267,1.2760000000000001E-4,1.7219,2,3.76611E-4,{"$f":"AK956","v":894.36320000000012},{"$f":"AL956","v":987.455178225689},{"$f":"AM956","v":1315.24},0.95,0.95,0.95,894,987,1315,384,424,565,0.73142402444564503,0.88553710556508203,1.5421797125957473,3.7,19.3,20.399999999999999,34.5,null,8280,null,0.8,null,null,0,10,10.6,21.85,null,1,1,1,894,987,1315,null,0,0,0,1]
["39028021",null,null,3,90,280,21,21.5,0,26,30,48.1,8444.8000000000011,10516.06232539558,10751.439821034392,15976.76,1.5,1.05,1.05,1.05,6025,8303,8489,12614,518,714,730,1085,1.9789882734525834,3.6582492578050627,3.8170452588806048,8.1713252650858994,1.2760000000000001E-4,1.7219,4,5.1420100000000005E-4,{"$f":"AK957*(1-(($E1349-50)*0.005))","v":1009.4247165541242},1032.0183313946002,1533.5908000000002,0.85,0.85,0.85,1009,1032,1534,434,444,660,1.4113881312092658,1.4741232801294537,3.1464062142245934,7.5,19.3,20.399999999999999,34.5,null,10556,null,0.8,null,null,0,10,10.6,21.85,null,1,1,1,1009,1032,1534,null,0,0,0,1]
["39030010",null,null,3,90,300,10,11.5,0,26,30,47.8,3696.3,4485,4951,6595,1.5,1.08,1.08,1.08,2637,3517,3883,5172,227,302,334,445,0.45680944816811403,0.77349371966225222,0.93173607735144592,1.5849386369150411,3.969E-4,1.7345999999999999,2,3.6734700000000002E-4,{"$f":"AK958","v":595},{"$f":"AL958","v":658},{"$f":"AM958","v":877},0.98,0.98,0.98,595,658,877,256,283,377,0.57014654745249982,0.68602826252827387,1.1657237163109904,2,16.2,18.600000000000001,31.4,null,4107,null,0.9,null,null,0,10.199999999999999,11.9,21.85,null,1,1,1,595,658,877,null,0,0,0,1]
["39030011",null,null,3,90,300,11,11.5,0,26,30,47.8,3586.32,6285,6939,9242,1.5,1.1000000000000001,1.1000000000000001,1.1000000000000001,2559,4907,5417,7215,220,422,466,620,0.78631182524649279,2.5929756315684109,3.1114877859888272,5.2637423167962414,3.969E-4,1.7345999999999999,4,5.7428799999999995E-4,{"$f":"AK959*(1-(($E1351-50)*0.005))","v":770.40000000000009},850.40000000000009,1132.8,0.95,0.95,0.95,770,850,1133,331,366,487,1.660415882907214,1.9965311467222049,3.3742426451719707,4,16.2,18.600000000000001,31.4,null,5274,null,0.68,null,null,0,10.199999999999999,11.9,21.85,null,1,1,1,770,850,1133,null,0,0,0,1]
["39030015",null,null,3,90,300,15,16.5,0,26,30,48.9,5088,5796,5926,8806,1.5,1.08,1.08,1.08,3630,4545,4647,6906,312,391,400,594,0.67318032444173148,1.0351823450431246,1.0811369831130657,2.302757295064469,2.0829999999999999E-4,1.724,2,4.6182900000000003E-4,{"$f":"AK960","v":771},{"$f":"AL960","v":788},{"$f":"AM960","v":1171},1.01,1.01,1.01,771,788,1171,332,339,504,0.75777354700053923,0.78851465813358146,1.6813903761483546,3,19.3,20.399999999999999,34.5,null,6360,null,0.8,null,null,0,10,10.6,21.85,null,1,1,1,771,788,1171,null,0,0,0,1]
["39030016",null,null,3,90,300,16,16.5,0,26,30,48.9,5295.84,8592,8784,13053,1.5,1.1000000000000001,1.1000000000000001,1.1000000000000001,3779,6708,6858,10191,325,577,590,876,1.9408557525019763,5.8870483048918967,6.1467040133841699,13.232326467562144,2.0829999999999999E-4,1.724,4,1.392796E-3,{"$f":"AK961*(1-(($E1353-50)*0.005))","v":1008},1030.4000000000001,1532,0.95,0.95,0.95,1008,1030,1532,433,443,659,3.3776501812465103,3.5300810973147945,7.6161401652641372,6,19.3,20.399999999999999,34.5,null,7788,null,0.68,null,null,0,10,10.6,21.85,null,1,1,1,1008,1030,1532,null,0,0,0,1]
["39030020",null,null,3,90,300,20,21.5,0,26,30,48.9,7096.8,7549,8335,11102,1.5,1.08,1.08,1.08,5064,5920,6537,8707,436,509,562,749,0.95209765553956605,1.2832239462300581,1.5535382796513144,2.7065035395986743,1.2760000000000001E-4,1.7219,2,3.76611E-4,{"$f":"AK962","v":905},{"$f":"AL962","v":999},{"$f":"AM962","v":1331},0.95,0.95,0.95,905,999,1331,389,430,572,0.76431919512798108,0.92701417801356134,1.6073504963383516,4,19.3,20.399999999999999,34.5,null,8871,null,0.8,null,null,0,10,10.6,21.85,null,1,1,1,905,999,1331,null,0,0,0,1]
["39030021",null,null,3,90,300,21,21.5,0,26,30,48.1,9048,10844,11086,16475,1.5,1.05,1.05,1.05,6456,8562,8753,13008,555,736,753,1119,2.3112798615416814,3.9638592223290634,4.1409093254305303,8.8489265516529922,1.2760000000000001E-4,1.7219,4,5.1420100000000005E-4,{"$f":"AK963*(1-(($E1355-50)*0.005))","v":1174.4000000000001},1200.8,1784.8000000000002,0.85,0.85,0.85,1174,1201,1785,505,516,768,1.9303113215184844,2.0112953501156037,4.3002243713529822,8,19.3,20.399999999999999,34.5,null,11310,null,0.8,null,null,0,10,10.6,21.85,null,1,1,1,1174,1201,1785,null,0,0,0,1]

{"sheet":"NL","index":2,"n_rows":22,"n_cols":10,"rows_kept":22,"cut":false,"hidden":true,"merged":[[12,9,13,9],[12,8,13,8],[12,6,13,6],[12,7,13,7],[14,0,14,1],[15,0,17,0],[0,1,0,5],[8,4,8,6],[9,4,9,6],[10,4,10,6],[12,2,12,3],[12,4,12,5]]}
[null,"Selectiontool Strada Hybrid"]
[]
[null,"Lengte",null,"mm","Invulformulier","Statisch toestel","rel. vocht.","Unit"]
[null,"Hoogte",null,{"$f":"D3","v":"mm"},"Uitvoering","Hybrid toestel","Eenheidsstelsel"]
[null,"Type",null,null,"Temperaturen","DBH rail type","Toestel"]
[null,"Diepte",{"$f":"data!H5","v":{"$error":"#N/A"}},{"$f":"D3","v":"mm"},"Indien de ventilatoren uitgeschakeld zijn, is de afgifte een indicatieve waarde.","Waterzijdig drukverlies"]
[]
[null,"Verwarmen:",null,null,null,null,"Koelen:"]
[null,"Water aanvoer",75,{"$f":"IF(data!BZ2=1,\"°C\",IF(data!BZ2=2,\"°F\",))","v":"°C"},{"$f":"B9","v":"Water aanvoer"},null,null,16,{"$f":"D9","v":"°C"}]
[null,"Water retour",65,{"$f":"D9","v":"°C"},{"$f":"B10","v":"Water retour"},null,null,20,{"$f":"D9","v":"°C"}]
[null,"Ruimte (droge bol)",20,{"$f":"D9","v":"°C"},{"$f":"B11","v":"Ruimte (droge bol)"},null,null,27,{"$f":"D9","v":"°C"}]
[]
[null,null,{"$f":"CONCATENATE(B8,\" \",C9,\"/\",C10,\"/\",C11)","v":"Verwarmen: 75/65/20"},null,{"$f":"CONCATENATE(G8,\" \",H9,\"/\",H10,\"/\",H11)","v":"Koelen: 16/20/27"},null,"Watervolume","Elektrisch verbruik [W]","Geluidsdrukniveau [dB(A)]****","Geluidsvermogen [dB(A)]****"]
[null,null,"Verwarmvermogen","Waterdebiet","Koelvermogen",{"$f":"D14","v":"Waterdebiet"}]
["Statisch (indicatieve waarde)",null,{"$f":"data!U5","v":{"$error":"#N/A"}},{"$f":"data!Y5","v":{"$error":"#N/A"}},null,null,{"$f":"data!AZ$5","v":{"$error":"#N/A"}}]
["EN16430","Ventilatorsnelheid ",{"$f":"data!V5","v":{"$error":"#N/A"}},{"$f":"data!Z5","v":{"$error":"#N/A"}},{"$f":"data!AQ5","v":{"$error":"#N/A"}},{"$f":"data!AT5","v":{"$error":"#N/A"}},{"$f":"data!AZ$5","v":{"$error":"#N/A"}},{"$f":"data!BA5","v":{"$error":"#N/A"}},{"$f":"data!J5","v":{"$error":"#N/A"}}]
[null,"Ventilatorsnelheid 2",{"$f":"data!W5","v":{"$error":"#N/A"}},{"$f":"data!AA5","v":{"$error":"#N/A"}},{"$f":"data!AR5","v":{"$error":"#N/A"}},{"$f":"data!AU5","v":{"$error":"#N/A"}},{"$f":"data!AZ$5","v":{"$error":"#N/A"}},{"$f":"data!BB5","v":{"$error":"#N/A"}},{"$f":"data!K5","v":{"$error":"#N/A"}}]
[null,"Ventilatorsnelheid 3",{"$f":"data!X5","v":{"$error":"#N/A"}},{"$f":"data!AB5","v":{"$error":"#N/A"}},{"$f":"data!AS5","v":{"$error":"#N/A"}},{"$f":"data!AV5","v":{"$error":"#N/A"}},{"$f":"data!AZ$5","v":{"$error":"#N/A"}},{"$f":"data!BC5","v":{"$error":"#N/A"}},{"$f":"data!L5","v":{"$error":"#N/A"}}]
[null,"Stuurspanning [v]",null,null,null,null,null,null,{"$f":"'LowH2O DBH'!M35","v":"v2021-02-02"}]
["*","Koelvermogen is berekend volgens EN16430 met de ventilatoren naar boven blazend voor alle types."]
["**","Wanneer het watervolume in gallons wordt gegeven, zijn dit imperial gallons."]
["***","Geluidsvermogen volgens ISO 3741:2010, Voor het geluidsdrukniveau is er een aangenomen kamerdemping van 8 dB(A)."]

{"sheet":"EN","index":3,"n_rows":22,"n_cols":10,"rows_kept":22,"cut":false,"hidden":true,"merged":[[12,9,13,9],[12,8,13,8],[12,7,13,7],[12,6,13,6],[14,0,14,1],[15,0,17,0],[0,1,0,5],[8,4,8,6],[9,4,9,6],[10,4,10,6],[12,2,12,3],[12,4,12,5]]}
[null,"Selectiontool Strada Hybrid"]
[]
[null,"Length",1200,"mm","Formulary","Static device","rel. humid.","Unit"]
[null,"Heigth",500,{"$f":"D3","v":"mm"},"Version","Hybrid device","Unit conversion"]
[null,"Type",16,null,"Temperatures","DBH rail type","Device"]
[null,"Depth",{"$f":"data!H5","v":{"$error":"#N/A"}},{"$f":"D3","v":"mm"},"If the fans are switched off, the output is an indicative value.","Water side pressure loss "]
[]
[null,"Heating:",null,null,null,null,"Cooling:"]
[null,"Supply water",75,{"$f":"IF(data!BZ2=1,\"°C\",IF(data!BZ2=2,\"°F\",))","v":"°C"},{"$f":"B9","v":"Supply water"},null,null,16,{"$f":"D9","v":"°C"}]
[null,"Return water",65,{"$f":"D9","v":"°C"},{"$f":"B10","v":"Return water"},null,null,20,{"$f":"D9","v":"°C"}]
[null,"Entering air (dry bulb)",20,{"$f":"D9","v":"°C"},{"$f":"B11","v":"Entering air (dry bulb)"},null,null,27,{"$f":"D9","v":"°C"}]
[]
[null,null,{"$f":"CONCATENATE(B8,\" \",C9,\"/\",C10,\"/\",C11)","v":"Heating: 75/65/20"},null,{"$f":"CONCATENATE(G8,\" \",H9,\"/\",H10,\"/\",H11)","v":"Cooling: 16/20/27"},null,"Water volume","Electrical consumption [W]","Sound pressure level [dB(A)]****","Sound power [dB(A)]****"]
[null,null,"Heating capacity","Water flow","Cooling capacity",{"$f":"D14","v":"Water flow"}]
["Fans off (indicative value)",null,{"$f":"data!U5","v":{"$error":"#N/A"}},{"$f":"data!Y5","v":{"$error":"#N/A"}},null,null,{"$f":"data!AZ$5","v":{"$error":"#N/A"}}]
["EN16430","Fan speed",{"$f":"data!V5","v":{"$error":"#N/A"}},{"$f":"data!Z5","v":{"$error":"#N/A"}},{"$f":"data!AQ5","v":{"$error":"#N/A"}},{"$f":"data!AT5","v":{"$error":"#N/A"}},{"$f":"data!AZ$5","v":{"$error":"#N/A"}},{"$f":"data!BA5","v":{"$error":"#N/A"}},{"$f":"data!J5","v":{"$error":"#N/A"}}]
[null,"Fan speed selection 2",{"$f":"data!W5","v":{"$error":"#N/A"}},{"$f":"data!AA5","v":{"$error":"#N/A"}},{"$f":"data!AR5","v":{"$error":"#N/A"}},{"$f":"data!AU5","v":{"$error":"#N/A"}},{"$f":"data!AZ$5","v":{"$error":"#N/A"}},{"$f":"data!BB5","v":{"$error":"#N/A"}},{"$f":"data!K5","v":{"$error":"#N/A"}}]
[null,"Fan speed selection 3",{"$f":"data!X5","v":{"$error":"#N/A"}},{"$f":"data!AB5","v":{"$error":"#N/A"}},{"$f":"data!AS5","v":{"$error":"#N/A"}},{"$f":"data!AV5","v":{"$error":"#N/A"}},{"$f":"data!AZ$5","v":{"$error":"#N/A"}},{"$f":"data!BC5","v":{"$error":"#N/A"}},{"$f":"data!L5","v":{"$error":"#N/A"}}]
[null,"Fan voltage [V]",null,null,null,null,null,null,{"$f":"'LowH2O DBH'!M35","v":"v2021-02-02"}]
["*","Cooling power is calcullated according EN16430 with fans blowing up for all heights."]
["**","When the water volume is given in gallons, the units are specifically imperial gallons."]
["***","Soundpower according to ISO 3741:2010, sound pressure level with assumed room damping of 8 dB(A)."]

{"sheet":"FR","index":4,"n_rows":22,"n_cols":10,"rows_kept":22,"cut":false,"hidden":true,"merged":[[12,9,13,9],[12,8,13,8],[12,7,13,7],[12,6,13,6],[14,0,14,1],[15,0,17,0],[0,1,0,5],[8,4,8,6],[9,4,9,6],[10,4,10,6],[12,2,12,3],[12,4,12,5]]}
[null,"Selectiontool Strada Hybrid"]
[]
[null,"Longeur",1200,"mm","Formulaire","Appareil statique","hum. rel.","Unité"]
[null,"Hauteur",500,{"$f":"D3","v":"mm"},"Version","Appareil Hybrid","Système unitaire"]
[null,"Type",16,null,"Températures","DBH rail type","Appareil"]
[null,"Profondeur",{"$f":"data!H5","v":{"$error":"#N/A"}},{"$f":"D3","v":"mm"},"Si les ventilateurs sont éteints, la sortie est une valeur indicative.","Perte de charge"]
[]
[null,"Chauffer:",null,null,null,null,"Refroidir:"]
[null,"Entrée de l'eau",75,{"$f":"IF(data!BZ2=1,\"°C\",IF(data!BZ2=2,\"°F\",))","v":"°C"},{"$f":"B9","v":"Entrée de l'eau"},null,null,16,{"$f":"D9","v":"°C"}]
[null,"Retour de l'eau",65,{"$f":"D9","v":"°C"},{"$f":"B10","v":"Retour de l'eau"},null,null,20,{"$f":"D9","v":"°C"}]
[null,"Ambiante (bulbe sec)",20,{"$f":"D9","v":"°C"},{"$f":"B11","v":"Ambiante (bulbe sec)"},null,null,27,{"$f":"D9","v":"°C"}]
[]
[null,null,{"$f":"CONCATENATE(B8,\" \",C9,\"/\",C10,\"/\",C11)","v":"Chauffer: 75/65/20"},null,{"$f":"CONCATENATE(G8,\" \",H9,\"/\",H10,\"/\",H11)","v":"Refroidir: 16/20/27"},null,"Volume d'eau","Puissance absorbée elec. [W]","Pression sonore [dB(A)]****","Puissance sonore [dB(A)]****"]
[null,null,"Puissance de chauffer","Débit d'eau","Puissance de refroidir",{"$f":"D14","v":"Débit d'eau"}]
["Ventilateur éteint (indicative)",null,{"$f":"data!U5","v":{"$error":"#N/A"}},{"$f":"data!Y5","v":{"$error":"#N/A"}},null,null,{"$f":"data!AZ$5","v":{"$error":"#N/A"}}]
["EN16430","Vitesse ventilateur ",{"$f":"data!V5","v":{"$error":"#N/A"}},{"$f":"data!Z5","v":{"$error":"#N/A"}},{"$f":"data!AQ5","v":{"$error":"#N/A"}},{"$f":"data!AT5","v":{"$error":"#N/A"}},{"$f":"data!AZ$5","v":{"$error":"#N/A"}},{"$f":"data!BA5","v":{"$error":"#N/A"}},{"$f":"data!J5","v":{"$error":"#N/A"}}]
[null,"Vitesse du ventilateur 2",{"$f":"data!W5","v":{"$error":"#N/A"}},{"$f":"data!AA5","v":{"$error":"#N/A"}},{"$f":"data!AR5","v":{"$error":"#N/A"}},{"$f":"data!AU5","v":{"$error":"#N/A"}},{"$f":"data!AZ$5","v":{"$error":"#N/A"}},{"$f":"data!BB5","v":{"$error":"#N/A"}},{"$f":"data!K5","v":{"$error":"#N/A"}}]
[null,"Vitesse du ventilateur 3",{"$f":"data!X5","v":{"$error":"#N/A"}},{"$f":"data!AB5","v":{"$error":"#N/A"}},{"$f":"data!AS5","v":{"$error":"#N/A"}},{"$f":"data!AV5","v":{"$error":"#N/A"}},{"$f":"data!AZ$5","v":{"$error":"#N/A"}},{"$f":"data!BC5","v":{"$error":"#N/A"}},{"$f":"data!L5","v":{"$error":"#N/A"}}]
[null,"Tension ventilateur [V]",null,null,null,null,null,null,{"$f":"'LowH2O DBH'!M35","v":"v2021-02-02"}]
["*","La puissance de refroidissement est calculée selon EN 16430 avec des ventilateurs qui soufflent pour toutes les hauteurs."]
["**","Lorsque le volume d'eau est donné en gallons, ce sont des gallons impérial."]
["***","Puissance acoustique selon ISO 3741: 2010, niveau de pression acoustique avec un amortissement de la pièce supposé de 8 dB(A)."]

{"sheet":"DE","index":5,"n_rows":22,"n_cols":10,"rows_kept":22,"cut":false,"hidden":true,"merged":[[12,9,13,9],[12,8,13,8],[12,7,13,7],[12,6,13,6],[14,0,14,1],[15,0,17,0],[0,1,0,5],[8,4,8,6],[9,4,9,6],[10,4,10,6],[12,2,12,3],[12,4,12,5]]}
[null,"Selectiontool Strada Hybrid"]
[]
[null,"Länge",1200,"mm","Eingabefelder","Statisches Gerät","rel. Luftf.","Unit"]
[null,"Höhe",500,{"$f":"D3","v":"mm"},"Ausführung","Hybrid Gerät","Einheiten"]
[null,"Typ",16,null,"Temperaturen","DBH rail typ","Gerät"]
[null,"Tiefe",{"$f":"data!H5","v":{"$error":"#N/A"}},{"$f":"D3","v":"mm"},"Wenn die Lüfter ausgeschaltet sind, ist der Ausgang ein Richtwert.","zug. wassers. Druckverlust"]
[]
[null,"Heizen:",null,null,null,null,"Kühlen:"]
[null,"Vorlauf wasser",75,{"$f":"IF(data!BZ2=1,\"°C\",IF(data!BZ2=2,\"°F\",))","v":"°C"},{"$f":"B9","v":"Vorlauf wasser"},null,null,16,{"$f":"D9","v":"°C"}]
[null,"Rücklauf wasser",65,{"$f":"D9","v":"°C"},{"$f":"B10","v":"Rücklauf wasser"},null,null,20,{"$f":"D9","v":"°C"}]
[null,"Raum (trocken)",20,{"$f":"D9","v":"°C"},{"$f":"B11","v":"Raum (trocken)"},null,null,27,{"$f":"D9","v":"°C"}]
[]
[null,null,{"$f":"CONCATENATE(B8,\" \",C9,\"/\",C10,\"/\",C11)","v":"Heizen: 75/65/20"},null,{"$f":"CONCATENATE(G8,\" \",H9,\"/\",H10,\"/\",H11)","v":"Kühlen: 16/20/27"},null,"Wasservolumen","Elektr. Leistung [W]","Schalldruckpegel [dB(A)]****","Schallleistungspegel [dB(A)]****"]
[null,null,"Heizleistung","Heizmittelstrom","Kühlleistung","Kühlmittelstrom"]
["Lüfter aus (richtwert)",null,{"$f":"data!U5","v":{"$error":"#N/A"}},{"$f":"data!Y5","v":{"$error":"#N/A"}},null,null,{"$f":"data!AZ$5","v":{"$error":"#N/A"}}]
["EN16430","Auslegungsstufe ",{"$f":"data!V5","v":{"$error":"#N/A"}},{"$f":"data!Z5","v":{"$error":"#N/A"}},{"$f":"data!AQ5","v":{"$error":"#N/A"}},{"$f":"data!AT5","v":{"$error":"#N/A"}},{"$f":"data!AZ$5","v":{"$error":"#N/A"}},{"$f":"data!BA5","v":{"$error":"#N/A"}},{"$f":"data!J5","v":{"$error":"#N/A"}}]
[null,"Auslegungsstufe 2",{"$f":"data!W5","v":{"$error":"#N/A"}},{"$f":"data!AA5","v":{"$error":"#N/A"}},{"$f":"data!AR5","v":{"$error":"#N/A"}},{"$f":"data!AU5","v":{"$error":"#N/A"}},{"$f":"data!AZ$5","v":{"$error":"#N/A"}},{"$f":"data!BB5","v":{"$error":"#N/A"}},{"$f":"data!K5","v":{"$error":"#N/A"}}]
[null,"Auslegungsstufe 3",{"$f":"data!X5","v":{"$error":"#N/A"}},{"$f":"data!AB5","v":{"$error":"#N/A"}},{"$f":"data!AS5","v":{"$error":"#N/A"}},{"$f":"data!AV5","v":{"$error":"#N/A"}},{"$f":"data!AZ$5","v":{"$error":"#N/A"}},{"$f":"data!BC5","v":{"$error":"#N/A"}},{"$f":"data!L5","v":{"$error":"#N/A"}}]
[null,"Lufterspannung [V]",null,null,null,null,null,null,{"$f":"'LowH2O DBH'!M35","v":"v2021-02-02"}]
["*","Die Kühlleistung wird nach EN 16430 berechnet, wobei die Lüfter für alle Höhen hochgehen."]
["**","Wenn das Wasservolumen in Gallonen angegeben ist, sind dies imperiale Gallonen."]
["***","Schallleistung nach ISO 3741: 2010, Schalldruckpegel bei angenommener Raumdämpfung von 8 dB(A)."]

{"sheet":"NR","index":6,"n_rows":22,"n_cols":10,"rows_kept":22,"cut":false,"hidden":true,"merged":[[0,1,0,5],[8,4,8,6],[9,4,9,6],[10,4,10,6],[12,2,12,3],[12,4,12,5],[12,6,13,6],[12,7,13,7],[12,8,13,8],[12,9,13,9],[14,0,14,1],[15,0,17,0]]}
[null,"Selectiontool Strada Hybrid"]
[]
[null,"Lengde",1200,"mm","Inngangsskjema","Statisk modell","rel. fuktighet","Unit"]
[null,"Høyde",500,{"$f":"D3","v":"mm"},"Versjon","Hybrid modell","Enhetssystem"]
[null,"Type",16,null,"Temperaturer","DBH rail type","Modell"]
[null,"Bredde",{"$f":"data!H5","v":{"$error":"#N/A"}},{"$f":"D3","v":"mm"},"Hvis viftene er slått av, er utgangen en indikativ verdi.","Trykktap"]
[]
[null,"Varme:",null,null,null,null,"Kjøling:"]
[null,"Tur vann",0,0,{"$f":"B9","v":"Tur vann"},null,null,16,{"$f":"D9","v":0}]
[null,"Retur vann",0,0,{"$f":"B10","v":"Retur vann"},null,null,20,{"$f":"D9","v":0}]
[null,"Rom (tørr pære)",0,0,{"$f":"B11","v":"Rom (tørr pære)"},null,null,27,{"$f":"D9","v":0}]
[]
[null,null,{"$f":"CONCATENATE(B8,\" \",C9,\"/\",C10,\"/\",C11)","v":"Varme: 0/0/0"},null,{"$f":"CONCATENATE(G8,\" \",H9,\"/\",H10,\"/\",H11)","v":"Kjøling: 16/20/27"},null,"Vannvolum","Elektrisk effekt [W]","Lydtrykk [dB(A)]****","Lydeffekt [dB(A)]****"]
[null,null,"Varme effekt","Vannmengde","Kjøle effekt",{"$f":"D14","v":"Vannmengde"}]
["Lüfter aus (richtwert)",null,{"$f":"data!U5","v":{"$error":"#N/A"}},{"$f":"data!Y5","v":{"$error":"#N/A"}},null,null,{"$f":"data!AZ$5","v":{"$error":"#N/A"}}]
["EN16430","Styresignal",{"$f":"data!V5","v":{"$error":"#N/A"}},{"$f":"data!Z5","v":{"$error":"#N/A"}},{"$f":"data!AQ5","v":{"$error":"#N/A"}},{"$f":"data!AT5","v":{"$error":"#N/A"}},{"$f":"data!AZ$5","v":{"$error":"#N/A"}},{"$f":"data!BA5","v":{"$error":"#N/A"}},{"$f":"data!J5","v":{"$error":"#N/A"}}]
[null,"Auslegungsstufe 2",{"$f":"data!W5","v":{"$error":"#N/A"}},{"$f":"data!AA5","v":{"$error":"#N/A"}},{"$f":"data!AR5","v":{"$error":"#N/A"}},{"$f":"data!AU5","v":{"$error":"#N/A"}},{"$f":"data!AZ$5","v":{"$error":"#N/A"}},{"$f":"data!BB5","v":{"$error":"#N/A"}},{"$f":"data!K5","v":{"$error":"#N/A"}}]
[null,"Auslegungsstufe 3",{"$f":"data!X5","v":{"$error":"#N/A"}},{"$f":"data!AB5","v":{"$error":"#N/A"}},{"$f":"data!AS5","v":{"$error":"#N/A"}},{"$f":"data!AV5","v":{"$error":"#N/A"}},{"$f":"data!AZ$5","v":{"$error":"#N/A"}},{"$f":"data!BC5","v":{"$error":"#N/A"}},{"$f":"data!L5","v":{"$error":"#N/A"}}]
[null,"Viftespenning [V]",null,null,null,null,null,null,{"$f":"'LowH2O DBH'!M35","v":"v2021-02-02"}]
["*","Kjølekapasitet beregnes i henhold til EN16430 med viftene som blåser oppover for alle typer."]
["**","Når vannvolumet er gitt i gallon, er dette imperial gallons."]
["***","Lydeffekt i henhold til ISO 3741: 2010. For lydtrykknivået er det en antatt romdemping på 8 dB (A)."]

{"sheet":"SP","index":7,"n_rows":22,"n_cols":10,"rows_kept":22,"cut":false,"hidden":true,"merged":[[0,1,0,5],[8,4,8,6],[9,4,9,6],[10,4,10,6],[12,2,12,3],[12,4,12,5],[12,6,13,6],[12,7,13,7],[12,8,13,8],[12,9,13,9],[14,0,14,1],[15,0,17,0]]}
[null,"Selectiontool Strada Hybrid"]
[]
[null,"Longitud",1200,"mm","Formulary","Dispositivo estático","Hum. Relativa","Unit"]
[null,"Altura",500,{"$f":"D3","v":"mm"},"Versión","Dispositivo Hybrid","Convers. de unidades"]
[null,"Tipo",16,null,"Temperaturas","tipo de riel DBH","Despositivo"]
[null,"Profund.",{"$f":"data!H5","v":{"$error":"#N/A"}},{"$f":"D3","v":"mm"},"La velocidad del ventilador en \"0\" tiene una emisión indicativa.","Pérdida de carga del agua"]
[]
[null,"Calefacción:",null,null,null,null,"Enfriamiento:"]
[null,"Agua impulsión",75,{"$f":"IF(data!BZ2=1,\"°C\",IF(data!BZ2=2,\"°F\",))","v":"°C"},{"$f":"B9","v":"Agua impulsión"},null,null,16,{"$f":"D9","v":"°C"}]
[null,"Agua retorno",65,{"$f":"D9","v":"°C"},{"$f":"B10","v":"Agua retorno"},null,null,20,{"$f":"D9","v":"°C"}]
[null,"Ambiente (bulbo seco)",20,{"$f":"D9","v":"°C"},{"$f":"B11","v":"Ambiente (bulbo seco)"},null,null,27,{"$f":"D9","v":"°C"}]
[]
[null,null,{"$f":"CONCATENATE(B8,\" \",C9,\"/\",C10,\"/\",C11)","v":"Calefacción: 75/65/20"},null,{"$f":"CONCATENATE(G8,\" \",H9,\"/\",H10,\"/\",H11)","v":"Enfriamiento: 16/20/27"},null,"Volumen de agua","Potencia eléctrica absorbida [W]","Presión sonora [dB(A)]****","Potencia sonora [dB(A)]****"]
[null,null,"Emisión calefacción","Caudal de agua, calefacción","Emisión sensible Frío",{"$f":"D14","v":"Caudal de agua, calefacción"}]
["Fans off (indicative value)",null,{"$f":"data!U5","v":{"$error":"#N/A"}},{"$f":"data!Y5","v":{"$error":"#N/A"}},null,null,{"$f":"data!AZ$5","v":{"$error":"#N/A"}}]
["EN16430","Velocidad del ventilador",{"$f":"data!V5","v":{"$error":"#N/A"}},{"$f":"data!Z5","v":{"$error":"#N/A"}},{"$f":"data!AQ5","v":{"$error":"#N/A"}},{"$f":"data!AT5","v":{"$error":"#N/A"}},{"$f":"data!AZ$5","v":{"$error":"#N/A"}},{"$f":"data!BA5","v":{"$error":"#N/A"}},{"$f":"data!J5","v":{"$error":"#N/A"}}]
[null,"Fan speed selection 2",{"$f":"data!W5","v":{"$error":"#N/A"}},{"$f":"data!AA5","v":{"$error":"#N/A"}},{"$f":"data!AR5","v":{"$error":"#N/A"}},{"$f":"data!AU5","v":{"$error":"#N/A"}},{"$f":"data!AZ$5","v":{"$error":"#N/A"}},{"$f":"data!BB5","v":{"$error":"#N/A"}},{"$f":"data!K5","v":{"$error":"#N/A"}}]
[null,"Fan speed selection 3",{"$f":"data!X5","v":{"$error":"#N/A"}},{"$f":"data!AB5","v":{"$error":"#N/A"}},{"$f":"data!AS5","v":{"$error":"#N/A"}},{"$f":"data!AV5","v":{"$error":"#N/A"}},{"$f":"data!AZ$5","v":{"$error":"#N/A"}},{"$f":"data!BC5","v":{"$error":"#N/A"}},{"$f":"data!L5","v":{"$error":"#N/A"}}]
[null," Voltaje control [V]",null,null,null,null,null,null,{"$f":"'LowH2O DBH'!M35","v":"v2021-02-02"}]
["*","La potencia de enfriamiento se calcula según la norma EN 16430 con ventiladores de todas las alturas."]
["**","Cuando el volumen de agua se da en galones, las unidades son específicamente galones imperiales."]
["***","Potencia sonora según ISO 3741: 2010, nivel de presión acústica con una amortiguación ambiental supuesta de 8 dB (A)."]

{"sheet":"SW","index":8,"n_rows":22,"n_cols":10,"rows_kept":22,"cut":false,"hidden":true,"merged":[[0,1,0,5],[8,4,8,6],[9,4,9,6],[10,4,10,6],[12,2,12,3],[12,4,12,5],[12,6,13,6],[12,7,13,7],[12,8,13,8],[12,9,13,9],[14,0,14,1],[15,0,17,0]]}
[null,"Selectiontool Strada Hybrid"]
[]
[null,"Längd",1200,"mm","Inngangsskjema","Statisk modell","rel. Fuktighet","Unit"]
[null,"Höjd",500,{"$f":"D3","v":"mm"},"Storlek","Hybrid modell","Enhetssystem"]
[null,"Typ",16,null,"Temperaturer","DBH rail typ","Modell"]
[null,"Djup",{"$f":"data!H5","v":{"$error":"#N/A"}},{"$f":"D3","v":"mm"},"Om fläktarna är avstängda är utgången ett indikationsvärde.","Tryckfall, vatten"]
[]
[null,"Värme:",null,null,null,null,"Kyla:"]
[null,"Tillopp",0,0,{"$f":"B9","v":"Tillopp"},null,null,16,{"$f":"D9","v":0}]
[null,"Retur",0,0,{"$f":"B10","v":"Retur"},null,null,20,{"$f":"D9","v":0}]
[null,"Rum (torr)",0,0,{"$f":"B11","v":"Rum (torr)"},null,null,27,{"$f":"D9","v":0}]
[]
[null,null,{"$f":"CONCATENATE(B8,\" \",C9,\"/\",C10,\"/\",C11)","v":"Värme: 0/0/0"},null,{"$f":"CONCATENATE(G8,\" \",H9,\"/\",H10,\"/\",H11)","v":"Kyla: 16/20/27"},null,"Vattenvolym","Effektförbrukning [W]","Ljudtryck [dB(A)]****","Ljudeffekt [dB(A)]****"]
[null,null,"Effekt","Vattenflöde","Kyleffekt",{"$f":"D14","v":"Vattenflöde"}]
["Fans off (indicative value)",null,{"$f":"data!U5","v":{"$error":"#N/A"}},{"$f":"data!Y5","v":{"$error":"#N/A"}},null,null,{"$f":"data!AZ$5","v":{"$error":"#N/A"}}]
["EN16430","Fläkthastighet",{"$f":"data!V5","v":{"$error":"#N/A"}},{"$f":"data!Z5","v":{"$error":"#N/A"}},{"$f":"data!AQ5","v":{"$error":"#N/A"}},{"$f":"data!AT5","v":{"$error":"#N/A"}},{"$f":"data!AZ$5","v":{"$error":"#N/A"}},{"$f":"data!BA5","v":{"$error":"#N/A"}},{"$f":"data!J5","v":{"$error":"#N/A"}}]
[null,"Fan speed selection 2",{"$f":"data!W5","v":{"$error":"#N/A"}},{"$f":"data!AA5","v":{"$error":"#N/A"}},{"$f":"data!AR5","v":{"$error":"#N/A"}},{"$f":"data!AU5","v":{"$error":"#N/A"}},{"$f":"data!AZ$5","v":{"$error":"#N/A"}},{"$f":"data!BB5","v":{"$error":"#N/A"}},{"$f":"data!K5","v":{"$error":"#N/A"}}]
[null,"Fan speed selection 3",{"$f":"data!X5","v":{"$error":"#N/A"}},{"$f":"data!AB5","v":{"$error":"#N/A"}},{"$f":"data!AS5","v":{"$error":"#N/A"}},{"$f":"data!AV5","v":{"$error":"#N/A"}},{"$f":"data!AZ$5","v":{"$error":"#N/A"}},{"$f":"data!BC5","v":{"$error":"#N/A"}},{"$f":"data!L5","v":{"$error":"#N/A"}}]
[null,"Spänning, Fläkt [V]",null,null,null,null,null,null,{"$f":"'LowH2O DBH'!M35","v":"v2021-02-02"}]
["*","Kyleffekt är beräknad enligt EN16430 med fläktar blåsandes i riktning uppåt för alla höjder"]
["**","När vattenvolymen är given i gallon avser det Imperiella gallon."]
["***","Ljudeffekt enligt ISO 3741:2010 ljudtryck med antagen ljudreduktion från rummet på 8 dB(A)"]